{"text_format":"1","workbook":"xlsx","n_sheets":6,"sheets":["Instructions","Non-Streaming - Res Calc","Non-Streaming - Resolution","Streaming - Res Calc","Streaming - Resolution","DV-IDENTITY-0"],"not_rendered":{"charts":0,"images":0,"macros":1,"external_links":0,"defined_names":11,"comments":3,"pivot_tables":0},"unopened":[],"bounds":{"document_bytes":16777216,"sheet_cells":100000,"rows_first":2000,"rows_last":500,"rows_between":2000,"halvings":0,"cell_chars":16384,"cell_head_chars":4096},"cells_cut":0,"cells_raw":0,"read":"whole","date_system":"1900"}

{"sheet":"Instructions","index":0,"n_rows":43,"n_cols":20,"rows_kept":43,"cut":false,"hidden":false,"merged":[[28,8,28,9],[31,8,31,9],[25,8,26,9],[8,11,8,12],[10,11,24,12],[21,8,21,9],[19,8,19,9],[29,8,29,9],[17,8,17,9],[18,8,18,9],[6,4,6,12],[16,6,18,6],[1,17,2,19],[10,8,12,9],[38,8,38,9],[20,8,20,9],[16,8,16,9],[33,8,33,9],[13,8,15,9],[8,6,8,9],[42,8,42,9],[35,8,35,9],[37,8,37,9],[36,8,36,9],[30,8,30,9],[32,8,32,9],[41,8,41,9],[40,8,40,9],[39,8,39,9],[34,8,34,9]]}
[]
[null,null,null,null,"Discretionary Trust Distributions",null,null,null,null,null,null,null,{"$f":"I11","v":0},null,null,null,null,"HIDE"]
[null,null,null,null,{"$f":"CONCATENATE(R9,TEXT(R10,\"dd mmmm yyyy\"))","v":"Year Ended 30 June 2016"},null,null,null,null,null,null,null,"Preparer Name"]
[]
[]
[null,null,null,null,"Warning",null,null,null,null,null,null,null,null,null,null,null,null,"Minor Tax-Free Threshold"]
[null,null,null,null,"These calculations should only be used where an Income Equalisation Clause does not apply and the income of the trust is determined under \"Ordinary Concepts\".",null,null,null,null,null,null,null,null,null,null,null,null,417]
[]
[null,null,null,null,null,null,"Trust & Beneficiary Details",null,null,null,null,"Instructions",null,null,null,null,null,"Year Ended "]
[null,null,null,null,null,null,null,null,null,null,null,null,null,null,null,null,null,"2016-06-30"]
[null,null,null,null,null,null,"Name of Trust",null,null,null,null,"These worksheets are designed for use by discretionary trusts with either non-streamed or streamed trust income.  Within each category, there are two worksheets; one for estimating distributions of trust income required for the trustee resolution by 30 June and the other as a template for the resolution itself.\n\nEnter estimates of Trust Income and Net (Taxable) Income to the relevant worksheet (Non-Streamed or Streamed) and enter the desired Taxable Distribution for each beneficiary.  The worksheet will calculate the Trust Distributions needed for the Trustee Resolution.  Based on those figures, complete the Resolution using appropriate descriptions for the distributions. \n\nEnter trust and beneficiary details to the left.  The other worksheets will be populated with this information and the resolution will contain drop-down lists from which names can be selected.\n\nSelect the appropriate worksheet for either streamed or non-streamed distributions and enter the required information.  Specific instructions are included with each worksheet.\n\n"]
[]
[]
[null,null,null,null,null,null,"Corporate Trustee"]
[]
[]
[null,null,null,null,null,null,"Individual Trustees or All Directors of a Corporate Trustee"]
[]
[]
[null,null,null,null,null,null,"(for signing resolution)"]
[]
[]
[]
[null,null,null,null,null,null,"TFN (optional)"]
[]
[null,null,null,null,null,null,"Trust Deed"]
[null,null,null,null,null,null,"Distribution Clause",null,null,null,null,null,null,null,null,null,null,{"$f":"IF(I26>0,CONCATENATE(\"Clause\",\" \",I26,\" of \"),\"\")","v":""}]
[null,null,null,null,null,null,null,null,null,null,"Minor","Non-Resident"]
[null,null,null,null,null,null,"Beneficiaries",null,null,null,null,null,null,null,null,null,null,{"$f":"I29","v":0},false,false]
[null,null,null,null,null,null,null,null,null,null,null,null,null,null,null,null,null,{"$f":"I30","v":0},false,false]
[null,null,null,null,null,null,null,null,null,null,null,null,null,null,null,null,null,0,false,false]
[null,null,null,null,null,null,null,null,null,null,null,null,null,null,null,null,null,0,false,false]
[null,null,null,null,null,null,null,null,null,null,null,null,null,null,null,null,null,0,false,false]
[null,null,null,null,null,null,null,null,null,null,null,null,null,null,null,null,null,0,false,false]
[null,null,null,null,null,null,null,null,null,null,null,null,null,null,null,null,null,0,false,false]
[null,null,null,null,null,null,null,null,null,null,null,null,null,null,null,null,null,0,false,false]
[null,null,null,null,null,null,null,null,null,null,null,null,null,null,null,null,null,0,false,false]
[null,null,null,null,null,null,null,null,null,null,null,null,null,null,null,null,null,0,false,false]
[null,null,null,null,null,null,null,null,null,null,null,null,null,null,null,null,null,0,false,false]
[null,null,null,null,null,null,null,null,null,null,null,null,null,null,null,null,null,0,false,false]
[null,null,null,null,null,null,null,null,null,null,null,null,null,null,null,null,null,0,false,false]
[null,null,null,null,null,null,null,null,null,null,null,null,null,null,null,null,null,0,false,false]
[null,null,null,null,null,null,null,null,null,null,null,null,null,null,null,null,null,0,false,false]

{"sheet":"Non-Streaming - Res Calc","index":1,"n_rows":44,"n_cols":22,"rows_kept":44,"cut":false,"hidden":false,"merged":[[29,4,29,6],[30,4,30,6],[31,4,31,6],[15,5,15,8],[1,18,2,20],[43,10,44,14],[14,5,14,8],[14,10,14,14],[2,12,2,14],[1,9,1,14],[21,10,21,14],[32,4,32,6],[33,4,33,6],[6,3,6,4],[6,5,6,14],[24,4,24,6],[25,4,25,6],[23,10,23,14],[21,5,21,8],[27,4,27,6],[26,4,26,6],[15,10,15,14],[16,9,17,9],[40,4,40,6],[41,4,41,6],[23,4,23,8],[34,4,34,6],[35,4,35,6],[36,4,36,6],[37,4,37,6],[38,4,38,6],[39,4,39,6],[28,4,28,6]]}
[]
[null,null,null,null,"Discretionary Trust Distribution Worksheet for Non-Streamed Income",null,null,null,null,{"$f":"Instructions!I11","v":0},null,null,null,null,null,null,null,null,"HIDE"]
[null,null,null,null,{"$f":"CONCATENATE(\"Prepared for the Trustee's Resolution for the \",Instructions!E3)","v":"Prepared for the Trustee's Resolution for the Year Ended 30 June 2016"},null,null,null,null,null,null,null,{"$f":"CONCATENATE(\"Prepared by \",Instructions!M3)","v":"Prepared by Preparer Name"}]
[]
[]
[null,null,null,null,null,null,null,null,null,null,null,null,null,null,null,null,null,null,null,null,null,{"$f":"\"blank\"","v":"blank"}]
[null,null,null,"USE FOR RESOLUTION",null,"INSTRUCTIONS",null,null,null,null,null,null,null,null,null,null,null,null,null,null,null,{"$f":"\"blank\"","v":"blank"}]
[null,null,null,null,null,"1. Enter Total Trust (Accounting) Income, followed by any Net Franked Dividends and Capital Gains.  Other Trust Income will be calculated automatically.",null,null,null,null,null,null,null,null,null,null,null,null,null,null,null,{"$f":"\"blank\"","v":"blank"}]
[null,null,null,null,null,"2. Enter Taxable Income, followed by any Net Franked Dividends, Franking Credits and Net Capital Gains.  Other Taxable Income will be calculated automatically.",null,null,null,null,null,null,null,null,null,null,null,null,null,null,null,"blank"]
[null,null,null,null,null,"3. Enter the desired amount of Taxable Distribution for each beneficiary and the remaining amounts, including Trust Distributions, will be calculated automatically.",null,null,null,null,null,null,null,null,null,null,null,null,null,null,null,"blank"]
[null,null,null,null,null,"4. Ensure that there is no Undistributed Taxable Income, nor any negative Other Trust Income or Other Taxable Income.  Error messages will be displayed.",null,null,null,null,null,null,null,null,null,null,null,null,null,null,null,"blank"]
[null,null,null,null,null,"5. Go to the \"Resolution\" sheet to prepare a resolution authorising these distributions.  This resolution must be completed and signed by 30 June.",null,null,null,null,null,null,null,null,null,null,null,null,null,null,null,"blank"]
[null,null,null,null,null,null,null,null,null,null,null,null,null,null,null,null,null,null,null,null,null,"blank"]
[null,null,null,null,null,null,null,null,null,null,null,null,null,null,null,null,null,null,null,null,null,"blank"]
[]
[null,null,null,null,null,"Trust Income",null,null,null,null,"Taxable Income"]
[null,null,null,null,null,"Net Franked","Capital","Other Trust","Total Trust",null,"Taxable","Net Franked","Franking","Net Capital","Other Taxable"]
[null,null,null,null,null,"Dividends","Gains","Income","Income",null,"Income","Dividends","Credits","Gains","Income"]
[null,null,null,null,"Trust Income",null,null,{"$f":"I19-F19-G19","v":0},null,null,null,null,null,null,{"$f":"K19-L19-M19-N19","v":0}]
[null,null,null,null,"Less Distributions",null,null,null,{"$f":"I42","v":0},null,{"$f":"K42","v":0},{"$f":"L42","v":0},{"$f":"M42","v":0},{"$f":"N42","v":0},{"$f":"O42","v":0}]
[null,null,null,null,"Undistributed Income",null,null,null,{"$f":"I19-I20","v":0},null,{"$f":"K19-K20","v":0},{"$f":"L19-L20","v":0},{"$f":"M19-M20","v":0},{"$f":"N19-N20","v":0},{"$f":"O19-O20","v":0}]
[null,null,null,null,null,{"$f":"IF(H19<0,\"Error:  Negative Other Trust Income - Check All Figures\",\"\")","v":""},null,null,null,null,{"$f":"IF(O19<0,\"Error:  Negative Other Taxable Income - Check All Figures\",\"\")","v":""}]
[]
[null,null,null,null,"Trust Distributions for Resolution",null,null,null,null,null,"Taxable Distributions",null,null,null,null,null,null,null,"Minor Threshold"]
[null,null,null,null,"Name of Beneficiary",null,null,"Minor","Total Dist",null,"Taxable Inc","Net Frank Div","Frank Creds","Net Cap Gains","Other Tax Inc",null,null,null,417]
[null,null,null,null,{"$f":"Instructions!I29","v":0},null,null,{"$f":"IF(E26>0,IF(S26=TRUE,\"Yes\",\"No\"),\"\")","v":""},{"$f":"$I$19*J26","v":0},{"$f":"IF($K$19>0,K26/$K$19,0)","v":0},null,{"$f":"$L$19*J26","v":0},{"$f":"$M$19*J26","v":0},{"$f":"$N$19*J26","v":0},{"$f":"$O$19*J26","v":0},null,null,null,{"$f":"Instructions!S29","v":false},{"$f":"IF(S26=TRUE,MinorThreshold,\"\")","v":""}]
[null,null,null,null,{"$f":"Instructions!I30","v":0},null,null,"",{"$f":"$I$19*J27","v":0},{"$f":"IF($K$19>0,K27/$K$19,0)","v":0},null,{"$f":"$L$19*J27","v":0},{"$f":"$M$19*J27","v":0},{"$f":"$N$19*J27","v":0},{"$f":"$O$19*J27","v":0},null,null,null,{"$f":"Instructions!S30","v":false},""]
[null,null,null,null,{"$f":"Instructions!I31","v":0},null,null,"",0,0,null,0,0,0,0,null,null,null,{"$f":"Instructions!S31","v":false},""]
[null,null,null,null,{"$f":"Instructions!I32","v":0},null,null,"",0,0,null,0,0,0,0,null,null,null,{"$f":"Instructions!S32","v":false},""]
[null,null,null,null,{"$f":"Instructions!I33","v":0},null,null,"",0,0,null,0,0,0,0,null,null,null,{"$f":"Instructions!S33","v":false},""]
[null,null,null,null,{"$f":"Instructions!I34","v":0},null,null,"",0,0,null,0,0,0,0,null,null,null,{"$f":"Instructions!S34","v":false},""]
[null,null,null,null,{"$f":"Instructions!I35","v":0},null,null,"",0,0,null,0,0,0,0,null,null,null,{"$f":"Instructions!S35","v":false},""]
[null,null,null,null,{"$f":"Instructions!I36","v":0},null,null,"",0,0,null,0,0,0,0,null,null,null,{"$f":"Instructions!S36","v":false},""]
[null,null,null,null,{"$f":"Instructions!I37","v":0},null,null,"",0,0,null,0,0,0,0,null,null,null,{"$f":"Instructions!S37","v":false},""]
[null,null,null,null,{"$f":"Instructions!I38","v":0},null,null,"",0,0,null,0,0,0,0,null,null,null,{"$f":"Instructions!S38","v":false},""]
[null,null,null,null,{"$f":"Instructions!I39","v":0},null,null,"",0,0,null,0,0,0,0,null,null,null,{"$f":"Instructions!S39","v":false},""]
[null,null,null,null,{"$f":"Instructions!I40","v":0},null,null,"",0,0,null,0,0,0,0,null,null,null,{"$f":"Instructions!S40","v":false},""]
[null,null,null,null,{"$f":"Instructions!I41","v":0},null,null,"",0,0,null,0,0,0,0,null,null,null,{"$f":"Instructions!S41","v":false},""]
[null,null,null,null,{"$f":"Instructions!I42","v":0},null,null,"",0,0,null,0,0,0,0,null,null,null,{"$f":"Instructions!S42","v":false},""]
[null,null,null,null,{"$f":"Instructions!I43","v":0},null,null,"",0,0,null,0,0,0,0,null,null,null,{"$f":"Instructions!S43","v":false},""]
[null,null,null,null,"No Beneficiary Presently Entitled",null,null,null,0,0,null,0,0,0,0]
[null,null,null,null,"Total Distributions",null,null,null,{"$f":"SUM(I26:I41)","v":0},0,0,{"$f":"SUM(L26:L41)","v":0},0,0,0]
[]
[null,null,null,null,null,null,null,null,null,null,{"$f":"IF(N42>0,\"Net capital gains above may need to be grossed up in the beneficiary return to absorb any capital losses before applying CGT concessions\",\"\")","v":""}]

{"sheet":"Non-Streaming - Resolution","index":2,"n_rows":81,"n_cols":14,"rows_kept":81,"cut":false,"hidden":false,"merged":[[42,6,43,8],[44,12,45,12],[20,7,20,8],[21,7,21,8],[22,7,22,8],[37,6,40,8],[23,7,23,8],[24,7,24,8],[25,7,25,8],[20,12,30,12],[5,12,8,12],[11,6,14,8],[29,7,29,8],[30,7,30,8],[15,6,17,8],[33,7,33,8],[34,7,34,8],[26,7,26,8],[27,7,27,8],[28,7,28,8],[31,12,35,12],[31,7,31,8],[32,7,32,8]]}
[]
[null,null,null,null,null,"Trustee Resolution for Distribution of Non-Streamed Income",null,null,null,null,null,null,null,{"$f":"\"blank\"","v":"blank"}]
[null,null,null,null,null,{"$f":"Instructions!E3","v":"Year Ended 30 June 2016"},null,null,null,null,null,null,null,{"$f":"\"blank\"","v":"blank"}]
[null,null,null,null,null,null,null,null,null,null,null,null,null,{"$f":"\"blank\"","v":"blank"}]
[null,null,null,null,null,null,null,null,null,null,null,null,null,{"$f":"\"blank\"","v":"blank"}]
[null,null,null,null,null,null,null,null,null,null,null,null,"Use the Green Print Preview button above to remove any unnecessary rows from the printed copy.",{"$f":"\"blank\"","v":"blank"}]
[null,null,null,null,null,"Resolution of the Trustee(s) of"]
[null,null,null,null,null,{"$f":"Instructions!I11","v":0}]
[null,null,null,null,null,{"$f":"F3","v":"Year Ended 30 June 2016"}]
[]
[]
[null,null,null,null,null,"Determination of Income:","RESOLVED THAT, the trustee determines that the Income of the Trust for the year comprises those amounts shown as income for the purposes of the Accounting Records of the trust less any amounts similarly shown in the Accounting Records as expenses and outgoings for the year."]
[]
[]
[]
[null,null,null,null,null,"Distribution of Income:",{"$f":"CONCATENATE(\"RESOLVED THAT, pursuant to \",Clause,\"the Trust Deed, and regardless of any adjustment to the income of the trust, the income of the trust for the year is hereby set aside for the benefit of the beneficiaries as follows:\")","v":"RESOLVED THAT, pursuant to the Trust Deed, and regardless of any adjustment to the income of the trust, the income of the trust for the year is hereby set aside for the benefit of the beneficiaries as follows:"}]
[]
[]
[]
[null,null,null,null,null,null,"Beneficiary","Entitlement"]
[null,null,null,null,null,null,null,null,null,null,null,null,"Select a beneficiary and alongside enter a description of the entitlement to trust income.  \n\nEntitlement Examples \n- 100% \n- 50% \n- the first e.g $416\n- the next e.g. $416 \n- the next e.g. $10,000\n- 50% of the balance\n- the balance"]
[null,null,null,null,null,null,null,null,null,null,null,null,null,{"$f":"IF(OR(G22>0,H22>0),0,\"blank\")","v":"blank"}]
[null,null,null,null,null,null,null,null,null,null,null,null,null,{"$f":"IF(OR(G23>0,H23>0),0,\"blank\")","v":"blank"}]
[null,null,null,null,null,null,null,null,null,null,null,null,null,"blank"]
[null,null,null,null,null,null,null,null,null,null,null,null,null,"blank"]
[null,null,null,null,null,null,null,null,null,null,null,null,null,"blank"]
[null,null,null,null,null,null,null,null,null,null,null,null,null,"blank"]
[null,null,null,null,null,null,null,null,null,null,null,null,null,"blank"]
[null,null,null,null,null,null,null,null,null,null,null,null,null,"blank"]
[null,null,null,null,null,null,null,null,null,null,null,null,null,"blank"]
[null,null,null,null,null,null,null,null,null,null,null,null,null,"blank"]
[null,null,null,null,null,null,null,null,null,null,null,null,"It is important to use\na remainder clause\n(\"the balance to…..\")\nif percentages\nare not being used.","blank"]
[null,null,null,null,null,null,null,null,null,null,null,null,null,"blank"]
[null,null,null,null,null,null,null,null,null,null,null,null,null,"blank"]
[]
[]
[]
[null,null,null,null,null,"Previous Payments:","RESOLVED THAT, the making of any payment by the trustee(s) to or for the benefit of any Beneficiary during the year did not constitute the making of a Distribution by the Trustee(s) unless expressly recorded as such by a resolution of the Trustee(s) and any such payment(s) does not in any way alter the terms of the above distribution of income."]
[]
[]
[]
[]
[null,null,null,null,null,"Declaration:","I/We, the undersigned, hereby confirm our agreement with the above resolutions."]
[]
[null,null,null,null,null,null,null,null,null,null,null,null,"The Trustee(s) should \nsign this resolution by"]
[null,null,null,null,null,null,null,null,"        /        /",null,null,null,null,{"$f":"N47","v":"blank"}]
[null,null,null,null,null,null,{"$f":"IF(Instructions!I17>0,Instructions!I17,\"\")","v":""},null,"Date Signed",null,null,null,{"$f":"Instructions!R10","v":"2016-06-30"},{"$f":"IF(G47<>\"\",0,\"blank\")","v":"blank"}]
[null,null,null,null,null,null,{"$f":"IF(Instructions!$I$14>0,\"Director\",\"Individual Trustee\")","v":"Individual Trustee"},null,null,null,null,null,null,{"$f":"N47","v":"blank"}]
[null,null,null,null,null,null,{"$f":"IF(Instructions!$I$14>0,Instructions!$I$14,\"\")","v":""},null,null,null,null,null,null,{"$f":"N48","v":"blank"}]
[null,null,null,null,null,null,null,null,null,null,null,null,null,{"$f":"N49","v":"blank"}]
[null,null,null,null,null,null,null,null,null,null,null,null,null,{"$f":"N50","v":"blank"}]
[null,null,null,null,null,null,null,null,"        /        /",null,null,null,null,{"$f":"N53","v":"blank"}]
[null,null,null,null,null,null,{"$f":"IF(Instructions!I18>0,Instructions!I18,\"\")","v":""},null,"Date Signed",null,null,null,null,{"$f":"IF(G53<>\"\",0,\"blank\")","v":"blank"}]
[null,null,null,null,null,null,{"$f":"IF(Instructions!$I$14>0,\"Director\",\"Individual Trustee\")","v":"Individual Trustee"},null,null,null,null,null,null,{"$f":"N53","v":"blank"}]
[null,null,null,null,null,null,{"$f":"IF(Instructions!$I$14>0,Instructions!$I$14,\"\")","v":""},null,null,null,null,null,null,{"$f":"N54","v":"blank"}]
[null,null,null,null,null,null,null,null,null,null,null,null,null,{"$f":"N55","v":"blank"}]
[null,null,null,null,null,null,null,null,null,null,null,null,null,{"$f":"N56","v":"blank"}]
[null,null,null,null,null,null,null,null,"        /        /",null,null,null,null,{"$f":"N59","v":"blank"}]
[null,null,null,null,null,null,{"$f":"IF(Instructions!I19>0,Instructions!I19,\"\")","v":""},null,"Date Signed",null,null,null,null,{"$f":"IF(G59<>\"\",0,\"blank\")","v":"blank"}]
[null,null,null,null,null,null,{"$f":"IF(Instructions!$I$14>0,\"Director\",\"Individual Trustee\")","v":"Individual Trustee"},null,null,null,null,null,null,{"$f":"N59","v":"blank"}]
[null,null,null,null,null,null,{"$f":"IF(Instructions!$I$14>0,Instructions!$I$14,\"\")","v":""},null,null,null,null,null,null,{"$f":"N60","v":"blank"}]
[null,null,null,null,null,null,null,null,null,null,null,null,null,{"$f":"N61","v":"blank"}]
[null,null,null,null,null,null,null,null,null,null,null,null,null,{"$f":"N62","v":"blank"}]
[null,null,null,null,null,null,null,null,"        /        /",null,null,null,null,{"$f":"N65","v":"blank"}]
[null,null,null,null,null,null,{"$f":"IF(Instructions!I20>0,Instructions!I20,\"\")","v":""},null,"Date Signed",null,null,null,null,{"$f":"IF(G65<>\"\",0,\"blank\")","v":"blank"}]
[null,null,null,null,null,null,{"$f":"IF(Instructions!$I$14>0,\"Director\",\"Individual Trustee\")","v":"Individual Trustee"},null,null,null,null,null,null,{"$f":"N65","v":"blank"}]
[null,null,null,null,null,null,{"$f":"IF(Instructions!$I$14>0,Instructions!$I$14,\"\")","v":""},null,null,null,null,null,null,{"$f":"N66","v":"blank"}]
[null,null,null,null,null,null,null,null,null,null,null,null,null,{"$f":"N67","v":"blank"}]
[null,null,null,null,null,null,null,null,null,null,null,null,null,{"$f":"N68","v":"blank"}]
[null,null,null,null,null,null,null,null,"        /        /",null,null,null,null,{"$f":"N71","v":"blank"}]
[null,null,null,null,null,null,{"$f":"IF(Instructions!I21>0,Instructions!I21,\"\")","v":""},null,"Date Signed",null,null,null,null,{"$f":"IF(G71<>\"\",0,\"blank\")","v":"blank"}]
[null,null,null,null,null,null,{"$f":"IF(Instructions!$I$14>0,\"Director\",\"Individual Trustee\")","v":"Individual Trustee"},null,null,null,null,null,null,{"$f":"N71","v":"blank"}]
[null,null,null,null,null,null,{"$f":"IF(Instructions!$I$14>0,Instructions!$I$14,\"\")","v":""},null,null,null,null,null,null,{"$f":"N72","v":"blank"}]
[null,null,null,null,null,null,null,null,null,null,null,null,null,{"$f":"N73","v":"blank"}]
[null,null,null,null,null,null,null,null,null,null,null,null,null,{"$f":"N74","v":"blank"}]
[null,null,null,null,null,null,null,null,"        /        /",null,null,null,null,{"$f":"N77","v":"blank"}]
[null,null,null,null,null,null,{"$f":"IF(Instructions!I22>0,Instructions!I22,\"\")","v":""},null,"Date Signed",null,null,null,null,{"$f":"IF(G77<>\"\",0,\"blank\")","v":"blank"}]
[null,null,null,null,null,null,{"$f":"IF(Instructions!$I$14>0,\"Director\",\"Individual Trustee\")","v":"Individual Trustee"},null,null,null,null,null,null,{"$f":"N77","v":"blank"}]
[null,null,null,null,null,null,{"$f":"IF(Instructions!$I$14>0,Instructions!$I$14,\"\")","v":""},null,null,null,null,null,null,{"$f":"N78","v":"blank"}]
[null,null,null,null,null,null,null,null,null,null,null,null,null,{"$f":"N79","v":"blank"}]
[null,null,null,null,null,null,null,null,null,null,null,null,null,{"$f":"N80","v":"blank"}]

{"sheet":"Streaming - Res Calc","index":3,"n_rows":44,"n_cols":23,"rows_kept":44,"cut":false,"hidden":false,"merged":[[43,11,44,15],[14,11,14,15],[23,4,23,9],[23,11,23,15],[16,10,17,10],[21,6,21,9],[21,11,21,15],[15,11,15,15],[15,6,15,9],[6,3,6,4],[1,19,2,21],[14,6,14,9],[6,5,6,15],[1,9,1,15],[2,12,2,15]]}
[]
[null,null,null,null,"Discretionary Trust Distribution Worksheet for Streamed Income",null,null,null,null,{"$f":"Instructions!I11","v":0},null,null,null,null,null,null,null,null,null,"HIDE"]
[null,null,null,null,{"$f":"'Non-Streaming - Res Calc'!E3","v":"Prepared for the Trustee's Resolution for the Year Ended 30 June 2016"},null,null,null,null,null,null,null,{"$f":"'Non-Streaming - Res Calc'!M3:O3","v":"Prepared by Preparer Name"}]
[]
[]
[]
[null,null,null,"USE FOR RESOLUTION",null,"INSTRUCTIONS",null,null,null,null,null,null,null,null,null,null,null,null,null,null,null,null,{"$f":"\"blank\"","v":"blank"}]
[null,null,null,null,null,"1. Enter Total Trust (Accounting) Income, followed by any Net Franked Dividends and Capital Gains.  Other Trust Income will be calculated automatically.",null,null,null,null,null,null,null,null,null,null,null,null,null,null,null,null,{"$f":"\"blank\"","v":"blank"}]
[null,null,null,null,null,"2. Enter Taxable Income, followed by any Net Franked Dividends, Franking Credits and Net Capital Gains.  Other Taxable Income will be calculated automatically.",null,null,null,null,null,null,null,null,null,null,null,null,null,null,null,null,"blank"]
[null,null,null,null,null,"3. Enter the streamed components of the desired amount of Taxable Distribution for each beneficiary and the Trust Distributions will be calculated automatically.",null,null,null,null,null,null,null,null,null,null,null,null,null,null,null,null,"blank"]
[null,null,null,null,null,"4. Ensure that there is no Undistributed Taxable Income, nor any negative Other Trust Income or Other Taxable Income.  Error messages will be displayed.",null,null,null,null,null,null,null,null,null,null,null,null,null,null,null,null,"blank"]
[null,null,null,null,null,"5. Go to the \"Resolution\" sheet to prepare a resolution authorising these distributions.  This resolution must be completed and signed by 30 June.",null,null,null,null,null,null,null,null,null,null,null,null,null,null,null,null,"blank"]
[null,null,null,null,null,null,null,null,null,null,null,null,null,null,null,null,null,null,null,null,null,null,"blank"]
[null,null,null,null,null,null,null,null,null,null,null,null,null,null,null,null,null,null,null,null,null,null,{"$f":"\"blank\"","v":"blank"}]
[]
[null,null,null,null,null,null,"Trust Income",null,null,null,null,"Taxable Income"]
[null,null,null,null,null,null,"Net Franked","Capital","Other Trust","Total Trust",null,"Taxable","Net Franked","Franking","Net Capital","Other Taxable"]
[null,null,null,null,null,null,"Dividends","Gains","Income","Income",null,"Income","Dividends","Credits","Gains","Income"]
[null,null,null,null,"Trust Income",null,null,null,{"$f":"J19-G19-H19","v":0},null,null,null,null,null,null,{"$f":"L19-M19-N19-O19","v":0}]
[null,null,null,null,"Less Distributions",null,{"$f":"G42","v":0},{"$f":"H42","v":0},{"$f":"I42","v":0},{"$f":"J42","v":0},null,{"$f":"L42","v":0},{"$f":"M42","v":0},{"$f":"N42","v":0},{"$f":"O42","v":0},{"$f":"P42","v":0}]
[null,null,null,null,"Undistributed Income",null,{"$f":"G19-G20","v":0},{"$f":"H19-H20","v":0},{"$f":"I19-I20","v":0},{"$f":"J19-J20","v":0},null,{"$f":"L19-L20","v":0},{"$f":"M19-M20","v":0},{"$f":"N19-N20","v":0},{"$f":"O19-O20","v":0},{"$f":"P19-P20","v":0}]
[null,null,null,null,null,null,{"$f":"IF(I19<0,\"Error:  Negative Other Trust Income - Check All Figures\",\"\")","v":""},null,null,null,null,{"$f":"IF(P19<0,\"Error:  Negative Other Taxable Income\",\"\")","v":""}]
[]
[null,null,null,null,"Trust Distributions for Resolution",null,null,null,null,null,null,"Taxable Distributions"]
[null,null,null,null,"Name of Beneficiary","Minor","Net Frank Div","Cap Gains","Other Trust Inc","Total Dist",null,"Taxable Inc","Net Frank Div","Frank Creds","Net Cap Gains","Other Tax Inc"]
[null,null,null,null,{"$f":"Instructions!I29","v":0},{"$f":"IF(E26>0,IF(T26=TRUE,\"Yes\",\"No\"),\"\")","v":""},{"$f":"IF($M$19>0,$G$19/$M$19*M26,IF($P$19>0,P26/$P$19*$G$19,0))","v":0},{"$f":"IF($O$19>0,O26/$O$19*$H$19,0)","v":0},{"$f":"IF($P$19>0,P26/$P$19*$I$19,0)","v":0},{"$f":"SUM(G26:I26)","v":0},null,{"$f":"SUM(M26:P26)","v":0},null,{"$f":"IF($M$19>0,M26/$M$19*$N$19,IF($P$19>0,P26/$P$19*$N$19,0))","v":0},null,null,null,null,null,{"$f":"Instructions!S29","v":false},{"$f":"IF(T26=TRUE,MinorThreshold,0)","v":0}]
[null,null,null,null,{"$f":"Instructions!I30","v":0},{"$f":"IF(E27>0,IF(T27=TRUE,\"Yes\",\"No\"),\"\")","v":""},{"$f":"IF($M$19>0,$G$19/$M$19*M27,IF($P$19>0,P27/$P$19*$G$19,0))","v":0},{"$f":"IF($O$19>0,O27/$O$19*$H$19,0)","v":0},{"$f":"IF($P$19>0,P27/$P$19*$I$19,0)","v":0},{"$f":"SUM(G27:I27)","v":0},null,{"$f":"SUM(M27:P27)","v":0},null,{"$f":"IF($M$19>0,M27/$M$19*$N$19,IF($P$19>0,P27/$P$19*$N$19,0))","v":0},null,null,null,null,null,{"$f":"Instructions!S30","v":false},0]
[null,null,null,null,{"$f":"Instructions!I31","v":0},"",0,0,0,0,null,0,null,0,null,null,null,null,null,{"$f":"Instructions!S31","v":false},0]
[null,null,null,null,{"$f":"Instructions!I32","v":0},"",0,0,0,0,null,0,null,0,null,null,null,null,null,{"$f":"Instructions!S32","v":false},0]
[null,null,null,null,{"$f":"Instructions!I33","v":0},"",0,0,0,0,null,0,null,0,null,null,null,null,null,{"$f":"Instructions!S33","v":false},0]
[null,null,null,null,{"$f":"Instructions!I34","v":0},"",0,0,0,0,null,0,null,0,null,null,null,null,null,{"$f":"Instructions!S34","v":false},0]
[null,null,null,null,{"$f":"Instructions!I35","v":0},"",0,0,0,0,null,0,null,0,null,null,null,null,null,{"$f":"Instructions!S35","v":false},0]
[null,null,null,null,{"$f":"Instructions!I36","v":0},"",0,0,0,0,null,0,null,0,null,null,null,null,null,{"$f":"Instructions!S36","v":false},0]
[null,null,null,null,{"$f":"Instructions!I37","v":0},"",0,0,0,0,null,0,null,0,null,null,null,null,null,{"$f":"Instructions!S37","v":false},0]
[null,null,null,null,{"$f":"Instructions!I38","v":0},"",0,0,0,0,null,0,null,0,null,null,null,null,null,{"$f":"Instructions!S38","v":false},0]
[null,null,null,null,{"$f":"Instructions!I39","v":0},"",0,0,0,0,null,0,null,0,null,null,null,null,null,{"$f":"Instructions!S39","v":false},0]
[null,null,null,null,{"$f":"Instructions!I40","v":0},"",0,0,0,0,null,0,null,0,null,null,null,null,null,{"$f":"Instructions!S40","v":false},0]
[null,null,null,null,{"$f":"Instructions!I41","v":0},"",0,0,0,0,null,0,null,0,null,null,null,null,null,{"$f":"Instructions!S41","v":false},0]
[null,null,null,null,{"$f":"Instructions!I42","v":0},"",0,0,0,0,null,0,null,0,null,null,null,null,null,{"$f":"Instructions!S42","v":false},0]
[null,null,null,null,{"$f":"Instructions!I43","v":0},"",0,0,0,0,null,0,null,0,null,null,null,null,null,{"$f":"Instructions!S43","v":false},0]
[null,null,null,null,"No Beneficiary Presently Entitled",null,0,0,0,0,null,0,null,0]
[null,null,null,null,"Total Distributions",null,{"$f":"SUM(G26:G41)","v":0},{"$f":"SUM(H26:H41)","v":0},{"$f":"SUM(I26:I41)","v":0},{"$f":"SUM(J26:J41)","v":0},null,{"$f":"SUM(L26:L41)","v":0},{"$f":"SUM(M26:M41)","v":0},{"$f":"SUM(N26:N41)","v":0},{"$f":"SUM(O26:O41)","v":0},{"$f":"SUM(P26:P41)","v":0}]
[]
[null,null,null,null,null,null,null,null,null,null,null,{"$f":"IF(O42>0,\"Net capital gains above may need to be grossed up in the beneficiary return to absorb any capital losses before applying CGT concessions\",\"\")","v":""}]

{"sheet":"Streaming - Resolution","index":4,"n_rows":103,"n_cols":14,"rows_kept":103,"cut":false,"hidden":false,"merged":[[5,12,8,12],[28,7,28,8],[29,7,29,8],[35,7,35,8],[11,6,12,8],[45,7,45,8],[16,6,17,8],[13,6,15,8],[19,6,20,8],[22,6,25,8],[53,7,53,8],[59,6,62,8],[36,7,36,8],[47,7,47,8],[49,7,49,8],[48,7,48,8],[37,7,37,8],[38,7,38,8],[39,7,39,8],[46,7,46,8],[66,12,67,12],[56,7,56,8],[54,7,54,8],[55,7,55,8],[64,6,65,8],[57,7,57,8],[50,7,50,8],[51,7,51,8],[52,7,52,8],[42,7,42,8],[43,7,43,8],[44,7,44,8],[28,12,42,12],[43,12,47,12],[31,7,31,8],[32,7,32,8],[33,7,33,8],[34,7,34,8],[40,7,40,8],[30,7,30,8],[41,7,41,8]]}
[]
[null,null,null,null,null,"Trustee Resolution for Distribution of Streamed Income",null,null,null,null,null,null,null,{"$f":"\"blank\"","v":"blank"}]
[null,null,null,null,null,{"$f":"Instructions!E3","v":"Year Ended 30 June 2016"},null,null,null,null,null,null,null,{"$f":"\"blank\"","v":"blank"}]
[null,null,null,null,null,null,null,null,null,null,null,null,null,{"$f":"\"blank\"","v":"blank"}]
[null,null,null,null,null,null,null,null,null,null,null,null,null,{"$f":"\"blank\"","v":"blank"}]
[null,null,null,null,null,null,null,null,null,null,null,null,"Use the Green Print Preview button above to remove any unnecessary rows from the printed copy.",{"$f":"\"blank\"","v":"blank"}]
[null,null,null,null,null,"Resolution of the Trustee(s) of"]
[null,null,null,null,null,{"$f":"Instructions!I11","v":0}]
[null,null,null,null,null,{"$f":"F3","v":"Year Ended 30 June 2016"}]
[]
[]
[null,null,null,null,null,"Determination of Income:","RESOLVED THAT, the trustee determines that the Income of the Trust for the year comprises:"]
[]
[null,null,null,null,null,"(a)","all those amounts shown as income for the purposes of the Accounting Records of the trust less any amounts similarly shown in the Accounting Records as expenses and outgoings for the year; and"]
[]
[]
[null,null,null,null,null,"(b)","capital gains, as defined at subsection 995-1(1) of the Income Tax Assessment Act 1997 made during the year less any current or prior year capital losses."]
[]
[]
[null,null,null,null,null,"Class of Income","For the purposes of the distribution below, the Trustee has kept sufficient records to be able to identify the different classes of income received during the year."]
[]
[]
[null,null,null,null,null,"Distribution of Income:",{"$f":"CONCATENATE(\"RESOLVED THAT, pursuant to \",Clause,\"the Trust Deed, and regardless of any adjustment to the income of the trust, the following classes of income of the trust for the year are hereby set aside for the benefit of the beneficiaries in the amounts and/or proportions as shown below:\")","v":"RESOLVED THAT, pursuant to the Trust Deed, and regardless of any adjustment to the income of the trust, the following classes of income of the trust for the year are hereby set aside for the benefit of the beneficiaries in the amounts and/or proportions as shown below:"}]
[]
[]
[]
[]
[null,null,null,null,null,null,"Beneficiary","Entitlement"]
[null,null,null,null,null,"Capital Gains less Losses:",null,null,null,null,null,null,"Select a beneficiary and alongside enter a description of the entitlement to each class of streamed income.  \n\nEntitlement Examples \n(for each class of income)\n- 100%\n- 50%\n- the first e.g $416 \n- the next e.g. $416\n- the next e.g. $10,000\n- 50% of the balance\n- the balance\n- 50% of the gain on ACT Property\n- balance of gain on ACT Property"]
[null,null,null,null,null,null,null,null,null,null,null,null,null,{"$f":"IF(OR(G30>0,H30>0),0,\"blank\")","v":"blank"}]
[null,null,null,null,null,null,null,null,null,null,null,null,null,"blank"]
[null,null,null,null,null,null,null,null,null,null,null,null,null,"blank"]
[null,null,null,null,null,null,null,null,null,null,null,null,null,"blank"]
[null,null,null,null,null,null,null,null,null,null,null,null,null,"blank"]
[null,null,null,null,null,null,null,null,null,null,null,null,null,"blank"]
[null,null,null,null,null,null,null,null,null,null,null,null,null,"blank"]
[null,null,null,null,null,null,null,null,null,null,null,null,null,"blank"]
[]
[null,null,null,null,null,"Net Franked Dividends:"]
[null,null,null,null,null,null,null,null,null,null,null,null,null,{"$f":"IF(OR(G40>0,H40>0),0,\"blank\")","v":"blank"}]
[null,null,null,null,null,null,null,null,null,null,null,null,null,"blank"]
[null,null,null,null,null,null,null,null,null,null,null,null,null,"blank"]
[null,null,null,null,null,null,null,null,null,null,null,null,null,"blank"]
[null,null,null,null,null,null,null,null,null,null,null,null,"It is important to use\na remainder clause\n(\"the balance to…..\")\nif percentages\nare not being used.","blank"]
[null,null,null,null,null,null,null,null,null,null,null,null,null,"blank"]
[null,null,null,null,null,null,null,null,null,null,null,null,null,"blank"]
[null,null,null,null,null,null,null,null,null,null,null,null,null,"blank"]
[]
[null,null,null,null,null,"All Other Trust Income:"]
[null,null,null,null,null,null,null,null,null,null,null,null,null,{"$f":"IF(OR(G50>0,H50>0),0,\"blank\")","v":"blank"}]
[null,null,null,null,null,null,null,null,null,null,null,null,null,"blank"]
[null,null,null,null,null,null,null,null,null,null,null,null,null,"blank"]
[null,null,null,null,null,null,null,null,null,null,null,null,null,"blank"]
[null,null,null,null,null,null,null,null,null,null,null,null,null,"blank"]
[null,null,null,null,null,null,null,null,null,null,null,null,null,"blank"]
[null,null,null,null,null,null,null,null,null,null,null,null,null,"blank"]
[null,null,null,null,null,null,null,null,null,null,null,null,null,"blank"]
[]
[]
[null,null,null,null,null,"Previous Payments:","RESOLVED THAT, the making of any payment by the trustee(s) to or for the benefit of any Beneficiary during the year did not constitute the making of a Distribution by the Trustee(s) unless expressly recorded as such by a resolution of the Trustee(s) and any such payment(s) does not in any way alter the terms of the above distribution of income."]
[]
[]
[]
[]
[null,null,null,null,null,"Declaration:","I/We, the undersigned, hereby confirm our agreement with the above resolutions."]
[]
[null,null,null,null,null,null,null,null,null,null,null,null,"The Trustee(s) should \nsign this resolution by"]
[null,null,null,null,null,null,null,null,"        /        /",null,null,null,null,{"$f":"N69","v":"blank"}]
[null,null,null,null,null,null,{"$f":"IF(Instructions!I17>0,Instructions!I17,\"\")","v":""},null,"Date Signed",null,null,null,{"$f":"Instructions!R10","v":"2016-06-30"},{"$f":"IF(G69<>\"\",0,\"blank\")","v":"blank"}]
[null,null,null,null,null,null,{"$f":"IF(Instructions!$I$14>0,\"Director\",\"Individual Trustee\")","v":"Individual Trustee"},null,null,null,null,null,null,{"$f":"N69","v":"blank"}]
[null,null,null,null,null,null,{"$f":"IF(Instructions!$I$14>0,Instructions!$I$14,\"\")","v":""},null,null,null,null,null,null,{"$f":"N70","v":"blank"}]
[null,null,null,null,null,null,null,null,null,null,null,null,null,{"$f":"N71","v":"blank"}]
[null,null,null,null,null,null,null,null,null,null,null,null,null,{"$f":"N72","v":"blank"}]
[null,null,null,null,null,null,null,null,"        /        /",null,null,null,null,{"$f":"N75","v":"blank"}]
[null,null,null,null,null,null,{"$f":"IF(Instructions!I18>0,Instructions!I18,\"\")","v":""},null,"Date Signed",null,null,null,null,{"$f":"IF(G75<>\"\",0,\"blank\")","v":"blank"}]
[null,null,null,null,null,null,{"$f":"IF(Instructions!$I$14>0,\"Director\",\"Individual Trustee\")","v":"Individual Trustee"},null,null,null,null,null,null,{"$f":"N75","v":"blank"}]
[null,null,null,null,null,null,{"$f":"IF(Instructions!$I$14>0,Instructions!$I$14,\"\")","v":""},null,null,null,null,null,null,{"$f":"N76","v":"blank"}]
[null,null,null,null,null,null,null,null,null,null,null,null,null,{"$f":"N77","v":"blank"}]
[null,null,null,null,null,null,null,null,null,null,null,null,null,{"$f":"N78","v":"blank"}]
[null,null,null,null,null,null,null,null,"        /        /",null,null,null,null,{"$f":"N81","v":"blank"}]
[null,null,null,null,null,null,{"$f":"IF(Instructions!I19>0,Instructions!I19,\"\")","v":""},null,"Date Signed",null,null,null,null,{"$f":"IF(G81<>\"\",0,\"blank\")","v":"blank"}]
[null,null,null,null,null,null,{"$f":"IF(Instructions!$I$14>0,\"Director\",\"Individual Trustee\")","v":"Individual Trustee"},null,null,null,null,null,null,{"$f":"N81","v":"blank"}]
[null,null,null,null,null,null,{"$f":"IF(Instructions!$I$14>0,Instructions!$I$14,\"\")","v":""},null,null,null,null,null,null,{"$f":"N82","v":"blank"}]
[null,null,null,null,null,null,null,null,null,null,null,null,null,{"$f":"N83","v":"blank"}]
[null,null,null,null,null,null,null,null,null,null,null,null,null,{"$f":"N84","v":"blank"}]
[null,null,null,null,null,null,null,null,"        /        /",null,null,null,null,{"$f":"N87","v":"blank"}]
[null,null,null,null,null,null,{"$f":"IF(Instructions!I20>0,Instructions!I20,\"\")","v":""},null,"Date Signed",null,null,null,null,{"$f":"IF(G87<>\"\",0,\"blank\")","v":"blank"}]
[null,null,null,null,null,null,{"$f":"IF(Instructions!$I$14>0,\"Director\",\"Individual Trustee\")","v":"Individual Trustee"},null,null,null,null,null,null,{"$f":"N87","v":"blank"}]
[null,null,null,null,null,null,{"$f":"IF(Instructions!$I$14>0,Instructions!$I$14,\"\")","v":""},null,null,null,null,null,null,{"$f":"N88","v":"blank"}]
[null,null,null,null,null,null,null,null,null,null,null,null,null,{"$f":"N89","v":"blank"}]
[null,null,null,null,null,null,null,null,null,null,null,null,null,{"$f":"N90","v":"blank"}]
[null,null,null,null,null,null,null,null,"        /        /",null,null,null,null,{"$f":"N93","v":"blank"}]
[null,null,null,null,null,null,{"$f":"IF(Instructions!I21>0,Instructions!I21,\"\")","v":""},null,"Date Signed",null,null,null,null,{"$f":"IF(G93<>\"\",0,\"blank\")","v":"blank"}]
[null,null,null,null,null,null,{"$f":"IF(Instructions!$I$14>0,\"Director\",\"Individual Trustee\")","v":"Individual Trustee"},null,null,null,null,null,null,{"$f":"N93","v":"blank"}]
[null,null,null,null,null,null,{"$f":"IF(Instructions!$I$14>0,Instructions!$I$14,\"\")","v":""},null,null,null,null,null,null,{"$f":"N94","v":"blank"}]
[null,null,null,null,null,null,null,null,null,null,null,null,null,{"$f":"N95","v":"blank"}]
[null,null,null,null,null,null,null,null,null,null,null,null,null,{"$f":"N96","v":"blank"}]
[null,null,null,null,null,null,null,null,"        /        /",null,null,null,null,{"$f":"N99","v":"blank"}]
[null,null,null,null,null,null,{"$f":"IF(Instructions!I22>0,Instructions!I22,\"\")","v":""},null,"Date Signed",null,null,null,null,{"$f":"IF(G99<>\"\",0,\"blank\")","v":"blank"}]
[null,null,null,null,null,null,{"$f":"IF(Instructions!$I$14>0,\"Director\",\"Individual Trustee\")","v":"Individual Trustee"},null,null,null,null,null,null,{"$f":"N99","v":"blank"}]
[null,null,null,null,null,null,{"$f":"IF(Instructions!$I$14>0,Instructions!$I$14,\"\")","v":""},null,null,null,null,null,null,{"$f":"N100","v":"blank"}]
[null,null,null,null,null,null,null,null,null,null,null,null,null,{"$f":"N101","v":"blank"}]
[null,null,null,null,null,null,null,null,null,null,null,null,null,{"$f":"N102","v":"blank"}]

{"sheet":"DV-IDENTITY-0","index":5,"n_rows":55,"n_cols":256,"rows_kept":55,"cut":false,"hidden":true,"merged":[]}
[{"$f":"IF(Instructions!1:1,\"AAAAADudTAA=\",0)","v":0},{"$f":"AND(Instructions!C1,\"AAAAADudTAE=\")","v":{"$error":"#VALUE!"}},{"$f":"AND(Instructions!D1,\"AAAAADudTAI=\")","v":{"$error":"#VALUE!"}},{"$f":"AND(Instructions!E1,\"AAAAADudTAM=\")","v":{"$error":"#VALUE!"}},{"$f":"AND(Instructions!F1,\"AAAAADudTAQ=\")","v":{"$error":"#VALUE!"}},{"$f":"AND(Instructions!G1,\"AAAAADudTAU=\")","v":{"$error":"#VALUE!"}},{"$f":"AND(Instructions!H1,\"AAAAADudTAY=\")","v":{"$error":"#VALUE!"}},{"$f":"AND(Instructions!I1,\"AAAAADudTAc=\")","v":{"$error":"#VALUE!"}},{"$f":"AND(Instructions!J1,\"AAAAADudTAg=\")","v":{"$error":"#VALUE!"}},{"$f":"AND(Instructions!K1,\"AAAAADudTAk=\")","v":{"$error":"#VALUE!"}},{"$f":"AND(Instructions!L1,\"AAAAADudTAo=\")","v":{"$error":"#VALUE!"}},{"$f":"AND(Instructions!M1,\"AAAAADudTAs=\")","v":{"$error":"#VALUE!"}},{"$f":"AND(Instructions!N1,\"AAAAADudTAw=\")","v":{"$error":"#VALUE!"}},{"$f":"AND(Instructions!O1,\"AAAAADudTA0=\")","v":{"$error":"#VALUE!"}},{"$f":"AND(Instructions!P1,\"AAAAADudTA4=\")","v":{"$error":"#VALUE!"}},{"$f":"AND(Instructions!Q1,\"AAAAADudTA8=\")","v":{"$error":"#VALUE!"}},{"$f":"AND(Instructions!R1,\"AAAAADudTBA=\")","v":{"$error":"#VALUE!"}},{"$f":"AND(Instructions!S1,\"AAAAADudTBE=\")","v":{"$error":"#VALUE!"}},{"$f":"IF(Instructions!2:2,\"AAAAADudTBI=\",0)","v":0},{"$f":"AND(Instructions!C2,\"AAAAADudTBM=\")","v":{"$error":"#VALUE!"}},{"$f":"AND(Instructions!D2,\"AAAAADudTBQ=\")","v":{"$error":"#VALUE!"}},{"$f":"AND(Instructions!E2,\"AAAAADudTBU=\")","v":{"$error":"#VALUE!"}},{"$f":"AND(Instructions!F2,\"AAAAADudTBY=\")","v":{"$error":"#VALUE!"}},{"$f":"AND(Instructions!G2,\"AAAAADudTBc=\")","v":{"$error":"#VALUE!"}},{"$f":"AND(Instructions!H2,\"AAAAADudTBg=\")","v":{"$error":"#VALUE!"}},{"$f":"AND(Instructions!I2,\"AAAAADudTBk=\")","v":{"$error":"#VALUE!"}},{"$f":"AND(Instructions!J2,\"AAAAADudTBo=\")","v":{"$error":"#VALUE!"}},{"$f":"AND(Instructions!K2,\"AAAAADudTBs=\")","v":{"$error":"#VALUE!"}},{"$f":"AND(Instructions!L2,\"AAAAADudTBw=\")","v":{"$error":"#VALUE!"}},{"$f":"AND(Instructions!M2,\"AAAAADudTB0=\")","v":{"$error":"#VALUE!"}},{"$f":"AND(Instructions!N2,\"AAAAADudTB4=\")","v":{"$error":"#VALUE!"}},{"$f":"AND(Instructions!O2,\"AAAAADudTB8=\")","v":{"$error":"#VALUE!"}},{"$f":"AND(Instructions!P2,\"AAAAADudTCA=\")","v":{"$error":"#VALUE!"}},{"$f":"AND(Instructions!Q2,\"AAAAADudTCE=\")","v":{"$error":"#VALUE!"}},{"$f":"AND(Instructions!R2,\"AAAAADudTCI=\")","v":{"$error":"#VALUE!"}},{"$f":"AND(Instructions!S2,\"AAAAADudTCM=\")","v":{"$error":"#VALUE!"}},{"$f":"IF(Instructions!3:3,\"AAAAADudTCQ=\",0)","v":0},{"$f":"AND(Instructions!C3,\"AAAAADudTCU=\")","v":{"$error":"#VALUE!"}},{"$f":"AND(Instructions!D3,\"AAAAADudTCY=\")","v":{"$error":"#VALUE!"}},{"$f":"AND(Instructions!E3,\"AAAAADudTCc=\")","v":{"$error":"#VALUE!"}},{"$f":"AND(Instructions!F3,\"AAAAADudTCg=\")","v":{"$error":"#VALUE!"}},{"$f":"AND(Instructions!G3,\"AAAAADudTCk=\")","v":{"$error":"#VALUE!"}},{"$f":"AND(Instructions!H3,\"AAAAADudTCo=\")","v":{"$error":"#VALUE!"}},{"$f":"AND(Instructions!I3,\"AAAAADudTCs=\")","v":{"$error":"#VALUE!"}},{"$f":"AND(Instructions!J3,\"AAAAADudTCw=\")","v":{"$error":"#VALUE!"}},{"$f":"AND(Instructions!K3,\"AAAAADudTC0=\")","v":{"$error":"#VALUE!"}},{"$f":"AND(Instructions!L3,\"AAAAADudTC4=\")","v":{"$error":"#VALUE!"}},{"$f":"AND(Instructions!M3,\"AAAAADudTC8=\")","v":{"$error":"#VALUE!"}},{"$f":"AND(Instructions!N3,\"AAAAADudTDA=\")","v":{"$error":"#VALUE!"}},{"$f":"AND(Instructions!O3,\"AAAAADudTDE=\")","v":{"$error":"#VALUE!"}},{"$f":"AND(Instructions!P3,\"AAAAADudTDI=\")","v":{"$error":"#VALUE!"}},{"$f":"AND(Instructions!Q3,\"AAAAADudTDM=\")","v":{"$error":"#VALUE!"}},{"$f":"AND(Instructions!R3,\"AAAAADudTDQ=\")","v":{"$error":"#VALUE!"}},{"$f":"AND(Instructions!S3,\"AAAAADudTDU=\")","v":{"$error":"#VALUE!"}},{"$f":"IF(Instructions!4:4,\"AAAAADudTDY=\",0)","v":0},{"$f":"AND(Instructions!C4,\"AAAAADudTDc=\")","v":{"$error":"#VALUE!"}},{"$f":"AND(Instructions!D4,\"AAAAADudTDg=\")","v":{"$error":"#VALUE!"}},{"$f":"AND(Instructions!E4,\"AAAAADudTDk=\")","v":{"$error":"#VALUE!"}},{"$f":"AND(Instructions!F4,\"AAAAADudTDo=\")","v":{"$error":"#VALUE!"}},{"$f":"AND(Instructions!G4,\"AAAAADudTDs=\")","v":{"$error":"#VALUE!"}},{"$f":"AND(Instructions!H4,\"AAAAADudTDw=\")","v":{"$error":"#VALUE!"}},{"$f":"AND(Instructions!I4,\"AAAAADudTD0=\")","v":{"$error":"#VALUE!"}},{"$f":"AND(Instructions!J4,\"AAAAADudTD4=\")","v":{"$error":"#VALUE!"}},{"$f":"AND(Instructions!K4,\"AAAAADudTD8=\")","v":{"$error":"#VALUE!"}},{"$f":"AND(Instructions!L4,\"AAAAADudTEA=\")","v":{"$error":"#VALUE!"}},{"$f":"AND(Instructions!M4,\"AAAAADudTEE=\")","v":{"$error":"#VALUE!"}},{"$f":"AND(Instructions!N4,\"AAAAADudTEI=\")","v":{"$error":"#VALUE!"}},{"$f":"AND(Instructions!O4,\"AAAAADudTEM=\")","v":{"$error":"#VALUE!"}},{"$f":"AND(Instructions!P4,\"AAAAADudTEQ=\")","v":{"$error":"#VALUE!"}},{"$f":"AND(Instructions!Q4,\"AAAAADudTEU=\")","v":{"$error":"#VALUE!"}},{"$f":"AND(Instructions!R4,\"AAAAADudTEY=\")","v":{"$error":"#VALUE!"}},{"$f":"AND(Instructions!S4,\"AAAAADudTEc=\")","v":{"$error":"#VALUE!"}},{"$f":"IF(Instructions!5:5,\"AAAAADudTEg=\",0)","v":0},{"$f":"AND(Instructions!C5,\"AAAAADudTEk=\")","v":{"$error":"#VALUE!"}},{"$f":"AND(Instructions!D5,\"AAAAADudTEo=\")","v":{"$error":"#VALUE!"}},{"$f":"AND(Instructions!E5,\"AAAAADudTEs=\")","v":{"$error":"#VALUE!"}},{"$f":"AND(Instructions!F5,\"AAAAADudTEw=\")","v":{"$error":"#VALUE!"}},{"$f":"AND(Instructions!G5,\"AAAAADudTE0=\")","v":{"$error":"#VALUE!"}},{"$f":"AND(Instructions!H5,\"AAAAADudTE4=\")","v":{"$error":"#VALUE!"}},{"$f":"AND(Instructions!I5,\"AAAAADudTE8=\")","v":{"$error":"#VALUE!"}},{"$f":"AND(Instructions!J5,\"AAAAADudTFA=\")","v":{"$error":"#VALUE!"}},{"$f":"AND(Instructions!K5,\"AAAAADudTFE=\")","v":{"$error":"#VALUE!"}},{"$f":"AND(Instructions!L5,\"AAAAADudTFI=\")","v":{"$error":"#VALUE!"}},{"$f":"AND(Instructions!M5,\"AAAAADudTFM=\")","v":{"$error":"#VALUE!"}},{"$f":"AND(Instructions!N5,\"AAAAADudTFQ=\")","v":{"$error":"#VALUE!"}},{"$f":"AND(Instructions!O5,\"AAAAADudTFU=\")","v":{"$error":"#VALUE!"}},{"$f":"AND(Instructions!P5,\"AAAAADudTFY=\")","v":{"$error":"#VALUE!"}},{"$f":"AND(Instructions!Q5,\"AAAAADudTFc=\")","v":{"$error":"#VALUE!"}},{"$f":"AND(Instructions!R5,\"AAAAADudTFg=\")","v":{"$error":"#VALUE!"}},{"$f":"AND(Instructions!S5,\"AAAAADudTFk=\")","v":{"$error":"#VALUE!"}},{"$f":"IF(Instructions!6:6,\"AAAAADudTFo=\",0)","v":0},{"$f":"AND(Instructions!C6,\"AAAAADudTFs=\")","v":{"$error":"#VALUE!"}},{"$f":"AND(Instructions!D6,\"AAAAADudTFw=\")","v":{"$error":"#VALUE!"}},{"$f":"AND(Instructions!E6,\"AAAAADudTF0=\")","v":{"$error":"#VALUE!"}},{"$f":"AND(Instructions!F6,\"AAAAADudTF4=\")","v":{"$error":"#VALUE!"}},{"$f":"AND(Instructions!G6,\"AAAAADudTF8=\")","v":{"$error":"#VALUE!"}},{"$f":"AND(Instructions!H6,\"AAAAADudTGA=\")","v":{"$error":"#VALUE!"}},{"$f":"AND(Instructions!I6,\"AAAAADudTGE=\")","v":{"$error":"#VALUE!"}},{"$f":"AND(Instructions!J6,\"AAAAADudTGI=\")","v":{"$error":"#VALUE!"}},{"$f":"AND(Instructions!K6,\"AAAAADudTGM=\")","v":{"$error":"#VALUE!"}},{"$f":"AND(Instructions!L6,\"AAAAADudTGQ=\")","v":{"$error":"#VALUE!"}},{"$f":"AND(Instructions!M6,\"AAAAADudTGU=\")","v":{"$error":"#VALUE!"}},{"$f":"AND(Instructions!N6,\"AAAAADudTGY=\")","v":{"$error":"#VALUE!"}},{"$f":"AND(Instructions!O6,\"AAAAADudTGc=\")","v":{"$error":"#VALUE!"}},{"$f":"AND(Instructions!P6,\"AAAAADudTGg=\")","v":{"$error":"#VALUE!"}},{"$f":"AND(Instructions!Q6,\"AAAAADudTGk=\")","v":{"$error":"#VALUE!"}},{"$f":"AND(Instructions!R6,\"AAAAADudTGo=\")","v":{"$error":"#VALUE!"}},{"$f":"AND(Instructions!S6,\"AAAAADudTGs=\")","v":{"$error":"#VALUE!"}},{"$f":"IF(Instructions!7:7,\"AAAAADudTGw=\",0)","v":0},{"$f":"AND(Instructions!C7,\"AAAAADudTG0=\")","v":{"$error":"#VALUE!"}},{"$f":"AND(Instructions!D7,\"AAAAADudTG4=\")","v":{"$error":"#VALUE!"}},{"$f":"AND(Instructions!E7,\"AAAAADudTG8=\")","v":{"$error":"#VALUE!"}},{"$f":"AND(Instructions!F7,\"AAAAADudTHA=\")","v":{"$error":"#VALUE!"}},{"$f":"AND(Instructions!G7,\"AAAAADudTHE=\")","v":{"$error":"#VALUE!"}},{"$f":"AND(Instructions!H7,\"AAAAADudTHI=\")","v":{"$error":"#VALUE!"}},{"$f":"AND(Instructions!I7,\"AAAAADudTHM=\")","v":{"$error":"#VALUE!"}},{"$f":"AND(Instructions!J7,\"AAAAADudTHQ=\")","v":{"$error":"#VALUE!"}},{"$f":"AND(Instructions!K7,\"AAAAADudTHU=\")","v":{"$error":"#VALUE!"}},{"$f":"AND(Instructions!L7,\"AAAAADudTHY=\")","v":{"$error":"#VALUE!"}},{"$f":"AND(Instructions!M7,\"AAAAADudTHc=\")","v":{"$error":"#VALUE!"}},{"$f":"AND(Instructions!N7,\"AAAAADudTHg=\")","v":{"$error":"#VALUE!"}},{"$f":"AND(Instructions!O7,\"AAAAADudTHk=\")","v":{"$error":"#VALUE!"}},{"$f":"AND(Instructions!P7,\"AAAAADudTHo=\")","v":{"$error":"#VALUE!"}},{"$f":"AND(Instructions!Q7,\"AAAAADudTHs=\")","v":{"$error":"#VALUE!"}},{"$f":"AND(Instructions!R7,\"AAAAADudTHw=\")","v":{"$error":"#VALUE!"}},{"$f":"AND(Instructions!S7,\"AAAAADudTH0=\")","v":{"$error":"#VALUE!"}},{"$f":"IF(Instructions!8:8,\"AAAAADudTH4=\",0)","v":0},{"$f":"AND(Instructions!C8,\"AAAAADudTH8=\")","v":{"$error":"#VALUE!"}},{"$f":"AND(Instructions!D8,\"AAAAADudTIA=\")","v":{"$error":"#VALUE!"}},{"$f":"AND(Instructions!E8,\"AAAAADudTIE=\")","v":{"$error":"#VALUE!"}},{"$f":"AND(Instructions!F8,\"AAAAADudTII=\")","v":{"$error":"#VALUE!"}},{"$f":"AND(Instructions!G8,\"AAAAADudTIM=\")","v":{"$error":"#VALUE!"}},{"$f":"AND(Instructions!H8,\"AAAAADudTIQ=\")","v":{"$error":"#VALUE!"}},{"$f":"AND(Instructions!I8,\"AAAAADudTIU=\")","v":{"$error":"#VALUE!"}},{"$f":"AND(Instructions!J8,\"AAAAADudTIY=\")","v":{"$error":"#VALUE!"}},{"$f":"AND(Instructions!K8,\"AAAAADudTIc=\")","v":{"$error":"#VALUE!"}},{"$f":"AND(Instructions!L8,\"AAAAADudTIg=\")","v":{"$error":"#VALUE!"}},{"$f":"AND(Instructions!M8,\"AAAAADudTIk=\")","v":{"$error":"#VALUE!"}},{"$f":"AND(Instructions!N8,\"AAAAADudTIo=\")","v":{"$error":"#VALUE!"}},{"$f":"AND(Instructions!O8,\"AAAAADudTIs=\")","v":{"$error":"#VALUE!"}},{"$f":"AND(Instructions!P8,\"AAAAADudTIw=\")","v":{"$error":"#VALUE!"}},{"$f":"AND(Instructions!Q8,\"AAAAADudTI0=\")","v":{"$error":"#VALUE!"}},{"$f":"AND(Instructions!R8,\"AAAAADudTI4=\")","v":{"$error":"#VALUE!"}},{"$f":"AND(Instructions!S8,\"AAAAADudTI8=\")","v":{"$error":"#VALUE!"}},{"$f":"IF(Instructions!9:9,\"AAAAADudTJA=\",0)","v":0},{"$f":"AND(Instructions!C9,\"AAAAADudTJE=\")","v":{"$error":"#VALUE!"}},{"$f":"AND(Instructions!D9,\"AAAAADudTJI=\")","v":{"$error":"#VALUE!"}},{"$f":"AND(Instructions!E9,\"AAAAADudTJM=\")","v":{"$error":"#VALUE!"}},{"$f":"AND(Instructions!F9,\"AAAAADudTJQ=\")","v":{"$error":"#VALUE!"}},{"$f":"AND(Instructions!G9,\"AAAAADudTJU=\")","v":{"$error":"#VALUE!"}},{"$f":"AND(Instructions!H9,\"AAAAADudTJY=\")","v":{"$error":"#VALUE!"}},{"$f":"AND(Instructions!I9,\"AAAAADudTJc=\")","v":{"$error":"#VALUE!"}},{"$f":"AND(Instructions!J9,\"AAAAADudTJg=\")","v":{"$error":"#VALUE!"}},{"$f":"AND(Instructions!K9,\"AAAAADudTJk=\")","v":{"$error":"#VALUE!"}},{"$f":"AND(Instructions!#REF!,\"AAAAADudTJo=\")","v":{"$error":"#REF!"}},{"$f":"AND(Instructions!L9,\"AAAAADudTJs=\")","v":{"$error":"#VALUE!"}},{"$f":"AND(Instructions!N9,\"AAAAADudTJw=\")","v":{"$error":"#VALUE!"}},{"$f":"AND(Instructions!O9,\"AAAAADudTJ0=\")","v":{"$error":"#VALUE!"}},{"$f":"AND(Instructions!P9,\"AAAAADudTJ4=\")","v":{"$error":"#VALUE!"}},{"$f":"AND(Instructions!Q9,\"AAAAADudTJ8=\")","v":{"$error":"#VALUE!"}},{"$f":"AND(Instructions!R9,\"AAAAADudTKA=\")","v":{"$error":"#VALUE!"}},{"$f":"AND(Instructions!S9,\"AAAAADudTKE=\")","v":{"$error":"#VALUE!"}},{"$f":"IF(Instructions!10:10,\"AAAAADudTKI=\",0)","v":0},{"$f":"AND(Instructions!C10,\"AAAAADudTKM=\")","v":{"$error":"#VALUE!"}},{"$f":"AND(Instructions!D10,\"AAAAADudTKQ=\")","v":{"$error":"#VALUE!"}},{"$f":"AND(Instructions!E10,\"AAAAADudTKU=\")","v":{"$error":"#VALUE!"}},{"$f":"AND(Instructions!F10,\"AAAAADudTKY=\")","v":{"$error":"#VALUE!"}},{"$f":"AND(Instructions!G10,\"AAAAADudTKc=\")","v":{"$error":"#VALUE!"}},{"$f":"AND(Instructions!H10,\"AAAAADudTKg=\")","v":{"$error":"#VALUE!"}},{"$f":"AND(Instructions!I10,\"AAAAADudTKk=\")","v":{"$error":"#VALUE!"}},{"$f":"AND(Instructions!J10,\"AAAAADudTKo=\")","v":{"$error":"#VALUE!"}},{"$f":"AND(Instructions!K10,\"AAAAADudTKs=\")","v":{"$error":"#VALUE!"}},{"$f":"AND(Instructions!L10,\"AAAAADudTKw=\")","v":{"$error":"#VALUE!"}},{"$f":"AND(Instructions!M10,\"AAAAADudTK0=\")","v":{"$error":"#VALUE!"}},{"$f":"AND(Instructions!N10,\"AAAAADudTK4=\")","v":{"$error":"#VALUE!"}},{"$f":"AND(Instructions!O10,\"AAAAADudTK8=\")","v":{"$error":"#VALUE!"}},{"$f":"AND(Instructions!P10,\"AAAAADudTLA=\")","v":{"$error":"#VALUE!"}},{"$f":"AND(Instructions!Q10,\"AAAAADudTLE=\")","v":{"$error":"#VALUE!"}},{"$f":"AND(Instructions!R10,\"AAAAADudTLI=\")","v":{"$error":"#VALUE!"}},{"$f":"AND(Instructions!S10,\"AAAAADudTLM=\")","v":{"$error":"#VALUE!"}},{"$f":"IF(Instructions!11:11,\"AAAAADudTLQ=\",0)","v":0},{"$f":"AND(Instructions!C11,\"AAAAADudTLU=\")","v":{"$error":"#VALUE!"}},{"$f":"AND(Instructions!D11,\"AAAAADudTLY=\")","v":{"$error":"#VALUE!"}},{"$f":"AND(Instructions!E11,\"AAAAADudTLc=\")","v":{"$error":"#VALUE!"}},{"$f":"AND(Instructions!F11,\"AAAAADudTLg=\")","v":{"$error":"#VALUE!"}},{"$f":"AND(Instructions!G11,\"AAAAADudTLk=\")","v":{"$error":"#VALUE!"}},{"$f":"AND(Instructions!H11,\"AAAAADudTLo=\")","v":{"$error":"#VALUE!"}},{"$f":"AND(Instructions!I11,\"AAAAADudTLs=\")","v":{"$error":"#VALUE!"}},{"$f":"AND(Instructions!J11,\"AAAAADudTLw=\")","v":{"$error":"#VALUE!"}},{"$f":"AND(Instructions!K11,\"AAAAADudTL0=\")","v":{"$error":"#VALUE!"}},{"$f":"AND(Instructions!#REF!,\"AAAAADudTL4=\")","v":{"$error":"#REF!"}},{"$f":"AND(Instructions!L11,\"AAAAADudTL8=\")","v":{"$error":"#VALUE!"}},{"$f":"AND(Instructions!N11,\"AAAAADudTMA=\")","v":{"$error":"#VALUE!"}},{"$f":"AND(Instructions!O11,\"AAAAADudTME=\")","v":{"$error":"#VALUE!"}},{"$f":"AND(Instructions!P11,\"AAAAADudTMI=\")","v":{"$error":"#VALUE!"}},{"$f":"AND(Instructions!Q11,\"AAAAADudTMM=\")","v":{"$error":"#VALUE!"}},{"$f":"AND(Instructions!R11,\"AAAAADudTMQ=\")","v":{"$error":"#VALUE!"}},{"$f":"AND(Instructions!S11,\"AAAAADudTMU=\")","v":{"$error":"#VALUE!"}},{"$f":"IF(Instructions!12:12,\"AAAAADudTMY=\",0)","v":0},{"$f":"AND(Instructions!C12,\"AAAAADudTMc=\")","v":{"$error":"#VALUE!"}},{"$f":"AND(Instructions!D12,\"AAAAADudTMg=\")","v":{"$error":"#VALUE!"}},{"$f":"AND(Instructions!E12,\"AAAAADudTMk=\")","v":{"$error":"#VALUE!"}},{"$f":"AND(Instructions!F12,\"AAAAADudTMo=\")","v":{"$error":"#VALUE!"}},{"$f":"AND(Instructions!G12,\"AAAAADudTMs=\")","v":{"$error":"#VALUE!"}},{"$f":"AND(Instructions!H12,\"AAAAADudTMw=\")","v":{"$error":"#VALUE!"}},{"$f":"AND(Instructions!I12,\"AAAAADudTM0=\")","v":{"$error":"#VALUE!"}},{"$f":"AND(Instructions!J12,\"AAAAADudTM4=\")","v":{"$error":"#VALUE!"}},{"$f":"AND(Instructions!K12,\"AAAAADudTM8=\")","v":{"$error":"#VALUE!"}},{"$f":"AND(Instructions!L12,\"AAAAADudTNA=\")","v":{"$error":"#VALUE!"}},{"$f":"AND(Instructions!M12,\"AAAAADudTNE=\")","v":{"$error":"#VALUE!"}},{"$f":"AND(Instructions!N12,\"AAAAADudTNI=\")","v":{"$error":"#VALUE!"}},{"$f":"AND(Instructions!O12,\"AAAAADudTNM=\")","v":{"$error":"#VALUE!"}},{"$f":"AND(Instructions!P12,\"AAAAADudTNQ=\")","v":{"$error":"#VALUE!"}},{"$f":"AND(Instructions!Q12,\"AAAAADudTNU=\")","v":{"$error":"#VALUE!"}},{"$f":"AND(Instructions!R12,\"AAAAADudTNY=\")","v":{"$error":"#VALUE!"}},{"$f":"AND(Instructions!S12,\"AAAAADudTNc=\")","v":{"$error":"#VALUE!"}},{"$f":"IF(Instructions!13:13,\"AAAAADudTNg=\",0)","v":0},{"$f":"AND(Instructions!C13,\"AAAAADudTNk=\")","v":{"$error":"#VALUE!"}},{"$f":"AND(Instructions!D13,\"AAAAADudTNo=\")","v":{"$error":"#VALUE!"}},{"$f":"AND(Instructions!E13,\"AAAAADudTNs=\")","v":{"$error":"#VALUE!"}},{"$f":"AND(Instructions!F13,\"AAAAADudTNw=\")","v":{"$error":"#VALUE!"}},{"$f":"AND(Instructions!G13,\"AAAAADudTN0=\")","v":{"$error":"#VALUE!"}},{"$f":"AND(Instructions!H13,\"AAAAADudTN4=\")","v":{"$error":"#VALUE!"}},{"$f":"AND(Instructions!I13,\"AAAAADudTN8=\")","v":{"$error":"#VALUE!"}},{"$f":"AND(Instructions!J13,\"AAAAADudTOA=\")","v":{"$error":"#VALUE!"}},{"$f":"AND(Instructions!K13,\"AAAAADudTOE=\")","v":{"$error":"#VALUE!"}},{"$f":"AND(Instructions!L13,\"AAAAADudTOI=\")","v":{"$error":"#VALUE!"}},{"$f":"AND(Instructions!M13,\"AAAAADudTOM=\")","v":{"$error":"#VALUE!"}},{"$f":"AND(Instructions!N13,\"AAAAADudTOQ=\")","v":{"$error":"#VALUE!"}},{"$f":"AND(Instructions!O13,\"AAAAADudTOU=\")","v":{"$error":"#VALUE!"}},{"$f":"AND(Instructions!P13,\"AAAAADudTOY=\")","v":{"$error":"#VALUE!"}},{"$f":"AND(Instructions!Q13,\"AAAAADudTOc=\")","v":{"$error":"#VALUE!"}},{"$f":"AND(Instructions!R13,\"AAAAADudTOg=\")","v":{"$error":"#VALUE!"}},{"$f":"AND(Instructions!S13,\"AAAAADudTOk=\")","v":{"$error":"#VALUE!"}},{"$f":"IF(Instructions!14:14,\"AAAAADudTOo=\",0)","v":0},{"$f":"AND(Instructions!C14,\"AAAAADudTOs=\")","v":{"$error":"#VALUE!"}},{"$f":"AND(Instructions!D14,\"AAAAADudTOw=\")","v":{"$error":"#VALUE!"}},{"$f":"AND(Instructions!E14,\"AAAAADudTO0=\")","v":{"$error":"#VALUE!"}},{"$f":"AND(Instructions!F14,\"AAAAADudTO4=\")","v":{"$error":"#VALUE!"}},{"$f":"AND(Instructions!G14,\"AAAAADudTO8=\")","v":{"$error":"#VALUE!"}},{"$f":"AND(Instructions!H14,\"AAAAADudTPA=\")","v":{"$error":"#VALUE!"}},{"$f":"AND(Instructions!I14,\"AAAAADudTPE=\")","v":{"$error":"#VALUE!"}},{"$f":"AND(Instructions!J14,\"AAAAADudTPI=\")","v":{"$error":"#VALUE!"}},{"$f":"AND(Instructions!K14,\"AAAAADudTPM=\")","v":{"$error":"#VALUE!"}},{"$f":"AND(Instructions!L14,\"AAAAADudTPQ=\")","v":{"$error":"#VALUE!"}},{"$f":"AND(Instructions!M14,\"AAAAADudTPU=\")","v":{"$error":"#VALUE!"}},{"$f":"AND(Instructions!N14,\"AAAAADudTPY=\")","v":{"$error":"#VALUE!"}},{"$f":"AND(Instructions!O14,\"AAAAADudTPc=\")","v":{"$error":"#VALUE!"}},{"$f":"AND(Instructions!P14,\"AAAAADudTPg=\")","v":{"$error":"#VALUE!"}},{"$f":"AND(Instructions!Q14,\"AAAAADudTPk=\")","v":{"$error":"#VALUE!"}},{"$f":"AND(Instructions!R14,\"AAAAADudTPo=\")","v":{"$error":"#VALUE!"}},{"$f":"AND(Instructions!S14,\"AAAAADudTPs=\")","v":{"$error":"#VALUE!"}},{"$f":"IF(Instructions!15:15,\"AAAAADudTPw=\",0)","v":0},{"$f":"AND(Instructions!C15,\"AAAAADudTP0=\")","v":{"$error":"#VALUE!"}},{"$f":"AND(Instructions!D15,\"AAAAADudTP4=\")","v":{"$error":"#VALUE!"}},{"$f":"AND(Instructions!E15,\"AAAAADudTP8=\")","v":{"$error":"#VALUE!"}}]
[{"$f":"AND(Instructions!F15,\"AAAAAF7y9QA=\")","v":{"$error":"#VALUE!"}},{"$f":"AND(Instructions!G15,\"AAAAAF7y9QE=\")","v":{"$error":"#VALUE!"}},{"$f":"AND(Instructions!H15,\"AAAAAF7y9QI=\")","v":{"$error":"#VALUE!"}},{"$f":"AND(Instructions!I15,\"AAAAAF7y9QM=\")","v":{"$error":"#VALUE!"}},{"$f":"AND(Instructions!J15,\"AAAAAF7y9QQ=\")","v":{"$error":"#VALUE!"}},{"$f":"AND(Instructions!K15,\"AAAAAF7y9QU=\")","v":{"$error":"#VALUE!"}},{"$f":"AND(Instructions!L15,\"AAAAAF7y9QY=\")","v":{"$error":"#VALUE!"}},{"$f":"AND(Instructions!M15,\"AAAAAF7y9Qc=\")","v":{"$error":"#VALUE!"}},{"$f":"AND(Instructions!N15,\"AAAAAF7y9Qg=\")","v":{"$error":"#VALUE!"}},{"$f":"AND(Instructions!O15,\"AAAAAF7y9Qk=\")","v":{"$error":"#VALUE!"}},{"$f":"AND(Instructions!P15,\"AAAAAF7y9Qo=\")","v":{"$error":"#VALUE!"}},{"$f":"AND(Instructions!Q15,\"AAAAAF7y9Qs=\")","v":{"$error":"#VALUE!"}},{"$f":"AND(Instructions!R15,\"AAAAAF7y9Qw=\")","v":{"$error":"#VALUE!"}},{"$f":"AND(Instructions!S15,\"AAAAAF7y9Q0=\")","v":{"$error":"#VALUE!"}},{"$f":"IF(Instructions!16:16,\"AAAAAF7y9Q4=\",0)","v":0},{"$f":"AND(Instructions!C16,\"AAAAAF7y9Q8=\")","v":{"$error":"#VALUE!"}},{"$f":"AND(Instructions!D16,\"AAAAAF7y9RA=\")","v":{"$error":"#VALUE!"}},{"$f":"AND(Instructions!E16,\"AAAAAF7y9RE=\")","v":{"$error":"#VALUE!"}},{"$f":"AND(Instructions!F16,\"AAAAAF7y9RI=\")","v":{"$error":"#VALUE!"}},{"$f":"AND(Instructions!G16,\"AAAAAF7y9RM=\")","v":{"$error":"#VALUE!"}},{"$f":"AND(Instructions!H16,\"AAAAAF7y9RQ=\")","v":{"$error":"#VALUE!"}},{"$f":"AND(Instructions!I16,\"AAAAAF7y9RU=\")","v":{"$error":"#VALUE!"}},{"$f":"AND(Instructions!J16,\"AAAAAF7y9RY=\")","v":{"$error":"#VALUE!"}},{"$f":"AND(Instructions!K16,\"AAAAAF7y9Rc=\")","v":{"$error":"#VALUE!"}},{"$f":"AND(Instructions!L16,\"AAAAAF7y9Rg=\")","v":{"$error":"#VALUE!"}},{"$f":"AND(Instructions!M16,\"AAAAAF7y9Rk=\")","v":{"$error":"#VALUE!"}},{"$f":"AND(Instructions!N16,\"AAAAAF7y9Ro=\")","v":{"$error":"#VALUE!"}},{"$f":"AND(Instructions!O16,\"AAAAAF7y9Rs=\")","v":{"$error":"#VALUE!"}},{"$f":"AND(Instructions!P16,\"AAAAAF7y9Rw=\")","v":{"$error":"#VALUE!"}},{"$f":"AND(Instructions!Q16,\"AAAAAF7y9R0=\")","v":{"$error":"#VALUE!"}},{"$f":"AND(Instructions!R16,\"AAAAAF7y9R4=\")","v":{"$error":"#VALUE!"}},{"$f":"AND(Instructions!S16,\"AAAAAF7y9R8=\")","v":{"$error":"#VALUE!"}},{"$f":"IF(Instructions!17:17,\"AAAAAF7y9SA=\",0)","v":0},{"$f":"AND(Instructions!C17,\"AAAAAF7y9SE=\")","v":{"$error":"#VALUE!"}},{"$f":"AND(Instructions!D17,\"AAAAAF7y9SI=\")","v":{"$error":"#VALUE!"}},{"$f":"AND(Instructions!E17,\"AAAAAF7y9SM=\")","v":{"$error":"#VALUE!"}},{"$f":"AND(Instructions!F17,\"AAAAAF7y9SQ=\")","v":{"$error":"#VALUE!"}},{"$f":"AND(Instructions!G17,\"AAAAAF7y9SU=\")","v":{"$error":"#VALUE!"}},{"$f":"AND(Instructions!H17,\"AAAAAF7y9SY=\")","v":{"$error":"#VALUE!"}},{"$f":"AND(Instructions!I17,\"AAAAAF7y9Sc=\")","v":{"$error":"#VALUE!"}},{"$f":"AND(Instructions!J17,\"AAAAAF7y9Sg=\")","v":{"$error":"#VALUE!"}},{"$f":"AND(Instructions!K17,\"AAAAAF7y9Sk=\")","v":{"$error":"#VALUE!"}},{"$f":"AND(Instructions!L17,\"AAAAAF7y9So=\")","v":{"$error":"#VALUE!"}},{"$f":"AND(Instructions!M17,\"AAAAAF7y9Ss=\")","v":{"$error":"#VALUE!"}},{"$f":"AND(Instructions!N17,\"AAAAAF7y9Sw=\")","v":{"$error":"#VALUE!"}},{"$f":"AND(Instructions!O17,\"AAAAAF7y9S0=\")","v":{"$error":"#VALUE!"}},{"$f":"AND(Instructions!P17,\"AAAAAF7y9S4=\")","v":{"$error":"#VALUE!"}},{"$f":"AND(Instructions!Q17,\"AAAAAF7y9S8=\")","v":{"$error":"#VALUE!"}},{"$f":"AND(Instructions!R17,\"AAAAAF7y9TA=\")","v":{"$error":"#VALUE!"}},{"$f":"AND(Instructions!S17,\"AAAAAF7y9TE=\")","v":{"$error":"#VALUE!"}},{"$f":"IF(Instructions!18:18,\"AAAAAF7y9TI=\",0)","v":0},{"$f":"AND(Instructions!C18,\"AAAAAF7y9TM=\")","v":{"$error":"#VALUE!"}},{"$f":"AND(Instructions!D18,\"AAAAAF7y9TQ=\")","v":{"$error":"#VALUE!"}},{"$f":"AND(Instructions!E18,\"AAAAAF7y9TU=\")","v":{"$error":"#VALUE!"}},{"$f":"AND(Instructions!F18,\"AAAAAF7y9TY=\")","v":{"$error":"#VALUE!"}},{"$f":"AND(Instructions!G18,\"AAAAAF7y9Tc=\")","v":{"$error":"#VALUE!"}},{"$f":"AND(Instructions!H18,\"AAAAAF7y9Tg=\")","v":{"$error":"#VALUE!"}},{"$f":"AND(Instructions!I18,\"AAAAAF7y9Tk=\")","v":{"$error":"#VALUE!"}},{"$f":"AND(Instructions!J18,\"AAAAAF7y9To=\")","v":{"$error":"#VALUE!"}},{"$f":"AND(Instructions!K18,\"AAAAAF7y9Ts=\")","v":{"$error":"#VALUE!"}},{"$f":"AND(Instructions!L18,\"AAAAAF7y9Tw=\")","v":{"$error":"#VALUE!"}},{"$f":"AND(Instructions!M18,\"AAAAAF7y9T0=\")","v":{"$error":"#VALUE!"}},{"$f":"AND(Instructions!N18,\"AAAAAF7y9T4=\")","v":{"$error":"#VALUE!"}},{"$f":"AND(Instructions!O18,\"AAAAAF7y9T8=\")","v":{"$error":"#VALUE!"}},{"$f":"AND(Instructions!P18,\"AAAAAF7y9UA=\")","v":{"$error":"#VALUE!"}},{"$f":"AND(Instructions!Q18,\"AAAAAF7y9UE=\")","v":{"$error":"#VALUE!"}},{"$f":"AND(Instructions!R18,\"AAAAAF7y9UI=\")","v":{"$error":"#VALUE!"}},{"$f":"AND(Instructions!S18,\"AAAAAF7y9UM=\")","v":{"$error":"#VALUE!"}},{"$f":"IF(Instructions!19:19,\"AAAAAF7y9UQ=\",0)","v":0},{"$f":"AND(Instructions!C19,\"AAAAAF7y9UU=\")","v":{"$error":"#VALUE!"}},{"$f":"AND(Instructions!D19,\"AAAAAF7y9UY=\")","v":{"$error":"#VALUE!"}},{"$f":"AND(Instructions!E19,\"AAAAAF7y9Uc=\")","v":{"$error":"#VALUE!"}},{"$f":"AND(Instructions!F19,\"AAAAAF7y9Ug=\")","v":{"$error":"#VALUE!"}},{"$f":"AND(Instructions!G19,\"AAAAAF7y9Uk=\")","v":{"$error":"#VALUE!"}},{"$f":"AND(Instructions!H19,\"AAAAAF7y9Uo=\")","v":{"$error":"#VALUE!"}},{"$f":"AND(Instructions!I19,\"AAAAAF7y9Us=\")","v":{"$error":"#VALUE!"}},{"$f":"AND(Instructions!J19,\"AAAAAF7y9Uw=\")","v":{"$error":"#VALUE!"}},{"$f":"AND(Instructions!K19,\"AAAAAF7y9U0=\")","v":{"$error":"#VALUE!"}},{"$f":"AND(Instructions!L19,\"AAAAAF7y9U4=\")","v":{"$error":"#VALUE!"}},{"$f":"AND(Instructions!M19,\"AAAAAF7y9U8=\")","v":{"$error":"#VALUE!"}},{"$f":"AND(Instructions!N19,\"AAAAAF7y9VA=\")","v":{"$error":"#VALUE!"}},{"$f":"AND(Instructions!O19,\"AAAAAF7y9VE=\")","v":{"$error":"#VALUE!"}},{"$f":"AND(Instructions!P19,\"AAAAAF7y9VI=\")","v":{"$error":"#VALUE!"}},{"$f":"AND(Instructions!Q19,\"AAAAAF7y9VM=\")","v":{"$error":"#VALUE!"}},{"$f":"AND(Instructions!R19,\"AAAAAF7y9VQ=\")","v":{"$error":"#VALUE!"}},{"$f":"AND(Instructions!S19,\"AAAAAF7y9VU=\")","v":{"$error":"#VALUE!"}},{"$f":"IF(Instructions!20:20,\"AAAAAF7y9VY=\",0)","v":0},{"$f":"AND(Instructions!C20,\"AAAAAF7y9Vc=\")","v":{"$error":"#VALUE!"}},{"$f":"AND(Instructions!D20,\"AAAAAF7y9Vg=\")","v":{"$error":"#VALUE!"}},{"$f":"AND(Instructions!E20,\"AAAAAF7y9Vk=\")","v":{"$error":"#VALUE!"}},{"$f":"AND(Instructions!F20,\"AAAAAF7y9Vo=\")","v":{"$error":"#VALUE!"}},{"$f":"AND(Instructions!G20,\"AAAAAF7y9Vs=\")","v":{"$error":"#VALUE!"}},{"$f":"AND(Instructions!H20,\"AAAAAF7y9Vw=\")","v":{"$error":"#VALUE!"}},{"$f":"AND(Instructions!I20,\"AAAAAF7y9V0=\")","v":{"$error":"#VALUE!"}},{"$f":"AND(Instructions!J20,\"AAAAAF7y9V4=\")","v":{"$error":"#VALUE!"}},{"$f":"AND(Instructions!K20,\"AAAAAF7y9V8=\")","v":{"$error":"#VALUE!"}},{"$f":"AND(Instructions!L20,\"AAAAAF7y9WA=\")","v":{"$error":"#VALUE!"}},{"$f":"AND(Instructions!M20,\"AAAAAF7y9WE=\")","v":{"$error":"#VALUE!"}},{"$f":"AND(Instructions!N20,\"AAAAAF7y9WI=\")","v":{"$error":"#VALUE!"}},{"$f":"AND(Instructions!O20,\"AAAAAF7y9WM=\")","v":{"$error":"#VALUE!"}},{"$f":"AND(Instructions!P20,\"AAAAAF7y9WQ=\")","v":{"$error":"#VALUE!"}},{"$f":"AND(Instructions!Q20,\"AAAAAF7y9WU=\")","v":{"$error":"#VALUE!"}},{"$f":"AND(Instructions!R20,\"AAAAAF7y9WY=\")","v":{"$error":"#VALUE!"}},{"$f":"AND(Instructions!S20,\"AAAAAF7y9Wc=\")","v":{"$error":"#VALUE!"}},{"$f":"IF(Instructions!21:21,\"AAAAAF7y9Wg=\",0)","v":0},{"$f":"AND(Instructions!C21,\"AAAAAF7y9Wk=\")","v":{"$error":"#VALUE!"}},{"$f":"AND(Instructions!D21,\"AAAAAF7y9Wo=\")","v":{"$error":"#VALUE!"}},{"$f":"AND(Instructions!E21,\"AAAAAF7y9Ws=\")","v":{"$error":"#VALUE!"}},{"$f":"AND(Instructions!F21,\"AAAAAF7y9Ww=\")","v":{"$error":"#VALUE!"}},{"$f":"AND(Instructions!G21,\"AAAAAF7y9W0=\")","v":{"$error":"#VALUE!"}},{"$f":"AND(Instructions!H21,\"AAAAAF7y9W4=\")","v":{"$error":"#VALUE!"}},{"$f":"AND(Instructions!I21,\"AAAAAF7y9W8=\")","v":{"$error":"#VALUE!"}},{"$f":"AND(Instructions!J21,\"AAAAAF7y9XA=\")","v":{"$error":"#VALUE!"}},{"$f":"AND(Instructions!K21,\"AAAAAF7y9XE=\")","v":{"$error":"#VALUE!"}},{"$f":"AND(Instructions!L21,\"AAAAAF7y9XI=\")","v":{"$error":"#VALUE!"}},{"$f":"AND(Instructions!M21,\"AAAAAF7y9XM=\")","v":{"$error":"#VALUE!"}},{"$f":"AND(Instructions!N21,\"AAAAAF7y9XQ=\")","v":{"$error":"#VALUE!"}},{"$f":"AND(Instructions!O21,\"AAAAAF7y9XU=\")","v":{"$error":"#VALUE!"}},{"$f":"AND(Instructions!P21,\"AAAAAF7y9XY=\")","v":{"$error":"#VALUE!"}},{"$f":"AND(Instructions!Q21,\"AAAAAF7y9Xc=\")","v":{"$error":"#VALUE!"}},{"$f":"AND(Instructions!R21,\"AAAAAF7y9Xg=\")","v":{"$error":"#VALUE!"}},{"$f":"AND(Instructions!S21,\"AAAAAF7y9Xk=\")","v":{"$error":"#VALUE!"}},{"$f":"IF(Instructions!22:22,\"AAAAAF7y9Xo=\",0)","v":0},{"$f":"AND(Instructions!C22,\"AAAAAF7y9Xs=\")","v":{"$error":"#VALUE!"}},{"$f":"AND(Instructions!D22,\"AAAAAF7y9Xw=\")","v":{"$error":"#VALUE!"}},{"$f":"AND(Instructions!E22,\"AAAAAF7y9X0=\")","v":{"$error":"#VALUE!"}},{"$f":"AND(Instructions!F22,\"AAAAAF7y9X4=\")","v":{"$error":"#VALUE!"}},{"$f":"AND(Instructions!G22,\"AAAAAF7y9X8=\")","v":{"$error":"#VALUE!"}},{"$f":"AND(Instructions!H22,\"AAAAAF7y9YA=\")","v":{"$error":"#VALUE!"}},{"$f":"AND(Instructions!I22,\"AAAAAF7y9YE=\")","v":{"$error":"#VALUE!"}},{"$f":"AND(Instructions!J22,\"AAAAAF7y9YI=\")","v":{"$error":"#VALUE!"}},{"$f":"AND(Instructions!K22,\"AAAAAF7y9YM=\")","v":{"$error":"#VALUE!"}},{"$f":"AND(Instructions!L22,\"AAAAAF7y9YQ=\")","v":{"$error":"#VALUE!"}},{"$f":"AND(Instructions!M22,\"AAAAAF7y9YU=\")","v":{"$error":"#VALUE!"}},{"$f":"AND(Instructions!N22,\"AAAAAF7y9YY=\")","v":{"$error":"#VALUE!"}},{"$f":"AND(Instructions!O22,\"AAAAAF7y9Yc=\")","v":{"$error":"#VALUE!"}},{"$f":"AND(Instructions!P22,\"AAAAAF7y9Yg=\")","v":{"$error":"#VALUE!"}},{"$f":"AND(Instructions!Q22,\"AAAAAF7y9Yk=\")","v":{"$error":"#VALUE!"}},{"$f":"AND(Instructions!R22,\"AAAAAF7y9Yo=\")","v":{"$error":"#VALUE!"}},{"$f":"AND(Instructions!S22,\"AAAAAF7y9Ys=\")","v":{"$error":"#VALUE!"}},{"$f":"IF(Instructions!23:23,\"AAAAAF7y9Yw=\",0)","v":0},{"$f":"AND(Instructions!C23,\"AAAAAF7y9Y0=\")","v":{"$error":"#VALUE!"}},{"$f":"AND(Instructions!D23,\"AAAAAF7y9Y4=\")","v":{"$error":"#VALUE!"}},{"$f":"AND(Instructions!E23,\"AAAAAF7y9Y8=\")","v":{"$error":"#VALUE!"}},{"$f":"AND(Instructions!F23,\"AAAAAF7y9ZA=\")","v":{"$error":"#VALUE!"}},{"$f":"AND(Instructions!G23,\"AAAAAF7y9ZE=\")","v":{"$error":"#VALUE!"}},{"$f":"AND(Instructions!H23,\"AAAAAF7y9ZI=\")","v":{"$error":"#VALUE!"}},{"$f":"AND(Instructions!I23,\"AAAAAF7y9ZM=\")","v":{"$error":"#VALUE!"}},{"$f":"AND(Instructions!J23,\"AAAAAF7y9ZQ=\")","v":{"$error":"#VALUE!"}},{"$f":"AND(Instructions!K23,\"AAAAAF7y9ZU=\")","v":{"$error":"#VALUE!"}},{"$f":"AND(Instructions!L23,\"AAAAAF7y9ZY=\")","v":{"$error":"#VALUE!"}},{"$f":"AND(Instructions!M23,\"AAAAAF7y9Zc=\")","v":{"$error":"#VALUE!"}},{"$f":"AND(Instructions!N23,\"AAAAAF7y9Zg=\")","v":{"$error":"#VALUE!"}},{"$f":"AND(Instructions!O23,\"AAAAAF7y9Zk=\")","v":{"$error":"#VALUE!"}},{"$f":"AND(Instructions!P23,\"AAAAAF7y9Zo=\")","v":{"$error":"#VALUE!"}},{"$f":"AND(Instructions!Q23,\"AAAAAF7y9Zs=\")","v":{"$error":"#VALUE!"}},{"$f":"AND(Instructions!R23,\"AAAAAF7y9Zw=\")","v":{"$error":"#VALUE!"}},{"$f":"AND(Instructions!S23,\"AAAAAF7y9Z0=\")","v":{"$error":"#VALUE!"}},{"$f":"IF(Instructions!24:24,\"AAAAAF7y9Z4=\",0)","v":0},{"$f":"AND(Instructions!C24,\"AAAAAF7y9Z8=\")","v":{"$error":"#VALUE!"}},{"$f":"AND(Instructions!D24,\"AAAAAF7y9aA=\")","v":{"$error":"#VALUE!"}},{"$f":"AND(Instructions!E24,\"AAAAAF7y9aE=\")","v":{"$error":"#VALUE!"}},{"$f":"AND(Instructions!F24,\"AAAAAF7y9aI=\")","v":{"$error":"#VALUE!"}},{"$f":"AND(Instructions!G24,\"AAAAAF7y9aM=\")","v":{"$error":"#VALUE!"}},{"$f":"AND(Instructions!H24,\"AAAAAF7y9aQ=\")","v":{"$error":"#VALUE!"}},{"$f":"AND(Instructions!I24,\"AAAAAF7y9aU=\")","v":{"$error":"#VALUE!"}},{"$f":"AND(Instructions!J24,\"AAAAAF7y9aY=\")","v":{"$error":"#VALUE!"}},{"$f":"AND(Instructions!K24,\"AAAAAF7y9ac=\")","v":{"$error":"#VALUE!"}},{"$f":"AND(Instructions!L24,\"AAAAAF7y9ag=\")","v":{"$error":"#VALUE!"}},{"$f":"AND(Instructions!M24,\"AAAAAF7y9ak=\")","v":{"$error":"#VALUE!"}},{"$f":"AND(Instructions!N24,\"AAAAAF7y9ao=\")","v":{"$error":"#VALUE!"}},{"$f":"AND(Instructions!O24,\"AAAAAF7y9as=\")","v":{"$error":"#VALUE!"}},{"$f":"AND(Instructions!P24,\"AAAAAF7y9aw=\")","v":{"$error":"#VALUE!"}},{"$f":"AND(Instructions!Q24,\"AAAAAF7y9a0=\")","v":{"$error":"#VALUE!"}},{"$f":"AND(Instructions!R24,\"AAAAAF7y9a4=\")","v":{"$error":"#VALUE!"}},{"$f":"AND(Instructions!S24,\"AAAAAF7y9a8=\")","v":{"$error":"#VALUE!"}},{"$f":"IF(Instructions!25:25,\"AAAAAF7y9bA=\",0)","v":0},{"$f":"AND(Instructions!C25,\"AAAAAF7y9bE=\")","v":{"$error":"#VALUE!"}},{"$f":"AND(Instructions!D25,\"AAAAAF7y9bI=\")","v":{"$error":"#VALUE!"}},{"$f":"AND(Instructions!E25,\"AAAAAF7y9bM=\")","v":{"$error":"#VALUE!"}},{"$f":"AND(Instructions!F25,\"AAAAAF7y9bQ=\")","v":{"$error":"#VALUE!"}},{"$f":"AND(Instructions!G25,\"AAAAAF7y9bU=\")","v":{"$error":"#VALUE!"}},{"$f":"AND(Instructions!H25,\"AAAAAF7y9bY=\")","v":{"$error":"#VALUE!"}},{"$f":"AND(Instructions!I25,\"AAAAAF7y9bc=\")","v":{"$error":"#VALUE!"}},{"$f":"AND(Instructions!J25,\"AAAAAF7y9bg=\")","v":{"$error":"#VALUE!"}},{"$f":"AND(Instructions!K25,\"AAAAAF7y9bk=\")","v":{"$error":"#VALUE!"}},{"$f":"AND(Instructions!L25,\"AAAAAF7y9bo=\")","v":{"$error":"#VALUE!"}},{"$f":"AND(Instructions!M25,\"AAAAAF7y9bs=\")","v":{"$error":"#VALUE!"}},{"$f":"AND(Instructions!N25,\"AAAAAF7y9bw=\")","v":{"$error":"#VALUE!"}},{"$f":"AND(Instructions!O25,\"AAAAAF7y9b0=\")","v":{"$error":"#VALUE!"}},{"$f":"AND(Instructions!P25,\"AAAAAF7y9b4=\")","v":{"$error":"#VALUE!"}},{"$f":"AND(Instructions!Q25,\"AAAAAF7y9b8=\")","v":{"$error":"#VALUE!"}},{"$f":"AND(Instructions!R25,\"AAAAAF7y9cA=\")","v":{"$error":"#VALUE!"}},{"$f":"AND(Instructions!S25,\"AAAAAF7y9cE=\")","v":{"$error":"#VALUE!"}},{"$f":"IF(Instructions!26:26,\"AAAAAF7y9cI=\",0)","v":0},{"$f":"AND(Instructions!C26,\"AAAAAF7y9cM=\")","v":{"$error":"#VALUE!"}},{"$f":"AND(Instructions!D26,\"AAAAAF7y9cQ=\")","v":{"$error":"#VALUE!"}},{"$f":"AND(Instructions!E26,\"AAAAAF7y9cU=\")","v":{"$error":"#VALUE!"}},{"$f":"AND(Instructions!F26,\"AAAAAF7y9cY=\")","v":{"$error":"#VALUE!"}},{"$f":"AND(Instructions!G26,\"AAAAAF7y9cc=\")","v":{"$error":"#VALUE!"}},{"$f":"AND(Instructions!H26,\"AAAAAF7y9cg=\")","v":{"$error":"#VALUE!"}},{"$f":"AND(Instructions!I26,\"AAAAAF7y9ck=\")","v":{"$error":"#VALUE!"}},{"$f":"AND(Instructions!J26,\"AAAAAF7y9co=\")","v":{"$error":"#VALUE!"}},{"$f":"AND(Instructions!K26,\"AAAAAF7y9cs=\")","v":{"$error":"#VALUE!"}},{"$f":"AND(Instructions!L26,\"AAAAAF7y9cw=\")","v":{"$error":"#VALUE!"}},{"$f":"AND(Instructions!M26,\"AAAAAF7y9c0=\")","v":{"$error":"#VALUE!"}},{"$f":"AND(Instructions!N26,\"AAAAAF7y9c4=\")","v":{"$error":"#VALUE!"}},{"$f":"AND(Instructions!O26,\"AAAAAF7y9c8=\")","v":{"$error":"#VALUE!"}},{"$f":"AND(Instructions!P26,\"AAAAAF7y9dA=\")","v":{"$error":"#VALUE!"}},{"$f":"AND(Instructions!Q26,\"AAAAAF7y9dE=\")","v":{"$error":"#VALUE!"}},{"$f":"AND(Instructions!R26,\"AAAAAF7y9dI=\")","v":{"$error":"#VALUE!"}},{"$f":"AND(Instructions!S26,\"AAAAAF7y9dM=\")","v":{"$error":"#VALUE!"}},{"$f":"IF(Instructions!27:27,\"AAAAAF7y9dQ=\",0)","v":0},{"$f":"AND(Instructions!C27,\"AAAAAF7y9dU=\")","v":{"$error":"#VALUE!"}},{"$f":"AND(Instructions!D27,\"AAAAAF7y9dY=\")","v":{"$error":"#VALUE!"}},{"$f":"AND(Instructions!E27,\"AAAAAF7y9dc=\")","v":{"$error":"#VALUE!"}},{"$f":"AND(Instructions!F27,\"AAAAAF7y9dg=\")","v":{"$error":"#VALUE!"}},{"$f":"AND(Instructions!G27,\"AAAAAF7y9dk=\")","v":{"$error":"#VALUE!"}},{"$f":"AND(Instructions!H27,\"AAAAAF7y9do=\")","v":{"$error":"#VALUE!"}},{"$f":"AND(Instructions!I27,\"AAAAAF7y9ds=\")","v":{"$error":"#VALUE!"}},{"$f":"AND(Instructions!J27,\"AAAAAF7y9dw=\")","v":{"$error":"#VALUE!"}},{"$f":"AND(Instructions!K27,\"AAAAAF7y9d0=\")","v":{"$error":"#VALUE!"}},{"$f":"AND(Instructions!L27,\"AAAAAF7y9d4=\")","v":{"$error":"#VALUE!"}},{"$f":"AND(Instructions!M27,\"AAAAAF7y9d8=\")","v":{"$error":"#VALUE!"}},{"$f":"AND(Instructions!N27,\"AAAAAF7y9eA=\")","v":{"$error":"#VALUE!"}},{"$f":"AND(Instructions!O27,\"AAAAAF7y9eE=\")","v":{"$error":"#VALUE!"}},{"$f":"AND(Instructions!P27,\"AAAAAF7y9eI=\")","v":{"$error":"#VALUE!"}},{"$f":"AND(Instructions!Q27,\"AAAAAF7y9eM=\")","v":{"$error":"#VALUE!"}},{"$f":"AND(Instructions!R27,\"AAAAAF7y9eQ=\")","v":{"$error":"#VALUE!"}},{"$f":"AND(Instructions!S27,\"AAAAAF7y9eU=\")","v":{"$error":"#VALUE!"}},{"$f":"IF(Instructions!28:28,\"AAAAAF7y9eY=\",0)","v":0},{"$f":"AND(Instructions!C28,\"AAAAAF7y9ec=\")","v":{"$error":"#VALUE!"}},{"$f":"AND(Instructions!D28,\"AAAAAF7y9eg=\")","v":{"$error":"#VALUE!"}},{"$f":"AND(Instructions!E28,\"AAAAAF7y9ek=\")","v":{"$error":"#VALUE!"}},{"$f":"AND(Instructions!F28,\"AAAAAF7y9eo=\")","v":{"$error":"#VALUE!"}},{"$f":"AND(Instructions!G28,\"AAAAAF7y9es=\")","v":{"$error":"#VALUE!"}},{"$f":"AND(Instructions!H28,\"AAAAAF7y9ew=\")","v":{"$error":"#VALUE!"}},{"$f":"AND(Instructions!I28,\"AAAAAF7y9e0=\")","v":{"$error":"#VALUE!"}},{"$f":"AND(Instructions!J28,\"AAAAAF7y9e4=\")","v":{"$error":"#VALUE!"}},{"$f":"AND(Instructions!K28,\"AAAAAF7y9e8=\")","v":{"$error":"#VALUE!"}},{"$f":"AND(Instructions!L28,\"AAAAAF7y9fA=\")","v":{"$error":"#VALUE!"}},{"$f":"AND(Instructions!#REF!,\"AAAAAF7y9fE=\")","v":{"$error":"#REF!"}},{"$f":"AND(Instructions!N28,\"AAAAAF7y9fI=\")","v":{"$error":"#VALUE!"}},{"$f":"AND(Instructions!O28,\"AAAAAF7y9fM=\")","v":{"$error":"#VALUE!"}},{"$f":"AND(Instructions!P28,\"AAAAAF7y9fQ=\")","v":{"$error":"#VALUE!"}},{"$f":"AND(Instructions!Q28,\"AAAAAF7y9fU=\")","v":{"$error":"#VALUE!"}},{"$f":"AND(Instructions!R28,\"AAAAAF7y9fY=\")","v":{"$error":"#VALUE!"}},{"$f":"AND(Instructions!S28,\"AAAAAF7y9fc=\")","v":{"$error":"#VALUE!"}},{"$f":"IF(Instructions!29:29,\"AAAAAF7y9fg=\",0)","v":0},{"$f":"AND(Instructions!C29,\"AAAAAF7y9fk=\")","v":{"$error":"#VALUE!"}},{"$f":"AND(Instructions!D29,\"AAAAAF7y9fo=\")","v":{"$error":"#VALUE!"}},{"$f":"AND(Instructions!E29,\"AAAAAF7y9fs=\")","v":{"$error":"#VALUE!"}},{"$f":"AND(Instructions!F29,\"AAAAAF7y9fw=\")","v":{"$error":"#VALUE!"}},{"$f":"AND(Instructions!G29,\"AAAAAF7y9f0=\")","v":{"$error":"#VALUE!"}},{"$f":"AND(Instructions!H29,\"AAAAAF7y9f4=\")","v":{"$error":"#VALUE!"}},{"$f":"AND(Instructions!I29,\"AAAAAF7y9f8=\")","v":{"$error":"#VALUE!"}}]
[{"$f":"AND(Instructions!J29,\"AAAAAD+j/wA=\")","v":{"$error":"#VALUE!"}},{"$f":"AND(Instructions!K29,\"AAAAAD+j/wE=\")","v":{"$error":"#VALUE!"}},{"$f":"AND(Instructions!L29,\"AAAAAD+j/wI=\")","v":{"$error":"#VALUE!"}},{"$f":"AND(Instructions!#REF!,\"AAAAAD+j/wM=\")","v":{"$error":"#REF!"}},{"$f":"AND(Instructions!N29,\"AAAAAD+j/wQ=\")","v":{"$error":"#VALUE!"}},{"$f":"AND(Instructions!O29,\"AAAAAD+j/wU=\")","v":{"$error":"#VALUE!"}},{"$f":"AND(Instructions!P29,\"AAAAAD+j/wY=\")","v":{"$error":"#VALUE!"}},{"$f":"AND(Instructions!Q29,\"AAAAAD+j/wc=\")","v":{"$error":"#VALUE!"}},{"$f":"AND(Instructions!R29,\"AAAAAD+j/wg=\")","v":{"$error":"#VALUE!"}},{"$f":"AND(Instructions!S29,\"AAAAAD+j/wk=\")","v":{"$error":"#VALUE!"}},{"$f":"IF(Instructions!30:30,\"AAAAAD+j/wo=\",0)","v":0},{"$f":"AND(Instructions!C30,\"AAAAAD+j/ws=\")","v":{"$error":"#VALUE!"}},{"$f":"AND(Instructions!D30,\"AAAAAD+j/ww=\")","v":{"$error":"#VALUE!"}},{"$f":"AND(Instructions!E30,\"AAAAAD+j/w0=\")","v":{"$error":"#VALUE!"}},{"$f":"AND(Instructions!F30,\"AAAAAD+j/w4=\")","v":{"$error":"#VALUE!"}},{"$f":"AND(Instructions!G30,\"AAAAAD+j/w8=\")","v":{"$error":"#VALUE!"}},{"$f":"AND(Instructions!H30,\"AAAAAD+j/xA=\")","v":{"$error":"#VALUE!"}},{"$f":"AND(Instructions!I30,\"AAAAAD+j/xE=\")","v":{"$error":"#VALUE!"}},{"$f":"AND(Instructions!J30,\"AAAAAD+j/xI=\")","v":{"$error":"#VALUE!"}},{"$f":"AND(Instructions!K30,\"AAAAAD+j/xM=\")","v":{"$error":"#VALUE!"}},{"$f":"AND(Instructions!L30,\"AAAAAD+j/xQ=\")","v":{"$error":"#VALUE!"}},{"$f":"AND(Instructions!#REF!,\"AAAAAD+j/xU=\")","v":{"$error":"#REF!"}},{"$f":"AND(Instructions!N30,\"AAAAAD+j/xY=\")","v":{"$error":"#VALUE!"}},{"$f":"AND(Instructions!O30,\"AAAAAD+j/xc=\")","v":{"$error":"#VALUE!"}},{"$f":"AND(Instructions!P30,\"AAAAAD+j/xg=\")","v":{"$error":"#VALUE!"}},{"$f":"AND(Instructions!Q30,\"AAAAAD+j/xk=\")","v":{"$error":"#VALUE!"}},{"$f":"AND(Instructions!R30,\"AAAAAD+j/xo=\")","v":{"$error":"#VALUE!"}},{"$f":"AND(Instructions!S30,\"AAAAAD+j/xs=\")","v":{"$error":"#VALUE!"}},{"$f":"IF(Instructions!31:31,\"AAAAAD+j/xw=\",0)","v":0},{"$f":"AND(Instructions!C31,\"AAAAAD+j/x0=\")","v":{"$error":"#VALUE!"}},{"$f":"AND(Instructions!D31,\"AAAAAD+j/x4=\")","v":{"$error":"#VALUE!"}},{"$f":"AND(Instructions!E31,\"AAAAAD+j/x8=\")","v":{"$error":"#VALUE!"}},{"$f":"AND(Instructions!F31,\"AAAAAD+j/yA=\")","v":{"$error":"#VALUE!"}},{"$f":"AND(Instructions!G31,\"AAAAAD+j/yE=\")","v":{"$error":"#VALUE!"}},{"$f":"AND(Instructions!H31,\"AAAAAD+j/yI=\")","v":{"$error":"#VALUE!"}},{"$f":"AND(Instructions!I31,\"AAAAAD+j/yM=\")","v":{"$error":"#VALUE!"}},{"$f":"AND(Instructions!J31,\"AAAAAD+j/yQ=\")","v":{"$error":"#VALUE!"}},{"$f":"AND(Instructions!K31,\"AAAAAD+j/yU=\")","v":{"$error":"#VALUE!"}},{"$f":"AND(Instructions!L31,\"AAAAAD+j/yY=\")","v":{"$error":"#VALUE!"}},{"$f":"AND(Instructions!#REF!,\"AAAAAD+j/yc=\")","v":{"$error":"#REF!"}},{"$f":"AND(Instructions!N31,\"AAAAAD+j/yg=\")","v":{"$error":"#VALUE!"}},{"$f":"AND(Instructions!O31,\"AAAAAD+j/yk=\")","v":{"$error":"#VALUE!"}},{"$f":"AND(Instructions!P31,\"AAAAAD+j/yo=\")","v":{"$error":"#VALUE!"}},{"$f":"AND(Instructions!Q31,\"AAAAAD+j/ys=\")","v":{"$error":"#VALUE!"}},{"$f":"AND(Instructions!R31,\"AAAAAD+j/yw=\")","v":{"$error":"#VALUE!"}},{"$f":"AND(Instructions!S31,\"AAAAAD+j/y0=\")","v":{"$error":"#VALUE!"}},{"$f":"IF(Instructions!32:32,\"AAAAAD+j/y4=\",0)","v":0},{"$f":"AND(Instructions!C32,\"AAAAAD+j/y8=\")","v":{"$error":"#VALUE!"}},{"$f":"AND(Instructions!D32,\"AAAAAD+j/zA=\")","v":{"$error":"#VALUE!"}},{"$f":"AND(Instructions!E32,\"AAAAAD+j/zE=\")","v":{"$error":"#VALUE!"}},{"$f":"AND(Instructions!F32,\"AAAAAD+j/zI=\")","v":{"$error":"#VALUE!"}},{"$f":"AND(Instructions!G32,\"AAAAAD+j/zM=\")","v":{"$error":"#VALUE!"}},{"$f":"AND(Instructions!H32,\"AAAAAD+j/zQ=\")","v":{"$error":"#VALUE!"}},{"$f":"AND(Instructions!I32,\"AAAAAD+j/zU=\")","v":{"$error":"#VALUE!"}},{"$f":"AND(Instructions!J32,\"AAAAAD+j/zY=\")","v":{"$error":"#VALUE!"}},{"$f":"AND(Instructions!K32,\"AAAAAD+j/zc=\")","v":{"$error":"#VALUE!"}},{"$f":"AND(Instructions!L32,\"AAAAAD+j/zg=\")","v":{"$error":"#VALUE!"}},{"$f":"AND(Instructions!#REF!,\"AAAAAD+j/zk=\")","v":{"$error":"#REF!"}},{"$f":"AND(Instructions!N32,\"AAAAAD+j/zo=\")","v":{"$error":"#VALUE!"}},{"$f":"AND(Instructions!O32,\"AAAAAD+j/zs=\")","v":{"$error":"#VALUE!"}},{"$f":"AND(Instructions!P32,\"AAAAAD+j/zw=\")","v":{"$error":"#VALUE!"}},{"$f":"AND(Instructions!Q32,\"AAAAAD+j/z0=\")","v":{"$error":"#VALUE!"}},{"$f":"AND(Instructions!R32,\"AAAAAD+j/z4=\")","v":{"$error":"#VALUE!"}},{"$f":"AND(Instructions!S32,\"AAAAAD+j/z8=\")","v":{"$error":"#VALUE!"}},{"$f":"IF(Instructions!33:33,\"AAAAAD+j/0A=\",0)","v":0},{"$f":"AND(Instructions!C33,\"AAAAAD+j/0E=\")","v":{"$error":"#VALUE!"}},{"$f":"AND(Instructions!D33,\"AAAAAD+j/0I=\")","v":{"$error":"#VALUE!"}},{"$f":"AND(Instructions!E33,\"AAAAAD+j/0M=\")","v":{"$error":"#VALUE!"}},{"$f":"AND(Instructions!F33,\"AAAAAD+j/0Q=\")","v":{"$error":"#VALUE!"}},{"$f":"AND(Instructions!G33,\"AAAAAD+j/0U=\")","v":{"$error":"#VALUE!"}},{"$f":"AND(Instructions!H33,\"AAAAAD+j/0Y=\")","v":{"$error":"#VALUE!"}},{"$f":"AND(Instructions!I33,\"AAAAAD+j/0c=\")","v":{"$error":"#VALUE!"}},{"$f":"AND(Instructions!J33,\"AAAAAD+j/0g=\")","v":{"$error":"#VALUE!"}},{"$f":"AND(Instructions!K33,\"AAAAAD+j/0k=\")","v":{"$error":"#VALUE!"}},{"$f":"AND(Instructions!L33,\"AAAAAD+j/0o=\")","v":{"$error":"#VALUE!"}},{"$f":"AND(Instructions!#REF!,\"AAAAAD+j/0s=\")","v":{"$error":"#REF!"}},{"$f":"AND(Instructions!N33,\"AAAAAD+j/0w=\")","v":{"$error":"#VALUE!"}},{"$f":"AND(Instructions!O33,\"AAAAAD+j/00=\")","v":{"$error":"#VALUE!"}},{"$f":"AND(Instructions!P33,\"AAAAAD+j/04=\")","v":{"$error":"#VALUE!"}},{"$f":"AND(Instructions!Q33,\"AAAAAD+j/08=\")","v":{"$error":"#VALUE!"}},{"$f":"AND(Instructions!R33,\"AAAAAD+j/1A=\")","v":{"$error":"#VALUE!"}},{"$f":"AND(Instructions!S33,\"AAAAAD+j/1E=\")","v":{"$error":"#VALUE!"}},{"$f":"IF(Instructions!34:34,\"AAAAAD+j/1I=\",0)","v":0},{"$f":"AND(Instructions!C34,\"AAAAAD+j/1M=\")","v":{"$error":"#VALUE!"}},{"$f":"AND(Instructions!D34,\"AAAAAD+j/1Q=\")","v":{"$error":"#VALUE!"}},{"$f":"AND(Instructions!E34,\"AAAAAD+j/1U=\")","v":{"$error":"#VALUE!"}},{"$f":"AND(Instructions!F34,\"AAAAAD+j/1Y=\")","v":{"$error":"#VALUE!"}},{"$f":"AND(Instructions!G34,\"AAAAAD+j/1c=\")","v":{"$error":"#VALUE!"}},{"$f":"AND(Instructions!H34,\"AAAAAD+j/1g=\")","v":{"$error":"#VALUE!"}},{"$f":"AND(Instructions!I34,\"AAAAAD+j/1k=\")","v":{"$error":"#VALUE!"}},{"$f":"AND(Instructions!J34,\"AAAAAD+j/1o=\")","v":{"$error":"#VALUE!"}},{"$f":"AND(Instructions!K34,\"AAAAAD+j/1s=\")","v":{"$error":"#VALUE!"}},{"$f":"AND(Instructions!L34,\"AAAAAD+j/1w=\")","v":{"$error":"#VALUE!"}},{"$f":"AND(Instructions!M28,\"AAAAAD+j/10=\")","v":{"$error":"#VALUE!"}},{"$f":"AND(Instructions!N34,\"AAAAAD+j/14=\")","v":{"$error":"#VALUE!"}},{"$f":"AND(Instructions!O34,\"AAAAAD+j/18=\")","v":{"$error":"#VALUE!"}},{"$f":"AND(Instructions!P34,\"AAAAAD+j/2A=\")","v":{"$error":"#VALUE!"}},{"$f":"AND(Instructions!Q34,\"AAAAAD+j/2E=\")","v":{"$error":"#VALUE!"}},{"$f":"AND(Instructions!R34,\"AAAAAD+j/2I=\")","v":{"$error":"#VALUE!"}},{"$f":"AND(Instructions!S34,\"AAAAAD+j/2M=\")","v":{"$error":"#VALUE!"}},{"$f":"IF(Instructions!35:35,\"AAAAAD+j/2Q=\",0)","v":0},{"$f":"AND(Instructions!C35,\"AAAAAD+j/2U=\")","v":{"$error":"#VALUE!"}},{"$f":"AND(Instructions!D35,\"AAAAAD+j/2Y=\")","v":{"$error":"#VALUE!"}},{"$f":"AND(Instructions!E35,\"AAAAAD+j/2c=\")","v":{"$error":"#VALUE!"}},{"$f":"AND(Instructions!F35,\"AAAAAD+j/2g=\")","v":{"$error":"#VALUE!"}},{"$f":"AND(Instructions!G35,\"AAAAAD+j/2k=\")","v":{"$error":"#VALUE!"}},{"$f":"AND(Instructions!H35,\"AAAAAD+j/2o=\")","v":{"$error":"#VALUE!"}},{"$f":"AND(Instructions!I35,\"AAAAAD+j/2s=\")","v":{"$error":"#VALUE!"}},{"$f":"AND(Instructions!J35,\"AAAAAD+j/2w=\")","v":{"$error":"#VALUE!"}},{"$f":"AND(Instructions!K35,\"AAAAAD+j/20=\")","v":{"$error":"#VALUE!"}},{"$f":"AND(Instructions!L35,\"AAAAAD+j/24=\")","v":{"$error":"#VALUE!"}},{"$f":"AND(Instructions!M35,\"AAAAAD+j/28=\")","v":{"$error":"#VALUE!"}},{"$f":"AND(Instructions!N35,\"AAAAAD+j/3A=\")","v":{"$error":"#VALUE!"}},{"$f":"AND(Instructions!O35,\"AAAAAD+j/3E=\")","v":{"$error":"#VALUE!"}},{"$f":"AND(Instructions!P35,\"AAAAAD+j/3I=\")","v":{"$error":"#VALUE!"}},{"$f":"AND(Instructions!Q35,\"AAAAAD+j/3M=\")","v":{"$error":"#VALUE!"}},{"$f":"AND(Instructions!R35,\"AAAAAD+j/3Q=\")","v":{"$error":"#VALUE!"}},{"$f":"AND(Instructions!S35,\"AAAAAD+j/3U=\")","v":{"$error":"#VALUE!"}},{"$f":"IF(Instructions!36:36,\"AAAAAD+j/3Y=\",0)","v":0},{"$f":"AND(Instructions!C36,\"AAAAAD+j/3c=\")","v":{"$error":"#VALUE!"}},{"$f":"AND(Instructions!D36,\"AAAAAD+j/3g=\")","v":{"$error":"#VALUE!"}},{"$f":"AND(Instructions!E36,\"AAAAAD+j/3k=\")","v":{"$error":"#VALUE!"}},{"$f":"AND(Instructions!F36,\"AAAAAD+j/3o=\")","v":{"$error":"#VALUE!"}},{"$f":"AND(Instructions!G36,\"AAAAAD+j/3s=\")","v":{"$error":"#VALUE!"}},{"$f":"AND(Instructions!H36,\"AAAAAD+j/3w=\")","v":{"$error":"#VALUE!"}},{"$f":"AND(Instructions!I36,\"AAAAAD+j/30=\")","v":{"$error":"#VALUE!"}},{"$f":"AND(Instructions!J36,\"AAAAAD+j/34=\")","v":{"$error":"#VALUE!"}},{"$f":"AND(Instructions!K36,\"AAAAAD+j/38=\")","v":{"$error":"#VALUE!"}},{"$f":"AND(Instructions!L36,\"AAAAAD+j/4A=\")","v":{"$error":"#VALUE!"}},{"$f":"AND(Instructions!M29,\"AAAAAD+j/4E=\")","v":{"$error":"#VALUE!"}},{"$f":"AND(Instructions!N36,\"AAAAAD+j/4I=\")","v":{"$error":"#VALUE!"}},{"$f":"AND(Instructions!O36,\"AAAAAD+j/4M=\")","v":{"$error":"#VALUE!"}},{"$f":"AND(Instructions!P36,\"AAAAAD+j/4Q=\")","v":{"$error":"#VALUE!"}},{"$f":"AND(Instructions!Q36,\"AAAAAD+j/4U=\")","v":{"$error":"#VALUE!"}},{"$f":"AND(Instructions!R36,\"AAAAAD+j/4Y=\")","v":{"$error":"#VALUE!"}},{"$f":"AND(Instructions!S36,\"AAAAAD+j/4c=\")","v":{"$error":"#VALUE!"}},{"$f":"IF(Instructions!37:37,\"AAAAAD+j/4g=\",0)","v":0},{"$f":"AND(Instructions!C37,\"AAAAAD+j/4k=\")","v":{"$error":"#VALUE!"}},{"$f":"AND(Instructions!D37,\"AAAAAD+j/4o=\")","v":{"$error":"#VALUE!"}},{"$f":"AND(Instructions!E37,\"AAAAAD+j/4s=\")","v":{"$error":"#VALUE!"}},{"$f":"AND(Instructions!F37,\"AAAAAD+j/4w=\")","v":{"$error":"#VALUE!"}},{"$f":"AND(Instructions!G37,\"AAAAAD+j/40=\")","v":{"$error":"#VALUE!"}},{"$f":"AND(Instructions!H37,\"AAAAAD+j/44=\")","v":{"$error":"#VALUE!"}},{"$f":"AND(Instructions!I37,\"AAAAAD+j/48=\")","v":{"$error":"#VALUE!"}},{"$f":"AND(Instructions!J37,\"AAAAAD+j/5A=\")","v":{"$error":"#VALUE!"}},{"$f":"AND(Instructions!K37,\"AAAAAD+j/5E=\")","v":{"$error":"#VALUE!"}},{"$f":"AND(Instructions!L37,\"AAAAAD+j/5I=\")","v":{"$error":"#VALUE!"}},{"$f":"AND(Instructions!M30,\"AAAAAD+j/5M=\")","v":{"$error":"#VALUE!"}},{"$f":"AND(Instructions!N37,\"AAAAAD+j/5Q=\")","v":{"$error":"#VALUE!"}},{"$f":"AND(Instructions!O37,\"AAAAAD+j/5U=\")","v":{"$error":"#VALUE!"}},{"$f":"AND(Instructions!P37,\"AAAAAD+j/5Y=\")","v":{"$error":"#VALUE!"}},{"$f":"AND(Instructions!Q37,\"AAAAAD+j/5c=\")","v":{"$error":"#VALUE!"}},{"$f":"AND(Instructions!R37,\"AAAAAD+j/5g=\")","v":{"$error":"#VALUE!"}},{"$f":"AND(Instructions!S37,\"AAAAAD+j/5k=\")","v":{"$error":"#VALUE!"}},{"$f":"IF(Instructions!38:38,\"AAAAAD+j/5o=\",0)","v":0},{"$f":"AND(Instructions!C38,\"AAAAAD+j/5s=\")","v":{"$error":"#VALUE!"}},{"$f":"AND(Instructions!D38,\"AAAAAD+j/5w=\")","v":{"$error":"#VALUE!"}},{"$f":"AND(Instructions!E38,\"AAAAAD+j/50=\")","v":{"$error":"#VALUE!"}},{"$f":"AND(Instructions!F38,\"AAAAAD+j/54=\")","v":{"$error":"#VALUE!"}},{"$f":"AND(Instructions!G38,\"AAAAAD+j/58=\")","v":{"$error":"#VALUE!"}},{"$f":"AND(Instructions!H38,\"AAAAAD+j/6A=\")","v":{"$error":"#VALUE!"}},{"$f":"AND(Instructions!I38,\"AAAAAD+j/6E=\")","v":{"$error":"#VALUE!"}},{"$f":"AND(Instructions!J38,\"AAAAAD+j/6I=\")","v":{"$error":"#VALUE!"}},{"$f":"AND(Instructions!K38,\"AAAAAD+j/6M=\")","v":{"$error":"#VALUE!"}},{"$f":"AND(Instructions!L38,\"AAAAAD+j/6Q=\")","v":{"$error":"#VALUE!"}},{"$f":"AND(Instructions!M31,\"AAAAAD+j/6U=\")","v":{"$error":"#VALUE!"}},{"$f":"AND(Instructions!N38,\"AAAAAD+j/6Y=\")","v":{"$error":"#VALUE!"}},{"$f":"AND(Instructions!O38,\"AAAAAD+j/6c=\")","v":{"$error":"#VALUE!"}},{"$f":"AND(Instructions!P38,\"AAAAAD+j/6g=\")","v":{"$error":"#VALUE!"}},{"$f":"AND(Instructions!Q38,\"AAAAAD+j/6k=\")","v":{"$error":"#VALUE!"}},{"$f":"AND(Instructions!R38,\"AAAAAD+j/6o=\")","v":{"$error":"#VALUE!"}},{"$f":"AND(Instructions!S38,\"AAAAAD+j/6s=\")","v":{"$error":"#VALUE!"}},{"$f":"IF(Instructions!39:39,\"AAAAAD+j/6w=\",0)","v":0},{"$f":"AND(Instructions!C39,\"AAAAAD+j/60=\")","v":{"$error":"#VALUE!"}},{"$f":"AND(Instructions!D39,\"AAAAAD+j/64=\")","v":{"$error":"#VALUE!"}},{"$f":"AND(Instructions!E39,\"AAAAAD+j/68=\")","v":{"$error":"#VALUE!"}},{"$f":"AND(Instructions!F39,\"AAAAAD+j/7A=\")","v":{"$error":"#VALUE!"}},{"$f":"AND(Instructions!G39,\"AAAAAD+j/7E=\")","v":{"$error":"#VALUE!"}},{"$f":"AND(Instructions!H39,\"AAAAAD+j/7I=\")","v":{"$error":"#VALUE!"}},{"$f":"AND(Instructions!I39,\"AAAAAD+j/7M=\")","v":{"$error":"#VALUE!"}},{"$f":"AND(Instructions!J39,\"AAAAAD+j/7Q=\")","v":{"$error":"#VALUE!"}},{"$f":"AND(Instructions!K39,\"AAAAAD+j/7U=\")","v":{"$error":"#VALUE!"}},{"$f":"AND(Instructions!L39,\"AAAAAD+j/7Y=\")","v":{"$error":"#VALUE!"}},{"$f":"AND(Instructions!M32,\"AAAAAD+j/7c=\")","v":{"$error":"#VALUE!"}},{"$f":"AND(Instructions!N39,\"AAAAAD+j/7g=\")","v":{"$error":"#VALUE!"}},{"$f":"AND(Instructions!O39,\"AAAAAD+j/7k=\")","v":{"$error":"#VALUE!"}},{"$f":"AND(Instructions!P39,\"AAAAAD+j/7o=\")","v":{"$error":"#VALUE!"}},{"$f":"AND(Instructions!Q39,\"AAAAAD+j/7s=\")","v":{"$error":"#VALUE!"}},{"$f":"AND(Instructions!R39,\"AAAAAD+j/7w=\")","v":{"$error":"#VALUE!"}},{"$f":"AND(Instructions!S39,\"AAAAAD+j/70=\")","v":{"$error":"#VALUE!"}},{"$f":"IF(Instructions!40:40,\"AAAAAD+j/74=\",0)","v":0},{"$f":"AND(Instructions!C40,\"AAAAAD+j/78=\")","v":{"$error":"#VALUE!"}},{"$f":"AND(Instructions!D40,\"AAAAAD+j/8A=\")","v":{"$error":"#VALUE!"}},{"$f":"AND(Instructions!E40,\"AAAAAD+j/8E=\")","v":{"$error":"#VALUE!"}},{"$f":"AND(Instructions!F40,\"AAAAAD+j/8I=\")","v":{"$error":"#VALUE!"}},{"$f":"AND(Instructions!G40,\"AAAAAD+j/8M=\")","v":{"$error":"#VALUE!"}},{"$f":"AND(Instructions!H40,\"AAAAAD+j/8Q=\")","v":{"$error":"#VALUE!"}},{"$f":"AND(Instructions!I40,\"AAAAAD+j/8U=\")","v":{"$error":"#VALUE!"}},{"$f":"AND(Instructions!J40,\"AAAAAD+j/8Y=\")","v":{"$error":"#VALUE!"}},{"$f":"AND(Instructions!K40,\"AAAAAD+j/8c=\")","v":{"$error":"#VALUE!"}},{"$f":"AND(Instructions!L40,\"AAAAAD+j/8g=\")","v":{"$error":"#VALUE!"}},{"$f":"AND(Instructions!M33,\"AAAAAD+j/8k=\")","v":{"$error":"#VALUE!"}},{"$f":"AND(Instructions!N40,\"AAAAAD+j/8o=\")","v":{"$error":"#VALUE!"}},{"$f":"AND(Instructions!O40,\"AAAAAD+j/8s=\")","v":{"$error":"#VALUE!"}},{"$f":"AND(Instructions!P40,\"AAAAAD+j/8w=\")","v":{"$error":"#VALUE!"}},{"$f":"AND(Instructions!Q40,\"AAAAAD+j/80=\")","v":{"$error":"#VALUE!"}},{"$f":"AND(Instructions!R40,\"AAAAAD+j/84=\")","v":{"$error":"#VALUE!"}},{"$f":"AND(Instructions!S40,\"AAAAAD+j/88=\")","v":{"$error":"#VALUE!"}},{"$f":"IF(Instructions!41:41,\"AAAAAD+j/9A=\",0)","v":0},{"$f":"AND(Instructions!C41,\"AAAAAD+j/9E=\")","v":{"$error":"#VALUE!"}},{"$f":"AND(Instructions!D41,\"AAAAAD+j/9I=\")","v":{"$error":"#VALUE!"}},{"$f":"AND(Instructions!E41,\"AAAAAD+j/9M=\")","v":{"$error":"#VALUE!"}},{"$f":"AND(Instructions!F41,\"AAAAAD+j/9Q=\")","v":{"$error":"#VALUE!"}},{"$f":"AND(Instructions!G41,\"AAAAAD+j/9U=\")","v":{"$error":"#VALUE!"}},{"$f":"AND(Instructions!H41,\"AAAAAD+j/9Y=\")","v":{"$error":"#VALUE!"}},{"$f":"AND(Instructions!I41,\"AAAAAD+j/9c=\")","v":{"$error":"#VALUE!"}},{"$f":"AND(Instructions!J41,\"AAAAAD+j/9g=\")","v":{"$error":"#VALUE!"}},{"$f":"AND(Instructions!K41,\"AAAAAD+j/9k=\")","v":{"$error":"#VALUE!"}},{"$f":"AND(Instructions!L41,\"AAAAAD+j/9o=\")","v":{"$error":"#VALUE!"}},{"$f":"AND(Instructions!M41,\"AAAAAD+j/9s=\")","v":{"$error":"#VALUE!"}},{"$f":"AND(Instructions!N41,\"AAAAAD+j/9w=\")","v":{"$error":"#VALUE!"}},{"$f":"AND(Instructions!O41,\"AAAAAD+j/90=\")","v":{"$error":"#VALUE!"}},{"$f":"AND(Instructions!P41,\"AAAAAD+j/94=\")","v":{"$error":"#VALUE!"}},{"$f":"AND(Instructions!Q41,\"AAAAAD+j/98=\")","v":{"$error":"#VALUE!"}},{"$f":"AND(Instructions!R41,\"AAAAAD+j/+A=\")","v":{"$error":"#VALUE!"}},{"$f":"AND(Instructions!S41,\"AAAAAD+j/+E=\")","v":{"$error":"#VALUE!"}},{"$f":"IF(Instructions!42:42,\"AAAAAD+j/+I=\",0)","v":0},{"$f":"AND(Instructions!C42,\"AAAAAD+j/+M=\")","v":{"$error":"#VALUE!"}},{"$f":"AND(Instructions!D42,\"AAAAAD+j/+Q=\")","v":{"$error":"#VALUE!"}},{"$f":"AND(Instructions!E42,\"AAAAAD+j/+U=\")","v":{"$error":"#VALUE!"}},{"$f":"AND(Instructions!F42,\"AAAAAD+j/+Y=\")","v":{"$error":"#VALUE!"}},{"$f":"AND(Instructions!G42,\"AAAAAD+j/+c=\")","v":{"$error":"#VALUE!"}},{"$f":"AND(Instructions!H42,\"AAAAAD+j/+g=\")","v":{"$error":"#VALUE!"}},{"$f":"AND(Instructions!I42,\"AAAAAD+j/+k=\")","v":{"$error":"#VALUE!"}},{"$f":"AND(Instructions!J42,\"AAAAAD+j/+o=\")","v":{"$error":"#VALUE!"}},{"$f":"AND(Instructions!K42,\"AAAAAD+j/+s=\")","v":{"$error":"#VALUE!"}},{"$f":"AND(Instructions!L42,\"AAAAAD+j/+w=\")","v":{"$error":"#VALUE!"}},{"$f":"AND(Instructions!M42,\"AAAAAD+j/+0=\")","v":{"$error":"#VALUE!"}},{"$f":"AND(Instructions!N42,\"AAAAAD+j/+4=\")","v":{"$error":"#VALUE!"}},{"$f":"AND(Instructions!O42,\"AAAAAD+j/+8=\")","v":{"$error":"#VALUE!"}},{"$f":"AND(Instructions!P42,\"AAAAAD+j//A=\")","v":{"$error":"#VALUE!"}},{"$f":"AND(Instructions!Q42,\"AAAAAD+j//E=\")","v":{"$error":"#VALUE!"}},{"$f":"AND(Instructions!R42,\"AAAAAD+j//I=\")","v":{"$error":"#VALUE!"}},{"$f":"AND(Instructions!S42,\"AAAAAD+j//M=\")","v":{"$error":"#VALUE!"}},{"$f":"IF(Instructions!43:43,\"AAAAAD+j//Q=\",0)","v":0},{"$f":"AND(Instructions!C43,\"AAAAAD+j//U=\")","v":{"$error":"#VALUE!"}},{"$f":"AND(Instructions!D43,\"AAAAAD+j//Y=\")","v":{"$error":"#VALUE!"}},{"$f":"AND(Instructions!E43,\"AAAAAD+j//c=\")","v":{"$error":"#VALUE!"}},{"$f":"AND(Instructions!F43,\"AAAAAD+j//g=\")","v":{"$error":"#VALUE!"}},{"$f":"AND(Instructions!G43,\"AAAAAD+j//k=\")","v":{"$error":"#VALUE!"}},{"$f":"AND(Instructions!H43,\"AAAAAD+j//o=\")","v":{"$error":"#VALUE!"}},{"$f":"AND(Instructions!I43,\"AAAAAD+j//s=\")","v":{"$error":"#VALUE!"}},{"$f":"AND(Instructions!J43,\"AAAAAD+j//w=\")","v":{"$error":"#VALUE!"}},{"$f":"AND(Instructions!K43,\"AAAAAD+j//0=\")","v":{"$error":"#VALUE!"}},{"$f":"AND(Instructions!L43,\"AAAAAD+j//4=\")","v":{"$error":"#VALUE!"}},{"$f":"AND(Instructions!M43,\"AAAAAD+j//8=\")","v":{"$error":"#VALUE!"}}]
[{"$f":"AND(Instructions!N43,\"AAAAAH9/ngA=\")","v":{"$error":"#VALUE!"}},{"$f":"AND(Instructions!O43,\"AAAAAH9/ngE=\")","v":{"$error":"#VALUE!"}},{"$f":"AND(Instructions!P43,\"AAAAAH9/ngI=\")","v":{"$error":"#VALUE!"}},{"$f":"AND(Instructions!Q43,\"AAAAAH9/ngM=\")","v":{"$error":"#VALUE!"}},{"$f":"AND(Instructions!R43,\"AAAAAH9/ngQ=\")","v":{"$error":"#VALUE!"}},{"$f":"AND(Instructions!S43,\"AAAAAH9/ngU=\")","v":{"$error":"#VALUE!"}},{"$f":"IF(Instructions!44:44,\"AAAAAH9/ngY=\",0)","v":0},{"$f":"IF(Instructions!45:45,\"AAAAAH9/ngc=\",0)","v":0},{"$f":"IF(Instructions!46:46,\"AAAAAH9/ngg=\",0)","v":0},{"$f":"IF(Instructions!A:A,\"AAAAAH9/ngk=\",0)","v":0},{"$f":"IF(Instructions!B:B,\"AAAAAH9/ngo=\",0)","v":0},{"$f":"IF(Instructions!C:C,\"AAAAAH9/ngs=\",0)","v":0},{"$f":"IF(Instructions!D:D,\"AAAAAH9/ngw=\",0)","v":0},{"$f":"IF(Instructions!E:E,\"AAAAAH9/ng0=\",0)","v":0},{"$f":"IF(Instructions!F:F,\"AAAAAH9/ng4=\",0)","v":0},{"$f":"IF(Instructions!G:G,\"AAAAAH9/ng8=\",0)","v":0},{"$f":"IF(Instructions!H:H,\"AAAAAH9/nhA=\",0)","v":0},{"$f":"IF(Instructions!I:I,\"AAAAAH9/nhE=\",0)","v":0},{"$f":"IF(Instructions!J:J,\"AAAAAH9/nhI=\",0)","v":0},{"$f":"IF(Instructions!K:K,\"AAAAAH9/nhM=\",0)","v":0},{"$f":"IF(Instructions!L:L,\"AAAAAH9/nhQ=\",0)","v":0},{"$f":"IF(Instructions!M:M,\"AAAAAH9/nhU=\",0)","v":0},{"$f":"IF(Instructions!N:N,\"AAAAAH9/nhY=\",0)","v":0},{"$f":"IF(Instructions!O:O,\"AAAAAH9/nhc=\",0)","v":0},{"$f":"IF(Instructions!P:P,\"AAAAAH9/nhg=\",0)","v":0},{"$f":"IF(Instructions!Q:Q,\"AAAAAH9/nhk=\",0)","v":0},{"$f":"IF(Instructions!R:R,\"AAAAAH9/nho=\",0)","v":0},{"$f":"IF(Instructions!S:S,\"AAAAAH9/nhs=\",0)","v":0},{"$f":"IF('Non-Streaming - Res Calc'!1:1,\"AAAAAH9/nhw=\",0)","v":0},{"$f":"AND('Non-Streaming - Res Calc'!C1,\"AAAAAH9/nh0=\")","v":{"$error":"#VALUE!"}},{"$f":"AND('Non-Streaming - Res Calc'!D1,\"AAAAAH9/nh4=\")","v":{"$error":"#VALUE!"}},{"$f":"AND('Non-Streaming - Res Calc'!E1,\"AAAAAH9/nh8=\")","v":{"$error":"#VALUE!"}},{"$f":"AND('Non-Streaming - Res Calc'!F1,\"AAAAAH9/niA=\")","v":{"$error":"#VALUE!"}},{"$f":"AND('Non-Streaming - Res Calc'!G1,\"AAAAAH9/niE=\")","v":{"$error":"#VALUE!"}},{"$f":"AND('Non-Streaming - Res Calc'!H1,\"AAAAAH9/niI=\")","v":{"$error":"#VALUE!"}},{"$f":"AND('Non-Streaming - Res Calc'!I1,\"AAAAAH9/niM=\")","v":{"$error":"#VALUE!"}},{"$f":"AND('Non-Streaming - Res Calc'!J1,\"AAAAAH9/niQ=\")","v":{"$error":"#VALUE!"}},{"$f":"AND('Non-Streaming - Res Calc'!K1,\"AAAAAH9/niU=\")","v":{"$error":"#VALUE!"}},{"$f":"AND('Non-Streaming - Res Calc'!L1,\"AAAAAH9/niY=\")","v":{"$error":"#VALUE!"}},{"$f":"AND('Non-Streaming - Res Calc'!M1,\"AAAAAH9/nic=\")","v":{"$error":"#VALUE!"}},{"$f":"AND('Non-Streaming - Res Calc'!N1,\"AAAAAH9/nig=\")","v":{"$error":"#VALUE!"}},{"$f":"AND('Non-Streaming - Res Calc'!O1,\"AAAAAH9/nik=\")","v":{"$error":"#VALUE!"}},{"$f":"AND('Non-Streaming - Res Calc'!P1,\"AAAAAH9/nio=\")","v":{"$error":"#VALUE!"}},{"$f":"AND('Non-Streaming - Res Calc'!Q1,\"AAAAAH9/nis=\")","v":{"$error":"#VALUE!"}},{"$f":"AND('Non-Streaming - Res Calc'!R1,\"AAAAAH9/niw=\")","v":{"$error":"#VALUE!"}},{"$f":"AND('Non-Streaming - Res Calc'!S1,\"AAAAAH9/ni0=\")","v":{"$error":"#VALUE!"}},{"$f":"AND('Non-Streaming - Res Calc'!T1,\"AAAAAH9/ni4=\")","v":{"$error":"#VALUE!"}},{"$f":"AND('Non-Streaming - Res Calc'!U1,\"AAAAAH9/ni8=\")","v":{"$error":"#VALUE!"}},{"$f":"AND('Non-Streaming - Res Calc'!V1,\"AAAAAH9/njA=\")","v":{"$error":"#VALUE!"}},{"$f":"IF('Non-Streaming - Res Calc'!2:2,\"AAAAAH9/njE=\",0)","v":0},{"$f":"AND('Non-Streaming - Res Calc'!C2,\"AAAAAH9/njI=\")","v":{"$error":"#VALUE!"}},{"$f":"AND('Non-Streaming - Res Calc'!D2,\"AAAAAH9/njM=\")","v":{"$error":"#VALUE!"}},{"$f":"AND('Non-Streaming - Res Calc'!E2,\"AAAAAH9/njQ=\")","v":{"$error":"#VALUE!"}},{"$f":"AND('Non-Streaming - Res Calc'!F2,\"AAAAAH9/njU=\")","v":{"$error":"#VALUE!"}},{"$f":"AND('Non-Streaming - Res Calc'!G2,\"AAAAAH9/njY=\")","v":{"$error":"#VALUE!"}},{"$f":"AND('Non-Streaming - Res Calc'!H2,\"AAAAAH9/njc=\")","v":{"$error":"#VALUE!"}},{"$f":"AND('Non-Streaming - Res Calc'!I2,\"AAAAAH9/njg=\")","v":{"$error":"#VALUE!"}},{"$f":"AND('Non-Streaming - Res Calc'!J2,\"AAAAAH9/njk=\")","v":{"$error":"#VALUE!"}},{"$f":"AND('Non-Streaming - Res Calc'!K2,\"AAAAAH9/njo=\")","v":{"$error":"#VALUE!"}},{"$f":"AND('Non-Streaming - Res Calc'!L2,\"AAAAAH9/njs=\")","v":{"$error":"#VALUE!"}},{"$f":"AND('Non-Streaming - Res Calc'!M2,\"AAAAAH9/njw=\")","v":{"$error":"#VALUE!"}},{"$f":"AND('Non-Streaming - Res Calc'!N2,\"AAAAAH9/nj0=\")","v":{"$error":"#VALUE!"}},{"$f":"AND('Non-Streaming - Res Calc'!O2,\"AAAAAH9/nj4=\")","v":{"$error":"#VALUE!"}},{"$f":"AND('Non-Streaming - Res Calc'!P2,\"AAAAAH9/nj8=\")","v":{"$error":"#VALUE!"}},{"$f":"AND('Non-Streaming - Res Calc'!Q2,\"AAAAAH9/nkA=\")","v":{"$error":"#VALUE!"}},{"$f":"AND('Non-Streaming - Res Calc'!R2,\"AAAAAH9/nkE=\")","v":{"$error":"#VALUE!"}},{"$f":"AND('Non-Streaming - Res Calc'!S2,\"AAAAAH9/nkI=\")","v":{"$error":"#VALUE!"}},{"$f":"AND('Non-Streaming - Res Calc'!T2,\"AAAAAH9/nkM=\")","v":{"$error":"#VALUE!"}},{"$f":"AND('Non-Streaming - Res Calc'!U2,\"AAAAAH9/nkQ=\")","v":{"$error":"#VALUE!"}},{"$f":"AND('Non-Streaming - Res Calc'!V2,\"AAAAAH9/nkU=\")","v":{"$error":"#VALUE!"}},{"$f":"IF('Non-Streaming - Res Calc'!3:3,\"AAAAAH9/nkY=\",0)","v":0},{"$f":"AND('Non-Streaming - Res Calc'!C3,\"AAAAAH9/nkc=\")","v":{"$error":"#VALUE!"}},{"$f":"AND('Non-Streaming - Res Calc'!D3,\"AAAAAH9/nkg=\")","v":{"$error":"#VALUE!"}},{"$f":"AND('Non-Streaming - Res Calc'!E3,\"AAAAAH9/nkk=\")","v":{"$error":"#VALUE!"}},{"$f":"AND('Non-Streaming - Res Calc'!F3,\"AAAAAH9/nko=\")","v":{"$error":"#VALUE!"}},{"$f":"AND('Non-Streaming - Res Calc'!G3,\"AAAAAH9/nks=\")","v":{"$error":"#VALUE!"}},{"$f":"AND('Non-Streaming - Res Calc'!H3,\"AAAAAH9/nkw=\")","v":{"$error":"#VALUE!"}},{"$f":"AND('Non-Streaming - Res Calc'!I3,\"AAAAAH9/nk0=\")","v":{"$error":"#VALUE!"}},{"$f":"AND('Non-Streaming - Res Calc'!J3,\"AAAAAH9/nk4=\")","v":{"$error":"#VALUE!"}},{"$f":"AND('Non-Streaming - Res Calc'!K3,\"AAAAAH9/nk8=\")","v":{"$error":"#VALUE!"}},{"$f":"AND('Non-Streaming - Res Calc'!L3,\"AAAAAH9/nlA=\")","v":{"$error":"#VALUE!"}},{"$f":"AND('Non-Streaming - Res Calc'!M3,\"AAAAAH9/nlE=\")","v":{"$error":"#VALUE!"}},{"$f":"AND('Non-Streaming - Res Calc'!N3,\"AAAAAH9/nlI=\")","v":{"$error":"#VALUE!"}},{"$f":"AND('Non-Streaming - Res Calc'!O3,\"AAAAAH9/nlM=\")","v":{"$error":"#VALUE!"}},{"$f":"AND('Non-Streaming - Res Calc'!P3,\"AAAAAH9/nlQ=\")","v":{"$error":"#VALUE!"}},{"$f":"AND('Non-Streaming - Res Calc'!Q3,\"AAAAAH9/nlU=\")","v":{"$error":"#VALUE!"}},{"$f":"AND('Non-Streaming - Res Calc'!R3,\"AAAAAH9/nlY=\")","v":{"$error":"#VALUE!"}},{"$f":"AND('Non-Streaming - Res Calc'!S3,\"AAAAAH9/nlc=\")","v":{"$error":"#VALUE!"}},{"$f":"AND('Non-Streaming - Res Calc'!T3,\"AAAAAH9/nlg=\")","v":{"$error":"#VALUE!"}},{"$f":"AND('Non-Streaming - Res Calc'!U3,\"AAAAAH9/nlk=\")","v":{"$error":"#VALUE!"}},{"$f":"AND('Non-Streaming - Res Calc'!V3,\"AAAAAH9/nlo=\")","v":{"$error":"#VALUE!"}},{"$f":"IF('Non-Streaming - Res Calc'!4:4,\"AAAAAH9/nls=\",0)","v":0},{"$f":"AND('Non-Streaming - Res Calc'!C4,\"AAAAAH9/nlw=\")","v":{"$error":"#VALUE!"}},{"$f":"AND('Non-Streaming - Res Calc'!D4,\"AAAAAH9/nl0=\")","v":{"$error":"#VALUE!"}},{"$f":"AND('Non-Streaming - Res Calc'!E4,\"AAAAAH9/nl4=\")","v":{"$error":"#VALUE!"}},{"$f":"AND('Non-Streaming - Res Calc'!F4,\"AAAAAH9/nl8=\")","v":{"$error":"#VALUE!"}},{"$f":"AND('Non-Streaming - Res Calc'!G4,\"AAAAAH9/nmA=\")","v":{"$error":"#VALUE!"}},{"$f":"AND('Non-Streaming - Res Calc'!H4,\"AAAAAH9/nmE=\")","v":{"$error":"#VALUE!"}},{"$f":"AND('Non-Streaming - Res Calc'!I4,\"AAAAAH9/nmI=\")","v":{"$error":"#VALUE!"}},{"$f":"AND('Non-Streaming - Res Calc'!J4,\"AAAAAH9/nmM=\")","v":{"$error":"#VALUE!"}},{"$f":"AND('Non-Streaming - Res Calc'!K4,\"AAAAAH9/nmQ=\")","v":{"$error":"#VALUE!"}},{"$f":"AND('Non-Streaming - Res Calc'!L4,\"AAAAAH9/nmU=\")","v":{"$error":"#VALUE!"}},{"$f":"AND('Non-Streaming - Res Calc'!M4,\"AAAAAH9/nmY=\")","v":{"$error":"#VALUE!"}},{"$f":"AND('Non-Streaming - Res Calc'!N4,\"AAAAAH9/nmc=\")","v":{"$error":"#VALUE!"}},{"$f":"AND('Non-Streaming - Res Calc'!O4,\"AAAAAH9/nmg=\")","v":{"$error":"#VALUE!"}},{"$f":"AND('Non-Streaming - Res Calc'!P4,\"AAAAAH9/nmk=\")","v":{"$error":"#VALUE!"}},{"$f":"AND('Non-Streaming - Res Calc'!Q4,\"AAAAAH9/nmo=\")","v":{"$error":"#VALUE!"}},{"$f":"AND('Non-Streaming - Res Calc'!R4,\"AAAAAH9/nms=\")","v":{"$error":"#VALUE!"}},{"$f":"AND('Non-Streaming - Res Calc'!S4,\"AAAAAH9/nmw=\")","v":{"$error":"#VALUE!"}},{"$f":"AND('Non-Streaming - Res Calc'!T4,\"AAAAAH9/nm0=\")","v":{"$error":"#VALUE!"}},{"$f":"AND('Non-Streaming - Res Calc'!U4,\"AAAAAH9/nm4=\")","v":{"$error":"#VALUE!"}},{"$f":"AND('Non-Streaming - Res Calc'!V4,\"AAAAAH9/nm8=\")","v":{"$error":"#VALUE!"}},{"$f":"IF('Non-Streaming - Res Calc'!5:5,\"AAAAAH9/nnA=\",0)","v":0},{"$f":"AND('Non-Streaming - Res Calc'!C5,\"AAAAAH9/nnE=\")","v":{"$error":"#VALUE!"}},{"$f":"AND('Non-Streaming - Res Calc'!D5,\"AAAAAH9/nnI=\")","v":{"$error":"#VALUE!"}},{"$f":"AND('Non-Streaming - Res Calc'!E5,\"AAAAAH9/nnM=\")","v":{"$error":"#VALUE!"}},{"$f":"AND('Non-Streaming - Res Calc'!F5,\"AAAAAH9/nnQ=\")","v":{"$error":"#VALUE!"}},{"$f":"AND('Non-Streaming - Res Calc'!G5,\"AAAAAH9/nnU=\")","v":{"$error":"#VALUE!"}},{"$f":"AND('Non-Streaming - Res Calc'!H5,\"AAAAAH9/nnY=\")","v":{"$error":"#VALUE!"}},{"$f":"AND('Non-Streaming - Res Calc'!I5,\"AAAAAH9/nnc=\")","v":{"$error":"#VALUE!"}},{"$f":"AND('Non-Streaming - Res Calc'!J5,\"AAAAAH9/nng=\")","v":{"$error":"#VALUE!"}},{"$f":"AND('Non-Streaming - Res Calc'!K5,\"AAAAAH9/nnk=\")","v":{"$error":"#VALUE!"}},{"$f":"AND('Non-Streaming - Res Calc'!L5,\"AAAAAH9/nno=\")","v":{"$error":"#VALUE!"}},{"$f":"AND('Non-Streaming - Res Calc'!M5,\"AAAAAH9/nns=\")","v":{"$error":"#VALUE!"}},{"$f":"AND('Non-Streaming - Res Calc'!N5,\"AAAAAH9/nnw=\")","v":{"$error":"#VALUE!"}},{"$f":"AND('Non-Streaming - Res Calc'!O5,\"AAAAAH9/nn0=\")","v":{"$error":"#VALUE!"}},{"$f":"AND('Non-Streaming - Res Calc'!P5,\"AAAAAH9/nn4=\")","v":{"$error":"#VALUE!"}},{"$f":"AND('Non-Streaming - Res Calc'!Q5,\"AAAAAH9/nn8=\")","v":{"$error":"#VALUE!"}},{"$f":"AND('Non-Streaming - Res Calc'!R5,\"AAAAAH9/noA=\")","v":{"$error":"#VALUE!"}},{"$f":"AND('Non-Streaming - Res Calc'!S5,\"AAAAAH9/noE=\")","v":{"$error":"#VALUE!"}},{"$f":"AND('Non-Streaming - Res Calc'!T5,\"AAAAAH9/noI=\")","v":{"$error":"#VALUE!"}},{"$f":"AND('Non-Streaming - Res Calc'!U5,\"AAAAAH9/noM=\")","v":{"$error":"#VALUE!"}},{"$f":"AND('Non-Streaming - Res Calc'!V5,\"AAAAAH9/noQ=\")","v":{"$error":"#VALUE!"}},{"$f":"IF('Non-Streaming - Res Calc'!6:6,\"AAAAAH9/noU=\",0)","v":0},{"$f":"AND('Non-Streaming - Res Calc'!C6,\"AAAAAH9/noY=\")","v":{"$error":"#VALUE!"}},{"$f":"AND('Non-Streaming - Res Calc'!D6,\"AAAAAH9/noc=\")","v":{"$error":"#VALUE!"}},{"$f":"AND('Non-Streaming - Res Calc'!E6,\"AAAAAH9/nog=\")","v":{"$error":"#VALUE!"}},{"$f":"AND('Non-Streaming - Res Calc'!F6,\"AAAAAH9/nok=\")","v":{"$error":"#VALUE!"}},{"$f":"AND('Non-Streaming - Res Calc'!G6,\"AAAAAH9/noo=\")","v":{"$error":"#VALUE!"}},{"$f":"AND('Non-Streaming - Res Calc'!H6,\"AAAAAH9/nos=\")","v":{"$error":"#VALUE!"}},{"$f":"AND('Non-Streaming - Res Calc'!I6,\"AAAAAH9/now=\")","v":{"$error":"#VALUE!"}},{"$f":"AND('Non-Streaming - Res Calc'!J6,\"AAAAAH9/no0=\")","v":{"$error":"#VALUE!"}},{"$f":"AND('Non-Streaming - Res Calc'!K6,\"AAAAAH9/no4=\")","v":{"$error":"#VALUE!"}},{"$f":"AND('Non-Streaming - Res Calc'!L6,\"AAAAAH9/no8=\")","v":{"$error":"#VALUE!"}},{"$f":"AND('Non-Streaming - Res Calc'!M6,\"AAAAAH9/npA=\")","v":{"$error":"#VALUE!"}},{"$f":"AND('Non-Streaming - Res Calc'!N6,\"AAAAAH9/npE=\")","v":{"$error":"#VALUE!"}},{"$f":"AND('Non-Streaming - Res Calc'!O6,\"AAAAAH9/npI=\")","v":{"$error":"#VALUE!"}},{"$f":"AND('Non-Streaming - Res Calc'!P6,\"AAAAAH9/npM=\")","v":{"$error":"#VALUE!"}},{"$f":"AND('Non-Streaming - Res Calc'!Q6,\"AAAAAH9/npQ=\")","v":{"$error":"#VALUE!"}},{"$f":"AND('Non-Streaming - Res Calc'!R6,\"AAAAAH9/npU=\")","v":{"$error":"#VALUE!"}},{"$f":"AND('Non-Streaming - Res Calc'!S6,\"AAAAAH9/npY=\")","v":{"$error":"#VALUE!"}},{"$f":"AND('Non-Streaming - Res Calc'!T6,\"AAAAAH9/npc=\")","v":{"$error":"#VALUE!"}},{"$f":"AND('Non-Streaming - Res Calc'!U6,\"AAAAAH9/npg=\")","v":{"$error":"#VALUE!"}},{"$f":"AND('Non-Streaming - Res Calc'!V6,\"AAAAAH9/npk=\")","v":{"$error":"#VALUE!"}},{"$f":"IF('Non-Streaming - Res Calc'!7:7,\"AAAAAH9/npo=\",0)","v":0},{"$f":"AND('Non-Streaming - Res Calc'!C7,\"AAAAAH9/nps=\")","v":{"$error":"#VALUE!"}},{"$f":"AND('Non-Streaming - Res Calc'!D7,\"AAAAAH9/npw=\")","v":{"$error":"#VALUE!"}},{"$f":"AND('Non-Streaming - Res Calc'!E7,\"AAAAAH9/np0=\")","v":{"$error":"#VALUE!"}},{"$f":"AND('Non-Streaming - Res Calc'!F7,\"AAAAAH9/np4=\")","v":{"$error":"#VALUE!"}},{"$f":"AND('Non-Streaming - Res Calc'!G7,\"AAAAAH9/np8=\")","v":{"$error":"#VALUE!"}},{"$f":"AND('Non-Streaming - Res Calc'!H7,\"AAAAAH9/nqA=\")","v":{"$error":"#VALUE!"}},{"$f":"AND('Non-Streaming - Res Calc'!I7,\"AAAAAH9/nqE=\")","v":{"$error":"#VALUE!"}},{"$f":"AND('Non-Streaming - Res Calc'!J7,\"AAAAAH9/nqI=\")","v":{"$error":"#VALUE!"}},{"$f":"AND('Non-Streaming - Res Calc'!K7,\"AAAAAH9/nqM=\")","v":{"$error":"#VALUE!"}},{"$f":"AND('Non-Streaming - Res Calc'!L7,\"AAAAAH9/nqQ=\")","v":{"$error":"#VALUE!"}},{"$f":"AND('Non-Streaming - Res Calc'!M7,\"AAAAAH9/nqU=\")","v":{"$error":"#VALUE!"}},{"$f":"AND('Non-Streaming - Res Calc'!N7,\"AAAAAH9/nqY=\")","v":{"$error":"#VALUE!"}},{"$f":"AND('Non-Streaming - Res Calc'!O7,\"AAAAAH9/nqc=\")","v":{"$error":"#VALUE!"}},{"$f":"AND('Non-Streaming - Res Calc'!P7,\"AAAAAH9/nqg=\")","v":{"$error":"#VALUE!"}},{"$f":"AND('Non-Streaming - Res Calc'!Q7,\"AAAAAH9/nqk=\")","v":{"$error":"#VALUE!"}},{"$f":"AND('Non-Streaming - Res Calc'!R7,\"AAAAAH9/nqo=\")","v":{"$error":"#VALUE!"}},{"$f":"AND('Non-Streaming - Res Calc'!S7,\"AAAAAH9/nqs=\")","v":{"$error":"#VALUE!"}},{"$f":"AND('Non-Streaming - Res Calc'!T7,\"AAAAAH9/nqw=\")","v":{"$error":"#VALUE!"}},{"$f":"AND('Non-Streaming - Res Calc'!U7,\"AAAAAH9/nq0=\")","v":{"$error":"#VALUE!"}},{"$f":"AND('Non-Streaming - Res Calc'!V7,\"AAAAAH9/nq4=\")","v":{"$error":"#VALUE!"}},{"$f":"IF('Non-Streaming - Res Calc'!8:8,\"AAAAAH9/nq8=\",0)","v":0},{"$f":"AND('Non-Streaming - Res Calc'!C8,\"AAAAAH9/nrA=\")","v":{"$error":"#VALUE!"}},{"$f":"AND('Non-Streaming - Res Calc'!D8,\"AAAAAH9/nrE=\")","v":{"$error":"#VALUE!"}},{"$f":"AND('Non-Streaming - Res Calc'!E8,\"AAAAAH9/nrI=\")","v":{"$error":"#VALUE!"}},{"$f":"AND('Non-Streaming - Res Calc'!F8,\"AAAAAH9/nrM=\")","v":{"$error":"#VALUE!"}},{"$f":"AND('Non-Streaming - Res Calc'!G8,\"AAAAAH9/nrQ=\")","v":{"$error":"#VALUE!"}},{"$f":"AND('Non-Streaming - Res Calc'!H8,\"AAAAAH9/nrU=\")","v":{"$error":"#VALUE!"}},{"$f":"AND('Non-Streaming - Res Calc'!I8,\"AAAAAH9/nrY=\")","v":{"$error":"#VALUE!"}},{"$f":"AND('Non-Streaming - Res Calc'!J8,\"AAAAAH9/nrc=\")","v":{"$error":"#VALUE!"}},{"$f":"AND('Non-Streaming - Res Calc'!K8,\"AAAAAH9/nrg=\")","v":{"$error":"#VALUE!"}},{"$f":"AND('Non-Streaming - Res Calc'!L8,\"AAAAAH9/nrk=\")","v":{"$error":"#VALUE!"}},{"$f":"AND('Non-Streaming - Res Calc'!M8,\"AAAAAH9/nro=\")","v":{"$error":"#VALUE!"}},{"$f":"AND('Non-Streaming - Res Calc'!N8,\"AAAAAH9/nrs=\")","v":{"$error":"#VALUE!"}},{"$f":"AND('Non-Streaming - Res Calc'!O8,\"AAAAAH9/nrw=\")","v":{"$error":"#VALUE!"}},{"$f":"AND('Non-Streaming - Res Calc'!P8,\"AAAAAH9/nr0=\")","v":{"$error":"#VALUE!"}},{"$f":"AND('Non-Streaming - Res Calc'!Q8,\"AAAAAH9/nr4=\")","v":{"$error":"#VALUE!"}},{"$f":"AND('Non-Streaming - Res Calc'!R8,\"AAAAAH9/nr8=\")","v":{"$error":"#VALUE!"}},{"$f":"AND('Non-Streaming - Res Calc'!S8,\"AAAAAH9/nsA=\")","v":{"$error":"#VALUE!"}},{"$f":"AND('Non-Streaming - Res Calc'!T8,\"AAAAAH9/nsE=\")","v":{"$error":"#VALUE!"}},{"$f":"AND('Non-Streaming - Res Calc'!U8,\"AAAAAH9/nsI=\")","v":{"$error":"#VALUE!"}},{"$f":"AND('Non-Streaming - Res Calc'!V8,\"AAAAAH9/nsM=\")","v":{"$error":"#VALUE!"}},{"$f":"IF('Non-Streaming - Res Calc'!9:9,\"AAAAAH9/nsQ=\",0)","v":0},{"$f":"AND('Non-Streaming - Res Calc'!C9,\"AAAAAH9/nsU=\")","v":{"$error":"#VALUE!"}},{"$f":"AND('Non-Streaming - Res Calc'!D9,\"AAAAAH9/nsY=\")","v":{"$error":"#VALUE!"}},{"$f":"AND('Non-Streaming - Res Calc'!E9,\"AAAAAH9/nsc=\")","v":{"$error":"#VALUE!"}},{"$f":"AND('Non-Streaming - Res Calc'!F9,\"AAAAAH9/nsg=\")","v":{"$error":"#VALUE!"}},{"$f":"AND('Non-Streaming - Res Calc'!G9,\"AAAAAH9/nsk=\")","v":{"$error":"#VALUE!"}},{"$f":"AND('Non-Streaming - Res Calc'!H9,\"AAAAAH9/nso=\")","v":{"$error":"#VALUE!"}},{"$f":"AND('Non-Streaming - Res Calc'!I9,\"AAAAAH9/nss=\")","v":{"$error":"#VALUE!"}},{"$f":"AND('Non-Streaming - Res Calc'!J9,\"AAAAAH9/nsw=\")","v":{"$error":"#VALUE!"}},{"$f":"AND('Non-Streaming - Res Calc'!K9,\"AAAAAH9/ns0=\")","v":{"$error":"#VALUE!"}},{"$f":"AND('Non-Streaming - Res Calc'!L9,\"AAAAAH9/ns4=\")","v":{"$error":"#VALUE!"}},{"$f":"AND('Non-Streaming - Res Calc'!M9,\"AAAAAH9/ns8=\")","v":{"$error":"#VALUE!"}},{"$f":"AND('Non-Streaming - Res Calc'!N9,\"AAAAAH9/ntA=\")","v":{"$error":"#VALUE!"}},{"$f":"AND('Non-Streaming - Res Calc'!O9,\"AAAAAH9/ntE=\")","v":{"$error":"#VALUE!"}},{"$f":"AND('Non-Streaming - Res Calc'!P9,\"AAAAAH9/ntI=\")","v":{"$error":"#VALUE!"}},{"$f":"AND('Non-Streaming - Res Calc'!Q9,\"AAAAAH9/ntM=\")","v":{"$error":"#VALUE!"}},{"$f":"AND('Non-Streaming - Res Calc'!R9,\"AAAAAH9/ntQ=\")","v":{"$error":"#VALUE!"}},{"$f":"AND('Non-Streaming - Res Calc'!S9,\"AAAAAH9/ntU=\")","v":{"$error":"#VALUE!"}},{"$f":"AND('Non-Streaming - Res Calc'!T9,\"AAAAAH9/ntY=\")","v":{"$error":"#VALUE!"}},{"$f":"AND('Non-Streaming - Res Calc'!U9,\"AAAAAH9/ntc=\")","v":{"$error":"#VALUE!"}},{"$f":"AND('Non-Streaming - Res Calc'!V9,\"AAAAAH9/ntg=\")","v":{"$error":"#VALUE!"}},{"$f":"IF('Non-Streaming - Res Calc'!10:10,\"AAAAAH9/ntk=\",0)","v":0},{"$f":"AND('Non-Streaming - Res Calc'!C10,\"AAAAAH9/nto=\")","v":{"$error":"#VALUE!"}},{"$f":"AND('Non-Streaming - Res Calc'!D10,\"AAAAAH9/nts=\")","v":{"$error":"#VALUE!"}},{"$f":"AND('Non-Streaming - Res Calc'!E10,\"AAAAAH9/ntw=\")","v":{"$error":"#VALUE!"}},{"$f":"AND('Non-Streaming - Res Calc'!F10,\"AAAAAH9/nt0=\")","v":{"$error":"#VALUE!"}},{"$f":"AND('Non-Streaming - Res Calc'!G10,\"AAAAAH9/nt4=\")","v":{"$error":"#VALUE!"}},{"$f":"AND('Non-Streaming - Res Calc'!H10,\"AAAAAH9/nt8=\")","v":{"$error":"#VALUE!"}},{"$f":"AND('Non-Streaming - Res Calc'!I10,\"AAAAAH9/nuA=\")","v":{"$error":"#VALUE!"}},{"$f":"AND('Non-Streaming - Res Calc'!J10,\"AAAAAH9/nuE=\")","v":{"$error":"#VALUE!"}},{"$f":"AND('Non-Streaming - Res Calc'!K10,\"AAAAAH9/nuI=\")","v":{"$error":"#VALUE!"}},{"$f":"AND('Non-Streaming - Res Calc'!L10,\"AAAAAH9/nuM=\")","v":{"$error":"#VALUE!"}},{"$f":"AND('Non-Streaming - Res Calc'!M10,\"AAAAAH9/nuQ=\")","v":{"$error":"#VALUE!"}},{"$f":"AND('Non-Streaming - Res Calc'!N10,\"AAAAAH9/nuU=\")","v":{"$error":"#VALUE!"}},{"$f":"AND('Non-Streaming - Res Calc'!O10,\"AAAAAH9/nuY=\")","v":{"$error":"#VALUE!"}},{"$f":"AND('Non-Streaming - Res Calc'!P10,\"AAAAAH9/nuc=\")","v":{"$error":"#VALUE!"}},{"$f":"AND('Non-Streaming - Res Calc'!Q10,\"AAAAAH9/nug=\")","v":{"$error":"#VALUE!"}},{"$f":"AND('Non-Streaming - Res Calc'!R10,\"AAAAAH9/nuk=\")","v":{"$error":"#VALUE!"}},{"$f":"AND('Non-Streaming - Res Calc'!S10,\"AAAAAH9/nuo=\")","v":{"$error":"#VALUE!"}},{"$f":"AND('Non-Streaming - Res Calc'!T10,\"AAAAAH9/nus=\")","v":{"$error":"#VALUE!"}},{"$f":"AND('Non-Streaming - Res Calc'!U10,\"AAAAAH9/nuw=\")","v":{"$error":"#VALUE!"}},{"$f":"AND('Non-Streaming - Res Calc'!V10,\"AAAAAH9/nu0=\")","v":{"$error":"#VALUE!"}},{"$f":"IF('Non-Streaming - Res Calc'!11:11,\"AAAAAH9/nu4=\",0)","v":0},{"$f":"AND('Non-Streaming - Res Calc'!C11,\"AAAAAH9/nu8=\")","v":{"$error":"#VALUE!"}},{"$f":"AND('Non-Streaming - Res Calc'!D11,\"AAAAAH9/nvA=\")","v":{"$error":"#VALUE!"}},{"$f":"AND('Non-Streaming - Res Calc'!E11,\"AAAAAH9/nvE=\")","v":{"$error":"#VALUE!"}},{"$f":"AND('Non-Streaming - Res Calc'!F11,\"AAAAAH9/nvI=\")","v":{"$error":"#VALUE!"}},{"$f":"AND('Non-Streaming - Res Calc'!G11,\"AAAAAH9/nvM=\")","v":{"$error":"#VALUE!"}},{"$f":"AND('Non-Streaming - Res Calc'!H11,\"AAAAAH9/nvQ=\")","v":{"$error":"#VALUE!"}},{"$f":"AND('Non-Streaming - Res Calc'!I11,\"AAAAAH9/nvU=\")","v":{"$error":"#VALUE!"}},{"$f":"AND('Non-Streaming - Res Calc'!J11,\"AAAAAH9/nvY=\")","v":{"$error":"#VALUE!"}},{"$f":"AND('Non-Streaming - Res Calc'!K11,\"AAAAAH9/nvc=\")","v":{"$error":"#VALUE!"}},{"$f":"AND('Non-Streaming - Res Calc'!L11,\"AAAAAH9/nvg=\")","v":{"$error":"#VALUE!"}},{"$f":"AND('Non-Streaming - Res Calc'!M11,\"AAAAAH9/nvk=\")","v":{"$error":"#VALUE!"}},{"$f":"AND('Non-Streaming - Res Calc'!N11,\"AAAAAH9/nvo=\")","v":{"$error":"#VALUE!"}},{"$f":"AND('Non-Streaming - Res Calc'!O11,\"AAAAAH9/nvs=\")","v":{"$error":"#VALUE!"}},{"$f":"AND('Non-Streaming - Res Calc'!P11,\"AAAAAH9/nvw=\")","v":{"$error":"#VALUE!"}},{"$f":"AND('Non-Streaming - Res Calc'!Q11,\"AAAAAH9/nv0=\")","v":{"$error":"#VALUE!"}},{"$f":"AND('Non-Streaming - Res Calc'!R11,\"AAAAAH9/nv4=\")","v":{"$error":"#VALUE!"}},{"$f":"AND('Non-Streaming - Res Calc'!S11,\"AAAAAH9/nv8=\")","v":{"$error":"#VALUE!"}}]
[{"$f":"AND('Non-Streaming - Res Calc'!T11,\"AAAAAH/vvgA=\")","v":{"$error":"#VALUE!"}},{"$f":"AND('Non-Streaming - Res Calc'!U11,\"AAAAAH/vvgE=\")","v":{"$error":"#VALUE!"}},{"$f":"AND('Non-Streaming - Res Calc'!V11,\"AAAAAH/vvgI=\")","v":{"$error":"#VALUE!"}},{"$f":"IF('Non-Streaming - Res Calc'!12:12,\"AAAAAH/vvgM=\",0)","v":0},{"$f":"AND('Non-Streaming - Res Calc'!C12,\"AAAAAH/vvgQ=\")","v":{"$error":"#VALUE!"}},{"$f":"AND('Non-Streaming - Res Calc'!D12,\"AAAAAH/vvgU=\")","v":{"$error":"#VALUE!"}},{"$f":"AND('Non-Streaming - Res Calc'!E12,\"AAAAAH/vvgY=\")","v":{"$error":"#VALUE!"}},{"$f":"AND('Non-Streaming - Res Calc'!F12,\"AAAAAH/vvgc=\")","v":{"$error":"#VALUE!"}},{"$f":"AND('Non-Streaming - Res Calc'!G12,\"AAAAAH/vvgg=\")","v":{"$error":"#VALUE!"}},{"$f":"AND('Non-Streaming - Res Calc'!H12,\"AAAAAH/vvgk=\")","v":{"$error":"#VALUE!"}},{"$f":"AND('Non-Streaming - Res Calc'!I12,\"AAAAAH/vvgo=\")","v":{"$error":"#VALUE!"}},{"$f":"AND('Non-Streaming - Res Calc'!J12,\"AAAAAH/vvgs=\")","v":{"$error":"#VALUE!"}},{"$f":"AND('Non-Streaming - Res Calc'!K12,\"AAAAAH/vvgw=\")","v":{"$error":"#VALUE!"}},{"$f":"AND('Non-Streaming - Res Calc'!L12,\"AAAAAH/vvg0=\")","v":{"$error":"#VALUE!"}},{"$f":"AND('Non-Streaming - Res Calc'!M12,\"AAAAAH/vvg4=\")","v":{"$error":"#VALUE!"}},{"$f":"AND('Non-Streaming - Res Calc'!N12,\"AAAAAH/vvg8=\")","v":{"$error":"#VALUE!"}},{"$f":"AND('Non-Streaming - Res Calc'!O12,\"AAAAAH/vvhA=\")","v":{"$error":"#VALUE!"}},{"$f":"AND('Non-Streaming - Res Calc'!P12,\"AAAAAH/vvhE=\")","v":{"$error":"#VALUE!"}},{"$f":"AND('Non-Streaming - Res Calc'!Q12,\"AAAAAH/vvhI=\")","v":{"$error":"#VALUE!"}},{"$f":"AND('Non-Streaming - Res Calc'!R12,\"AAAAAH/vvhM=\")","v":{"$error":"#VALUE!"}},{"$f":"AND('Non-Streaming - Res Calc'!S12,\"AAAAAH/vvhQ=\")","v":{"$error":"#VALUE!"}},{"$f":"AND('Non-Streaming - Res Calc'!T12,\"AAAAAH/vvhU=\")","v":{"$error":"#VALUE!"}},{"$f":"AND('Non-Streaming - Res Calc'!U12,\"AAAAAH/vvhY=\")","v":{"$error":"#VALUE!"}},{"$f":"AND('Non-Streaming - Res Calc'!V12,\"AAAAAH/vvhc=\")","v":{"$error":"#VALUE!"}},{"$f":"IF('Non-Streaming - Res Calc'!13:13,\"AAAAAH/vvhg=\",0)","v":0},{"$f":"AND('Non-Streaming - Res Calc'!C13,\"AAAAAH/vvhk=\")","v":{"$error":"#VALUE!"}},{"$f":"AND('Non-Streaming - Res Calc'!D13,\"AAAAAH/vvho=\")","v":{"$error":"#VALUE!"}},{"$f":"AND('Non-Streaming - Res Calc'!E13,\"AAAAAH/vvhs=\")","v":{"$error":"#VALUE!"}},{"$f":"AND('Non-Streaming - Res Calc'!F13,\"AAAAAH/vvhw=\")","v":{"$error":"#VALUE!"}},{"$f":"AND('Non-Streaming - Res Calc'!G13,\"AAAAAH/vvh0=\")","v":{"$error":"#VALUE!"}},{"$f":"AND('Non-Streaming - Res Calc'!H13,\"AAAAAH/vvh4=\")","v":{"$error":"#VALUE!"}},{"$f":"AND('Non-Streaming - Res Calc'!I13,\"AAAAAH/vvh8=\")","v":{"$error":"#VALUE!"}},{"$f":"AND('Non-Streaming - Res Calc'!J13,\"AAAAAH/vviA=\")","v":{"$error":"#VALUE!"}},{"$f":"AND('Non-Streaming - Res Calc'!K13,\"AAAAAH/vviE=\")","v":{"$error":"#VALUE!"}},{"$f":"AND('Non-Streaming - Res Calc'!L13,\"AAAAAH/vviI=\")","v":{"$error":"#VALUE!"}},{"$f":"AND('Non-Streaming - Res Calc'!M13,\"AAAAAH/vviM=\")","v":{"$error":"#VALUE!"}},{"$f":"AND('Non-Streaming - Res Calc'!N13,\"AAAAAH/vviQ=\")","v":{"$error":"#VALUE!"}},{"$f":"AND('Non-Streaming - Res Calc'!O13,\"AAAAAH/vviU=\")","v":{"$error":"#VALUE!"}},{"$f":"AND('Non-Streaming - Res Calc'!P13,\"AAAAAH/vviY=\")","v":{"$error":"#VALUE!"}},{"$f":"AND('Non-Streaming - Res Calc'!Q13,\"AAAAAH/vvic=\")","v":{"$error":"#VALUE!"}},{"$f":"AND('Non-Streaming - Res Calc'!R13,\"AAAAAH/vvig=\")","v":{"$error":"#VALUE!"}},{"$f":"AND('Non-Streaming - Res Calc'!S13,\"AAAAAH/vvik=\")","v":{"$error":"#VALUE!"}},{"$f":"AND('Non-Streaming - Res Calc'!T13,\"AAAAAH/vvio=\")","v":{"$error":"#VALUE!"}},{"$f":"AND('Non-Streaming - Res Calc'!U13,\"AAAAAH/vvis=\")","v":{"$error":"#VALUE!"}},{"$f":"AND('Non-Streaming - Res Calc'!V13,\"AAAAAH/vviw=\")","v":{"$error":"#VALUE!"}},{"$f":"IF('Non-Streaming - Res Calc'!14:14,\"AAAAAH/vvi0=\",0)","v":0},{"$f":"AND('Non-Streaming - Res Calc'!C14,\"AAAAAH/vvi4=\")","v":{"$error":"#VALUE!"}},{"$f":"AND('Non-Streaming - Res Calc'!D14,\"AAAAAH/vvi8=\")","v":{"$error":"#VALUE!"}},{"$f":"AND('Non-Streaming - Res Calc'!E14,\"AAAAAH/vvjA=\")","v":{"$error":"#VALUE!"}},{"$f":"AND('Non-Streaming - Res Calc'!F14,\"AAAAAH/vvjE=\")","v":{"$error":"#VALUE!"}},{"$f":"AND('Non-Streaming - Res Calc'!G14,\"AAAAAH/vvjI=\")","v":{"$error":"#VALUE!"}},{"$f":"AND('Non-Streaming - Res Calc'!H14,\"AAAAAH/vvjM=\")","v":{"$error":"#VALUE!"}},{"$f":"AND('Non-Streaming - Res Calc'!I14,\"AAAAAH/vvjQ=\")","v":{"$error":"#VALUE!"}},{"$f":"AND('Non-Streaming - Res Calc'!J14,\"AAAAAH/vvjU=\")","v":{"$error":"#VALUE!"}},{"$f":"AND('Non-Streaming - Res Calc'!K14,\"AAAAAH/vvjY=\")","v":{"$error":"#VALUE!"}},{"$f":"AND('Non-Streaming - Res Calc'!L14,\"AAAAAH/vvjc=\")","v":{"$error":"#VALUE!"}},{"$f":"AND('Non-Streaming - Res Calc'!M14,\"AAAAAH/vvjg=\")","v":{"$error":"#VALUE!"}},{"$f":"AND('Non-Streaming - Res Calc'!N14,\"AAAAAH/vvjk=\")","v":{"$error":"#VALUE!"}},{"$f":"AND('Non-Streaming - Res Calc'!O14,\"AAAAAH/vvjo=\")","v":{"$error":"#VALUE!"}},{"$f":"AND('Non-Streaming - Res Calc'!P14,\"AAAAAH/vvjs=\")","v":{"$error":"#VALUE!"}},{"$f":"AND('Non-Streaming - Res Calc'!Q14,\"AAAAAH/vvjw=\")","v":{"$error":"#VALUE!"}},{"$f":"AND('Non-Streaming - Res Calc'!R14,\"AAAAAH/vvj0=\")","v":{"$error":"#VALUE!"}},{"$f":"AND('Non-Streaming - Res Calc'!S14,\"AAAAAH/vvj4=\")","v":{"$error":"#VALUE!"}},{"$f":"AND('Non-Streaming - Res Calc'!T14,\"AAAAAH/vvj8=\")","v":{"$error":"#VALUE!"}},{"$f":"AND('Non-Streaming - Res Calc'!U14,\"AAAAAH/vvkA=\")","v":{"$error":"#VALUE!"}},{"$f":"AND('Non-Streaming - Res Calc'!V14,\"AAAAAH/vvkE=\")","v":{"$error":"#VALUE!"}},{"$f":"IF('Non-Streaming - Res Calc'!15:15,\"AAAAAH/vvkI=\",0)","v":0},{"$f":"AND('Non-Streaming - Res Calc'!C15,\"AAAAAH/vvkM=\")","v":{"$error":"#VALUE!"}},{"$f":"AND('Non-Streaming - Res Calc'!D15,\"AAAAAH/vvkQ=\")","v":{"$error":"#VALUE!"}},{"$f":"AND('Non-Streaming - Res Calc'!E15,\"AAAAAH/vvkU=\")","v":{"$error":"#VALUE!"}},{"$f":"AND('Non-Streaming - Res Calc'!F15,\"AAAAAH/vvkY=\")","v":{"$error":"#VALUE!"}},{"$f":"AND('Non-Streaming - Res Calc'!G15,\"AAAAAH/vvkc=\")","v":{"$error":"#VALUE!"}},{"$f":"AND('Non-Streaming - Res Calc'!H15,\"AAAAAH/vvkg=\")","v":{"$error":"#VALUE!"}},{"$f":"AND('Non-Streaming - Res Calc'!I15,\"AAAAAH/vvkk=\")","v":{"$error":"#VALUE!"}},{"$f":"AND('Non-Streaming - Res Calc'!J15,\"AAAAAH/vvko=\")","v":{"$error":"#VALUE!"}},{"$f":"AND('Non-Streaming - Res Calc'!K15,\"AAAAAH/vvks=\")","v":{"$error":"#VALUE!"}},{"$f":"AND('Non-Streaming - Res Calc'!L15,\"AAAAAH/vvkw=\")","v":{"$error":"#VALUE!"}},{"$f":"AND('Non-Streaming - Res Calc'!M15,\"AAAAAH/vvk0=\")","v":{"$error":"#VALUE!"}},{"$f":"AND('Non-Streaming - Res Calc'!N15,\"AAAAAH/vvk4=\")","v":{"$error":"#VALUE!"}},{"$f":"AND('Non-Streaming - Res Calc'!O15,\"AAAAAH/vvk8=\")","v":{"$error":"#VALUE!"}},{"$f":"AND('Non-Streaming - Res Calc'!P15,\"AAAAAH/vvlA=\")","v":{"$error":"#VALUE!"}},{"$f":"AND('Non-Streaming - Res Calc'!Q15,\"AAAAAH/vvlE=\")","v":{"$error":"#VALUE!"}},{"$f":"AND('Non-Streaming - Res Calc'!R15,\"AAAAAH/vvlI=\")","v":{"$error":"#VALUE!"}},{"$f":"AND('Non-Streaming - Res Calc'!S15,\"AAAAAH/vvlM=\")","v":{"$error":"#VALUE!"}},{"$f":"AND('Non-Streaming - Res Calc'!T15,\"AAAAAH/vvlQ=\")","v":{"$error":"#VALUE!"}},{"$f":"AND('Non-Streaming - Res Calc'!U15,\"AAAAAH/vvlU=\")","v":{"$error":"#VALUE!"}},{"$f":"AND('Non-Streaming - Res Calc'!V15,\"AAAAAH/vvlY=\")","v":{"$error":"#VALUE!"}},{"$f":"IF('Non-Streaming - Res Calc'!16:16,\"AAAAAH/vvlc=\",0)","v":0},{"$f":"AND('Non-Streaming - Res Calc'!C16,\"AAAAAH/vvlg=\")","v":{"$error":"#VALUE!"}},{"$f":"AND('Non-Streaming - Res Calc'!D16,\"AAAAAH/vvlk=\")","v":{"$error":"#VALUE!"}},{"$f":"AND('Non-Streaming - Res Calc'!E16,\"AAAAAH/vvlo=\")","v":{"$error":"#VALUE!"}},{"$f":"AND('Non-Streaming - Res Calc'!F16,\"AAAAAH/vvls=\")","v":{"$error":"#VALUE!"}},{"$f":"AND('Non-Streaming - Res Calc'!G16,\"AAAAAH/vvlw=\")","v":{"$error":"#VALUE!"}},{"$f":"AND('Non-Streaming - Res Calc'!H16,\"AAAAAH/vvl0=\")","v":{"$error":"#VALUE!"}},{"$f":"AND('Non-Streaming - Res Calc'!I16,\"AAAAAH/vvl4=\")","v":{"$error":"#VALUE!"}},{"$f":"AND('Non-Streaming - Res Calc'!J16,\"AAAAAH/vvl8=\")","v":{"$error":"#VALUE!"}},{"$f":"AND('Non-Streaming - Res Calc'!#REF!,\"AAAAAH/vvmA=\")","v":{"$error":"#REF!"}},{"$f":"AND('Non-Streaming - Res Calc'!K16,\"AAAAAH/vvmE=\")","v":{"$error":"#VALUE!"}},{"$f":"AND('Non-Streaming - Res Calc'!M16,\"AAAAAH/vvmI=\")","v":{"$error":"#VALUE!"}},{"$f":"AND('Non-Streaming - Res Calc'!N16,\"AAAAAH/vvmM=\")","v":{"$error":"#VALUE!"}},{"$f":"AND('Non-Streaming - Res Calc'!O16,\"AAAAAH/vvmQ=\")","v":{"$error":"#VALUE!"}},{"$f":"AND('Non-Streaming - Res Calc'!P16,\"AAAAAH/vvmU=\")","v":{"$error":"#VALUE!"}},{"$f":"AND('Non-Streaming - Res Calc'!Q16,\"AAAAAH/vvmY=\")","v":{"$error":"#VALUE!"}},{"$f":"AND('Non-Streaming - Res Calc'!R16,\"AAAAAH/vvmc=\")","v":{"$error":"#VALUE!"}},{"$f":"AND('Non-Streaming - Res Calc'!S16,\"AAAAAH/vvmg=\")","v":{"$error":"#VALUE!"}},{"$f":"AND('Non-Streaming - Res Calc'!T16,\"AAAAAH/vvmk=\")","v":{"$error":"#VALUE!"}},{"$f":"AND('Non-Streaming - Res Calc'!U16,\"AAAAAH/vvmo=\")","v":{"$error":"#VALUE!"}},{"$f":"AND('Non-Streaming - Res Calc'!V16,\"AAAAAH/vvms=\")","v":{"$error":"#VALUE!"}},{"$f":"IF('Non-Streaming - Res Calc'!17:17,\"AAAAAH/vvmw=\",0)","v":0},{"$f":"AND('Non-Streaming - Res Calc'!C17,\"AAAAAH/vvm0=\")","v":{"$error":"#VALUE!"}},{"$f":"AND('Non-Streaming - Res Calc'!D17,\"AAAAAH/vvm4=\")","v":{"$error":"#VALUE!"}},{"$f":"AND('Non-Streaming - Res Calc'!E17,\"AAAAAH/vvm8=\")","v":{"$error":"#VALUE!"}},{"$f":"AND('Non-Streaming - Res Calc'!F17,\"AAAAAH/vvnA=\")","v":{"$error":"#VALUE!"}},{"$f":"AND('Non-Streaming - Res Calc'!G17,\"AAAAAH/vvnE=\")","v":{"$error":"#VALUE!"}},{"$f":"AND('Non-Streaming - Res Calc'!H17,\"AAAAAH/vvnI=\")","v":{"$error":"#VALUE!"}},{"$f":"AND('Non-Streaming - Res Calc'!I17,\"AAAAAH/vvnM=\")","v":{"$error":"#VALUE!"}},{"$f":"AND('Non-Streaming - Res Calc'!J17,\"AAAAAH/vvnQ=\")","v":{"$error":"#VALUE!"}},{"$f":"AND('Non-Streaming - Res Calc'!K17,\"AAAAAH/vvnU=\")","v":{"$error":"#VALUE!"}},{"$f":"AND('Non-Streaming - Res Calc'!L17,\"AAAAAH/vvnY=\")","v":{"$error":"#VALUE!"}},{"$f":"AND('Non-Streaming - Res Calc'!M17,\"AAAAAH/vvnc=\")","v":{"$error":"#VALUE!"}},{"$f":"AND('Non-Streaming - Res Calc'!N17,\"AAAAAH/vvng=\")","v":{"$error":"#VALUE!"}},{"$f":"AND('Non-Streaming - Res Calc'!O17,\"AAAAAH/vvnk=\")","v":{"$error":"#VALUE!"}},{"$f":"AND('Non-Streaming - Res Calc'!P17,\"AAAAAH/vvno=\")","v":{"$error":"#VALUE!"}},{"$f":"AND('Non-Streaming - Res Calc'!Q17,\"AAAAAH/vvns=\")","v":{"$error":"#VALUE!"}},{"$f":"AND('Non-Streaming - Res Calc'!R17,\"AAAAAH/vvnw=\")","v":{"$error":"#VALUE!"}},{"$f":"AND('Non-Streaming - Res Calc'!S17,\"AAAAAH/vvn0=\")","v":{"$error":"#VALUE!"}},{"$f":"AND('Non-Streaming - Res Calc'!T17,\"AAAAAH/vvn4=\")","v":{"$error":"#VALUE!"}},{"$f":"AND('Non-Streaming - Res Calc'!U17,\"AAAAAH/vvn8=\")","v":{"$error":"#VALUE!"}},{"$f":"AND('Non-Streaming - Res Calc'!V17,\"AAAAAH/vvoA=\")","v":{"$error":"#VALUE!"}},{"$f":"IF('Non-Streaming - Res Calc'!18:18,\"AAAAAH/vvoE=\",0)","v":0},{"$f":"AND('Non-Streaming - Res Calc'!C18,\"AAAAAH/vvoI=\")","v":{"$error":"#VALUE!"}},{"$f":"AND('Non-Streaming - Res Calc'!D18,\"AAAAAH/vvoM=\")","v":{"$error":"#VALUE!"}},{"$f":"AND('Non-Streaming - Res Calc'!E18,\"AAAAAH/vvoQ=\")","v":{"$error":"#VALUE!"}},{"$f":"AND('Non-Streaming - Res Calc'!F18,\"AAAAAH/vvoU=\")","v":{"$error":"#VALUE!"}},{"$f":"AND('Non-Streaming - Res Calc'!G18,\"AAAAAH/vvoY=\")","v":{"$error":"#VALUE!"}},{"$f":"AND('Non-Streaming - Res Calc'!H18,\"AAAAAH/vvoc=\")","v":{"$error":"#VALUE!"}},{"$f":"AND('Non-Streaming - Res Calc'!I18,\"AAAAAH/vvog=\")","v":{"$error":"#VALUE!"}},{"$f":"AND('Non-Streaming - Res Calc'!J18,\"AAAAAH/vvok=\")","v":{"$error":"#VALUE!"}},{"$f":"AND('Non-Streaming - Res Calc'!K18,\"AAAAAH/vvoo=\")","v":{"$error":"#VALUE!"}},{"$f":"AND('Non-Streaming - Res Calc'!L18,\"AAAAAH/vvos=\")","v":{"$error":"#VALUE!"}},{"$f":"AND('Non-Streaming - Res Calc'!M18,\"AAAAAH/vvow=\")","v":{"$error":"#VALUE!"}},{"$f":"AND('Non-Streaming - Res Calc'!N18,\"AAAAAH/vvo0=\")","v":{"$error":"#VALUE!"}},{"$f":"AND('Non-Streaming - Res Calc'!O18,\"AAAAAH/vvo4=\")","v":{"$error":"#VALUE!"}},{"$f":"AND('Non-Streaming - Res Calc'!P18,\"AAAAAH/vvo8=\")","v":{"$error":"#VALUE!"}},{"$f":"AND('Non-Streaming - Res Calc'!Q18,\"AAAAAH/vvpA=\")","v":{"$error":"#VALUE!"}},{"$f":"AND('Non-Streaming - Res Calc'!R18,\"AAAAAH/vvpE=\")","v":{"$error":"#VALUE!"}},{"$f":"AND('Non-Streaming - Res Calc'!S18,\"AAAAAH/vvpI=\")","v":{"$error":"#VALUE!"}},{"$f":"AND('Non-Streaming - Res Calc'!T18,\"AAAAAH/vvpM=\")","v":{"$error":"#VALUE!"}},{"$f":"AND('Non-Streaming - Res Calc'!U18,\"AAAAAH/vvpQ=\")","v":{"$error":"#VALUE!"}},{"$f":"AND('Non-Streaming - Res Calc'!V18,\"AAAAAH/vvpU=\")","v":{"$error":"#VALUE!"}},{"$f":"IF('Non-Streaming - Res Calc'!19:19,\"AAAAAH/vvpY=\",0)","v":0},{"$f":"AND('Non-Streaming - Res Calc'!C19,\"AAAAAH/vvpc=\")","v":{"$error":"#VALUE!"}},{"$f":"AND('Non-Streaming - Res Calc'!D19,\"AAAAAH/vvpg=\")","v":{"$error":"#VALUE!"}},{"$f":"AND('Non-Streaming - Res Calc'!E19,\"AAAAAH/vvpk=\")","v":{"$error":"#VALUE!"}},{"$f":"AND('Non-Streaming - Res Calc'!F19,\"AAAAAH/vvpo=\")","v":{"$error":"#VALUE!"}},{"$f":"AND('Non-Streaming - Res Calc'!G19,\"AAAAAH/vvps=\")","v":{"$error":"#VALUE!"}},{"$f":"AND('Non-Streaming - Res Calc'!H19,\"AAAAAH/vvpw=\")","v":{"$error":"#VALUE!"}},{"$f":"AND('Non-Streaming - Res Calc'!I19,\"AAAAAH/vvp0=\")","v":{"$error":"#VALUE!"}},{"$f":"AND('Non-Streaming - Res Calc'!J19,\"AAAAAH/vvp4=\")","v":{"$error":"#VALUE!"}},{"$f":"AND('Non-Streaming - Res Calc'!K19,\"AAAAAH/vvp8=\")","v":{"$error":"#VALUE!"}},{"$f":"AND('Non-Streaming - Res Calc'!L19,\"AAAAAH/vvqA=\")","v":{"$error":"#VALUE!"}},{"$f":"AND('Non-Streaming - Res Calc'!M19,\"AAAAAH/vvqE=\")","v":{"$error":"#VALUE!"}},{"$f":"AND('Non-Streaming - Res Calc'!N19,\"AAAAAH/vvqI=\")","v":{"$error":"#VALUE!"}},{"$f":"AND('Non-Streaming - Res Calc'!O19,\"AAAAAH/vvqM=\")","v":{"$error":"#VALUE!"}},{"$f":"AND('Non-Streaming - Res Calc'!P19,\"AAAAAH/vvqQ=\")","v":{"$error":"#VALUE!"}},{"$f":"AND('Non-Streaming - Res Calc'!Q19,\"AAAAAH/vvqU=\")","v":{"$error":"#VALUE!"}},{"$f":"AND('Non-Streaming - Res Calc'!R19,\"AAAAAH/vvqY=\")","v":{"$error":"#VALUE!"}},{"$f":"AND('Non-Streaming - Res Calc'!S19,\"AAAAAH/vvqc=\")","v":{"$error":"#VALUE!"}},{"$f":"AND('Non-Streaming - Res Calc'!T19,\"AAAAAH/vvqg=\")","v":{"$error":"#VALUE!"}},{"$f":"AND('Non-Streaming - Res Calc'!U19,\"AAAAAH/vvqk=\")","v":{"$error":"#VALUE!"}},{"$f":"AND('Non-Streaming - Res Calc'!V19,\"AAAAAH/vvqo=\")","v":{"$error":"#VALUE!"}},{"$f":"IF('Non-Streaming - Res Calc'!20:20,\"AAAAAH/vvqs=\",0)","v":0},{"$f":"AND('Non-Streaming - Res Calc'!C20,\"AAAAAH/vvqw=\")","v":{"$error":"#VALUE!"}},{"$f":"AND('Non-Streaming - Res Calc'!D20,\"AAAAAH/vvq0=\")","v":{"$error":"#VALUE!"}},{"$f":"AND('Non-Streaming - Res Calc'!E20,\"AAAAAH/vvq4=\")","v":{"$error":"#VALUE!"}},{"$f":"AND('Non-Streaming - Res Calc'!F20,\"AAAAAH/vvq8=\")","v":{"$error":"#VALUE!"}},{"$f":"AND('Non-Streaming - Res Calc'!G20,\"AAAAAH/vvrA=\")","v":{"$error":"#VALUE!"}},{"$f":"AND('Non-Streaming - Res Calc'!H20,\"AAAAAH/vvrE=\")","v":{"$error":"#VALUE!"}},{"$f":"AND('Non-Streaming - Res Calc'!I20,\"AAAAAH/vvrI=\")","v":{"$error":"#VALUE!"}},{"$f":"AND('Non-Streaming - Res Calc'!J20,\"AAAAAH/vvrM=\")","v":{"$error":"#VALUE!"}},{"$f":"AND('Non-Streaming - Res Calc'!K20,\"AAAAAH/vvrQ=\")","v":{"$error":"#VALUE!"}},{"$f":"AND('Non-Streaming - Res Calc'!L20,\"AAAAAH/vvrU=\")","v":{"$error":"#VALUE!"}},{"$f":"AND('Non-Streaming - Res Calc'!M20,\"AAAAAH/vvrY=\")","v":{"$error":"#VALUE!"}},{"$f":"AND('Non-Streaming - Res Calc'!N20,\"AAAAAH/vvrc=\")","v":{"$error":"#VALUE!"}},{"$f":"AND('Non-Streaming - Res Calc'!O20,\"AAAAAH/vvrg=\")","v":{"$error":"#VALUE!"}},{"$f":"AND('Non-Streaming - Res Calc'!P20,\"AAAAAH/vvrk=\")","v":{"$error":"#VALUE!"}},{"$f":"AND('Non-Streaming - Res Calc'!Q20,\"AAAAAH/vvro=\")","v":{"$error":"#VALUE!"}},{"$f":"AND('Non-Streaming - Res Calc'!R20,\"AAAAAH/vvrs=\")","v":{"$error":"#VALUE!"}},{"$f":"AND('Non-Streaming - Res Calc'!S20,\"AAAAAH/vvrw=\")","v":{"$error":"#VALUE!"}},{"$f":"AND('Non-Streaming - Res Calc'!T20,\"AAAAAH/vvr0=\")","v":{"$error":"#VALUE!"}},{"$f":"AND('Non-Streaming - Res Calc'!U20,\"AAAAAH/vvr4=\")","v":{"$error":"#VALUE!"}},{"$f":"AND('Non-Streaming - Res Calc'!V20,\"AAAAAH/vvr8=\")","v":{"$error":"#VALUE!"}},{"$f":"IF('Non-Streaming - Res Calc'!21:21,\"AAAAAH/vvsA=\",0)","v":0},{"$f":"AND('Non-Streaming - Res Calc'!C21,\"AAAAAH/vvsE=\")","v":{"$error":"#VALUE!"}},{"$f":"AND('Non-Streaming - Res Calc'!D21,\"AAAAAH/vvsI=\")","v":{"$error":"#VALUE!"}},{"$f":"AND('Non-Streaming - Res Calc'!E21,\"AAAAAH/vvsM=\")","v":{"$error":"#VALUE!"}},{"$f":"AND('Non-Streaming - Res Calc'!F21,\"AAAAAH/vvsQ=\")","v":{"$error":"#VALUE!"}},{"$f":"AND('Non-Streaming - Res Calc'!G21,\"AAAAAH/vvsU=\")","v":{"$error":"#VALUE!"}},{"$f":"AND('Non-Streaming - Res Calc'!H21,\"AAAAAH/vvsY=\")","v":{"$error":"#VALUE!"}},{"$f":"AND('Non-Streaming - Res Calc'!I21,\"AAAAAH/vvsc=\")","v":{"$error":"#VALUE!"}},{"$f":"AND('Non-Streaming - Res Calc'!J21,\"AAAAAH/vvsg=\")","v":{"$error":"#VALUE!"}},{"$f":"AND('Non-Streaming - Res Calc'!K21,\"AAAAAH/vvsk=\")","v":{"$error":"#VALUE!"}},{"$f":"AND('Non-Streaming - Res Calc'!L21,\"AAAAAH/vvso=\")","v":{"$error":"#VALUE!"}},{"$f":"AND('Non-Streaming - Res Calc'!M21,\"AAAAAH/vvss=\")","v":{"$error":"#VALUE!"}},{"$f":"AND('Non-Streaming - Res Calc'!N21,\"AAAAAH/vvsw=\")","v":{"$error":"#VALUE!"}},{"$f":"AND('Non-Streaming - Res Calc'!O21,\"AAAAAH/vvs0=\")","v":{"$error":"#VALUE!"}},{"$f":"AND('Non-Streaming - Res Calc'!P21,\"AAAAAH/vvs4=\")","v":{"$error":"#VALUE!"}},{"$f":"AND('Non-Streaming - Res Calc'!Q21,\"AAAAAH/vvs8=\")","v":{"$error":"#VALUE!"}},{"$f":"AND('Non-Streaming - Res Calc'!R21,\"AAAAAH/vvtA=\")","v":{"$error":"#VALUE!"}},{"$f":"AND('Non-Streaming - Res Calc'!S21,\"AAAAAH/vvtE=\")","v":{"$error":"#VALUE!"}},{"$f":"AND('Non-Streaming - Res Calc'!T21,\"AAAAAH/vvtI=\")","v":{"$error":"#VALUE!"}},{"$f":"AND('Non-Streaming - Res Calc'!U21,\"AAAAAH/vvtM=\")","v":{"$error":"#VALUE!"}},{"$f":"AND('Non-Streaming - Res Calc'!V21,\"AAAAAH/vvtQ=\")","v":{"$error":"#VALUE!"}},{"$f":"IF('Non-Streaming - Res Calc'!22:22,\"AAAAAH/vvtU=\",0)","v":0},{"$f":"AND('Non-Streaming - Res Calc'!C22,\"AAAAAH/vvtY=\")","v":{"$error":"#VALUE!"}},{"$f":"AND('Non-Streaming - Res Calc'!D22,\"AAAAAH/vvtc=\")","v":{"$error":"#VALUE!"}},{"$f":"AND('Non-Streaming - Res Calc'!E22,\"AAAAAH/vvtg=\")","v":{"$error":"#VALUE!"}},{"$f":"AND('Non-Streaming - Res Calc'!F22,\"AAAAAH/vvtk=\")","v":{"$error":"#VALUE!"}},{"$f":"AND('Non-Streaming - Res Calc'!G22,\"AAAAAH/vvto=\")","v":{"$error":"#VALUE!"}},{"$f":"AND('Non-Streaming - Res Calc'!H22,\"AAAAAH/vvts=\")","v":{"$error":"#VALUE!"}},{"$f":"AND('Non-Streaming - Res Calc'!I22,\"AAAAAH/vvtw=\")","v":{"$error":"#VALUE!"}},{"$f":"AND('Non-Streaming - Res Calc'!J22,\"AAAAAH/vvt0=\")","v":{"$error":"#VALUE!"}},{"$f":"AND('Non-Streaming - Res Calc'!K22,\"AAAAAH/vvt4=\")","v":{"$error":"#VALUE!"}},{"$f":"AND('Non-Streaming - Res Calc'!L22,\"AAAAAH/vvt8=\")","v":{"$error":"#VALUE!"}},{"$f":"AND('Non-Streaming - Res Calc'!M22,\"AAAAAH/vvuA=\")","v":{"$error":"#VALUE!"}},{"$f":"AND('Non-Streaming - Res Calc'!N22,\"AAAAAH/vvuE=\")","v":{"$error":"#VALUE!"}},{"$f":"AND('Non-Streaming - Res Calc'!O22,\"AAAAAH/vvuI=\")","v":{"$error":"#VALUE!"}},{"$f":"AND('Non-Streaming - Res Calc'!P22,\"AAAAAH/vvuM=\")","v":{"$error":"#VALUE!"}},{"$f":"AND('Non-Streaming - Res Calc'!Q22,\"AAAAAH/vvuQ=\")","v":{"$error":"#VALUE!"}},{"$f":"AND('Non-Streaming - Res Calc'!R22,\"AAAAAH/vvuU=\")","v":{"$error":"#VALUE!"}},{"$f":"AND('Non-Streaming - Res Calc'!S22,\"AAAAAH/vvuY=\")","v":{"$error":"#VALUE!"}},{"$f":"AND('Non-Streaming - Res Calc'!T22,\"AAAAAH/vvuc=\")","v":{"$error":"#VALUE!"}},{"$f":"AND('Non-Streaming - Res Calc'!U22,\"AAAAAH/vvug=\")","v":{"$error":"#VALUE!"}},{"$f":"AND('Non-Streaming - Res Calc'!V22,\"AAAAAH/vvuk=\")","v":{"$error":"#VALUE!"}},{"$f":"IF('Non-Streaming - Res Calc'!23:23,\"AAAAAH/vvuo=\",0)","v":0},{"$f":"AND('Non-Streaming - Res Calc'!C23,\"AAAAAH/vvus=\")","v":{"$error":"#VALUE!"}},{"$f":"AND('Non-Streaming - Res Calc'!D23,\"AAAAAH/vvuw=\")","v":{"$error":"#VALUE!"}},{"$f":"AND('Non-Streaming - Res Calc'!E23,\"AAAAAH/vvu0=\")","v":{"$error":"#VALUE!"}},{"$f":"AND('Non-Streaming - Res Calc'!F23,\"AAAAAH/vvu4=\")","v":{"$error":"#VALUE!"}},{"$f":"AND('Non-Streaming - Res Calc'!G23,\"AAAAAH/vvu8=\")","v":{"$error":"#VALUE!"}},{"$f":"AND('Non-Streaming - Res Calc'!H23,\"AAAAAH/vvvA=\")","v":{"$error":"#VALUE!"}},{"$f":"AND('Non-Streaming - Res Calc'!I23,\"AAAAAH/vvvE=\")","v":{"$error":"#VALUE!"}},{"$f":"AND('Non-Streaming - Res Calc'!J23,\"AAAAAH/vvvI=\")","v":{"$error":"#VALUE!"}},{"$f":"AND('Non-Streaming - Res Calc'!K23,\"AAAAAH/vvvM=\")","v":{"$error":"#VALUE!"}},{"$f":"AND('Non-Streaming - Res Calc'!L23,\"AAAAAH/vvvQ=\")","v":{"$error":"#VALUE!"}},{"$f":"AND('Non-Streaming - Res Calc'!M23,\"AAAAAH/vvvU=\")","v":{"$error":"#VALUE!"}},{"$f":"AND('Non-Streaming - Res Calc'!N23,\"AAAAAH/vvvY=\")","v":{"$error":"#VALUE!"}},{"$f":"AND('Non-Streaming - Res Calc'!O23,\"AAAAAH/vvvc=\")","v":{"$error":"#VALUE!"}},{"$f":"AND('Non-Streaming - Res Calc'!P23,\"AAAAAH/vvvg=\")","v":{"$error":"#VALUE!"}},{"$f":"AND('Non-Streaming - Res Calc'!Q23,\"AAAAAH/vvvk=\")","v":{"$error":"#VALUE!"}},{"$f":"AND('Non-Streaming - Res Calc'!R23,\"AAAAAH/vvvo=\")","v":{"$error":"#VALUE!"}},{"$f":"AND('Non-Streaming - Res Calc'!S23,\"AAAAAH/vvvs=\")","v":{"$error":"#VALUE!"}},{"$f":"AND('Non-Streaming - Res Calc'!T23,\"AAAAAH/vvvw=\")","v":{"$error":"#VALUE!"}},{"$f":"AND('Non-Streaming - Res Calc'!U23,\"AAAAAH/vvv0=\")","v":{"$error":"#VALUE!"}},{"$f":"AND('Non-Streaming - Res Calc'!V23,\"AAAAAH/vvv4=\")","v":{"$error":"#VALUE!"}},{"$f":"IF('Non-Streaming - Res Calc'!24:24,\"AAAAAH/vvv8=\",0)","v":0}]
[{"$f":"AND('Non-Streaming - Res Calc'!C24,\"AAAAAH/1/gA=\")","v":{"$error":"#VALUE!"}},{"$f":"AND('Non-Streaming - Res Calc'!D24,\"AAAAAH/1/gE=\")","v":{"$error":"#VALUE!"}},{"$f":"AND('Non-Streaming - Res Calc'!#REF!,\"AAAAAH/1/gI=\")","v":{"$error":"#REF!"}},{"$f":"AND('Non-Streaming - Res Calc'!E24,\"AAAAAH/1/gM=\")","v":{"$error":"#VALUE!"}},{"$f":"AND('Non-Streaming - Res Calc'!G24,\"AAAAAH/1/gQ=\")","v":{"$error":"#VALUE!"}},{"$f":"AND('Non-Streaming - Res Calc'!H24,\"AAAAAH/1/gU=\")","v":{"$error":"#VALUE!"}},{"$f":"AND('Non-Streaming - Res Calc'!I24,\"AAAAAH/1/gY=\")","v":{"$error":"#VALUE!"}},{"$f":"AND('Non-Streaming - Res Calc'!J24,\"AAAAAH/1/gc=\")","v":{"$error":"#VALUE!"}},{"$f":"AND('Non-Streaming - Res Calc'!K24,\"AAAAAH/1/gg=\")","v":{"$error":"#VALUE!"}},{"$f":"AND('Non-Streaming - Res Calc'!L24,\"AAAAAH/1/gk=\")","v":{"$error":"#VALUE!"}},{"$f":"AND('Non-Streaming - Res Calc'!M24,\"AAAAAH/1/go=\")","v":{"$error":"#VALUE!"}},{"$f":"AND('Non-Streaming - Res Calc'!N24,\"AAAAAH/1/gs=\")","v":{"$error":"#VALUE!"}},{"$f":"AND('Non-Streaming - Res Calc'!O24,\"AAAAAH/1/gw=\")","v":{"$error":"#VALUE!"}},{"$f":"AND('Non-Streaming - Res Calc'!P24,\"AAAAAH/1/g0=\")","v":{"$error":"#VALUE!"}},{"$f":"AND('Non-Streaming - Res Calc'!Q24,\"AAAAAH/1/g4=\")","v":{"$error":"#VALUE!"}},{"$f":"AND('Non-Streaming - Res Calc'!R24,\"AAAAAH/1/g8=\")","v":{"$error":"#VALUE!"}},{"$f":"AND('Non-Streaming - Res Calc'!S24,\"AAAAAH/1/hA=\")","v":{"$error":"#VALUE!"}},{"$f":"AND('Non-Streaming - Res Calc'!T24,\"AAAAAH/1/hE=\")","v":{"$error":"#VALUE!"}},{"$f":"AND('Non-Streaming - Res Calc'!U24,\"AAAAAH/1/hI=\")","v":{"$error":"#VALUE!"}},{"$f":"AND('Non-Streaming - Res Calc'!V24,\"AAAAAH/1/hM=\")","v":{"$error":"#VALUE!"}},{"$f":"IF('Non-Streaming - Res Calc'!25:25,\"AAAAAH/1/hQ=\",0)","v":0},{"$f":"AND('Non-Streaming - Res Calc'!C25,\"AAAAAH/1/hU=\")","v":{"$error":"#VALUE!"}},{"$f":"AND('Non-Streaming - Res Calc'!D25,\"AAAAAH/1/hY=\")","v":{"$error":"#VALUE!"}},{"$f":"AND('Non-Streaming - Res Calc'!#REF!,\"AAAAAH/1/hc=\")","v":{"$error":"#REF!"}},{"$f":"AND('Non-Streaming - Res Calc'!E25,\"AAAAAH/1/hg=\")","v":{"$error":"#VALUE!"}},{"$f":"AND('Non-Streaming - Res Calc'!G25,\"AAAAAH/1/hk=\")","v":{"$error":"#VALUE!"}},{"$f":"AND('Non-Streaming - Res Calc'!H25,\"AAAAAH/1/ho=\")","v":{"$error":"#VALUE!"}},{"$f":"AND('Non-Streaming - Res Calc'!I25,\"AAAAAH/1/hs=\")","v":{"$error":"#VALUE!"}},{"$f":"AND('Non-Streaming - Res Calc'!J25,\"AAAAAH/1/hw=\")","v":{"$error":"#VALUE!"}},{"$f":"AND('Non-Streaming - Res Calc'!K25,\"AAAAAH/1/h0=\")","v":{"$error":"#VALUE!"}},{"$f":"AND('Non-Streaming - Res Calc'!L25,\"AAAAAH/1/h4=\")","v":{"$error":"#VALUE!"}},{"$f":"AND('Non-Streaming - Res Calc'!M25,\"AAAAAH/1/h8=\")","v":{"$error":"#VALUE!"}},{"$f":"AND('Non-Streaming - Res Calc'!N25,\"AAAAAH/1/iA=\")","v":{"$error":"#VALUE!"}},{"$f":"AND('Non-Streaming - Res Calc'!O25,\"AAAAAH/1/iE=\")","v":{"$error":"#VALUE!"}},{"$f":"AND('Non-Streaming - Res Calc'!P25,\"AAAAAH/1/iI=\")","v":{"$error":"#VALUE!"}},{"$f":"AND('Non-Streaming - Res Calc'!Q25,\"AAAAAH/1/iM=\")","v":{"$error":"#VALUE!"}},{"$f":"AND('Non-Streaming - Res Calc'!R25,\"AAAAAH/1/iQ=\")","v":{"$error":"#VALUE!"}},{"$f":"AND('Non-Streaming - Res Calc'!S25,\"AAAAAH/1/iU=\")","v":{"$error":"#VALUE!"}},{"$f":"AND('Non-Streaming - Res Calc'!T25,\"AAAAAH/1/iY=\")","v":{"$error":"#VALUE!"}},{"$f":"AND('Non-Streaming - Res Calc'!U25,\"AAAAAH/1/ic=\")","v":{"$error":"#VALUE!"}},{"$f":"AND('Non-Streaming - Res Calc'!V25,\"AAAAAH/1/ig=\")","v":{"$error":"#VALUE!"}},{"$f":"IF('Non-Streaming - Res Calc'!26:26,\"AAAAAH/1/ik=\",0)","v":0},{"$f":"AND('Non-Streaming - Res Calc'!C26,\"AAAAAH/1/io=\")","v":{"$error":"#VALUE!"}},{"$f":"AND('Non-Streaming - Res Calc'!D26,\"AAAAAH/1/is=\")","v":{"$error":"#VALUE!"}},{"$f":"AND('Non-Streaming - Res Calc'!#REF!,\"AAAAAH/1/iw=\")","v":{"$error":"#REF!"}},{"$f":"AND('Non-Streaming - Res Calc'!E26,\"AAAAAH/1/i0=\")","v":{"$error":"#VALUE!"}},{"$f":"AND('Non-Streaming - Res Calc'!G26,\"AAAAAH/1/i4=\")","v":{"$error":"#VALUE!"}},{"$f":"AND('Non-Streaming - Res Calc'!H26,\"AAAAAH/1/i8=\")","v":{"$error":"#VALUE!"}},{"$f":"AND('Non-Streaming - Res Calc'!I26,\"AAAAAH/1/jA=\")","v":{"$error":"#VALUE!"}},{"$f":"AND('Non-Streaming - Res Calc'!J26,\"AAAAAH/1/jE=\")","v":{"$error":"#VALUE!"}},{"$f":"AND('Non-Streaming - Res Calc'!K26,\"AAAAAH/1/jI=\")","v":{"$error":"#VALUE!"}},{"$f":"AND('Non-Streaming - Res Calc'!L26,\"AAAAAH/1/jM=\")","v":{"$error":"#VALUE!"}},{"$f":"AND('Non-Streaming - Res Calc'!M26,\"AAAAAH/1/jQ=\")","v":{"$error":"#VALUE!"}},{"$f":"AND('Non-Streaming - Res Calc'!N26,\"AAAAAH/1/jU=\")","v":{"$error":"#VALUE!"}},{"$f":"AND('Non-Streaming - Res Calc'!O26,\"AAAAAH/1/jY=\")","v":{"$error":"#VALUE!"}},{"$f":"AND('Non-Streaming - Res Calc'!P26,\"AAAAAH/1/jc=\")","v":{"$error":"#VALUE!"}},{"$f":"AND('Non-Streaming - Res Calc'!Q26,\"AAAAAH/1/jg=\")","v":{"$error":"#VALUE!"}},{"$f":"AND('Non-Streaming - Res Calc'!R26,\"AAAAAH/1/jk=\")","v":{"$error":"#VALUE!"}},{"$f":"AND('Non-Streaming - Res Calc'!S26,\"AAAAAH/1/jo=\")","v":{"$error":"#VALUE!"}},{"$f":"AND('Non-Streaming - Res Calc'!T26,\"AAAAAH/1/js=\")","v":{"$error":"#VALUE!"}},{"$f":"AND('Non-Streaming - Res Calc'!U26,\"AAAAAH/1/jw=\")","v":{"$error":"#VALUE!"}},{"$f":"AND('Non-Streaming - Res Calc'!V26,\"AAAAAH/1/j0=\")","v":{"$error":"#VALUE!"}},{"$f":"IF('Non-Streaming - Res Calc'!27:27,\"AAAAAH/1/j4=\",0)","v":0},{"$f":"AND('Non-Streaming - Res Calc'!C27,\"AAAAAH/1/j8=\")","v":{"$error":"#VALUE!"}},{"$f":"AND('Non-Streaming - Res Calc'!D27,\"AAAAAH/1/kA=\")","v":{"$error":"#VALUE!"}},{"$f":"AND('Non-Streaming - Res Calc'!#REF!,\"AAAAAH/1/kE=\")","v":{"$error":"#REF!"}},{"$f":"AND('Non-Streaming - Res Calc'!E27,\"AAAAAH/1/kI=\")","v":{"$error":"#VALUE!"}},{"$f":"AND('Non-Streaming - Res Calc'!G27,\"AAAAAH/1/kM=\")","v":{"$error":"#VALUE!"}},{"$f":"AND('Non-Streaming - Res Calc'!H27,\"AAAAAH/1/kQ=\")","v":{"$error":"#VALUE!"}},{"$f":"AND('Non-Streaming - Res Calc'!I27,\"AAAAAH/1/kU=\")","v":{"$error":"#VALUE!"}},{"$f":"AND('Non-Streaming - Res Calc'!J27,\"AAAAAH/1/kY=\")","v":{"$error":"#VALUE!"}},{"$f":"AND('Non-Streaming - Res Calc'!K27,\"AAAAAH/1/kc=\")","v":{"$error":"#VALUE!"}},{"$f":"AND('Non-Streaming - Res Calc'!L27,\"AAAAAH/1/kg=\")","v":{"$error":"#VALUE!"}},{"$f":"AND('Non-Streaming - Res Calc'!M27,\"AAAAAH/1/kk=\")","v":{"$error":"#VALUE!"}},{"$f":"AND('Non-Streaming - Res Calc'!N27,\"AAAAAH/1/ko=\")","v":{"$error":"#VALUE!"}},{"$f":"AND('Non-Streaming - Res Calc'!O27,\"AAAAAH/1/ks=\")","v":{"$error":"#VALUE!"}},{"$f":"AND('Non-Streaming - Res Calc'!P27,\"AAAAAH/1/kw=\")","v":{"$error":"#VALUE!"}},{"$f":"AND('Non-Streaming - Res Calc'!Q27,\"AAAAAH/1/k0=\")","v":{"$error":"#VALUE!"}},{"$f":"AND('Non-Streaming - Res Calc'!R27,\"AAAAAH/1/k4=\")","v":{"$error":"#VALUE!"}},{"$f":"AND('Non-Streaming - Res Calc'!S27,\"AAAAAH/1/k8=\")","v":{"$error":"#VALUE!"}},{"$f":"AND('Non-Streaming - Res Calc'!T27,\"AAAAAH/1/lA=\")","v":{"$error":"#VALUE!"}},{"$f":"AND('Non-Streaming - Res Calc'!U27,\"AAAAAH/1/lE=\")","v":{"$error":"#VALUE!"}},{"$f":"AND('Non-Streaming - Res Calc'!V27,\"AAAAAH/1/lI=\")","v":{"$error":"#VALUE!"}},{"$f":"IF('Non-Streaming - Res Calc'!28:28,\"AAAAAH/1/lM=\",0)","v":0},{"$f":"AND('Non-Streaming - Res Calc'!C28,\"AAAAAH/1/lQ=\")","v":{"$error":"#VALUE!"}},{"$f":"AND('Non-Streaming - Res Calc'!D28,\"AAAAAH/1/lU=\")","v":{"$error":"#VALUE!"}},{"$f":"AND('Non-Streaming - Res Calc'!#REF!,\"AAAAAH/1/lY=\")","v":{"$error":"#REF!"}},{"$f":"AND('Non-Streaming - Res Calc'!E28,\"AAAAAH/1/lc=\")","v":{"$error":"#VALUE!"}},{"$f":"AND('Non-Streaming - Res Calc'!G28,\"AAAAAH/1/lg=\")","v":{"$error":"#VALUE!"}},{"$f":"AND('Non-Streaming - Res Calc'!H28,\"AAAAAH/1/lk=\")","v":{"$error":"#VALUE!"}},{"$f":"AND('Non-Streaming - Res Calc'!I28,\"AAAAAH/1/lo=\")","v":{"$error":"#VALUE!"}},{"$f":"AND('Non-Streaming - Res Calc'!J28,\"AAAAAH/1/ls=\")","v":{"$error":"#VALUE!"}},{"$f":"AND('Non-Streaming - Res Calc'!K28,\"AAAAAH/1/lw=\")","v":{"$error":"#VALUE!"}},{"$f":"AND('Non-Streaming - Res Calc'!L28,\"AAAAAH/1/l0=\")","v":{"$error":"#VALUE!"}},{"$f":"AND('Non-Streaming - Res Calc'!M28,\"AAAAAH/1/l4=\")","v":{"$error":"#VALUE!"}},{"$f":"AND('Non-Streaming - Res Calc'!N28,\"AAAAAH/1/l8=\")","v":{"$error":"#VALUE!"}},{"$f":"AND('Non-Streaming - Res Calc'!O28,\"AAAAAH/1/mA=\")","v":{"$error":"#VALUE!"}},{"$f":"AND('Non-Streaming - Res Calc'!P28,\"AAAAAH/1/mE=\")","v":{"$error":"#VALUE!"}},{"$f":"AND('Non-Streaming - Res Calc'!Q28,\"AAAAAH/1/mI=\")","v":{"$error":"#VALUE!"}},{"$f":"AND('Non-Streaming - Res Calc'!R28,\"AAAAAH/1/mM=\")","v":{"$error":"#VALUE!"}},{"$f":"AND('Non-Streaming - Res Calc'!S28,\"AAAAAH/1/mQ=\")","v":{"$error":"#VALUE!"}},{"$f":"AND('Non-Streaming - Res Calc'!T28,\"AAAAAH/1/mU=\")","v":{"$error":"#VALUE!"}},{"$f":"AND('Non-Streaming - Res Calc'!U28,\"AAAAAH/1/mY=\")","v":{"$error":"#VALUE!"}},{"$f":"AND('Non-Streaming - Res Calc'!V28,\"AAAAAH/1/mc=\")","v":{"$error":"#VALUE!"}},{"$f":"IF('Non-Streaming - Res Calc'!29:29,\"AAAAAH/1/mg=\",0)","v":0},{"$f":"AND('Non-Streaming - Res Calc'!C29,\"AAAAAH/1/mk=\")","v":{"$error":"#VALUE!"}},{"$f":"AND('Non-Streaming - Res Calc'!D29,\"AAAAAH/1/mo=\")","v":{"$error":"#VALUE!"}},{"$f":"AND('Non-Streaming - Res Calc'!#REF!,\"AAAAAH/1/ms=\")","v":{"$error":"#REF!"}},{"$f":"AND('Non-Streaming - Res Calc'!E29,\"AAAAAH/1/mw=\")","v":{"$error":"#VALUE!"}},{"$f":"AND('Non-Streaming - Res Calc'!G29,\"AAAAAH/1/m0=\")","v":{"$error":"#VALUE!"}},{"$f":"AND('Non-Streaming - Res Calc'!H29,\"AAAAAH/1/m4=\")","v":{"$error":"#VALUE!"}},{"$f":"AND('Non-Streaming - Res Calc'!I29,\"AAAAAH/1/m8=\")","v":{"$error":"#VALUE!"}},{"$f":"AND('Non-Streaming - Res Calc'!J29,\"AAAAAH/1/nA=\")","v":{"$error":"#VALUE!"}},{"$f":"AND('Non-Streaming - Res Calc'!K29,\"AAAAAH/1/nE=\")","v":{"$error":"#VALUE!"}},{"$f":"AND('Non-Streaming - Res Calc'!L29,\"AAAAAH/1/nI=\")","v":{"$error":"#VALUE!"}},{"$f":"AND('Non-Streaming - Res Calc'!M29,\"AAAAAH/1/nM=\")","v":{"$error":"#VALUE!"}},{"$f":"AND('Non-Streaming - Res Calc'!N29,\"AAAAAH/1/nQ=\")","v":{"$error":"#VALUE!"}},{"$f":"AND('Non-Streaming - Res Calc'!O29,\"AAAAAH/1/nU=\")","v":{"$error":"#VALUE!"}},{"$f":"AND('Non-Streaming - Res Calc'!P29,\"AAAAAH/1/nY=\")","v":{"$error":"#VALUE!"}},{"$f":"AND('Non-Streaming - Res Calc'!Q29,\"AAAAAH/1/nc=\")","v":{"$error":"#VALUE!"}},{"$f":"AND('Non-Streaming - Res Calc'!R29,\"AAAAAH/1/ng=\")","v":{"$error":"#VALUE!"}},{"$f":"AND('Non-Streaming - Res Calc'!S29,\"AAAAAH/1/nk=\")","v":{"$error":"#VALUE!"}},{"$f":"AND('Non-Streaming - Res Calc'!T29,\"AAAAAH/1/no=\")","v":{"$error":"#VALUE!"}},{"$f":"AND('Non-Streaming - Res Calc'!U29,\"AAAAAH/1/ns=\")","v":{"$error":"#VALUE!"}},{"$f":"AND('Non-Streaming - Res Calc'!V29,\"AAAAAH/1/nw=\")","v":{"$error":"#VALUE!"}},{"$f":"IF('Non-Streaming - Res Calc'!30:30,\"AAAAAH/1/n0=\",0)","v":0},{"$f":"AND('Non-Streaming - Res Calc'!C30,\"AAAAAH/1/n4=\")","v":{"$error":"#VALUE!"}},{"$f":"AND('Non-Streaming - Res Calc'!D30,\"AAAAAH/1/n8=\")","v":{"$error":"#VALUE!"}},{"$f":"AND('Non-Streaming - Res Calc'!#REF!,\"AAAAAH/1/oA=\")","v":{"$error":"#REF!"}},{"$f":"AND('Non-Streaming - Res Calc'!E30,\"AAAAAH/1/oE=\")","v":{"$error":"#VALUE!"}},{"$f":"AND('Non-Streaming - Res Calc'!G30,\"AAAAAH/1/oI=\")","v":{"$error":"#VALUE!"}},{"$f":"AND('Non-Streaming - Res Calc'!H30,\"AAAAAH/1/oM=\")","v":{"$error":"#VALUE!"}},{"$f":"AND('Non-Streaming - Res Calc'!I30,\"AAAAAH/1/oQ=\")","v":{"$error":"#VALUE!"}},{"$f":"AND('Non-Streaming - Res Calc'!J30,\"AAAAAH/1/oU=\")","v":{"$error":"#VALUE!"}},{"$f":"AND('Non-Streaming - Res Calc'!K30,\"AAAAAH/1/oY=\")","v":{"$error":"#VALUE!"}},{"$f":"AND('Non-Streaming - Res Calc'!L30,\"AAAAAH/1/oc=\")","v":{"$error":"#VALUE!"}},{"$f":"AND('Non-Streaming - Res Calc'!M30,\"AAAAAH/1/og=\")","v":{"$error":"#VALUE!"}},{"$f":"AND('Non-Streaming - Res Calc'!N30,\"AAAAAH/1/ok=\")","v":{"$error":"#VALUE!"}},{"$f":"AND('Non-Streaming - Res Calc'!O30,\"AAAAAH/1/oo=\")","v":{"$error":"#VALUE!"}},{"$f":"AND('Non-Streaming - Res Calc'!P30,\"AAAAAH/1/os=\")","v":{"$error":"#VALUE!"}},{"$f":"AND('Non-Streaming - Res Calc'!Q30,\"AAAAAH/1/ow=\")","v":{"$error":"#VALUE!"}},{"$f":"AND('Non-Streaming - Res Calc'!R30,\"AAAAAH/1/o0=\")","v":{"$error":"#VALUE!"}},{"$f":"AND('Non-Streaming - Res Calc'!S30,\"AAAAAH/1/o4=\")","v":{"$error":"#VALUE!"}},{"$f":"AND('Non-Streaming - Res Calc'!T30,\"AAAAAH/1/o8=\")","v":{"$error":"#VALUE!"}},{"$f":"AND('Non-Streaming - Res Calc'!U30,\"AAAAAH/1/pA=\")","v":{"$error":"#VALUE!"}},{"$f":"AND('Non-Streaming - Res Calc'!V30,\"AAAAAH/1/pE=\")","v":{"$error":"#VALUE!"}},{"$f":"IF('Non-Streaming - Res Calc'!31:31,\"AAAAAH/1/pI=\",0)","v":0},{"$f":"AND('Non-Streaming - Res Calc'!C31,\"AAAAAH/1/pM=\")","v":{"$error":"#VALUE!"}},{"$f":"AND('Non-Streaming - Res Calc'!D31,\"AAAAAH/1/pQ=\")","v":{"$error":"#VALUE!"}},{"$f":"AND('Non-Streaming - Res Calc'!#REF!,\"AAAAAH/1/pU=\")","v":{"$error":"#REF!"}},{"$f":"AND('Non-Streaming - Res Calc'!E31,\"AAAAAH/1/pY=\")","v":{"$error":"#VALUE!"}},{"$f":"AND('Non-Streaming - Res Calc'!G31,\"AAAAAH/1/pc=\")","v":{"$error":"#VALUE!"}},{"$f":"AND('Non-Streaming - Res Calc'!H31,\"AAAAAH/1/pg=\")","v":{"$error":"#VALUE!"}},{"$f":"AND('Non-Streaming - Res Calc'!I31,\"AAAAAH/1/pk=\")","v":{"$error":"#VALUE!"}},{"$f":"AND('Non-Streaming - Res Calc'!J31,\"AAAAAH/1/po=\")","v":{"$error":"#VALUE!"}},{"$f":"AND('Non-Streaming - Res Calc'!K31,\"AAAAAH/1/ps=\")","v":{"$error":"#VALUE!"}},{"$f":"AND('Non-Streaming - Res Calc'!L31,\"AAAAAH/1/pw=\")","v":{"$error":"#VALUE!"}},{"$f":"AND('Non-Streaming - Res Calc'!M31,\"AAAAAH/1/p0=\")","v":{"$error":"#VALUE!"}},{"$f":"AND('Non-Streaming - Res Calc'!N31,\"AAAAAH/1/p4=\")","v":{"$error":"#VALUE!"}},{"$f":"AND('Non-Streaming - Res Calc'!O31,\"AAAAAH/1/p8=\")","v":{"$error":"#VALUE!"}},{"$f":"AND('Non-Streaming - Res Calc'!P31,\"AAAAAH/1/qA=\")","v":{"$error":"#VALUE!"}},{"$f":"AND('Non-Streaming - Res Calc'!Q31,\"AAAAAH/1/qE=\")","v":{"$error":"#VALUE!"}},{"$f":"AND('Non-Streaming - Res Calc'!R31,\"AAAAAH/1/qI=\")","v":{"$error":"#VALUE!"}},{"$f":"AND('Non-Streaming - Res Calc'!S31,\"AAAAAH/1/qM=\")","v":{"$error":"#VALUE!"}},{"$f":"AND('Non-Streaming - Res Calc'!T31,\"AAAAAH/1/qQ=\")","v":{"$error":"#VALUE!"}},{"$f":"AND('Non-Streaming - Res Calc'!U31,\"AAAAAH/1/qU=\")","v":{"$error":"#VALUE!"}},{"$f":"AND('Non-Streaming - Res Calc'!V31,\"AAAAAH/1/qY=\")","v":{"$error":"#VALUE!"}},{"$f":"IF('Non-Streaming - Res Calc'!32:32,\"AAAAAH/1/qc=\",0)","v":0},{"$f":"AND('Non-Streaming - Res Calc'!C32,\"AAAAAH/1/qg=\")","v":{"$error":"#VALUE!"}},{"$f":"AND('Non-Streaming - Res Calc'!D32,\"AAAAAH/1/qk=\")","v":{"$error":"#VALUE!"}},{"$f":"AND('Non-Streaming - Res Calc'!#REF!,\"AAAAAH/1/qo=\")","v":{"$error":"#REF!"}},{"$f":"AND('Non-Streaming - Res Calc'!E32,\"AAAAAH/1/qs=\")","v":{"$error":"#VALUE!"}},{"$f":"AND('Non-Streaming - Res Calc'!G32,\"AAAAAH/1/qw=\")","v":{"$error":"#VALUE!"}},{"$f":"AND('Non-Streaming - Res Calc'!H32,\"AAAAAH/1/q0=\")","v":{"$error":"#VALUE!"}},{"$f":"AND('Non-Streaming - Res Calc'!I32,\"AAAAAH/1/q4=\")","v":{"$error":"#VALUE!"}},{"$f":"AND('Non-Streaming - Res Calc'!J32,\"AAAAAH/1/q8=\")","v":{"$error":"#VALUE!"}},{"$f":"AND('Non-Streaming - Res Calc'!K32,\"AAAAAH/1/rA=\")","v":{"$error":"#VALUE!"}},{"$f":"AND('Non-Streaming - Res Calc'!L32,\"AAAAAH/1/rE=\")","v":{"$error":"#VALUE!"}},{"$f":"AND('Non-Streaming - Res Calc'!M32,\"AAAAAH/1/rI=\")","v":{"$error":"#VALUE!"}},{"$f":"AND('Non-Streaming - Res Calc'!N32,\"AAAAAH/1/rM=\")","v":{"$error":"#VALUE!"}},{"$f":"AND('Non-Streaming - Res Calc'!O32,\"AAAAAH/1/rQ=\")","v":{"$error":"#VALUE!"}},{"$f":"AND('Non-Streaming - Res Calc'!P32,\"AAAAAH/1/rU=\")","v":{"$error":"#VALUE!"}},{"$f":"AND('Non-Streaming - Res Calc'!Q32,\"AAAAAH/1/rY=\")","v":{"$error":"#VALUE!"}},{"$f":"AND('Non-Streaming - Res Calc'!R32,\"AAAAAH/1/rc=\")","v":{"$error":"#VALUE!"}},{"$f":"AND('Non-Streaming - Res Calc'!S32,\"AAAAAH/1/rg=\")","v":{"$error":"#VALUE!"}},{"$f":"AND('Non-Streaming - Res Calc'!T32,\"AAAAAH/1/rk=\")","v":{"$error":"#VALUE!"}},{"$f":"AND('Non-Streaming - Res Calc'!U32,\"AAAAAH/1/ro=\")","v":{"$error":"#VALUE!"}},{"$f":"AND('Non-Streaming - Res Calc'!V32,\"AAAAAH/1/rs=\")","v":{"$error":"#VALUE!"}},{"$f":"IF('Non-Streaming - Res Calc'!33:33,\"AAAAAH/1/rw=\",0)","v":0},{"$f":"AND('Non-Streaming - Res Calc'!C33,\"AAAAAH/1/r0=\")","v":{"$error":"#VALUE!"}},{"$f":"AND('Non-Streaming - Res Calc'!D33,\"AAAAAH/1/r4=\")","v":{"$error":"#VALUE!"}},{"$f":"AND('Non-Streaming - Res Calc'!#REF!,\"AAAAAH/1/r8=\")","v":{"$error":"#REF!"}},{"$f":"AND('Non-Streaming - Res Calc'!E33,\"AAAAAH/1/sA=\")","v":{"$error":"#VALUE!"}},{"$f":"AND('Non-Streaming - Res Calc'!G33,\"AAAAAH/1/sE=\")","v":{"$error":"#VALUE!"}},{"$f":"AND('Non-Streaming - Res Calc'!H33,\"AAAAAH/1/sI=\")","v":{"$error":"#VALUE!"}},{"$f":"AND('Non-Streaming - Res Calc'!I33,\"AAAAAH/1/sM=\")","v":{"$error":"#VALUE!"}},{"$f":"AND('Non-Streaming - Res Calc'!J33,\"AAAAAH/1/sQ=\")","v":{"$error":"#VALUE!"}},{"$f":"AND('Non-Streaming - Res Calc'!K33,\"AAAAAH/1/sU=\")","v":{"$error":"#VALUE!"}},{"$f":"AND('Non-Streaming - Res Calc'!L33,\"AAAAAH/1/sY=\")","v":{"$error":"#VALUE!"}},{"$f":"AND('Non-Streaming - Res Calc'!M33,\"AAAAAH/1/sc=\")","v":{"$error":"#VALUE!"}},{"$f":"AND('Non-Streaming - Res Calc'!N33,\"AAAAAH/1/sg=\")","v":{"$error":"#VALUE!"}},{"$f":"AND('Non-Streaming - Res Calc'!O33,\"AAAAAH/1/sk=\")","v":{"$error":"#VALUE!"}},{"$f":"AND('Non-Streaming - Res Calc'!P33,\"AAAAAH/1/so=\")","v":{"$error":"#VALUE!"}},{"$f":"AND('Non-Streaming - Res Calc'!Q33,\"AAAAAH/1/ss=\")","v":{"$error":"#VALUE!"}},{"$f":"AND('Non-Streaming - Res Calc'!R33,\"AAAAAH/1/sw=\")","v":{"$error":"#VALUE!"}},{"$f":"AND('Non-Streaming - Res Calc'!S33,\"AAAAAH/1/s0=\")","v":{"$error":"#VALUE!"}},{"$f":"AND('Non-Streaming - Res Calc'!T33,\"AAAAAH/1/s4=\")","v":{"$error":"#VALUE!"}},{"$f":"AND('Non-Streaming - Res Calc'!U33,\"AAAAAH/1/s8=\")","v":{"$error":"#VALUE!"}},{"$f":"AND('Non-Streaming - Res Calc'!V33,\"AAAAAH/1/tA=\")","v":{"$error":"#VALUE!"}},{"$f":"IF('Non-Streaming - Res Calc'!34:34,\"AAAAAH/1/tE=\",0)","v":0},{"$f":"AND('Non-Streaming - Res Calc'!C34,\"AAAAAH/1/tI=\")","v":{"$error":"#VALUE!"}},{"$f":"AND('Non-Streaming - Res Calc'!D34,\"AAAAAH/1/tM=\")","v":{"$error":"#VALUE!"}},{"$f":"AND('Non-Streaming - Res Calc'!#REF!,\"AAAAAH/1/tQ=\")","v":{"$error":"#REF!"}},{"$f":"AND('Non-Streaming - Res Calc'!E34,\"AAAAAH/1/tU=\")","v":{"$error":"#VALUE!"}},{"$f":"AND('Non-Streaming - Res Calc'!G34,\"AAAAAH/1/tY=\")","v":{"$error":"#VALUE!"}},{"$f":"AND('Non-Streaming - Res Calc'!H34,\"AAAAAH/1/tc=\")","v":{"$error":"#VALUE!"}},{"$f":"AND('Non-Streaming - Res Calc'!I34,\"AAAAAH/1/tg=\")","v":{"$error":"#VALUE!"}},{"$f":"AND('Non-Streaming - Res Calc'!J34,\"AAAAAH/1/tk=\")","v":{"$error":"#VALUE!"}},{"$f":"AND('Non-Streaming - Res Calc'!K34,\"AAAAAH/1/to=\")","v":{"$error":"#VALUE!"}},{"$f":"AND('Non-Streaming - Res Calc'!L34,\"AAAAAH/1/ts=\")","v":{"$error":"#VALUE!"}},{"$f":"AND('Non-Streaming - Res Calc'!M34,\"AAAAAH/1/tw=\")","v":{"$error":"#VALUE!"}},{"$f":"AND('Non-Streaming - Res Calc'!N34,\"AAAAAH/1/t0=\")","v":{"$error":"#VALUE!"}},{"$f":"AND('Non-Streaming - Res Calc'!O34,\"AAAAAH/1/t4=\")","v":{"$error":"#VALUE!"}},{"$f":"AND('Non-Streaming - Res Calc'!P34,\"AAAAAH/1/t8=\")","v":{"$error":"#VALUE!"}},{"$f":"AND('Non-Streaming - Res Calc'!Q34,\"AAAAAH/1/uA=\")","v":{"$error":"#VALUE!"}},{"$f":"AND('Non-Streaming - Res Calc'!R34,\"AAAAAH/1/uE=\")","v":{"$error":"#VALUE!"}},{"$f":"AND('Non-Streaming - Res Calc'!S34,\"AAAAAH/1/uI=\")","v":{"$error":"#VALUE!"}},{"$f":"AND('Non-Streaming - Res Calc'!T34,\"AAAAAH/1/uM=\")","v":{"$error":"#VALUE!"}},{"$f":"AND('Non-Streaming - Res Calc'!U34,\"AAAAAH/1/uQ=\")","v":{"$error":"#VALUE!"}},{"$f":"AND('Non-Streaming - Res Calc'!V34,\"AAAAAH/1/uU=\")","v":{"$error":"#VALUE!"}},{"$f":"IF('Non-Streaming - Res Calc'!35:35,\"AAAAAH/1/uY=\",0)","v":0},{"$f":"AND('Non-Streaming - Res Calc'!C35,\"AAAAAH/1/uc=\")","v":{"$error":"#VALUE!"}},{"$f":"AND('Non-Streaming - Res Calc'!D35,\"AAAAAH/1/ug=\")","v":{"$error":"#VALUE!"}},{"$f":"AND('Non-Streaming - Res Calc'!#REF!,\"AAAAAH/1/uk=\")","v":{"$error":"#REF!"}},{"$f":"AND('Non-Streaming - Res Calc'!E35,\"AAAAAH/1/uo=\")","v":{"$error":"#VALUE!"}},{"$f":"AND('Non-Streaming - Res Calc'!G35,\"AAAAAH/1/us=\")","v":{"$error":"#VALUE!"}},{"$f":"AND('Non-Streaming - Res Calc'!H35,\"AAAAAH/1/uw=\")","v":{"$error":"#VALUE!"}},{"$f":"AND('Non-Streaming - Res Calc'!I35,\"AAAAAH/1/u0=\")","v":{"$error":"#VALUE!"}},{"$f":"AND('Non-Streaming - Res Calc'!J35,\"AAAAAH/1/u4=\")","v":{"$error":"#VALUE!"}},{"$f":"AND('Non-Streaming - Res Calc'!K35,\"AAAAAH/1/u8=\")","v":{"$error":"#VALUE!"}},{"$f":"AND('Non-Streaming - Res Calc'!L35,\"AAAAAH/1/vA=\")","v":{"$error":"#VALUE!"}},{"$f":"AND('Non-Streaming - Res Calc'!M35,\"AAAAAH/1/vE=\")","v":{"$error":"#VALUE!"}},{"$f":"AND('Non-Streaming - Res Calc'!N35,\"AAAAAH/1/vI=\")","v":{"$error":"#VALUE!"}},{"$f":"AND('Non-Streaming - Res Calc'!O35,\"AAAAAH/1/vM=\")","v":{"$error":"#VALUE!"}},{"$f":"AND('Non-Streaming - Res Calc'!P35,\"AAAAAH/1/vQ=\")","v":{"$error":"#VALUE!"}},{"$f":"AND('Non-Streaming - Res Calc'!Q35,\"AAAAAH/1/vU=\")","v":{"$error":"#VALUE!"}},{"$f":"AND('Non-Streaming - Res Calc'!R35,\"AAAAAH/1/vY=\")","v":{"$error":"#VALUE!"}},{"$f":"AND('Non-Streaming - Res Calc'!S35,\"AAAAAH/1/vc=\")","v":{"$error":"#VALUE!"}},{"$f":"AND('Non-Streaming - Res Calc'!T35,\"AAAAAH/1/vg=\")","v":{"$error":"#VALUE!"}},{"$f":"AND('Non-Streaming - Res Calc'!U35,\"AAAAAH/1/vk=\")","v":{"$error":"#VALUE!"}},{"$f":"AND('Non-Streaming - Res Calc'!V35,\"AAAAAH/1/vo=\")","v":{"$error":"#VALUE!"}},{"$f":"IF('Non-Streaming - Res Calc'!36:36,\"AAAAAH/1/vs=\",0)","v":0},{"$f":"AND('Non-Streaming - Res Calc'!C36,\"AAAAAH/1/vw=\")","v":{"$error":"#VALUE!"}},{"$f":"AND('Non-Streaming - Res Calc'!D36,\"AAAAAH/1/v0=\")","v":{"$error":"#VALUE!"}},{"$f":"AND('Non-Streaming - Res Calc'!#REF!,\"AAAAAH/1/v4=\")","v":{"$error":"#REF!"}},{"$f":"AND('Non-Streaming - Res Calc'!E36,\"AAAAAH/1/v8=\")","v":{"$error":"#VALUE!"}}]
[{"$f":"AND('Non-Streaming - Res Calc'!G36,\"AAAAAG+O3wA=\")","v":{"$error":"#VALUE!"}},{"$f":"AND('Non-Streaming - Res Calc'!H36,\"AAAAAG+O3wE=\")","v":{"$error":"#VALUE!"}},{"$f":"AND('Non-Streaming - Res Calc'!I36,\"AAAAAG+O3wI=\")","v":{"$error":"#VALUE!"}},{"$f":"AND('Non-Streaming - Res Calc'!J36,\"AAAAAG+O3wM=\")","v":{"$error":"#VALUE!"}},{"$f":"AND('Non-Streaming - Res Calc'!K36,\"AAAAAG+O3wQ=\")","v":{"$error":"#VALUE!"}},{"$f":"AND('Non-Streaming - Res Calc'!L36,\"AAAAAG+O3wU=\")","v":{"$error":"#VALUE!"}},{"$f":"AND('Non-Streaming - Res Calc'!M36,\"AAAAAG+O3wY=\")","v":{"$error":"#VALUE!"}},{"$f":"AND('Non-Streaming - Res Calc'!N36,\"AAAAAG+O3wc=\")","v":{"$error":"#VALUE!"}},{"$f":"AND('Non-Streaming - Res Calc'!O36,\"AAAAAG+O3wg=\")","v":{"$error":"#VALUE!"}},{"$f":"AND('Non-Streaming - Res Calc'!P36,\"AAAAAG+O3wk=\")","v":{"$error":"#VALUE!"}},{"$f":"AND('Non-Streaming - Res Calc'!Q36,\"AAAAAG+O3wo=\")","v":{"$error":"#VALUE!"}},{"$f":"AND('Non-Streaming - Res Calc'!R36,\"AAAAAG+O3ws=\")","v":{"$error":"#VALUE!"}},{"$f":"AND('Non-Streaming - Res Calc'!S36,\"AAAAAG+O3ww=\")","v":{"$error":"#VALUE!"}},{"$f":"AND('Non-Streaming - Res Calc'!T36,\"AAAAAG+O3w0=\")","v":{"$error":"#VALUE!"}},{"$f":"AND('Non-Streaming - Res Calc'!U36,\"AAAAAG+O3w4=\")","v":{"$error":"#VALUE!"}},{"$f":"AND('Non-Streaming - Res Calc'!V36,\"AAAAAG+O3w8=\")","v":{"$error":"#VALUE!"}},{"$f":"IF('Non-Streaming - Res Calc'!37:37,\"AAAAAG+O3xA=\",0)","v":0},{"$f":"AND('Non-Streaming - Res Calc'!C37,\"AAAAAG+O3xE=\")","v":{"$error":"#VALUE!"}},{"$f":"AND('Non-Streaming - Res Calc'!D37,\"AAAAAG+O3xI=\")","v":{"$error":"#VALUE!"}},{"$f":"AND('Non-Streaming - Res Calc'!#REF!,\"AAAAAG+O3xM=\")","v":{"$error":"#REF!"}},{"$f":"AND('Non-Streaming - Res Calc'!E37,\"AAAAAG+O3xQ=\")","v":{"$error":"#VALUE!"}},{"$f":"AND('Non-Streaming - Res Calc'!G37,\"AAAAAG+O3xU=\")","v":{"$error":"#VALUE!"}},{"$f":"AND('Non-Streaming - Res Calc'!H37,\"AAAAAG+O3xY=\")","v":{"$error":"#VALUE!"}},{"$f":"AND('Non-Streaming - Res Calc'!I37,\"AAAAAG+O3xc=\")","v":{"$error":"#VALUE!"}},{"$f":"AND('Non-Streaming - Res Calc'!J37,\"AAAAAG+O3xg=\")","v":{"$error":"#VALUE!"}},{"$f":"AND('Non-Streaming - Res Calc'!K37,\"AAAAAG+O3xk=\")","v":{"$error":"#VALUE!"}},{"$f":"AND('Non-Streaming - Res Calc'!L37,\"AAAAAG+O3xo=\")","v":{"$error":"#VALUE!"}},{"$f":"AND('Non-Streaming - Res Calc'!M37,\"AAAAAG+O3xs=\")","v":{"$error":"#VALUE!"}},{"$f":"AND('Non-Streaming - Res Calc'!N37,\"AAAAAG+O3xw=\")","v":{"$error":"#VALUE!"}},{"$f":"AND('Non-Streaming - Res Calc'!O37,\"AAAAAG+O3x0=\")","v":{"$error":"#VALUE!"}},{"$f":"AND('Non-Streaming - Res Calc'!P37,\"AAAAAG+O3x4=\")","v":{"$error":"#VALUE!"}},{"$f":"AND('Non-Streaming - Res Calc'!Q37,\"AAAAAG+O3x8=\")","v":{"$error":"#VALUE!"}},{"$f":"AND('Non-Streaming - Res Calc'!R37,\"AAAAAG+O3yA=\")","v":{"$error":"#VALUE!"}},{"$f":"AND('Non-Streaming - Res Calc'!S37,\"AAAAAG+O3yE=\")","v":{"$error":"#VALUE!"}},{"$f":"AND('Non-Streaming - Res Calc'!T37,\"AAAAAG+O3yI=\")","v":{"$error":"#VALUE!"}},{"$f":"AND('Non-Streaming - Res Calc'!U37,\"AAAAAG+O3yM=\")","v":{"$error":"#VALUE!"}},{"$f":"AND('Non-Streaming - Res Calc'!V37,\"AAAAAG+O3yQ=\")","v":{"$error":"#VALUE!"}},{"$f":"IF('Non-Streaming - Res Calc'!38:38,\"AAAAAG+O3yU=\",0)","v":0},{"$f":"AND('Non-Streaming - Res Calc'!C38,\"AAAAAG+O3yY=\")","v":{"$error":"#VALUE!"}},{"$f":"AND('Non-Streaming - Res Calc'!D38,\"AAAAAG+O3yc=\")","v":{"$error":"#VALUE!"}},{"$f":"AND('Non-Streaming - Res Calc'!#REF!,\"AAAAAG+O3yg=\")","v":{"$error":"#REF!"}},{"$f":"AND('Non-Streaming - Res Calc'!E38,\"AAAAAG+O3yk=\")","v":{"$error":"#VALUE!"}},{"$f":"AND('Non-Streaming - Res Calc'!G38,\"AAAAAG+O3yo=\")","v":{"$error":"#VALUE!"}},{"$f":"AND('Non-Streaming - Res Calc'!H38,\"AAAAAG+O3ys=\")","v":{"$error":"#VALUE!"}},{"$f":"AND('Non-Streaming - Res Calc'!I38,\"AAAAAG+O3yw=\")","v":{"$error":"#VALUE!"}},{"$f":"AND('Non-Streaming - Res Calc'!J38,\"AAAAAG+O3y0=\")","v":{"$error":"#VALUE!"}},{"$f":"AND('Non-Streaming - Res Calc'!K38,\"AAAAAG+O3y4=\")","v":{"$error":"#VALUE!"}},{"$f":"AND('Non-Streaming - Res Calc'!L38,\"AAAAAG+O3y8=\")","v":{"$error":"#VALUE!"}},{"$f":"AND('Non-Streaming - Res Calc'!M38,\"AAAAAG+O3zA=\")","v":{"$error":"#VALUE!"}},{"$f":"AND('Non-Streaming - Res Calc'!N38,\"AAAAAG+O3zE=\")","v":{"$error":"#VALUE!"}},{"$f":"AND('Non-Streaming - Res Calc'!O38,\"AAAAAG+O3zI=\")","v":{"$error":"#VALUE!"}},{"$f":"AND('Non-Streaming - Res Calc'!P38,\"AAAAAG+O3zM=\")","v":{"$error":"#VALUE!"}},{"$f":"AND('Non-Streaming - Res Calc'!Q38,\"AAAAAG+O3zQ=\")","v":{"$error":"#VALUE!"}},{"$f":"AND('Non-Streaming - Res Calc'!R38,\"AAAAAG+O3zU=\")","v":{"$error":"#VALUE!"}},{"$f":"AND('Non-Streaming - Res Calc'!S38,\"AAAAAG+O3zY=\")","v":{"$error":"#VALUE!"}},{"$f":"AND('Non-Streaming - Res Calc'!T38,\"AAAAAG+O3zc=\")","v":{"$error":"#VALUE!"}},{"$f":"AND('Non-Streaming - Res Calc'!U38,\"AAAAAG+O3zg=\")","v":{"$error":"#VALUE!"}},{"$f":"AND('Non-Streaming - Res Calc'!V38,\"AAAAAG+O3zk=\")","v":{"$error":"#VALUE!"}},{"$f":"IF('Non-Streaming - Res Calc'!39:39,\"AAAAAG+O3zo=\",0)","v":0},{"$f":"AND('Non-Streaming - Res Calc'!C39,\"AAAAAG+O3zs=\")","v":{"$error":"#VALUE!"}},{"$f":"AND('Non-Streaming - Res Calc'!D39,\"AAAAAG+O3zw=\")","v":{"$error":"#VALUE!"}},{"$f":"AND('Non-Streaming - Res Calc'!#REF!,\"AAAAAG+O3z0=\")","v":{"$error":"#REF!"}},{"$f":"AND('Non-Streaming - Res Calc'!E39,\"AAAAAG+O3z4=\")","v":{"$error":"#VALUE!"}},{"$f":"AND('Non-Streaming - Res Calc'!G39,\"AAAAAG+O3z8=\")","v":{"$error":"#VALUE!"}},{"$f":"AND('Non-Streaming - Res Calc'!H39,\"AAAAAG+O30A=\")","v":{"$error":"#VALUE!"}},{"$f":"AND('Non-Streaming - Res Calc'!I39,\"AAAAAG+O30E=\")","v":{"$error":"#VALUE!"}},{"$f":"AND('Non-Streaming - Res Calc'!J39,\"AAAAAG+O30I=\")","v":{"$error":"#VALUE!"}},{"$f":"AND('Non-Streaming - Res Calc'!K39,\"AAAAAG+O30M=\")","v":{"$error":"#VALUE!"}},{"$f":"AND('Non-Streaming - Res Calc'!L39,\"AAAAAG+O30Q=\")","v":{"$error":"#VALUE!"}},{"$f":"AND('Non-Streaming - Res Calc'!M39,\"AAAAAG+O30U=\")","v":{"$error":"#VALUE!"}},{"$f":"AND('Non-Streaming - Res Calc'!N39,\"AAAAAG+O30Y=\")","v":{"$error":"#VALUE!"}},{"$f":"AND('Non-Streaming - Res Calc'!O39,\"AAAAAG+O30c=\")","v":{"$error":"#VALUE!"}},{"$f":"AND('Non-Streaming - Res Calc'!P39,\"AAAAAG+O30g=\")","v":{"$error":"#VALUE!"}},{"$f":"AND('Non-Streaming - Res Calc'!Q39,\"AAAAAG+O30k=\")","v":{"$error":"#VALUE!"}},{"$f":"AND('Non-Streaming - Res Calc'!R39,\"AAAAAG+O30o=\")","v":{"$error":"#VALUE!"}},{"$f":"AND('Non-Streaming - Res Calc'!S39,\"AAAAAG+O30s=\")","v":{"$error":"#VALUE!"}},{"$f":"AND('Non-Streaming - Res Calc'!T39,\"AAAAAG+O30w=\")","v":{"$error":"#VALUE!"}},{"$f":"AND('Non-Streaming - Res Calc'!U39,\"AAAAAG+O300=\")","v":{"$error":"#VALUE!"}},{"$f":"AND('Non-Streaming - Res Calc'!V39,\"AAAAAG+O304=\")","v":{"$error":"#VALUE!"}},{"$f":"IF('Non-Streaming - Res Calc'!40:40,\"AAAAAG+O308=\",0)","v":0},{"$f":"AND('Non-Streaming - Res Calc'!C40,\"AAAAAG+O31A=\")","v":{"$error":"#VALUE!"}},{"$f":"AND('Non-Streaming - Res Calc'!D40,\"AAAAAG+O31E=\")","v":{"$error":"#VALUE!"}},{"$f":"AND('Non-Streaming - Res Calc'!#REF!,\"AAAAAG+O31I=\")","v":{"$error":"#REF!"}},{"$f":"AND('Non-Streaming - Res Calc'!E40,\"AAAAAG+O31M=\")","v":{"$error":"#VALUE!"}},{"$f":"AND('Non-Streaming - Res Calc'!G40,\"AAAAAG+O31Q=\")","v":{"$error":"#VALUE!"}},{"$f":"AND('Non-Streaming - Res Calc'!H40,\"AAAAAG+O31U=\")","v":{"$error":"#VALUE!"}},{"$f":"AND('Non-Streaming - Res Calc'!I40,\"AAAAAG+O31Y=\")","v":{"$error":"#VALUE!"}},{"$f":"AND('Non-Streaming - Res Calc'!J40,\"AAAAAG+O31c=\")","v":{"$error":"#VALUE!"}},{"$f":"AND('Non-Streaming - Res Calc'!K40,\"AAAAAG+O31g=\")","v":{"$error":"#VALUE!"}},{"$f":"AND('Non-Streaming - Res Calc'!L40,\"AAAAAG+O31k=\")","v":{"$error":"#VALUE!"}},{"$f":"AND('Non-Streaming - Res Calc'!M40,\"AAAAAG+O31o=\")","v":{"$error":"#VALUE!"}},{"$f":"AND('Non-Streaming - Res Calc'!N40,\"AAAAAG+O31s=\")","v":{"$error":"#VALUE!"}},{"$f":"AND('Non-Streaming - Res Calc'!O40,\"AAAAAG+O31w=\")","v":{"$error":"#VALUE!"}},{"$f":"AND('Non-Streaming - Res Calc'!P40,\"AAAAAG+O310=\")","v":{"$error":"#VALUE!"}},{"$f":"AND('Non-Streaming - Res Calc'!Q40,\"AAAAAG+O314=\")","v":{"$error":"#VALUE!"}},{"$f":"AND('Non-Streaming - Res Calc'!R40,\"AAAAAG+O318=\")","v":{"$error":"#VALUE!"}},{"$f":"AND('Non-Streaming - Res Calc'!S40,\"AAAAAG+O32A=\")","v":{"$error":"#VALUE!"}},{"$f":"AND('Non-Streaming - Res Calc'!T40,\"AAAAAG+O32E=\")","v":{"$error":"#VALUE!"}},{"$f":"AND('Non-Streaming - Res Calc'!U40,\"AAAAAG+O32I=\")","v":{"$error":"#VALUE!"}},{"$f":"AND('Non-Streaming - Res Calc'!V40,\"AAAAAG+O32M=\")","v":{"$error":"#VALUE!"}},{"$f":"IF('Non-Streaming - Res Calc'!41:41,\"AAAAAG+O32Q=\",0)","v":0},{"$f":"AND('Non-Streaming - Res Calc'!C41,\"AAAAAG+O32U=\")","v":{"$error":"#VALUE!"}},{"$f":"AND('Non-Streaming - Res Calc'!D41,\"AAAAAG+O32Y=\")","v":{"$error":"#VALUE!"}},{"$f":"AND('Non-Streaming - Res Calc'!#REF!,\"AAAAAG+O32c=\")","v":{"$error":"#REF!"}},{"$f":"AND('Non-Streaming - Res Calc'!E41,\"AAAAAG+O32g=\")","v":{"$error":"#VALUE!"}},{"$f":"AND('Non-Streaming - Res Calc'!G41,\"AAAAAG+O32k=\")","v":{"$error":"#VALUE!"}},{"$f":"AND('Non-Streaming - Res Calc'!H41,\"AAAAAG+O32o=\")","v":{"$error":"#VALUE!"}},{"$f":"AND('Non-Streaming - Res Calc'!I41,\"AAAAAG+O32s=\")","v":{"$error":"#VALUE!"}},{"$f":"AND('Non-Streaming - Res Calc'!J41,\"AAAAAG+O32w=\")","v":{"$error":"#VALUE!"}},{"$f":"AND('Non-Streaming - Res Calc'!K41,\"AAAAAG+O320=\")","v":{"$error":"#VALUE!"}},{"$f":"AND('Non-Streaming - Res Calc'!L41,\"AAAAAG+O324=\")","v":{"$error":"#VALUE!"}},{"$f":"AND('Non-Streaming - Res Calc'!M41,\"AAAAAG+O328=\")","v":{"$error":"#VALUE!"}},{"$f":"AND('Non-Streaming - Res Calc'!N41,\"AAAAAG+O33A=\")","v":{"$error":"#VALUE!"}},{"$f":"AND('Non-Streaming - Res Calc'!O41,\"AAAAAG+O33E=\")","v":{"$error":"#VALUE!"}},{"$f":"AND('Non-Streaming - Res Calc'!P41,\"AAAAAG+O33I=\")","v":{"$error":"#VALUE!"}},{"$f":"AND('Non-Streaming - Res Calc'!Q41,\"AAAAAG+O33M=\")","v":{"$error":"#VALUE!"}},{"$f":"AND('Non-Streaming - Res Calc'!R41,\"AAAAAG+O33Q=\")","v":{"$error":"#VALUE!"}},{"$f":"AND('Non-Streaming - Res Calc'!S41,\"AAAAAG+O33U=\")","v":{"$error":"#VALUE!"}},{"$f":"AND('Non-Streaming - Res Calc'!T41,\"AAAAAG+O33Y=\")","v":{"$error":"#VALUE!"}},{"$f":"AND('Non-Streaming - Res Calc'!U41,\"AAAAAG+O33c=\")","v":{"$error":"#VALUE!"}},{"$f":"AND('Non-Streaming - Res Calc'!V41,\"AAAAAG+O33g=\")","v":{"$error":"#VALUE!"}},{"$f":"IF('Non-Streaming - Res Calc'!42:42,\"AAAAAG+O33k=\",0)","v":0},{"$f":"AND('Non-Streaming - Res Calc'!C42,\"AAAAAG+O33o=\")","v":{"$error":"#VALUE!"}},{"$f":"AND('Non-Streaming - Res Calc'!D42,\"AAAAAG+O33s=\")","v":{"$error":"#VALUE!"}},{"$f":"AND('Non-Streaming - Res Calc'!#REF!,\"AAAAAG+O33w=\")","v":{"$error":"#REF!"}},{"$f":"AND('Non-Streaming - Res Calc'!E42,\"AAAAAG+O330=\")","v":{"$error":"#VALUE!"}},{"$f":"AND('Non-Streaming - Res Calc'!G42,\"AAAAAG+O334=\")","v":{"$error":"#VALUE!"}},{"$f":"AND('Non-Streaming - Res Calc'!H42,\"AAAAAG+O338=\")","v":{"$error":"#VALUE!"}},{"$f":"AND('Non-Streaming - Res Calc'!I42,\"AAAAAG+O34A=\")","v":{"$error":"#VALUE!"}},{"$f":"AND('Non-Streaming - Res Calc'!J42,\"AAAAAG+O34E=\")","v":{"$error":"#VALUE!"}},{"$f":"AND('Non-Streaming - Res Calc'!K42,\"AAAAAG+O34I=\")","v":{"$error":"#VALUE!"}},{"$f":"AND('Non-Streaming - Res Calc'!L42,\"AAAAAG+O34M=\")","v":{"$error":"#VALUE!"}},{"$f":"AND('Non-Streaming - Res Calc'!M42,\"AAAAAG+O34Q=\")","v":{"$error":"#VALUE!"}},{"$f":"AND('Non-Streaming - Res Calc'!N42,\"AAAAAG+O34U=\")","v":{"$error":"#VALUE!"}},{"$f":"AND('Non-Streaming - Res Calc'!O42,\"AAAAAG+O34Y=\")","v":{"$error":"#VALUE!"}},{"$f":"AND('Non-Streaming - Res Calc'!P42,\"AAAAAG+O34c=\")","v":{"$error":"#VALUE!"}},{"$f":"AND('Non-Streaming - Res Calc'!Q42,\"AAAAAG+O34g=\")","v":{"$error":"#VALUE!"}},{"$f":"AND('Non-Streaming - Res Calc'!R42,\"AAAAAG+O34k=\")","v":{"$error":"#VALUE!"}},{"$f":"AND('Non-Streaming - Res Calc'!S42,\"AAAAAG+O34o=\")","v":{"$error":"#VALUE!"}},{"$f":"AND('Non-Streaming - Res Calc'!T42,\"AAAAAG+O34s=\")","v":{"$error":"#VALUE!"}},{"$f":"AND('Non-Streaming - Res Calc'!U42,\"AAAAAG+O34w=\")","v":{"$error":"#VALUE!"}},{"$f":"AND('Non-Streaming - Res Calc'!V42,\"AAAAAG+O340=\")","v":{"$error":"#VALUE!"}},{"$f":"IF('Non-Streaming - Res Calc'!43:43,\"AAAAAG+O344=\",0)","v":0},{"$f":"AND('Non-Streaming - Res Calc'!C43,\"AAAAAG+O348=\")","v":{"$error":"#VALUE!"}},{"$f":"AND('Non-Streaming - Res Calc'!D43,\"AAAAAG+O35A=\")","v":{"$error":"#VALUE!"}},{"$f":"AND('Non-Streaming - Res Calc'!E43,\"AAAAAG+O35E=\")","v":{"$error":"#VALUE!"}},{"$f":"AND('Non-Streaming - Res Calc'!F43,\"AAAAAG+O35I=\")","v":{"$error":"#VALUE!"}},{"$f":"AND('Non-Streaming - Res Calc'!G43,\"AAAAAG+O35M=\")","v":{"$error":"#VALUE!"}},{"$f":"AND('Non-Streaming - Res Calc'!H43,\"AAAAAG+O35Q=\")","v":{"$error":"#VALUE!"}},{"$f":"AND('Non-Streaming - Res Calc'!I43,\"AAAAAG+O35U=\")","v":{"$error":"#VALUE!"}},{"$f":"AND('Non-Streaming - Res Calc'!J43,\"AAAAAG+O35Y=\")","v":{"$error":"#VALUE!"}},{"$f":"AND('Non-Streaming - Res Calc'!K43,\"AAAAAG+O35c=\")","v":{"$error":"#VALUE!"}},{"$f":"AND('Non-Streaming - Res Calc'!L43,\"AAAAAG+O35g=\")","v":{"$error":"#VALUE!"}},{"$f":"AND('Non-Streaming - Res Calc'!M43,\"AAAAAG+O35k=\")","v":{"$error":"#VALUE!"}},{"$f":"AND('Non-Streaming - Res Calc'!N43,\"AAAAAG+O35o=\")","v":{"$error":"#VALUE!"}},{"$f":"AND('Non-Streaming - Res Calc'!O43,\"AAAAAG+O35s=\")","v":{"$error":"#VALUE!"}},{"$f":"AND('Non-Streaming - Res Calc'!P43,\"AAAAAG+O35w=\")","v":{"$error":"#VALUE!"}},{"$f":"AND('Non-Streaming - Res Calc'!Q43,\"AAAAAG+O350=\")","v":{"$error":"#VALUE!"}},{"$f":"AND('Non-Streaming - Res Calc'!R43,\"AAAAAG+O354=\")","v":{"$error":"#VALUE!"}},{"$f":"AND('Non-Streaming - Res Calc'!S43,\"AAAAAG+O358=\")","v":{"$error":"#VALUE!"}},{"$f":"AND('Non-Streaming - Res Calc'!T43,\"AAAAAG+O36A=\")","v":{"$error":"#VALUE!"}},{"$f":"AND('Non-Streaming - Res Calc'!U43,\"AAAAAG+O36E=\")","v":{"$error":"#VALUE!"}},{"$f":"AND('Non-Streaming - Res Calc'!V43,\"AAAAAG+O36I=\")","v":{"$error":"#VALUE!"}},{"$f":"IF('Non-Streaming - Res Calc'!44:44,\"AAAAAG+O36M=\",0)","v":0},{"$f":"AND('Non-Streaming - Res Calc'!C44,\"AAAAAG+O36Q=\")","v":{"$error":"#VALUE!"}},{"$f":"AND('Non-Streaming - Res Calc'!D44,\"AAAAAG+O36U=\")","v":{"$error":"#VALUE!"}},{"$f":"AND('Non-Streaming - Res Calc'!E44,\"AAAAAG+O36Y=\")","v":{"$error":"#VALUE!"}},{"$f":"AND('Non-Streaming - Res Calc'!F44,\"AAAAAG+O36c=\")","v":{"$error":"#VALUE!"}},{"$f":"AND('Non-Streaming - Res Calc'!G44,\"AAAAAG+O36g=\")","v":{"$error":"#VALUE!"}},{"$f":"AND('Non-Streaming - Res Calc'!H44,\"AAAAAG+O36k=\")","v":{"$error":"#VALUE!"}},{"$f":"AND('Non-Streaming - Res Calc'!I44,\"AAAAAG+O36o=\")","v":{"$error":"#VALUE!"}},{"$f":"AND('Non-Streaming - Res Calc'!J44,\"AAAAAG+O36s=\")","v":{"$error":"#VALUE!"}},{"$f":"AND('Non-Streaming - Res Calc'!K44,\"AAAAAG+O36w=\")","v":{"$error":"#VALUE!"}},{"$f":"AND('Non-Streaming - Res Calc'!L44,\"AAAAAG+O360=\")","v":{"$error":"#VALUE!"}},{"$f":"AND('Non-Streaming - Res Calc'!M44,\"AAAAAG+O364=\")","v":{"$error":"#VALUE!"}},{"$f":"AND('Non-Streaming - Res Calc'!N44,\"AAAAAG+O368=\")","v":{"$error":"#VALUE!"}},{"$f":"AND('Non-Streaming - Res Calc'!O44,\"AAAAAG+O37A=\")","v":{"$error":"#VALUE!"}},{"$f":"AND('Non-Streaming - Res Calc'!P44,\"AAAAAG+O37E=\")","v":{"$error":"#VALUE!"}},{"$f":"AND('Non-Streaming - Res Calc'!Q44,\"AAAAAG+O37I=\")","v":{"$error":"#VALUE!"}},{"$f":"AND('Non-Streaming - Res Calc'!R44,\"AAAAAG+O37M=\")","v":{"$error":"#VALUE!"}},{"$f":"AND('Non-Streaming - Res Calc'!S44,\"AAAAAG+O37Q=\")","v":{"$error":"#VALUE!"}},{"$f":"AND('Non-Streaming - Res Calc'!T44,\"AAAAAG+O37U=\")","v":{"$error":"#VALUE!"}},{"$f":"AND('Non-Streaming - Res Calc'!U44,\"AAAAAG+O37Y=\")","v":{"$error":"#VALUE!"}},{"$f":"AND('Non-Streaming - Res Calc'!V44,\"AAAAAG+O37c=\")","v":{"$error":"#VALUE!"}},{"$f":"IF('Non-Streaming - Res Calc'!45:45,\"AAAAAG+O37g=\",0)","v":0},{"$f":"AND('Non-Streaming - Res Calc'!C45,\"AAAAAG+O37k=\")","v":{"$error":"#VALUE!"}},{"$f":"AND('Non-Streaming - Res Calc'!D45,\"AAAAAG+O37o=\")","v":{"$error":"#VALUE!"}},{"$f":"AND('Non-Streaming - Res Calc'!E45,\"AAAAAG+O37s=\")","v":{"$error":"#VALUE!"}},{"$f":"AND('Non-Streaming - Res Calc'!F45,\"AAAAAG+O37w=\")","v":{"$error":"#VALUE!"}},{"$f":"AND('Non-Streaming - Res Calc'!G45,\"AAAAAG+O370=\")","v":{"$error":"#VALUE!"}},{"$f":"AND('Non-Streaming - Res Calc'!H45,\"AAAAAG+O374=\")","v":{"$error":"#VALUE!"}},{"$f":"AND('Non-Streaming - Res Calc'!I45,\"AAAAAG+O378=\")","v":{"$error":"#VALUE!"}},{"$f":"AND('Non-Streaming - Res Calc'!J45,\"AAAAAG+O38A=\")","v":{"$error":"#VALUE!"}},{"$f":"AND('Non-Streaming - Res Calc'!K45,\"AAAAAG+O38E=\")","v":{"$error":"#VALUE!"}},{"$f":"AND('Non-Streaming - Res Calc'!L45,\"AAAAAG+O38I=\")","v":{"$error":"#VALUE!"}},{"$f":"AND('Non-Streaming - Res Calc'!M45,\"AAAAAG+O38M=\")","v":{"$error":"#VALUE!"}},{"$f":"AND('Non-Streaming - Res Calc'!N45,\"AAAAAG+O38Q=\")","v":{"$error":"#VALUE!"}},{"$f":"AND('Non-Streaming - Res Calc'!O45,\"AAAAAG+O38U=\")","v":{"$error":"#VALUE!"}},{"$f":"AND('Non-Streaming - Res Calc'!P45,\"AAAAAG+O38Y=\")","v":{"$error":"#VALUE!"}},{"$f":"AND('Non-Streaming - Res Calc'!Q45,\"AAAAAG+O38c=\")","v":{"$error":"#VALUE!"}},{"$f":"AND('Non-Streaming - Res Calc'!R45,\"AAAAAG+O38g=\")","v":{"$error":"#VALUE!"}},{"$f":"AND('Non-Streaming - Res Calc'!S45,\"AAAAAG+O38k=\")","v":{"$error":"#VALUE!"}},{"$f":"AND('Non-Streaming - Res Calc'!T45,\"AAAAAG+O38o=\")","v":{"$error":"#VALUE!"}},{"$f":"AND('Non-Streaming - Res Calc'!U45,\"AAAAAG+O38s=\")","v":{"$error":"#VALUE!"}},{"$f":"AND('Non-Streaming - Res Calc'!V45,\"AAAAAG+O38w=\")","v":{"$error":"#VALUE!"}},{"$f":"IF('Non-Streaming - Res Calc'!46:46,\"AAAAAG+O380=\",0)","v":0},{"$f":"AND('Non-Streaming - Res Calc'!C46,\"AAAAAG+O384=\")","v":{"$error":"#VALUE!"}},{"$f":"AND('Non-Streaming - Res Calc'!D46,\"AAAAAG+O388=\")","v":{"$error":"#VALUE!"}},{"$f":"AND('Non-Streaming - Res Calc'!E46,\"AAAAAG+O39A=\")","v":{"$error":"#VALUE!"}},{"$f":"AND('Non-Streaming - Res Calc'!F46,\"AAAAAG+O39E=\")","v":{"$error":"#VALUE!"}},{"$f":"AND('Non-Streaming - Res Calc'!G46,\"AAAAAG+O39I=\")","v":{"$error":"#VALUE!"}},{"$f":"AND('Non-Streaming - Res Calc'!H46,\"AAAAAG+O39M=\")","v":{"$error":"#VALUE!"}},{"$f":"AND('Non-Streaming - Res Calc'!I46,\"AAAAAG+O39Q=\")","v":{"$error":"#VALUE!"}},{"$f":"AND('Non-Streaming - Res Calc'!J46,\"AAAAAG+O39U=\")","v":{"$error":"#VALUE!"}},{"$f":"AND('Non-Streaming - Res Calc'!K46,\"AAAAAG+O39Y=\")","v":{"$error":"#VALUE!"}},{"$f":"AND('Non-Streaming - Res Calc'!L46,\"AAAAAG+O39c=\")","v":{"$error":"#VALUE!"}},{"$f":"AND('Non-Streaming - Res Calc'!M46,\"AAAAAG+O39g=\")","v":{"$error":"#VALUE!"}},{"$f":"AND('Non-Streaming - Res Calc'!N46,\"AAAAAG+O39k=\")","v":{"$error":"#VALUE!"}},{"$f":"AND('Non-Streaming - Res Calc'!O46,\"AAAAAG+O39o=\")","v":{"$error":"#VALUE!"}},{"$f":"AND('Non-Streaming - Res Calc'!P46,\"AAAAAG+O39s=\")","v":{"$error":"#VALUE!"}},{"$f":"AND('Non-Streaming - Res Calc'!Q46,\"AAAAAG+O39w=\")","v":{"$error":"#VALUE!"}},{"$f":"AND('Non-Streaming - Res Calc'!R46,\"AAAAAG+O390=\")","v":{"$error":"#VALUE!"}},{"$f":"AND('Non-Streaming - Res Calc'!S46,\"AAAAAG+O394=\")","v":{"$error":"#VALUE!"}},{"$f":"AND('Non-Streaming - Res Calc'!T46,\"AAAAAG+O398=\")","v":{"$error":"#VALUE!"}},{"$f":"AND('Non-Streaming - Res Calc'!U46,\"AAAAAG+O3+A=\")","v":{"$error":"#VALUE!"}},{"$f":"AND('Non-Streaming - Res Calc'!V46,\"AAAAAG+O3+E=\")","v":{"$error":"#VALUE!"}},{"$f":"IF('Non-Streaming - Res Calc'!47:47,\"AAAAAG+O3+I=\",0)","v":0},{"$f":"AND('Non-Streaming - Res Calc'!C47,\"AAAAAG+O3+M=\")","v":{"$error":"#VALUE!"}},{"$f":"AND('Non-Streaming - Res Calc'!D47,\"AAAAAG+O3+Q=\")","v":{"$error":"#VALUE!"}},{"$f":"AND('Non-Streaming - Res Calc'!E47,\"AAAAAG+O3+U=\")","v":{"$error":"#VALUE!"}},{"$f":"AND('Non-Streaming - Res Calc'!F47,\"AAAAAG+O3+Y=\")","v":{"$error":"#VALUE!"}},{"$f":"AND('Non-Streaming - Res Calc'!G47,\"AAAAAG+O3+c=\")","v":{"$error":"#VALUE!"}},{"$f":"AND('Non-Streaming - Res Calc'!H47,\"AAAAAG+O3+g=\")","v":{"$error":"#VALUE!"}},{"$f":"AND('Non-Streaming - Res Calc'!I47,\"AAAAAG+O3+k=\")","v":{"$error":"#VALUE!"}},{"$f":"AND('Non-Streaming - Res Calc'!J47,\"AAAAAG+O3+o=\")","v":{"$error":"#VALUE!"}},{"$f":"AND('Non-Streaming - Res Calc'!K47,\"AAAAAG+O3+s=\")","v":{"$error":"#VALUE!"}},{"$f":"AND('Non-Streaming - Res Calc'!L47,\"AAAAAG+O3+w=\")","v":{"$error":"#VALUE!"}},{"$f":"AND('Non-Streaming - Res Calc'!M47,\"AAAAAG+O3+0=\")","v":{"$error":"#VALUE!"}},{"$f":"AND('Non-Streaming - Res Calc'!N47,\"AAAAAG+O3+4=\")","v":{"$error":"#VALUE!"}},{"$f":"AND('Non-Streaming - Res Calc'!O47,\"AAAAAG+O3+8=\")","v":{"$error":"#VALUE!"}},{"$f":"AND('Non-Streaming - Res Calc'!P47,\"AAAAAG+O3/A=\")","v":{"$error":"#VALUE!"}},{"$f":"AND('Non-Streaming - Res Calc'!Q47,\"AAAAAG+O3/E=\")","v":{"$error":"#VALUE!"}},{"$f":"AND('Non-Streaming - Res Calc'!R47,\"AAAAAG+O3/I=\")","v":{"$error":"#VALUE!"}},{"$f":"AND('Non-Streaming - Res Calc'!S47,\"AAAAAG+O3/M=\")","v":{"$error":"#VALUE!"}},{"$f":"AND('Non-Streaming - Res Calc'!T47,\"AAAAAG+O3/Q=\")","v":{"$error":"#VALUE!"}},{"$f":"AND('Non-Streaming - Res Calc'!U47,\"AAAAAG+O3/U=\")","v":{"$error":"#VALUE!"}},{"$f":"AND('Non-Streaming - Res Calc'!V47,\"AAAAAG+O3/Y=\")","v":{"$error":"#VALUE!"}},{"$f":"IF('Non-Streaming - Res Calc'!A:A,\"AAAAAG+O3/c=\",0)","v":0},{"$f":"IF('Non-Streaming - Res Calc'!B:B,\"AAAAAG+O3/g=\",0)","v":0},{"$f":"IF('Non-Streaming - Res Calc'!C:C,\"AAAAAG+O3/k=\",0)","v":0},{"$f":"IF('Non-Streaming - Res Calc'!D:D,\"AAAAAG+O3/o=\",0)","v":{"$error":"#VALUE!"}},{"$f":"IF('Non-Streaming - Res Calc'!E:E,\"AAAAAG+O3/s=\",0)","v":0},{"$f":"IF('Non-Streaming - Res Calc'!F:F,\"AAAAAG+O3/w=\",0)","v":{"$error":"#VALUE!"}},{"$f":"IF('Non-Streaming - Res Calc'!G:G,\"AAAAAG+O3/0=\",0)","v":0},{"$f":"IF('Non-Streaming - Res Calc'!H:H,\"AAAAAG+O3/4=\",0)","v":0},{"$f":"IF('Non-Streaming - Res Calc'!I:I,\"AAAAAG+O3/8=\",0)","v":0}]
[{"$f":"IF('Non-Streaming - Res Calc'!J:J,\"AAAAAF3vuwA=\",0)","v":0},{"$f":"IF('Non-Streaming - Res Calc'!K:K,\"AAAAAF3vuwE=\",0)","v":0},{"$f":"IF('Non-Streaming - Res Calc'!L:L,\"AAAAAF3vuwI=\",0)","v":0},{"$f":"IF('Non-Streaming - Res Calc'!M:M,\"AAAAAF3vuwM=\",0)","v":0},{"$f":"IF('Non-Streaming - Res Calc'!N:N,\"AAAAAF3vuwQ=\",0)","v":0},{"$f":"IF('Non-Streaming - Res Calc'!O:O,\"AAAAAF3vuwU=\",0)","v":0},{"$f":"IF('Non-Streaming - Res Calc'!P:P,\"AAAAAF3vuwY=\",0)","v":0},{"$f":"IF('Non-Streaming - Res Calc'!Q:Q,\"AAAAAF3vuwc=\",0)","v":0},{"$f":"IF('Non-Streaming - Res Calc'!R:R,\"AAAAAF3vuwg=\",0)","v":0},{"$f":"IF('Non-Streaming - Res Calc'!S:S,\"AAAAAF3vuwk=\",0)","v":0},{"$f":"IF('Non-Streaming - Res Calc'!T:T,\"AAAAAF3vuwo=\",0)","v":0},{"$f":"IF('Non-Streaming - Res Calc'!U:U,\"AAAAAF3vuws=\",0)","v":0},{"$f":"IF('Non-Streaming - Res Calc'!V:V,\"AAAAAF3vuww=\",0)","v":{"$error":"#VALUE!"}},{"$f":"IF(#REF!,\"AAAAAF3vuw0=\",0)","v":{"$error":"#REF!"}},{"$f":"AND(#REF!,\"AAAAAF3vuw4=\")","v":{"$error":"#REF!"}},{"$f":"AND(#REF!,\"AAAAAF3vuw8=\")","v":{"$error":"#REF!"}},{"$f":"AND(#REF!,\"AAAAAF3vuxA=\")","v":{"$error":"#REF!"}},{"$f":"AND(#REF!,\"AAAAAF3vuxE=\")","v":{"$error":"#REF!"}},{"$f":"AND(#REF!,\"AAAAAF3vuxI=\")","v":{"$error":"#REF!"}},{"$f":"AND(#REF!,\"AAAAAF3vuxM=\")","v":{"$error":"#REF!"}},{"$f":"AND(#REF!,\"AAAAAF3vuxQ=\")","v":{"$error":"#REF!"}},{"$f":"AND(#REF!,\"AAAAAF3vuxU=\")","v":{"$error":"#REF!"}},{"$f":"AND(#REF!,\"AAAAAF3vuxY=\")","v":{"$error":"#REF!"}},{"$f":"AND(#REF!,\"AAAAAF3vuxc=\")","v":{"$error":"#REF!"}},{"$f":"AND(#REF!,\"AAAAAF3vuxg=\")","v":{"$error":"#REF!"}},{"$f":"AND(#REF!,\"AAAAAF3vuxk=\")","v":{"$error":"#REF!"}},{"$f":"AND(#REF!,\"AAAAAF3vuxo=\")","v":{"$error":"#REF!"}},{"$f":"AND(#REF!,\"AAAAAF3vuxs=\")","v":{"$error":"#REF!"}},{"$f":"AND(#REF!,\"AAAAAF3vuxw=\")","v":{"$error":"#REF!"}},{"$f":"AND(#REF!,\"AAAAAF3vux0=\")","v":{"$error":"#REF!"}},{"$f":"AND(#REF!,\"AAAAAF3vux4=\")","v":{"$error":"#REF!"}},{"$f":"AND(#REF!,\"AAAAAF3vux8=\")","v":{"$error":"#REF!"}},{"$f":"AND(#REF!,\"AAAAAF3vuyA=\")","v":{"$error":"#REF!"}},{"$f":"AND(#REF!,\"AAAAAF3vuyE=\")","v":{"$error":"#REF!"}},{"$f":"IF(#REF!,\"AAAAAF3vuyI=\",0)","v":{"$error":"#REF!"}},{"$f":"AND(#REF!,\"AAAAAF3vuyM=\")","v":{"$error":"#REF!"}},{"$f":"AND(#REF!,\"AAAAAF3vuyQ=\")","v":{"$error":"#REF!"}},{"$f":"AND(#REF!,\"AAAAAF3vuyU=\")","v":{"$error":"#REF!"}},{"$f":"AND(#REF!,\"AAAAAF3vuyY=\")","v":{"$error":"#REF!"}},{"$f":"AND(#REF!,\"AAAAAF3vuyc=\")","v":{"$error":"#REF!"}},{"$f":"AND(#REF!,\"AAAAAF3vuyg=\")","v":{"$error":"#REF!"}},{"$f":"AND(#REF!,\"AAAAAF3vuyk=\")","v":{"$error":"#REF!"}},{"$f":"AND(#REF!,\"AAAAAF3vuyo=\")","v":{"$error":"#REF!"}},{"$f":"AND(#REF!,\"AAAAAF3vuys=\")","v":{"$error":"#REF!"}},{"$f":"AND(#REF!,\"AAAAAF3vuyw=\")","v":{"$error":"#REF!"}},{"$f":"AND(#REF!,\"AAAAAF3vuy0=\")","v":{"$error":"#REF!"}},{"$f":"AND(#REF!,\"AAAAAF3vuy4=\")","v":{"$error":"#REF!"}},{"$f":"AND(#REF!,\"AAAAAF3vuy8=\")","v":{"$error":"#REF!"}},{"$f":"AND(#REF!,\"AAAAAF3vuzA=\")","v":{"$error":"#REF!"}},{"$f":"AND(#REF!,\"AAAAAF3vuzE=\")","v":{"$error":"#REF!"}},{"$f":"AND(#REF!,\"AAAAAF3vuzI=\")","v":{"$error":"#REF!"}},{"$f":"AND(#REF!,\"AAAAAF3vuzM=\")","v":{"$error":"#REF!"}},{"$f":"AND(#REF!,\"AAAAAF3vuzQ=\")","v":{"$error":"#REF!"}},{"$f":"AND(#REF!,\"AAAAAF3vuzU=\")","v":{"$error":"#REF!"}},{"$f":"AND(#REF!,\"AAAAAF3vuzY=\")","v":{"$error":"#REF!"}},{"$f":"IF(#REF!,\"AAAAAF3vuzc=\",0)","v":{"$error":"#REF!"}},{"$f":"AND(#REF!,\"AAAAAF3vuzg=\")","v":{"$error":"#REF!"}},{"$f":"AND(#REF!,\"AAAAAF3vuzk=\")","v":{"$error":"#REF!"}},{"$f":"AND(#REF!,\"AAAAAF3vuzo=\")","v":{"$error":"#REF!"}},{"$f":"AND(#REF!,\"AAAAAF3vuzs=\")","v":{"$error":"#REF!"}},{"$f":"AND(#REF!,\"AAAAAF3vuzw=\")","v":{"$error":"#REF!"}},{"$f":"AND(#REF!,\"AAAAAF3vuz0=\")","v":{"$error":"#REF!"}},{"$f":"AND(#REF!,\"AAAAAF3vuz4=\")","v":{"$error":"#REF!"}},{"$f":"AND(#REF!,\"AAAAAF3vuz8=\")","v":{"$error":"#REF!"}},{"$f":"AND(#REF!,\"AAAAAF3vu0A=\")","v":{"$error":"#REF!"}},{"$f":"AND(#REF!,\"AAAAAF3vu0E=\")","v":{"$error":"#REF!"}},{"$f":"AND(#REF!,\"AAAAAF3vu0I=\")","v":{"$error":"#REF!"}},{"$f":"AND(#REF!,\"AAAAAF3vu0M=\")","v":{"$error":"#REF!"}},{"$f":"AND(#REF!,\"AAAAAF3vu0Q=\")","v":{"$error":"#REF!"}},{"$f":"AND(#REF!,\"AAAAAF3vu0U=\")","v":{"$error":"#REF!"}},{"$f":"AND(#REF!,\"AAAAAF3vu0Y=\")","v":{"$error":"#REF!"}},{"$f":"AND(#REF!,\"AAAAAF3vu0c=\")","v":{"$error":"#REF!"}},{"$f":"AND(#REF!,\"AAAAAF3vu0g=\")","v":{"$error":"#REF!"}},{"$f":"AND(#REF!,\"AAAAAF3vu0k=\")","v":{"$error":"#REF!"}},{"$f":"AND(#REF!,\"AAAAAF3vu0o=\")","v":{"$error":"#REF!"}},{"$f":"AND(#REF!,\"AAAAAF3vu0s=\")","v":{"$error":"#REF!"}},{"$f":"IF(#REF!,\"AAAAAF3vu0w=\",0)","v":{"$error":"#REF!"}},{"$f":"AND(#REF!,\"AAAAAF3vu00=\")","v":{"$error":"#REF!"}},{"$f":"AND(#REF!,\"AAAAAF3vu04=\")","v":{"$error":"#REF!"}},{"$f":"AND(#REF!,\"AAAAAF3vu08=\")","v":{"$error":"#REF!"}},{"$f":"AND(#REF!,\"AAAAAF3vu1A=\")","v":{"$error":"#REF!"}},{"$f":"AND(#REF!,\"AAAAAF3vu1E=\")","v":{"$error":"#REF!"}},{"$f":"AND(#REF!,\"AAAAAF3vu1I=\")","v":{"$error":"#REF!"}},{"$f":"AND(#REF!,\"AAAAAF3vu1M=\")","v":{"$error":"#REF!"}},{"$f":"AND(#REF!,\"AAAAAF3vu1Q=\")","v":{"$error":"#REF!"}},{"$f":"AND(#REF!,\"AAAAAF3vu1U=\")","v":{"$error":"#REF!"}},{"$f":"AND(#REF!,\"AAAAAF3vu1Y=\")","v":{"$error":"#REF!"}},{"$f":"AND(#REF!,\"AAAAAF3vu1c=\")","v":{"$error":"#REF!"}},{"$f":"AND(#REF!,\"AAAAAF3vu1g=\")","v":{"$error":"#REF!"}},{"$f":"AND(#REF!,\"AAAAAF3vu1k=\")","v":{"$error":"#REF!"}},{"$f":"AND(#REF!,\"AAAAAF3vu1o=\")","v":{"$error":"#REF!"}},{"$f":"AND(#REF!,\"AAAAAF3vu1s=\")","v":{"$error":"#REF!"}},{"$f":"AND(#REF!,\"AAAAAF3vu1w=\")","v":{"$error":"#REF!"}},{"$f":"AND(#REF!,\"AAAAAF3vu10=\")","v":{"$error":"#REF!"}},{"$f":"AND(#REF!,\"AAAAAF3vu14=\")","v":{"$error":"#REF!"}},{"$f":"AND(#REF!,\"AAAAAF3vu18=\")","v":{"$error":"#REF!"}},{"$f":"AND(#REF!,\"AAAAAF3vu2A=\")","v":{"$error":"#REF!"}},{"$f":"IF(#REF!,\"AAAAAF3vu2E=\",0)","v":{"$error":"#REF!"}},{"$f":"AND(#REF!,\"AAAAAF3vu2I=\")","v":{"$error":"#REF!"}},{"$f":"AND(#REF!,\"AAAAAF3vu2M=\")","v":{"$error":"#REF!"}},{"$f":"AND(#REF!,\"AAAAAF3vu2Q=\")","v":{"$error":"#REF!"}},{"$f":"AND(#REF!,\"AAAAAF3vu2U=\")","v":{"$error":"#REF!"}},{"$f":"AND(#REF!,\"AAAAAF3vu2Y=\")","v":{"$error":"#REF!"}},{"$f":"AND(#REF!,\"AAAAAF3vu2c=\")","v":{"$error":"#REF!"}},{"$f":"AND(#REF!,\"AAAAAF3vu2g=\")","v":{"$error":"#REF!"}},{"$f":"AND(#REF!,\"AAAAAF3vu2k=\")","v":{"$error":"#REF!"}},{"$f":"AND(#REF!,\"AAAAAF3vu2o=\")","v":{"$error":"#REF!"}},{"$f":"AND(#REF!,\"AAAAAF3vu2s=\")","v":{"$error":"#REF!"}},{"$f":"AND(#REF!,\"AAAAAF3vu2w=\")","v":{"$error":"#REF!"}},{"$f":"AND(#REF!,\"AAAAAF3vu20=\")","v":{"$error":"#REF!"}},{"$f":"AND(#REF!,\"AAAAAF3vu24=\")","v":{"$error":"#REF!"}},{"$f":"AND(#REF!,\"AAAAAF3vu28=\")","v":{"$error":"#REF!"}},{"$f":"AND(#REF!,\"AAAAAF3vu3A=\")","v":{"$error":"#REF!"}},{"$f":"AND(#REF!,\"AAAAAF3vu3E=\")","v":{"$error":"#REF!"}},{"$f":"AND(#REF!,\"AAAAAF3vu3I=\")","v":{"$error":"#REF!"}},{"$f":"AND(#REF!,\"AAAAAF3vu3M=\")","v":{"$error":"#REF!"}},{"$f":"AND(#REF!,\"AAAAAF3vu3Q=\")","v":{"$error":"#REF!"}},{"$f":"AND(#REF!,\"AAAAAF3vu3U=\")","v":{"$error":"#REF!"}},{"$f":"IF(#REF!,\"AAAAAF3vu3Y=\",0)","v":{"$error":"#REF!"}},{"$f":"AND(#REF!,\"AAAAAF3vu3c=\")","v":{"$error":"#REF!"}},{"$f":"AND(#REF!,\"AAAAAF3vu3g=\")","v":{"$error":"#REF!"}},{"$f":"AND(#REF!,\"AAAAAF3vu3k=\")","v":{"$error":"#REF!"}},{"$f":"AND(#REF!,\"AAAAAF3vu3o=\")","v":{"$error":"#REF!"}},{"$f":"AND(#REF!,\"AAAAAF3vu3s=\")","v":{"$error":"#REF!"}},{"$f":"AND(#REF!,\"AAAAAF3vu3w=\")","v":{"$error":"#REF!"}},{"$f":"AND(#REF!,\"AAAAAF3vu30=\")","v":{"$error":"#REF!"}},{"$f":"AND(#REF!,\"AAAAAF3vu34=\")","v":{"$error":"#REF!"}},{"$f":"AND(#REF!,\"AAAAAF3vu38=\")","v":{"$error":"#REF!"}},{"$f":"AND(#REF!,\"AAAAAF3vu4A=\")","v":{"$error":"#REF!"}},{"$f":"AND(#REF!,\"AAAAAF3vu4E=\")","v":{"$error":"#REF!"}},{"$f":"AND(#REF!,\"AAAAAF3vu4I=\")","v":{"$error":"#REF!"}},{"$f":"AND(#REF!,\"AAAAAF3vu4M=\")","v":{"$error":"#REF!"}},{"$f":"AND(#REF!,\"AAAAAF3vu4Q=\")","v":{"$error":"#REF!"}},{"$f":"AND(#REF!,\"AAAAAF3vu4U=\")","v":{"$error":"#REF!"}},{"$f":"AND(#REF!,\"AAAAAF3vu4Y=\")","v":{"$error":"#REF!"}},{"$f":"AND(#REF!,\"AAAAAF3vu4c=\")","v":{"$error":"#REF!"}},{"$f":"AND(#REF!,\"AAAAAF3vu4g=\")","v":{"$error":"#REF!"}},{"$f":"AND(#REF!,\"AAAAAF3vu4k=\")","v":{"$error":"#REF!"}},{"$f":"AND(#REF!,\"AAAAAF3vu4o=\")","v":{"$error":"#REF!"}},{"$f":"IF(#REF!,\"AAAAAF3vu4s=\",0)","v":{"$error":"#REF!"}},{"$f":"AND(#REF!,\"AAAAAF3vu4w=\")","v":{"$error":"#REF!"}},{"$f":"AND(#REF!,\"AAAAAF3vu40=\")","v":{"$error":"#REF!"}},{"$f":"AND(#REF!,\"AAAAAF3vu44=\")","v":{"$error":"#REF!"}},{"$f":"AND(#REF!,\"AAAAAF3vu48=\")","v":{"$error":"#REF!"}},{"$f":"AND(#REF!,\"AAAAAF3vu5A=\")","v":{"$error":"#REF!"}},{"$f":"AND(#REF!,\"AAAAAF3vu5E=\")","v":{"$error":"#REF!"}},{"$f":"AND(#REF!,\"AAAAAF3vu5I=\")","v":{"$error":"#REF!"}},{"$f":"AND(#REF!,\"AAAAAF3vu5M=\")","v":{"$error":"#REF!"}},{"$f":"AND(#REF!,\"AAAAAF3vu5Q=\")","v":{"$error":"#REF!"}},{"$f":"AND(#REF!,\"AAAAAF3vu5U=\")","v":{"$error":"#REF!"}},{"$f":"AND(#REF!,\"AAAAAF3vu5Y=\")","v":{"$error":"#REF!"}},{"$f":"AND(#REF!,\"AAAAAF3vu5c=\")","v":{"$error":"#REF!"}},{"$f":"AND(#REF!,\"AAAAAF3vu5g=\")","v":{"$error":"#REF!"}},{"$f":"AND(#REF!,\"AAAAAF3vu5k=\")","v":{"$error":"#REF!"}},{"$f":"AND(#REF!,\"AAAAAF3vu5o=\")","v":{"$error":"#REF!"}},{"$f":"AND(#REF!,\"AAAAAF3vu5s=\")","v":{"$error":"#REF!"}},{"$f":"AND(#REF!,\"AAAAAF3vu5w=\")","v":{"$error":"#REF!"}},{"$f":"AND(#REF!,\"AAAAAF3vu50=\")","v":{"$error":"#REF!"}},{"$f":"AND(#REF!,\"AAAAAF3vu54=\")","v":{"$error":"#REF!"}},{"$f":"AND(#REF!,\"AAAAAF3vu58=\")","v":{"$error":"#REF!"}},{"$f":"IF(#REF!,\"AAAAAF3vu6A=\",0)","v":{"$error":"#REF!"}},{"$f":"AND(#REF!,\"AAAAAF3vu6E=\")","v":{"$error":"#REF!"}},{"$f":"AND(#REF!,\"AAAAAF3vu6I=\")","v":{"$error":"#REF!"}},{"$f":"AND(#REF!,\"AAAAAF3vu6M=\")","v":{"$error":"#REF!"}},{"$f":"AND(#REF!,\"AAAAAF3vu6Q=\")","v":{"$error":"#REF!"}},{"$f":"AND(#REF!,\"AAAAAF3vu6U=\")","v":{"$error":"#REF!"}},{"$f":"AND(#REF!,\"AAAAAF3vu6Y=\")","v":{"$error":"#REF!"}},{"$f":"AND(#REF!,\"AAAAAF3vu6c=\")","v":{"$error":"#REF!"}},{"$f":"AND(#REF!,\"AAAAAF3vu6g=\")","v":{"$error":"#REF!"}},{"$f":"AND(#REF!,\"AAAAAF3vu6k=\")","v":{"$error":"#REF!"}},{"$f":"AND(#REF!,\"AAAAAF3vu6o=\")","v":{"$error":"#REF!"}},{"$f":"AND(#REF!,\"AAAAAF3vu6s=\")","v":{"$error":"#REF!"}},{"$f":"AND(#REF!,\"AAAAAF3vu6w=\")","v":{"$error":"#REF!"}},{"$f":"AND(#REF!,\"AAAAAF3vu60=\")","v":{"$error":"#REF!"}},{"$f":"AND(#REF!,\"AAAAAF3vu64=\")","v":{"$error":"#REF!"}},{"$f":"AND(#REF!,\"AAAAAF3vu68=\")","v":{"$error":"#REF!"}},{"$f":"AND(#REF!,\"AAAAAF3vu7A=\")","v":{"$error":"#REF!"}},{"$f":"AND(#REF!,\"AAAAAF3vu7E=\")","v":{"$error":"#REF!"}},{"$f":"AND(#REF!,\"AAAAAF3vu7I=\")","v":{"$error":"#REF!"}},{"$f":"AND(#REF!,\"AAAAAF3vu7M=\")","v":{"$error":"#REF!"}},{"$f":"AND(#REF!,\"AAAAAF3vu7Q=\")","v":{"$error":"#REF!"}},{"$f":"IF(#REF!,\"AAAAAF3vu7U=\",0)","v":{"$error":"#REF!"}},{"$f":"AND(#REF!,\"AAAAAF3vu7Y=\")","v":{"$error":"#REF!"}},{"$f":"AND(#REF!,\"AAAAAF3vu7c=\")","v":{"$error":"#REF!"}},{"$f":"AND(#REF!,\"AAAAAF3vu7g=\")","v":{"$error":"#REF!"}},{"$f":"AND(#REF!,\"AAAAAF3vu7k=\")","v":{"$error":"#REF!"}},{"$f":"AND(#REF!,\"AAAAAF3vu7o=\")","v":{"$error":"#REF!"}},{"$f":"AND(#REF!,\"AAAAAF3vu7s=\")","v":{"$error":"#REF!"}},{"$f":"AND(#REF!,\"AAAAAF3vu7w=\")","v":{"$error":"#REF!"}},{"$f":"AND(#REF!,\"AAAAAF3vu70=\")","v":{"$error":"#REF!"}},{"$f":"AND(#REF!,\"AAAAAF3vu74=\")","v":{"$error":"#REF!"}},{"$f":"AND(#REF!,\"AAAAAF3vu78=\")","v":{"$error":"#REF!"}},{"$f":"AND(#REF!,\"AAAAAF3vu8A=\")","v":{"$error":"#REF!"}},{"$f":"AND(#REF!,\"AAAAAF3vu8E=\")","v":{"$error":"#REF!"}},{"$f":"AND(#REF!,\"AAAAAF3vu8I=\")","v":{"$error":"#REF!"}},{"$f":"AND(#REF!,\"AAAAAF3vu8M=\")","v":{"$error":"#REF!"}},{"$f":"AND(#REF!,\"AAAAAF3vu8Q=\")","v":{"$error":"#REF!"}},{"$f":"AND(#REF!,\"AAAAAF3vu8U=\")","v":{"$error":"#REF!"}},{"$f":"AND(#REF!,\"AAAAAF3vu8Y=\")","v":{"$error":"#REF!"}},{"$f":"AND(#REF!,\"AAAAAF3vu8c=\")","v":{"$error":"#REF!"}},{"$f":"AND(#REF!,\"AAAAAF3vu8g=\")","v":{"$error":"#REF!"}},{"$f":"AND(#REF!,\"AAAAAF3vu8k=\")","v":{"$error":"#REF!"}},{"$f":"IF(#REF!,\"AAAAAF3vu8o=\",0)","v":{"$error":"#REF!"}},{"$f":"AND(#REF!,\"AAAAAF3vu8s=\")","v":{"$error":"#REF!"}},{"$f":"AND(#REF!,\"AAAAAF3vu8w=\")","v":{"$error":"#REF!"}},{"$f":"AND(#REF!,\"AAAAAF3vu80=\")","v":{"$error":"#REF!"}},{"$f":"AND(#REF!,\"AAAAAF3vu84=\")","v":{"$error":"#REF!"}},{"$f":"AND(#REF!,\"AAAAAF3vu88=\")","v":{"$error":"#REF!"}},{"$f":"AND(#REF!,\"AAAAAF3vu9A=\")","v":{"$error":"#REF!"}},{"$f":"AND(#REF!,\"AAAAAF3vu9E=\")","v":{"$error":"#REF!"}},{"$f":"AND(#REF!,\"AAAAAF3vu9I=\")","v":{"$error":"#REF!"}},{"$f":"AND(#REF!,\"AAAAAF3vu9M=\")","v":{"$error":"#REF!"}},{"$f":"AND(#REF!,\"AAAAAF3vu9Q=\")","v":{"$error":"#REF!"}},{"$f":"AND(#REF!,\"AAAAAF3vu9U=\")","v":{"$error":"#REF!"}},{"$f":"AND(#REF!,\"AAAAAF3vu9Y=\")","v":{"$error":"#REF!"}},{"$f":"AND(#REF!,\"AAAAAF3vu9c=\")","v":{"$error":"#REF!"}},{"$f":"AND(#REF!,\"AAAAAF3vu9g=\")","v":{"$error":"#REF!"}},{"$f":"AND(#REF!,\"AAAAAF3vu9k=\")","v":{"$error":"#REF!"}},{"$f":"AND(#REF!,\"AAAAAF3vu9o=\")","v":{"$error":"#REF!"}},{"$f":"AND(#REF!,\"AAAAAF3vu9s=\")","v":{"$error":"#REF!"}},{"$f":"AND(#REF!,\"AAAAAF3vu9w=\")","v":{"$error":"#REF!"}},{"$f":"AND(#REF!,\"AAAAAF3vu90=\")","v":{"$error":"#REF!"}},{"$f":"AND(#REF!,\"AAAAAF3vu94=\")","v":{"$error":"#REF!"}},{"$f":"IF(#REF!,\"AAAAAF3vu98=\",0)","v":{"$error":"#REF!"}},{"$f":"AND(#REF!,\"AAAAAF3vu+A=\")","v":{"$error":"#REF!"}},{"$f":"AND(#REF!,\"AAAAAF3vu+E=\")","v":{"$error":"#REF!"}},{"$f":"AND(#REF!,\"AAAAAF3vu+I=\")","v":{"$error":"#REF!"}},{"$f":"AND(#REF!,\"AAAAAF3vu+M=\")","v":{"$error":"#REF!"}},{"$f":"AND(#REF!,\"AAAAAF3vu+Q=\")","v":{"$error":"#REF!"}},{"$f":"AND(#REF!,\"AAAAAF3vu+U=\")","v":{"$error":"#REF!"}},{"$f":"AND(#REF!,\"AAAAAF3vu+Y=\")","v":{"$error":"#REF!"}},{"$f":"AND(#REF!,\"AAAAAF3vu+c=\")","v":{"$error":"#REF!"}},{"$f":"AND(#REF!,\"AAAAAF3vu+g=\")","v":{"$error":"#REF!"}},{"$f":"AND(#REF!,\"AAAAAF3vu+k=\")","v":{"$error":"#REF!"}},{"$f":"AND(#REF!,\"AAAAAF3vu+o=\")","v":{"$error":"#REF!"}},{"$f":"AND(#REF!,\"AAAAAF3vu+s=\")","v":{"$error":"#REF!"}},{"$f":"AND(#REF!,\"AAAAAF3vu+w=\")","v":{"$error":"#REF!"}},{"$f":"AND(#REF!,\"AAAAAF3vu+0=\")","v":{"$error":"#REF!"}},{"$f":"AND(#REF!,\"AAAAAF3vu+4=\")","v":{"$error":"#REF!"}},{"$f":"AND(#REF!,\"AAAAAF3vu+8=\")","v":{"$error":"#REF!"}},{"$f":"AND(#REF!,\"AAAAAF3vu/A=\")","v":{"$error":"#REF!"}},{"$f":"AND(#REF!,\"AAAAAF3vu/E=\")","v":{"$error":"#REF!"}},{"$f":"AND(#REF!,\"AAAAAF3vu/I=\")","v":{"$error":"#REF!"}},{"$f":"AND(#REF!,\"AAAAAF3vu/M=\")","v":{"$error":"#REF!"}},{"$f":"IF(#REF!,\"AAAAAF3vu/Q=\",0)","v":{"$error":"#REF!"}},{"$f":"AND(#REF!,\"AAAAAF3vu/U=\")","v":{"$error":"#REF!"}},{"$f":"AND(#REF!,\"AAAAAF3vu/Y=\")","v":{"$error":"#REF!"}},{"$f":"AND(#REF!,\"AAAAAF3vu/c=\")","v":{"$error":"#REF!"}},{"$f":"AND(#REF!,\"AAAAAF3vu/g=\")","v":{"$error":"#REF!"}},{"$f":"AND(#REF!,\"AAAAAF3vu/k=\")","v":{"$error":"#REF!"}},{"$f":"AND(#REF!,\"AAAAAF3vu/o=\")","v":{"$error":"#REF!"}},{"$f":"AND(#REF!,\"AAAAAF3vu/s=\")","v":{"$error":"#REF!"}},{"$f":"AND(#REF!,\"AAAAAF3vu/w=\")","v":{"$error":"#REF!"}},{"$f":"AND(#REF!,\"AAAAAF3vu/0=\")","v":{"$error":"#REF!"}},{"$f":"AND(#REF!,\"AAAAAF3vu/4=\")","v":{"$error":"#REF!"}},{"$f":"AND(#REF!,\"AAAAAF3vu/8=\")","v":{"$error":"#REF!"}}]
[{"$f":"AND(#REF!,\"AAAAAE/33wA=\")","v":{"$error":"#REF!"}},{"$f":"AND(#REF!,\"AAAAAE/33wE=\")","v":{"$error":"#REF!"}},{"$f":"AND(#REF!,\"AAAAAE/33wI=\")","v":{"$error":"#REF!"}},{"$f":"AND(#REF!,\"AAAAAE/33wM=\")","v":{"$error":"#REF!"}},{"$f":"AND(#REF!,\"AAAAAE/33wQ=\")","v":{"$error":"#REF!"}},{"$f":"AND(#REF!,\"AAAAAE/33wU=\")","v":{"$error":"#REF!"}},{"$f":"AND(#REF!,\"AAAAAE/33wY=\")","v":{"$error":"#REF!"}},{"$f":"AND(#REF!,\"AAAAAE/33wc=\")","v":{"$error":"#REF!"}},{"$f":"AND(#REF!,\"AAAAAE/33wg=\")","v":{"$error":"#REF!"}},{"$f":"IF(#REF!,\"AAAAAE/33wk=\",0)","v":{"$error":"#REF!"}},{"$f":"AND(#REF!,\"AAAAAE/33wo=\")","v":{"$error":"#REF!"}},{"$f":"AND(#REF!,\"AAAAAE/33ws=\")","v":{"$error":"#REF!"}},{"$f":"AND(#REF!,\"AAAAAE/33ww=\")","v":{"$error":"#REF!"}},{"$f":"AND(#REF!,\"AAAAAE/33w0=\")","v":{"$error":"#REF!"}},{"$f":"AND(#REF!,\"AAAAAE/33w4=\")","v":{"$error":"#REF!"}},{"$f":"AND(#REF!,\"AAAAAE/33w8=\")","v":{"$error":"#REF!"}},{"$f":"AND(#REF!,\"AAAAAE/33xA=\")","v":{"$error":"#REF!"}},{"$f":"AND(#REF!,\"AAAAAE/33xE=\")","v":{"$error":"#REF!"}},{"$f":"AND(#REF!,\"AAAAAE/33xI=\")","v":{"$error":"#REF!"}},{"$f":"AND(#REF!,\"AAAAAE/33xM=\")","v":{"$error":"#REF!"}},{"$f":"AND(#REF!,\"AAAAAE/33xQ=\")","v":{"$error":"#REF!"}},{"$f":"AND(#REF!,\"AAAAAE/33xU=\")","v":{"$error":"#REF!"}},{"$f":"AND(#REF!,\"AAAAAE/33xY=\")","v":{"$error":"#REF!"}},{"$f":"AND(#REF!,\"AAAAAE/33xc=\")","v":{"$error":"#REF!"}},{"$f":"AND(#REF!,\"AAAAAE/33xg=\")","v":{"$error":"#REF!"}},{"$f":"AND(#REF!,\"AAAAAE/33xk=\")","v":{"$error":"#REF!"}},{"$f":"AND(#REF!,\"AAAAAE/33xo=\")","v":{"$error":"#REF!"}},{"$f":"AND(#REF!,\"AAAAAE/33xs=\")","v":{"$error":"#REF!"}},{"$f":"AND(#REF!,\"AAAAAE/33xw=\")","v":{"$error":"#REF!"}},{"$f":"AND(#REF!,\"AAAAAE/33x0=\")","v":{"$error":"#REF!"}},{"$f":"IF(#REF!,\"AAAAAE/33x4=\",0)","v":{"$error":"#REF!"}},{"$f":"AND(#REF!,\"AAAAAE/33x8=\")","v":{"$error":"#REF!"}},{"$f":"AND(#REF!,\"AAAAAE/33yA=\")","v":{"$error":"#REF!"}},{"$f":"AND(#REF!,\"AAAAAE/33yE=\")","v":{"$error":"#REF!"}},{"$f":"AND(#REF!,\"AAAAAE/33yI=\")","v":{"$error":"#REF!"}},{"$f":"AND(#REF!,\"AAAAAE/33yM=\")","v":{"$error":"#REF!"}},{"$f":"AND(#REF!,\"AAAAAE/33yQ=\")","v":{"$error":"#REF!"}},{"$f":"AND(#REF!,\"AAAAAE/33yU=\")","v":{"$error":"#REF!"}},{"$f":"AND(#REF!,\"AAAAAE/33yY=\")","v":{"$error":"#REF!"}},{"$f":"AND(#REF!,\"AAAAAE/33yc=\")","v":{"$error":"#REF!"}},{"$f":"AND(#REF!,\"AAAAAE/33yg=\")","v":{"$error":"#REF!"}},{"$f":"AND(#REF!,\"AAAAAE/33yk=\")","v":{"$error":"#REF!"}},{"$f":"AND(#REF!,\"AAAAAE/33yo=\")","v":{"$error":"#REF!"}},{"$f":"AND(#REF!,\"AAAAAE/33ys=\")","v":{"$error":"#REF!"}},{"$f":"AND(#REF!,\"AAAAAE/33yw=\")","v":{"$error":"#REF!"}},{"$f":"AND(#REF!,\"AAAAAE/33y0=\")","v":{"$error":"#REF!"}},{"$f":"AND(#REF!,\"AAAAAE/33y4=\")","v":{"$error":"#REF!"}},{"$f":"AND(#REF!,\"AAAAAE/33y8=\")","v":{"$error":"#REF!"}},{"$f":"AND(#REF!,\"AAAAAE/33zA=\")","v":{"$error":"#REF!"}},{"$f":"AND(#REF!,\"AAAAAE/33zE=\")","v":{"$error":"#REF!"}},{"$f":"AND(#REF!,\"AAAAAE/33zI=\")","v":{"$error":"#REF!"}},{"$f":"IF(#REF!,\"AAAAAE/33zM=\",0)","v":{"$error":"#REF!"}},{"$f":"AND(#REF!,\"AAAAAE/33zQ=\")","v":{"$error":"#REF!"}},{"$f":"AND(#REF!,\"AAAAAE/33zU=\")","v":{"$error":"#REF!"}},{"$f":"AND(#REF!,\"AAAAAE/33zY=\")","v":{"$error":"#REF!"}},{"$f":"AND(#REF!,\"AAAAAE/33zc=\")","v":{"$error":"#REF!"}},{"$f":"AND(#REF!,\"AAAAAE/33zg=\")","v":{"$error":"#REF!"}},{"$f":"AND(#REF!,\"AAAAAE/33zk=\")","v":{"$error":"#REF!"}},{"$f":"AND(#REF!,\"AAAAAE/33zo=\")","v":{"$error":"#REF!"}},{"$f":"AND(#REF!,\"AAAAAE/33zs=\")","v":{"$error":"#REF!"}},{"$f":"AND(#REF!,\"AAAAAE/33zw=\")","v":{"$error":"#REF!"}},{"$f":"AND(#REF!,\"AAAAAE/33z0=\")","v":{"$error":"#REF!"}},{"$f":"AND(#REF!,\"AAAAAE/33z4=\")","v":{"$error":"#REF!"}},{"$f":"AND(#REF!,\"AAAAAE/33z8=\")","v":{"$error":"#REF!"}},{"$f":"AND(#REF!,\"AAAAAE/330A=\")","v":{"$error":"#REF!"}},{"$f":"AND(#REF!,\"AAAAAE/330E=\")","v":{"$error":"#REF!"}},{"$f":"AND(#REF!,\"AAAAAE/330I=\")","v":{"$error":"#REF!"}},{"$f":"AND(#REF!,\"AAAAAE/330M=\")","v":{"$error":"#REF!"}},{"$f":"AND(#REF!,\"AAAAAE/330Q=\")","v":{"$error":"#REF!"}},{"$f":"AND(#REF!,\"AAAAAE/330U=\")","v":{"$error":"#REF!"}},{"$f":"AND(#REF!,\"AAAAAE/330Y=\")","v":{"$error":"#REF!"}},{"$f":"AND(#REF!,\"AAAAAE/330c=\")","v":{"$error":"#REF!"}},{"$f":"IF(#REF!,\"AAAAAE/330g=\",0)","v":{"$error":"#REF!"}},{"$f":"AND(#REF!,\"AAAAAE/330k=\")","v":{"$error":"#REF!"}},{"$f":"AND(#REF!,\"AAAAAE/330o=\")","v":{"$error":"#REF!"}},{"$f":"AND(#REF!,\"AAAAAE/330s=\")","v":{"$error":"#REF!"}},{"$f":"AND(#REF!,\"AAAAAE/330w=\")","v":{"$error":"#REF!"}},{"$f":"AND(#REF!,\"AAAAAE/3300=\")","v":{"$error":"#REF!"}},{"$f":"AND(#REF!,\"AAAAAE/3304=\")","v":{"$error":"#REF!"}},{"$f":"AND(#REF!,\"AAAAAE/3308=\")","v":{"$error":"#REF!"}},{"$f":"AND(#REF!,\"AAAAAE/331A=\")","v":{"$error":"#REF!"}},{"$f":"AND(#REF!,\"AAAAAE/331E=\")","v":{"$error":"#REF!"}},{"$f":"AND(#REF!,\"AAAAAE/331I=\")","v":{"$error":"#REF!"}},{"$f":"AND(#REF!,\"AAAAAE/331M=\")","v":{"$error":"#REF!"}},{"$f":"AND(#REF!,\"AAAAAE/331Q=\")","v":{"$error":"#REF!"}},{"$f":"AND(#REF!,\"AAAAAE/331U=\")","v":{"$error":"#REF!"}},{"$f":"AND(#REF!,\"AAAAAE/331Y=\")","v":{"$error":"#REF!"}},{"$f":"AND(#REF!,\"AAAAAE/331c=\")","v":{"$error":"#REF!"}},{"$f":"AND(#REF!,\"AAAAAE/331g=\")","v":{"$error":"#REF!"}},{"$f":"AND(#REF!,\"AAAAAE/331k=\")","v":{"$error":"#REF!"}},{"$f":"AND(#REF!,\"AAAAAE/331o=\")","v":{"$error":"#REF!"}},{"$f":"AND(#REF!,\"AAAAAE/331s=\")","v":{"$error":"#REF!"}},{"$f":"AND(#REF!,\"AAAAAE/331w=\")","v":{"$error":"#REF!"}},{"$f":"IF(#REF!,\"AAAAAE/3310=\",0)","v":{"$error":"#REF!"}},{"$f":"AND(#REF!,\"AAAAAE/3314=\")","v":{"$error":"#REF!"}},{"$f":"AND(#REF!,\"AAAAAE/3318=\")","v":{"$error":"#REF!"}},{"$f":"AND(#REF!,\"AAAAAE/332A=\")","v":{"$error":"#REF!"}},{"$f":"AND(#REF!,\"AAAAAE/332E=\")","v":{"$error":"#REF!"}},{"$f":"AND(#REF!,\"AAAAAE/332I=\")","v":{"$error":"#REF!"}},{"$f":"AND(#REF!,\"AAAAAE/332M=\")","v":{"$error":"#REF!"}},{"$f":"AND(#REF!,\"AAAAAE/332Q=\")","v":{"$error":"#REF!"}},{"$f":"AND(#REF!,\"AAAAAE/332U=\")","v":{"$error":"#REF!"}},{"$f":"AND(#REF!,\"AAAAAE/332Y=\")","v":{"$error":"#REF!"}},{"$f":"AND(#REF!,\"AAAAAE/332c=\")","v":{"$error":"#REF!"}},{"$f":"AND(#REF!,\"AAAAAE/332g=\")","v":{"$error":"#REF!"}},{"$f":"AND(#REF!,\"AAAAAE/332k=\")","v":{"$error":"#REF!"}},{"$f":"AND(#REF!,\"AAAAAE/332o=\")","v":{"$error":"#REF!"}},{"$f":"AND(#REF!,\"AAAAAE/332s=\")","v":{"$error":"#REF!"}},{"$f":"AND(#REF!,\"AAAAAE/332w=\")","v":{"$error":"#REF!"}},{"$f":"AND(#REF!,\"AAAAAE/3320=\")","v":{"$error":"#REF!"}},{"$f":"AND(#REF!,\"AAAAAE/3324=\")","v":{"$error":"#REF!"}},{"$f":"AND(#REF!,\"AAAAAE/3328=\")","v":{"$error":"#REF!"}},{"$f":"AND(#REF!,\"AAAAAE/333A=\")","v":{"$error":"#REF!"}},{"$f":"AND(#REF!,\"AAAAAE/333E=\")","v":{"$error":"#REF!"}},{"$f":"IF(#REF!,\"AAAAAE/333I=\",0)","v":{"$error":"#REF!"}},{"$f":"AND(#REF!,\"AAAAAE/333M=\")","v":{"$error":"#REF!"}},{"$f":"AND(#REF!,\"AAAAAE/333Q=\")","v":{"$error":"#REF!"}},{"$f":"AND(#REF!,\"AAAAAE/333U=\")","v":{"$error":"#REF!"}},{"$f":"AND(#REF!,\"AAAAAE/333Y=\")","v":{"$error":"#REF!"}},{"$f":"AND(#REF!,\"AAAAAE/333c=\")","v":{"$error":"#REF!"}},{"$f":"AND(#REF!,\"AAAAAE/333g=\")","v":{"$error":"#REF!"}},{"$f":"AND(#REF!,\"AAAAAE/333k=\")","v":{"$error":"#REF!"}},{"$f":"AND(#REF!,\"AAAAAE/333o=\")","v":{"$error":"#REF!"}},{"$f":"AND(#REF!,\"AAAAAE/333s=\")","v":{"$error":"#REF!"}},{"$f":"AND(#REF!,\"AAAAAE/333w=\")","v":{"$error":"#REF!"}},{"$f":"AND(#REF!,\"AAAAAE/3330=\")","v":{"$error":"#REF!"}},{"$f":"AND(#REF!,\"AAAAAE/3334=\")","v":{"$error":"#REF!"}},{"$f":"AND(#REF!,\"AAAAAE/3338=\")","v":{"$error":"#REF!"}},{"$f":"AND(#REF!,\"AAAAAE/334A=\")","v":{"$error":"#REF!"}},{"$f":"AND(#REF!,\"AAAAAE/334E=\")","v":{"$error":"#REF!"}},{"$f":"AND(#REF!,\"AAAAAE/334I=\")","v":{"$error":"#REF!"}},{"$f":"AND(#REF!,\"AAAAAE/334M=\")","v":{"$error":"#REF!"}},{"$f":"AND(#REF!,\"AAAAAE/334Q=\")","v":{"$error":"#REF!"}},{"$f":"AND(#REF!,\"AAAAAE/334U=\")","v":{"$error":"#REF!"}},{"$f":"AND(#REF!,\"AAAAAE/334Y=\")","v":{"$error":"#REF!"}},{"$f":"IF(#REF!,\"AAAAAE/334c=\",0)","v":{"$error":"#REF!"}},{"$f":"AND(#REF!,\"AAAAAE/334g=\")","v":{"$error":"#REF!"}},{"$f":"AND(#REF!,\"AAAAAE/334k=\")","v":{"$error":"#REF!"}},{"$f":"AND(#REF!,\"AAAAAE/334o=\")","v":{"$error":"#REF!"}},{"$f":"AND(#REF!,\"AAAAAE/334s=\")","v":{"$error":"#REF!"}},{"$f":"AND(#REF!,\"AAAAAE/334w=\")","v":{"$error":"#REF!"}},{"$f":"AND(#REF!,\"AAAAAE/3340=\")","v":{"$error":"#REF!"}},{"$f":"AND(#REF!,\"AAAAAE/3344=\")","v":{"$error":"#REF!"}},{"$f":"AND(#REF!,\"AAAAAE/3348=\")","v":{"$error":"#REF!"}},{"$f":"AND(#REF!,\"AAAAAE/335A=\")","v":{"$error":"#REF!"}},{"$f":"AND(#REF!,\"AAAAAE/335E=\")","v":{"$error":"#REF!"}},{"$f":"AND(#REF!,\"AAAAAE/335I=\")","v":{"$error":"#REF!"}},{"$f":"AND(#REF!,\"AAAAAE/335M=\")","v":{"$error":"#REF!"}},{"$f":"AND(#REF!,\"AAAAAE/335Q=\")","v":{"$error":"#REF!"}},{"$f":"AND(#REF!,\"AAAAAE/335U=\")","v":{"$error":"#REF!"}},{"$f":"AND(#REF!,\"AAAAAE/335Y=\")","v":{"$error":"#REF!"}},{"$f":"AND(#REF!,\"AAAAAE/335c=\")","v":{"$error":"#REF!"}},{"$f":"AND(#REF!,\"AAAAAE/335g=\")","v":{"$error":"#REF!"}},{"$f":"AND(#REF!,\"AAAAAE/335k=\")","v":{"$error":"#REF!"}},{"$f":"AND(#REF!,\"AAAAAE/335o=\")","v":{"$error":"#REF!"}},{"$f":"AND(#REF!,\"AAAAAE/335s=\")","v":{"$error":"#REF!"}},{"$f":"IF(#REF!,\"AAAAAE/335w=\",0)","v":{"$error":"#REF!"}},{"$f":"AND(#REF!,\"AAAAAE/3350=\")","v":{"$error":"#REF!"}},{"$f":"AND(#REF!,\"AAAAAE/3354=\")","v":{"$error":"#REF!"}},{"$f":"AND(#REF!,\"AAAAAE/3358=\")","v":{"$error":"#REF!"}},{"$f":"AND(#REF!,\"AAAAAE/336A=\")","v":{"$error":"#REF!"}},{"$f":"AND(#REF!,\"AAAAAE/336E=\")","v":{"$error":"#REF!"}},{"$f":"AND(#REF!,\"AAAAAE/336I=\")","v":{"$error":"#REF!"}},{"$f":"AND(#REF!,\"AAAAAE/336M=\")","v":{"$error":"#REF!"}},{"$f":"AND(#REF!,\"AAAAAE/336Q=\")","v":{"$error":"#REF!"}},{"$f":"AND(#REF!,\"AAAAAE/336U=\")","v":{"$error":"#REF!"}},{"$f":"AND(#REF!,\"AAAAAE/336Y=\")","v":{"$error":"#REF!"}},{"$f":"AND(#REF!,\"AAAAAE/336c=\")","v":{"$error":"#REF!"}},{"$f":"AND(#REF!,\"AAAAAE/336g=\")","v":{"$error":"#REF!"}},{"$f":"AND(#REF!,\"AAAAAE/336k=\")","v":{"$error":"#REF!"}},{"$f":"AND(#REF!,\"AAAAAE/336o=\")","v":{"$error":"#REF!"}},{"$f":"AND(#REF!,\"AAAAAE/336s=\")","v":{"$error":"#REF!"}},{"$f":"AND(#REF!,\"AAAAAE/336w=\")","v":{"$error":"#REF!"}},{"$f":"AND(#REF!,\"AAAAAE/3360=\")","v":{"$error":"#REF!"}},{"$f":"AND(#REF!,\"AAAAAE/3364=\")","v":{"$error":"#REF!"}},{"$f":"AND(#REF!,\"AAAAAE/3368=\")","v":{"$error":"#REF!"}},{"$f":"AND(#REF!,\"AAAAAE/337A=\")","v":{"$error":"#REF!"}},{"$f":"IF(#REF!,\"AAAAAE/337E=\",0)","v":{"$error":"#REF!"}},{"$f":"AND(#REF!,\"AAAAAE/337I=\")","v":{"$error":"#REF!"}},{"$f":"AND(#REF!,\"AAAAAE/337M=\")","v":{"$error":"#REF!"}},{"$f":"AND(#REF!,\"AAAAAE/337Q=\")","v":{"$error":"#REF!"}},{"$f":"AND(#REF!,\"AAAAAE/337U=\")","v":{"$error":"#REF!"}},{"$f":"AND(#REF!,\"AAAAAE/337Y=\")","v":{"$error":"#REF!"}},{"$f":"AND(#REF!,\"AAAAAE/337c=\")","v":{"$error":"#REF!"}},{"$f":"AND(#REF!,\"AAAAAE/337g=\")","v":{"$error":"#REF!"}},{"$f":"AND(#REF!,\"AAAAAE/337k=\")","v":{"$error":"#REF!"}},{"$f":"AND(#REF!,\"AAAAAE/337o=\")","v":{"$error":"#REF!"}},{"$f":"AND(#REF!,\"AAAAAE/337s=\")","v":{"$error":"#REF!"}},{"$f":"AND(#REF!,\"AAAAAE/337w=\")","v":{"$error":"#REF!"}},{"$f":"AND(#REF!,\"AAAAAE/3370=\")","v":{"$error":"#REF!"}},{"$f":"AND(#REF!,\"AAAAAE/3374=\")","v":{"$error":"#REF!"}},{"$f":"AND(#REF!,\"AAAAAE/3378=\")","v":{"$error":"#REF!"}},{"$f":"AND(#REF!,\"AAAAAE/338A=\")","v":{"$error":"#REF!"}},{"$f":"AND(#REF!,\"AAAAAE/338E=\")","v":{"$error":"#REF!"}},{"$f":"AND(#REF!,\"AAAAAE/338I=\")","v":{"$error":"#REF!"}},{"$f":"AND(#REF!,\"AAAAAE/338M=\")","v":{"$error":"#REF!"}},{"$f":"AND(#REF!,\"AAAAAE/338Q=\")","v":{"$error":"#REF!"}},{"$f":"AND(#REF!,\"AAAAAE/338U=\")","v":{"$error":"#REF!"}},{"$f":"IF(#REF!,\"AAAAAE/338Y=\",0)","v":{"$error":"#REF!"}},{"$f":"AND(#REF!,\"AAAAAE/338c=\")","v":{"$error":"#REF!"}},{"$f":"AND(#REF!,\"AAAAAE/338g=\")","v":{"$error":"#REF!"}},{"$f":"AND(#REF!,\"AAAAAE/338k=\")","v":{"$error":"#REF!"}},{"$f":"AND(#REF!,\"AAAAAE/338o=\")","v":{"$error":"#REF!"}},{"$f":"AND(#REF!,\"AAAAAE/338s=\")","v":{"$error":"#REF!"}},{"$f":"AND(#REF!,\"AAAAAE/338w=\")","v":{"$error":"#REF!"}},{"$f":"AND(#REF!,\"AAAAAE/3380=\")","v":{"$error":"#REF!"}},{"$f":"AND(#REF!,\"AAAAAE/3384=\")","v":{"$error":"#REF!"}},{"$f":"AND(#REF!,\"AAAAAE/3388=\")","v":{"$error":"#REF!"}},{"$f":"AND(#REF!,\"AAAAAE/339A=\")","v":{"$error":"#REF!"}},{"$f":"AND(#REF!,\"AAAAAE/339E=\")","v":{"$error":"#REF!"}},{"$f":"AND(#REF!,\"AAAAAE/339I=\")","v":{"$error":"#REF!"}},{"$f":"AND(#REF!,\"AAAAAE/339M=\")","v":{"$error":"#REF!"}},{"$f":"AND(#REF!,\"AAAAAE/339Q=\")","v":{"$error":"#REF!"}},{"$f":"AND(#REF!,\"AAAAAE/339U=\")","v":{"$error":"#REF!"}},{"$f":"AND(#REF!,\"AAAAAE/339Y=\")","v":{"$error":"#REF!"}},{"$f":"AND(#REF!,\"AAAAAE/339c=\")","v":{"$error":"#REF!"}},{"$f":"AND(#REF!,\"AAAAAE/339g=\")","v":{"$error":"#REF!"}},{"$f":"AND(#REF!,\"AAAAAE/339k=\")","v":{"$error":"#REF!"}},{"$f":"AND(#REF!,\"AAAAAE/339o=\")","v":{"$error":"#REF!"}},{"$f":"IF(#REF!,\"AAAAAE/339s=\",0)","v":{"$error":"#REF!"}},{"$f":"AND(#REF!,\"AAAAAE/339w=\")","v":{"$error":"#REF!"}},{"$f":"AND(#REF!,\"AAAAAE/3390=\")","v":{"$error":"#REF!"}},{"$f":"AND(#REF!,\"AAAAAE/3394=\")","v":{"$error":"#REF!"}},{"$f":"AND(#REF!,\"AAAAAE/3398=\")","v":{"$error":"#REF!"}},{"$f":"AND(#REF!,\"AAAAAE/33+A=\")","v":{"$error":"#REF!"}},{"$f":"AND(#REF!,\"AAAAAE/33+E=\")","v":{"$error":"#REF!"}},{"$f":"AND(#REF!,\"AAAAAE/33+I=\")","v":{"$error":"#REF!"}},{"$f":"AND(#REF!,\"AAAAAE/33+M=\")","v":{"$error":"#REF!"}},{"$f":"AND(#REF!,\"AAAAAE/33+Q=\")","v":{"$error":"#REF!"}},{"$f":"AND(#REF!,\"AAAAAE/33+U=\")","v":{"$error":"#REF!"}},{"$f":"AND(#REF!,\"AAAAAE/33+Y=\")","v":{"$error":"#REF!"}},{"$f":"AND(#REF!,\"AAAAAE/33+c=\")","v":{"$error":"#REF!"}},{"$f":"AND(#REF!,\"AAAAAE/33+g=\")","v":{"$error":"#REF!"}},{"$f":"AND(#REF!,\"AAAAAE/33+k=\")","v":{"$error":"#REF!"}},{"$f":"AND(#REF!,\"AAAAAE/33+o=\")","v":{"$error":"#REF!"}},{"$f":"AND(#REF!,\"AAAAAE/33+s=\")","v":{"$error":"#REF!"}},{"$f":"AND(#REF!,\"AAAAAE/33+w=\")","v":{"$error":"#REF!"}},{"$f":"AND(#REF!,\"AAAAAE/33+0=\")","v":{"$error":"#REF!"}},{"$f":"AND(#REF!,\"AAAAAE/33+4=\")","v":{"$error":"#REF!"}},{"$f":"AND(#REF!,\"AAAAAE/33+8=\")","v":{"$error":"#REF!"}},{"$f":"IF(#REF!,\"AAAAAE/33/A=\",0)","v":{"$error":"#REF!"}},{"$f":"AND(#REF!,\"AAAAAE/33/E=\")","v":{"$error":"#REF!"}},{"$f":"AND(#REF!,\"AAAAAE/33/I=\")","v":{"$error":"#REF!"}},{"$f":"AND(#REF!,\"AAAAAE/33/M=\")","v":{"$error":"#REF!"}},{"$f":"AND(#REF!,\"AAAAAE/33/Q=\")","v":{"$error":"#REF!"}},{"$f":"AND(#REF!,\"AAAAAE/33/U=\")","v":{"$error":"#REF!"}},{"$f":"AND(#REF!,\"AAAAAE/33/Y=\")","v":{"$error":"#REF!"}},{"$f":"AND(#REF!,\"AAAAAE/33/c=\")","v":{"$error":"#REF!"}},{"$f":"AND(#REF!,\"AAAAAE/33/g=\")","v":{"$error":"#REF!"}},{"$f":"AND(#REF!,\"AAAAAE/33/k=\")","v":{"$error":"#REF!"}},{"$f":"AND(#REF!,\"AAAAAE/33/o=\")","v":{"$error":"#REF!"}},{"$f":"AND(#REF!,\"AAAAAE/33/s=\")","v":{"$error":"#REF!"}},{"$f":"AND(#REF!,\"AAAAAE/33/w=\")","v":{"$error":"#REF!"}},{"$f":"AND(#REF!,\"AAAAAE/33/0=\")","v":{"$error":"#REF!"}},{"$f":"AND(#REF!,\"AAAAAE/33/4=\")","v":{"$error":"#REF!"}},{"$f":"AND(#REF!,\"AAAAAE/33/8=\")","v":{"$error":"#REF!"}}]
[{"$f":"AND(#REF!,\"AAAAAFr7zwA=\")","v":{"$error":"#REF!"}},{"$f":"AND(#REF!,\"AAAAAFr7zwE=\")","v":{"$error":"#REF!"}},{"$f":"AND(#REF!,\"AAAAAFr7zwI=\")","v":{"$error":"#REF!"}},{"$f":"AND(#REF!,\"AAAAAFr7zwM=\")","v":{"$error":"#REF!"}},{"$f":"AND(#REF!,\"AAAAAFr7zwQ=\")","v":{"$error":"#REF!"}},{"$f":"IF(#REF!,\"AAAAAFr7zwU=\",0)","v":{"$error":"#REF!"}},{"$f":"AND(#REF!,\"AAAAAFr7zwY=\")","v":{"$error":"#REF!"}},{"$f":"AND(#REF!,\"AAAAAFr7zwc=\")","v":{"$error":"#REF!"}},{"$f":"AND(#REF!,\"AAAAAFr7zwg=\")","v":{"$error":"#REF!"}},{"$f":"AND(#REF!,\"AAAAAFr7zwk=\")","v":{"$error":"#REF!"}},{"$f":"AND(#REF!,\"AAAAAFr7zwo=\")","v":{"$error":"#REF!"}},{"$f":"AND(#REF!,\"AAAAAFr7zws=\")","v":{"$error":"#REF!"}},{"$f":"AND(#REF!,\"AAAAAFr7zww=\")","v":{"$error":"#REF!"}},{"$f":"AND(#REF!,\"AAAAAFr7zw0=\")","v":{"$error":"#REF!"}},{"$f":"AND(#REF!,\"AAAAAFr7zw4=\")","v":{"$error":"#REF!"}},{"$f":"AND(#REF!,\"AAAAAFr7zw8=\")","v":{"$error":"#REF!"}},{"$f":"AND(#REF!,\"AAAAAFr7zxA=\")","v":{"$error":"#REF!"}},{"$f":"AND(#REF!,\"AAAAAFr7zxE=\")","v":{"$error":"#REF!"}},{"$f":"AND(#REF!,\"AAAAAFr7zxI=\")","v":{"$error":"#REF!"}},{"$f":"AND(#REF!,\"AAAAAFr7zxM=\")","v":{"$error":"#REF!"}},{"$f":"AND(#REF!,\"AAAAAFr7zxQ=\")","v":{"$error":"#REF!"}},{"$f":"AND(#REF!,\"AAAAAFr7zxU=\")","v":{"$error":"#REF!"}},{"$f":"AND(#REF!,\"AAAAAFr7zxY=\")","v":{"$error":"#REF!"}},{"$f":"AND(#REF!,\"AAAAAFr7zxc=\")","v":{"$error":"#REF!"}},{"$f":"AND(#REF!,\"AAAAAFr7zxg=\")","v":{"$error":"#REF!"}},{"$f":"AND(#REF!,\"AAAAAFr7zxk=\")","v":{"$error":"#REF!"}},{"$f":"IF(#REF!,\"AAAAAFr7zxo=\",0)","v":{"$error":"#REF!"}},{"$f":"AND(#REF!,\"AAAAAFr7zxs=\")","v":{"$error":"#REF!"}},{"$f":"AND(#REF!,\"AAAAAFr7zxw=\")","v":{"$error":"#REF!"}},{"$f":"AND(#REF!,\"AAAAAFr7zx0=\")","v":{"$error":"#REF!"}},{"$f":"AND(#REF!,\"AAAAAFr7zx4=\")","v":{"$error":"#REF!"}},{"$f":"AND(#REF!,\"AAAAAFr7zx8=\")","v":{"$error":"#REF!"}},{"$f":"AND(#REF!,\"AAAAAFr7zyA=\")","v":{"$error":"#REF!"}},{"$f":"AND(#REF!,\"AAAAAFr7zyE=\")","v":{"$error":"#REF!"}},{"$f":"AND(#REF!,\"AAAAAFr7zyI=\")","v":{"$error":"#REF!"}},{"$f":"AND(#REF!,\"AAAAAFr7zyM=\")","v":{"$error":"#REF!"}},{"$f":"AND(#REF!,\"AAAAAFr7zyQ=\")","v":{"$error":"#REF!"}},{"$f":"AND(#REF!,\"AAAAAFr7zyU=\")","v":{"$error":"#REF!"}},{"$f":"AND(#REF!,\"AAAAAFr7zyY=\")","v":{"$error":"#REF!"}},{"$f":"AND(#REF!,\"AAAAAFr7zyc=\")","v":{"$error":"#REF!"}},{"$f":"AND(#REF!,\"AAAAAFr7zyg=\")","v":{"$error":"#REF!"}},{"$f":"AND(#REF!,\"AAAAAFr7zyk=\")","v":{"$error":"#REF!"}},{"$f":"AND(#REF!,\"AAAAAFr7zyo=\")","v":{"$error":"#REF!"}},{"$f":"AND(#REF!,\"AAAAAFr7zys=\")","v":{"$error":"#REF!"}},{"$f":"AND(#REF!,\"AAAAAFr7zyw=\")","v":{"$error":"#REF!"}},{"$f":"AND(#REF!,\"AAAAAFr7zy0=\")","v":{"$error":"#REF!"}},{"$f":"AND(#REF!,\"AAAAAFr7zy4=\")","v":{"$error":"#REF!"}},{"$f":"IF(#REF!,\"AAAAAFr7zy8=\",0)","v":{"$error":"#REF!"}},{"$f":"AND(#REF!,\"AAAAAFr7zzA=\")","v":{"$error":"#REF!"}},{"$f":"AND(#REF!,\"AAAAAFr7zzE=\")","v":{"$error":"#REF!"}},{"$f":"AND(#REF!,\"AAAAAFr7zzI=\")","v":{"$error":"#REF!"}},{"$f":"AND(#REF!,\"AAAAAFr7zzM=\")","v":{"$error":"#REF!"}},{"$f":"AND(#REF!,\"AAAAAFr7zzQ=\")","v":{"$error":"#REF!"}},{"$f":"AND(#REF!,\"AAAAAFr7zzU=\")","v":{"$error":"#REF!"}},{"$f":"AND(#REF!,\"AAAAAFr7zzY=\")","v":{"$error":"#REF!"}},{"$f":"AND(#REF!,\"AAAAAFr7zzc=\")","v":{"$error":"#REF!"}},{"$f":"AND(#REF!,\"AAAAAFr7zzg=\")","v":{"$error":"#REF!"}},{"$f":"AND(#REF!,\"AAAAAFr7zzk=\")","v":{"$error":"#REF!"}},{"$f":"AND(#REF!,\"AAAAAFr7zzo=\")","v":{"$error":"#REF!"}},{"$f":"AND(#REF!,\"AAAAAFr7zzs=\")","v":{"$error":"#REF!"}},{"$f":"AND(#REF!,\"AAAAAFr7zzw=\")","v":{"$error":"#REF!"}},{"$f":"AND(#REF!,\"AAAAAFr7zz0=\")","v":{"$error":"#REF!"}},{"$f":"AND(#REF!,\"AAAAAFr7zz4=\")","v":{"$error":"#REF!"}},{"$f":"AND(#REF!,\"AAAAAFr7zz8=\")","v":{"$error":"#REF!"}},{"$f":"AND(#REF!,\"AAAAAFr7z0A=\")","v":{"$error":"#REF!"}},{"$f":"AND(#REF!,\"AAAAAFr7z0E=\")","v":{"$error":"#REF!"}},{"$f":"AND(#REF!,\"AAAAAFr7z0I=\")","v":{"$error":"#REF!"}},{"$f":"AND(#REF!,\"AAAAAFr7z0M=\")","v":{"$error":"#REF!"}},{"$f":"IF(#REF!,\"AAAAAFr7z0Q=\",0)","v":{"$error":"#REF!"}},{"$f":"AND(#REF!,\"AAAAAFr7z0U=\")","v":{"$error":"#REF!"}},{"$f":"AND(#REF!,\"AAAAAFr7z0Y=\")","v":{"$error":"#REF!"}},{"$f":"AND(#REF!,\"AAAAAFr7z0c=\")","v":{"$error":"#REF!"}},{"$f":"AND(#REF!,\"AAAAAFr7z0g=\")","v":{"$error":"#REF!"}},{"$f":"AND(#REF!,\"AAAAAFr7z0k=\")","v":{"$error":"#REF!"}},{"$f":"AND(#REF!,\"AAAAAFr7z0o=\")","v":{"$error":"#REF!"}},{"$f":"AND(#REF!,\"AAAAAFr7z0s=\")","v":{"$error":"#REF!"}},{"$f":"AND(#REF!,\"AAAAAFr7z0w=\")","v":{"$error":"#REF!"}},{"$f":"AND(#REF!,\"AAAAAFr7z00=\")","v":{"$error":"#REF!"}},{"$f":"AND(#REF!,\"AAAAAFr7z04=\")","v":{"$error":"#REF!"}},{"$f":"AND(#REF!,\"AAAAAFr7z08=\")","v":{"$error":"#REF!"}},{"$f":"AND(#REF!,\"AAAAAFr7z1A=\")","v":{"$error":"#REF!"}},{"$f":"AND(#REF!,\"AAAAAFr7z1E=\")","v":{"$error":"#REF!"}},{"$f":"AND(#REF!,\"AAAAAFr7z1I=\")","v":{"$error":"#REF!"}},{"$f":"AND(#REF!,\"AAAAAFr7z1M=\")","v":{"$error":"#REF!"}},{"$f":"AND(#REF!,\"AAAAAFr7z1Q=\")","v":{"$error":"#REF!"}},{"$f":"AND(#REF!,\"AAAAAFr7z1U=\")","v":{"$error":"#REF!"}},{"$f":"AND(#REF!,\"AAAAAFr7z1Y=\")","v":{"$error":"#REF!"}},{"$f":"AND(#REF!,\"AAAAAFr7z1c=\")","v":{"$error":"#REF!"}},{"$f":"AND(#REF!,\"AAAAAFr7z1g=\")","v":{"$error":"#REF!"}},{"$f":"IF(#REF!,\"AAAAAFr7z1k=\",0)","v":{"$error":"#REF!"}},{"$f":"AND(#REF!,\"AAAAAFr7z1o=\")","v":{"$error":"#REF!"}},{"$f":"AND(#REF!,\"AAAAAFr7z1s=\")","v":{"$error":"#REF!"}},{"$f":"AND(#REF!,\"AAAAAFr7z1w=\")","v":{"$error":"#REF!"}},{"$f":"AND(#REF!,\"AAAAAFr7z10=\")","v":{"$error":"#REF!"}},{"$f":"AND(#REF!,\"AAAAAFr7z14=\")","v":{"$error":"#REF!"}},{"$f":"AND(#REF!,\"AAAAAFr7z18=\")","v":{"$error":"#REF!"}},{"$f":"AND(#REF!,\"AAAAAFr7z2A=\")","v":{"$error":"#REF!"}},{"$f":"AND(#REF!,\"AAAAAFr7z2E=\")","v":{"$error":"#REF!"}},{"$f":"AND(#REF!,\"AAAAAFr7z2I=\")","v":{"$error":"#REF!"}},{"$f":"AND(#REF!,\"AAAAAFr7z2M=\")","v":{"$error":"#REF!"}},{"$f":"AND(#REF!,\"AAAAAFr7z2Q=\")","v":{"$error":"#REF!"}},{"$f":"AND(#REF!,\"AAAAAFr7z2U=\")","v":{"$error":"#REF!"}},{"$f":"AND(#REF!,\"AAAAAFr7z2Y=\")","v":{"$error":"#REF!"}},{"$f":"AND(#REF!,\"AAAAAFr7z2c=\")","v":{"$error":"#REF!"}},{"$f":"AND(#REF!,\"AAAAAFr7z2g=\")","v":{"$error":"#REF!"}},{"$f":"AND(#REF!,\"AAAAAFr7z2k=\")","v":{"$error":"#REF!"}},{"$f":"AND(#REF!,\"AAAAAFr7z2o=\")","v":{"$error":"#REF!"}},{"$f":"AND(#REF!,\"AAAAAFr7z2s=\")","v":{"$error":"#REF!"}},{"$f":"AND(#REF!,\"AAAAAFr7z2w=\")","v":{"$error":"#REF!"}},{"$f":"AND(#REF!,\"AAAAAFr7z20=\")","v":{"$error":"#REF!"}},{"$f":"IF(#REF!,\"AAAAAFr7z24=\",0)","v":{"$error":"#REF!"}},{"$f":"AND(#REF!,\"AAAAAFr7z28=\")","v":{"$error":"#REF!"}},{"$f":"AND(#REF!,\"AAAAAFr7z3A=\")","v":{"$error":"#REF!"}},{"$f":"AND(#REF!,\"AAAAAFr7z3E=\")","v":{"$error":"#REF!"}},{"$f":"AND(#REF!,\"AAAAAFr7z3I=\")","v":{"$error":"#REF!"}},{"$f":"AND(#REF!,\"AAAAAFr7z3M=\")","v":{"$error":"#REF!"}},{"$f":"AND(#REF!,\"AAAAAFr7z3Q=\")","v":{"$error":"#REF!"}},{"$f":"AND(#REF!,\"AAAAAFr7z3U=\")","v":{"$error":"#REF!"}},{"$f":"AND(#REF!,\"AAAAAFr7z3Y=\")","v":{"$error":"#REF!"}},{"$f":"AND(#REF!,\"AAAAAFr7z3c=\")","v":{"$error":"#REF!"}},{"$f":"AND(#REF!,\"AAAAAFr7z3g=\")","v":{"$error":"#REF!"}},{"$f":"AND(#REF!,\"AAAAAFr7z3k=\")","v":{"$error":"#REF!"}},{"$f":"AND(#REF!,\"AAAAAFr7z3o=\")","v":{"$error":"#REF!"}},{"$f":"AND(#REF!,\"AAAAAFr7z3s=\")","v":{"$error":"#REF!"}},{"$f":"AND(#REF!,\"AAAAAFr7z3w=\")","v":{"$error":"#REF!"}},{"$f":"AND(#REF!,\"AAAAAFr7z30=\")","v":{"$error":"#REF!"}},{"$f":"AND(#REF!,\"AAAAAFr7z34=\")","v":{"$error":"#REF!"}},{"$f":"AND(#REF!,\"AAAAAFr7z38=\")","v":{"$error":"#REF!"}},{"$f":"AND(#REF!,\"AAAAAFr7z4A=\")","v":{"$error":"#REF!"}},{"$f":"AND(#REF!,\"AAAAAFr7z4E=\")","v":{"$error":"#REF!"}},{"$f":"AND(#REF!,\"AAAAAFr7z4I=\")","v":{"$error":"#REF!"}},{"$f":"IF(#REF!,\"AAAAAFr7z4M=\",0)","v":{"$error":"#REF!"}},{"$f":"AND(#REF!,\"AAAAAFr7z4Q=\")","v":{"$error":"#REF!"}},{"$f":"AND(#REF!,\"AAAAAFr7z4U=\")","v":{"$error":"#REF!"}},{"$f":"AND(#REF!,\"AAAAAFr7z4Y=\")","v":{"$error":"#REF!"}},{"$f":"AND(#REF!,\"AAAAAFr7z4c=\")","v":{"$error":"#REF!"}},{"$f":"AND(#REF!,\"AAAAAFr7z4g=\")","v":{"$error":"#REF!"}},{"$f":"AND(#REF!,\"AAAAAFr7z4k=\")","v":{"$error":"#REF!"}},{"$f":"AND(#REF!,\"AAAAAFr7z4o=\")","v":{"$error":"#REF!"}},{"$f":"AND(#REF!,\"AAAAAFr7z4s=\")","v":{"$error":"#REF!"}},{"$f":"AND(#REF!,\"AAAAAFr7z4w=\")","v":{"$error":"#REF!"}},{"$f":"AND(#REF!,\"AAAAAFr7z40=\")","v":{"$error":"#REF!"}},{"$f":"AND(#REF!,\"AAAAAFr7z44=\")","v":{"$error":"#REF!"}},{"$f":"AND(#REF!,\"AAAAAFr7z48=\")","v":{"$error":"#REF!"}},{"$f":"AND(#REF!,\"AAAAAFr7z5A=\")","v":{"$error":"#REF!"}},{"$f":"AND(#REF!,\"AAAAAFr7z5E=\")","v":{"$error":"#REF!"}},{"$f":"AND(#REF!,\"AAAAAFr7z5I=\")","v":{"$error":"#REF!"}},{"$f":"AND(#REF!,\"AAAAAFr7z5M=\")","v":{"$error":"#REF!"}},{"$f":"AND(#REF!,\"AAAAAFr7z5Q=\")","v":{"$error":"#REF!"}},{"$f":"AND(#REF!,\"AAAAAFr7z5U=\")","v":{"$error":"#REF!"}},{"$f":"AND(#REF!,\"AAAAAFr7z5Y=\")","v":{"$error":"#REF!"}},{"$f":"AND(#REF!,\"AAAAAFr7z5c=\")","v":{"$error":"#REF!"}},{"$f":"IF(#REF!,\"AAAAAFr7z5g=\",0)","v":{"$error":"#REF!"}},{"$f":"AND(#REF!,\"AAAAAFr7z5k=\")","v":{"$error":"#REF!"}},{"$f":"AND(#REF!,\"AAAAAFr7z5o=\")","v":{"$error":"#REF!"}},{"$f":"AND(#REF!,\"AAAAAFr7z5s=\")","v":{"$error":"#REF!"}},{"$f":"AND(#REF!,\"AAAAAFr7z5w=\")","v":{"$error":"#REF!"}},{"$f":"AND(#REF!,\"AAAAAFr7z50=\")","v":{"$error":"#REF!"}},{"$f":"AND(#REF!,\"AAAAAFr7z54=\")","v":{"$error":"#REF!"}},{"$f":"AND(#REF!,\"AAAAAFr7z58=\")","v":{"$error":"#REF!"}},{"$f":"AND(#REF!,\"AAAAAFr7z6A=\")","v":{"$error":"#REF!"}},{"$f":"AND(#REF!,\"AAAAAFr7z6E=\")","v":{"$error":"#REF!"}},{"$f":"AND(#REF!,\"AAAAAFr7z6I=\")","v":{"$error":"#REF!"}},{"$f":"AND(#REF!,\"AAAAAFr7z6M=\")","v":{"$error":"#REF!"}},{"$f":"AND(#REF!,\"AAAAAFr7z6Q=\")","v":{"$error":"#REF!"}},{"$f":"AND(#REF!,\"AAAAAFr7z6U=\")","v":{"$error":"#REF!"}},{"$f":"AND(#REF!,\"AAAAAFr7z6Y=\")","v":{"$error":"#REF!"}},{"$f":"AND(#REF!,\"AAAAAFr7z6c=\")","v":{"$error":"#REF!"}},{"$f":"AND(#REF!,\"AAAAAFr7z6g=\")","v":{"$error":"#REF!"}},{"$f":"AND(#REF!,\"AAAAAFr7z6k=\")","v":{"$error":"#REF!"}},{"$f":"AND(#REF!,\"AAAAAFr7z6o=\")","v":{"$error":"#REF!"}},{"$f":"AND(#REF!,\"AAAAAFr7z6s=\")","v":{"$error":"#REF!"}},{"$f":"AND(#REF!,\"AAAAAFr7z6w=\")","v":{"$error":"#REF!"}},{"$f":"IF(#REF!,\"AAAAAFr7z60=\",0)","v":{"$error":"#REF!"}},{"$f":"AND(#REF!,\"AAAAAFr7z64=\")","v":{"$error":"#REF!"}},{"$f":"AND(#REF!,\"AAAAAFr7z68=\")","v":{"$error":"#REF!"}},{"$f":"AND(#REF!,\"AAAAAFr7z7A=\")","v":{"$error":"#REF!"}},{"$f":"AND(#REF!,\"AAAAAFr7z7E=\")","v":{"$error":"#REF!"}},{"$f":"AND(#REF!,\"AAAAAFr7z7I=\")","v":{"$error":"#REF!"}},{"$f":"AND(#REF!,\"AAAAAFr7z7M=\")","v":{"$error":"#REF!"}},{"$f":"AND(#REF!,\"AAAAAFr7z7Q=\")","v":{"$error":"#REF!"}},{"$f":"AND(#REF!,\"AAAAAFr7z7U=\")","v":{"$error":"#REF!"}},{"$f":"AND(#REF!,\"AAAAAFr7z7Y=\")","v":{"$error":"#REF!"}},{"$f":"AND(#REF!,\"AAAAAFr7z7c=\")","v":{"$error":"#REF!"}},{"$f":"AND(#REF!,\"AAAAAFr7z7g=\")","v":{"$error":"#REF!"}},{"$f":"AND(#REF!,\"AAAAAFr7z7k=\")","v":{"$error":"#REF!"}},{"$f":"AND(#REF!,\"AAAAAFr7z7o=\")","v":{"$error":"#REF!"}},{"$f":"AND(#REF!,\"AAAAAFr7z7s=\")","v":{"$error":"#REF!"}},{"$f":"AND(#REF!,\"AAAAAFr7z7w=\")","v":{"$error":"#REF!"}},{"$f":"AND(#REF!,\"AAAAAFr7z70=\")","v":{"$error":"#REF!"}},{"$f":"AND(#REF!,\"AAAAAFr7z74=\")","v":{"$error":"#REF!"}},{"$f":"AND(#REF!,\"AAAAAFr7z78=\")","v":{"$error":"#REF!"}},{"$f":"AND(#REF!,\"AAAAAFr7z8A=\")","v":{"$error":"#REF!"}},{"$f":"AND(#REF!,\"AAAAAFr7z8E=\")","v":{"$error":"#REF!"}},{"$f":"IF(#REF!,\"AAAAAFr7z8I=\",0)","v":{"$error":"#REF!"}},{"$f":"AND(#REF!,\"AAAAAFr7z8M=\")","v":{"$error":"#REF!"}},{"$f":"AND(#REF!,\"AAAAAFr7z8Q=\")","v":{"$error":"#REF!"}},{"$f":"AND(#REF!,\"AAAAAFr7z8U=\")","v":{"$error":"#REF!"}},{"$f":"AND(#REF!,\"AAAAAFr7z8Y=\")","v":{"$error":"#REF!"}},{"$f":"AND(#REF!,\"AAAAAFr7z8c=\")","v":{"$error":"#REF!"}},{"$f":"AND(#REF!,\"AAAAAFr7z8g=\")","v":{"$error":"#REF!"}},{"$f":"AND(#REF!,\"AAAAAFr7z8k=\")","v":{"$error":"#REF!"}},{"$f":"AND(#REF!,\"AAAAAFr7z8o=\")","v":{"$error":"#REF!"}},{"$f":"AND(#REF!,\"AAAAAFr7z8s=\")","v":{"$error":"#REF!"}},{"$f":"AND(#REF!,\"AAAAAFr7z8w=\")","v":{"$error":"#REF!"}},{"$f":"AND(#REF!,\"AAAAAFr7z80=\")","v":{"$error":"#REF!"}},{"$f":"AND(#REF!,\"AAAAAFr7z84=\")","v":{"$error":"#REF!"}},{"$f":"AND(#REF!,\"AAAAAFr7z88=\")","v":{"$error":"#REF!"}},{"$f":"AND(#REF!,\"AAAAAFr7z9A=\")","v":{"$error":"#REF!"}},{"$f":"AND(#REF!,\"AAAAAFr7z9E=\")","v":{"$error":"#REF!"}},{"$f":"AND(#REF!,\"AAAAAFr7z9I=\")","v":{"$error":"#REF!"}},{"$f":"AND(#REF!,\"AAAAAFr7z9M=\")","v":{"$error":"#REF!"}},{"$f":"AND(#REF!,\"AAAAAFr7z9Q=\")","v":{"$error":"#REF!"}},{"$f":"AND(#REF!,\"AAAAAFr7z9U=\")","v":{"$error":"#REF!"}},{"$f":"AND(#REF!,\"AAAAAFr7z9Y=\")","v":{"$error":"#REF!"}},{"$f":"IF(#REF!,\"AAAAAFr7z9c=\",0)","v":{"$error":"#REF!"}},{"$f":"AND(#REF!,\"AAAAAFr7z9g=\")","v":{"$error":"#REF!"}},{"$f":"AND(#REF!,\"AAAAAFr7z9k=\")","v":{"$error":"#REF!"}},{"$f":"AND(#REF!,\"AAAAAFr7z9o=\")","v":{"$error":"#REF!"}},{"$f":"AND(#REF!,\"AAAAAFr7z9s=\")","v":{"$error":"#REF!"}},{"$f":"AND(#REF!,\"AAAAAFr7z9w=\")","v":{"$error":"#REF!"}},{"$f":"AND(#REF!,\"AAAAAFr7z90=\")","v":{"$error":"#REF!"}},{"$f":"AND(#REF!,\"AAAAAFr7z94=\")","v":{"$error":"#REF!"}},{"$f":"AND(#REF!,\"AAAAAFr7z98=\")","v":{"$error":"#REF!"}},{"$f":"AND(#REF!,\"AAAAAFr7z+A=\")","v":{"$error":"#REF!"}},{"$f":"AND(#REF!,\"AAAAAFr7z+E=\")","v":{"$error":"#REF!"}},{"$f":"AND(#REF!,\"AAAAAFr7z+I=\")","v":{"$error":"#REF!"}},{"$f":"AND(#REF!,\"AAAAAFr7z+M=\")","v":{"$error":"#REF!"}},{"$f":"AND(#REF!,\"AAAAAFr7z+Q=\")","v":{"$error":"#REF!"}},{"$f":"AND(#REF!,\"AAAAAFr7z+U=\")","v":{"$error":"#REF!"}},{"$f":"AND(#REF!,\"AAAAAFr7z+Y=\")","v":{"$error":"#REF!"}},{"$f":"AND(#REF!,\"AAAAAFr7z+c=\")","v":{"$error":"#REF!"}},{"$f":"AND(#REF!,\"AAAAAFr7z+g=\")","v":{"$error":"#REF!"}},{"$f":"AND(#REF!,\"AAAAAFr7z+k=\")","v":{"$error":"#REF!"}},{"$f":"AND(#REF!,\"AAAAAFr7z+o=\")","v":{"$error":"#REF!"}},{"$f":"AND(#REF!,\"AAAAAFr7z+s=\")","v":{"$error":"#REF!"}},{"$f":"IF(#REF!,\"AAAAAFr7z+w=\",0)","v":{"$error":"#REF!"}},{"$f":"AND(#REF!,\"AAAAAFr7z+0=\")","v":{"$error":"#REF!"}},{"$f":"AND(#REF!,\"AAAAAFr7z+4=\")","v":{"$error":"#REF!"}},{"$f":"AND(#REF!,\"AAAAAFr7z+8=\")","v":{"$error":"#REF!"}},{"$f":"AND(#REF!,\"AAAAAFr7z/A=\")","v":{"$error":"#REF!"}},{"$f":"AND(#REF!,\"AAAAAFr7z/E=\")","v":{"$error":"#REF!"}},{"$f":"AND(#REF!,\"AAAAAFr7z/I=\")","v":{"$error":"#REF!"}},{"$f":"AND(#REF!,\"AAAAAFr7z/M=\")","v":{"$error":"#REF!"}},{"$f":"AND(#REF!,\"AAAAAFr7z/Q=\")","v":{"$error":"#REF!"}},{"$f":"AND(#REF!,\"AAAAAFr7z/U=\")","v":{"$error":"#REF!"}},{"$f":"AND(#REF!,\"AAAAAFr7z/Y=\")","v":{"$error":"#REF!"}},{"$f":"AND(#REF!,\"AAAAAFr7z/c=\")","v":{"$error":"#REF!"}},{"$f":"AND(#REF!,\"AAAAAFr7z/g=\")","v":{"$error":"#REF!"}},{"$f":"AND(#REF!,\"AAAAAFr7z/k=\")","v":{"$error":"#REF!"}},{"$f":"AND(#REF!,\"AAAAAFr7z/o=\")","v":{"$error":"#REF!"}},{"$f":"AND(#REF!,\"AAAAAFr7z/s=\")","v":{"$error":"#REF!"}},{"$f":"AND(#REF!,\"AAAAAFr7z/w=\")","v":{"$error":"#REF!"}},{"$f":"AND(#REF!,\"AAAAAFr7z/0=\")","v":{"$error":"#REF!"}},{"$f":"AND(#REF!,\"AAAAAFr7z/4=\")","v":{"$error":"#REF!"}},{"$f":"AND(#REF!,\"AAAAAFr7z/8=\")","v":{"$error":"#REF!"}}]
[{"$f":"AND(#REF!,\"AAAAAH9/ewA=\")","v":{"$error":"#REF!"}},{"$f":"IF(#REF!,\"AAAAAH9/ewE=\",0)","v":{"$error":"#REF!"}},{"$f":"AND(#REF!,\"AAAAAH9/ewI=\")","v":{"$error":"#REF!"}},{"$f":"AND(#REF!,\"AAAAAH9/ewM=\")","v":{"$error":"#REF!"}},{"$f":"AND(#REF!,\"AAAAAH9/ewQ=\")","v":{"$error":"#REF!"}},{"$f":"AND(#REF!,\"AAAAAH9/ewU=\")","v":{"$error":"#REF!"}},{"$f":"AND(#REF!,\"AAAAAH9/ewY=\")","v":{"$error":"#REF!"}},{"$f":"AND(#REF!,\"AAAAAH9/ewc=\")","v":{"$error":"#REF!"}},{"$f":"AND(#REF!,\"AAAAAH9/ewg=\")","v":{"$error":"#REF!"}},{"$f":"AND(#REF!,\"AAAAAH9/ewk=\")","v":{"$error":"#REF!"}},{"$f":"AND(#REF!,\"AAAAAH9/ewo=\")","v":{"$error":"#REF!"}},{"$f":"AND(#REF!,\"AAAAAH9/ews=\")","v":{"$error":"#REF!"}},{"$f":"AND(#REF!,\"AAAAAH9/eww=\")","v":{"$error":"#REF!"}},{"$f":"AND(#REF!,\"AAAAAH9/ew0=\")","v":{"$error":"#REF!"}},{"$f":"AND(#REF!,\"AAAAAH9/ew4=\")","v":{"$error":"#REF!"}},{"$f":"AND(#REF!,\"AAAAAH9/ew8=\")","v":{"$error":"#REF!"}},{"$f":"AND(#REF!,\"AAAAAH9/exA=\")","v":{"$error":"#REF!"}},{"$f":"AND(#REF!,\"AAAAAH9/exE=\")","v":{"$error":"#REF!"}},{"$f":"AND(#REF!,\"AAAAAH9/exI=\")","v":{"$error":"#REF!"}},{"$f":"AND(#REF!,\"AAAAAH9/exM=\")","v":{"$error":"#REF!"}},{"$f":"AND(#REF!,\"AAAAAH9/exQ=\")","v":{"$error":"#REF!"}},{"$f":"AND(#REF!,\"AAAAAH9/exU=\")","v":{"$error":"#REF!"}},{"$f":"IF(#REF!,\"AAAAAH9/exY=\",0)","v":{"$error":"#REF!"}},{"$f":"AND(#REF!,\"AAAAAH9/exc=\")","v":{"$error":"#REF!"}},{"$f":"AND(#REF!,\"AAAAAH9/exg=\")","v":{"$error":"#REF!"}},{"$f":"AND(#REF!,\"AAAAAH9/exk=\")","v":{"$error":"#REF!"}},{"$f":"AND(#REF!,\"AAAAAH9/exo=\")","v":{"$error":"#REF!"}},{"$f":"AND(#REF!,\"AAAAAH9/exs=\")","v":{"$error":"#REF!"}},{"$f":"AND(#REF!,\"AAAAAH9/exw=\")","v":{"$error":"#REF!"}},{"$f":"AND(#REF!,\"AAAAAH9/ex0=\")","v":{"$error":"#REF!"}},{"$f":"AND(#REF!,\"AAAAAH9/ex4=\")","v":{"$error":"#REF!"}},{"$f":"AND(#REF!,\"AAAAAH9/ex8=\")","v":{"$error":"#REF!"}},{"$f":"AND(#REF!,\"AAAAAH9/eyA=\")","v":{"$error":"#REF!"}},{"$f":"AND(#REF!,\"AAAAAH9/eyE=\")","v":{"$error":"#REF!"}},{"$f":"AND(#REF!,\"AAAAAH9/eyI=\")","v":{"$error":"#REF!"}},{"$f":"AND(#REF!,\"AAAAAH9/eyM=\")","v":{"$error":"#REF!"}},{"$f":"AND(#REF!,\"AAAAAH9/eyQ=\")","v":{"$error":"#REF!"}},{"$f":"AND(#REF!,\"AAAAAH9/eyU=\")","v":{"$error":"#REF!"}},{"$f":"AND(#REF!,\"AAAAAH9/eyY=\")","v":{"$error":"#REF!"}},{"$f":"AND(#REF!,\"AAAAAH9/eyc=\")","v":{"$error":"#REF!"}},{"$f":"AND(#REF!,\"AAAAAH9/eyg=\")","v":{"$error":"#REF!"}},{"$f":"AND(#REF!,\"AAAAAH9/eyk=\")","v":{"$error":"#REF!"}},{"$f":"AND(#REF!,\"AAAAAH9/eyo=\")","v":{"$error":"#REF!"}},{"$f":"IF(#REF!,\"AAAAAH9/eys=\",0)","v":{"$error":"#REF!"}},{"$f":"AND(#REF!,\"AAAAAH9/eyw=\")","v":{"$error":"#REF!"}},{"$f":"AND(#REF!,\"AAAAAH9/ey0=\")","v":{"$error":"#REF!"}},{"$f":"AND(#REF!,\"AAAAAH9/ey4=\")","v":{"$error":"#REF!"}},{"$f":"AND(#REF!,\"AAAAAH9/ey8=\")","v":{"$error":"#REF!"}},{"$f":"AND(#REF!,\"AAAAAH9/ezA=\")","v":{"$error":"#REF!"}},{"$f":"AND(#REF!,\"AAAAAH9/ezE=\")","v":{"$error":"#REF!"}},{"$f":"AND(#REF!,\"AAAAAH9/ezI=\")","v":{"$error":"#REF!"}},{"$f":"AND(#REF!,\"AAAAAH9/ezM=\")","v":{"$error":"#REF!"}},{"$f":"AND(#REF!,\"AAAAAH9/ezQ=\")","v":{"$error":"#REF!"}},{"$f":"AND(#REF!,\"AAAAAH9/ezU=\")","v":{"$error":"#REF!"}},{"$f":"AND(#REF!,\"AAAAAH9/ezY=\")","v":{"$error":"#REF!"}},{"$f":"AND(#REF!,\"AAAAAH9/ezc=\")","v":{"$error":"#REF!"}},{"$f":"AND(#REF!,\"AAAAAH9/ezg=\")","v":{"$error":"#REF!"}},{"$f":"AND(#REF!,\"AAAAAH9/ezk=\")","v":{"$error":"#REF!"}},{"$f":"AND(#REF!,\"AAAAAH9/ezo=\")","v":{"$error":"#REF!"}},{"$f":"AND(#REF!,\"AAAAAH9/ezs=\")","v":{"$error":"#REF!"}},{"$f":"AND(#REF!,\"AAAAAH9/ezw=\")","v":{"$error":"#REF!"}},{"$f":"AND(#REF!,\"AAAAAH9/ez0=\")","v":{"$error":"#REF!"}},{"$f":"AND(#REF!,\"AAAAAH9/ez4=\")","v":{"$error":"#REF!"}},{"$f":"AND(#REF!,\"AAAAAH9/ez8=\")","v":{"$error":"#REF!"}},{"$f":"IF(#REF!,\"AAAAAH9/e0A=\",0)","v":{"$error":"#REF!"}},{"$f":"AND(#REF!,\"AAAAAH9/e0E=\")","v":{"$error":"#REF!"}},{"$f":"AND(#REF!,\"AAAAAH9/e0I=\")","v":{"$error":"#REF!"}},{"$f":"AND(#REF!,\"AAAAAH9/e0M=\")","v":{"$error":"#REF!"}},{"$f":"AND(#REF!,\"AAAAAH9/e0Q=\")","v":{"$error":"#REF!"}},{"$f":"AND(#REF!,\"AAAAAH9/e0U=\")","v":{"$error":"#REF!"}},{"$f":"AND(#REF!,\"AAAAAH9/e0Y=\")","v":{"$error":"#REF!"}},{"$f":"AND(#REF!,\"AAAAAH9/e0c=\")","v":{"$error":"#REF!"}},{"$f":"AND(#REF!,\"AAAAAH9/e0g=\")","v":{"$error":"#REF!"}},{"$f":"AND(#REF!,\"AAAAAH9/e0k=\")","v":{"$error":"#REF!"}},{"$f":"AND(#REF!,\"AAAAAH9/e0o=\")","v":{"$error":"#REF!"}},{"$f":"AND(#REF!,\"AAAAAH9/e0s=\")","v":{"$error":"#REF!"}},{"$f":"AND(#REF!,\"AAAAAH9/e0w=\")","v":{"$error":"#REF!"}},{"$f":"AND(#REF!,\"AAAAAH9/e00=\")","v":{"$error":"#REF!"}},{"$f":"AND(#REF!,\"AAAAAH9/e04=\")","v":{"$error":"#REF!"}},{"$f":"AND(#REF!,\"AAAAAH9/e08=\")","v":{"$error":"#REF!"}},{"$f":"AND(#REF!,\"AAAAAH9/e1A=\")","v":{"$error":"#REF!"}},{"$f":"AND(#REF!,\"AAAAAH9/e1E=\")","v":{"$error":"#REF!"}},{"$f":"AND(#REF!,\"AAAAAH9/e1I=\")","v":{"$error":"#REF!"}},{"$f":"AND(#REF!,\"AAAAAH9/e1M=\")","v":{"$error":"#REF!"}},{"$f":"AND(#REF!,\"AAAAAH9/e1Q=\")","v":{"$error":"#REF!"}},{"$f":"IF(#REF!,\"AAAAAH9/e1U=\",0)","v":{"$error":"#REF!"}},{"$f":"AND(#REF!,\"AAAAAH9/e1Y=\")","v":{"$error":"#REF!"}},{"$f":"AND(#REF!,\"AAAAAH9/e1c=\")","v":{"$error":"#REF!"}},{"$f":"AND(#REF!,\"AAAAAH9/e1g=\")","v":{"$error":"#REF!"}},{"$f":"AND(#REF!,\"AAAAAH9/e1k=\")","v":{"$error":"#REF!"}},{"$f":"AND(#REF!,\"AAAAAH9/e1o=\")","v":{"$error":"#REF!"}},{"$f":"AND(#REF!,\"AAAAAH9/e1s=\")","v":{"$error":"#REF!"}},{"$f":"AND(#REF!,\"AAAAAH9/e1w=\")","v":{"$error":"#REF!"}},{"$f":"AND(#REF!,\"AAAAAH9/e10=\")","v":{"$error":"#REF!"}},{"$f":"AND(#REF!,\"AAAAAH9/e14=\")","v":{"$error":"#REF!"}},{"$f":"AND(#REF!,\"AAAAAH9/e18=\")","v":{"$error":"#REF!"}},{"$f":"AND(#REF!,\"AAAAAH9/e2A=\")","v":{"$error":"#REF!"}},{"$f":"AND(#REF!,\"AAAAAH9/e2E=\")","v":{"$error":"#REF!"}},{"$f":"AND(#REF!,\"AAAAAH9/e2I=\")","v":{"$error":"#REF!"}},{"$f":"AND(#REF!,\"AAAAAH9/e2M=\")","v":{"$error":"#REF!"}},{"$f":"AND(#REF!,\"AAAAAH9/e2Q=\")","v":{"$error":"#REF!"}},{"$f":"AND(#REF!,\"AAAAAH9/e2U=\")","v":{"$error":"#REF!"}},{"$f":"AND(#REF!,\"AAAAAH9/e2Y=\")","v":{"$error":"#REF!"}},{"$f":"AND(#REF!,\"AAAAAH9/e2c=\")","v":{"$error":"#REF!"}},{"$f":"AND(#REF!,\"AAAAAH9/e2g=\")","v":{"$error":"#REF!"}},{"$f":"AND(#REF!,\"AAAAAH9/e2k=\")","v":{"$error":"#REF!"}},{"$f":"IF(#REF!,\"AAAAAH9/e2o=\",0)","v":{"$error":"#REF!"}},{"$f":"AND(#REF!,\"AAAAAH9/e2s=\")","v":{"$error":"#REF!"}},{"$f":"AND(#REF!,\"AAAAAH9/e2w=\")","v":{"$error":"#REF!"}},{"$f":"AND(#REF!,\"AAAAAH9/e20=\")","v":{"$error":"#REF!"}},{"$f":"AND(#REF!,\"AAAAAH9/e24=\")","v":{"$error":"#REF!"}},{"$f":"AND(#REF!,\"AAAAAH9/e28=\")","v":{"$error":"#REF!"}},{"$f":"AND(#REF!,\"AAAAAH9/e3A=\")","v":{"$error":"#REF!"}},{"$f":"AND(#REF!,\"AAAAAH9/e3E=\")","v":{"$error":"#REF!"}},{"$f":"AND(#REF!,\"AAAAAH9/e3I=\")","v":{"$error":"#REF!"}},{"$f":"AND(#REF!,\"AAAAAH9/e3M=\")","v":{"$error":"#REF!"}},{"$f":"AND(#REF!,\"AAAAAH9/e3Q=\")","v":{"$error":"#REF!"}},{"$f":"AND(#REF!,\"AAAAAH9/e3U=\")","v":{"$error":"#REF!"}},{"$f":"AND(#REF!,\"AAAAAH9/e3Y=\")","v":{"$error":"#REF!"}},{"$f":"AND(#REF!,\"AAAAAH9/e3c=\")","v":{"$error":"#REF!"}},{"$f":"AND(#REF!,\"AAAAAH9/e3g=\")","v":{"$error":"#REF!"}},{"$f":"AND(#REF!,\"AAAAAH9/e3k=\")","v":{"$error":"#REF!"}},{"$f":"AND(#REF!,\"AAAAAH9/e3o=\")","v":{"$error":"#REF!"}},{"$f":"AND(#REF!,\"AAAAAH9/e3s=\")","v":{"$error":"#REF!"}},{"$f":"AND(#REF!,\"AAAAAH9/e3w=\")","v":{"$error":"#REF!"}},{"$f":"AND(#REF!,\"AAAAAH9/e30=\")","v":{"$error":"#REF!"}},{"$f":"AND(#REF!,\"AAAAAH9/e34=\")","v":{"$error":"#REF!"}},{"$f":"IF(#REF!,\"AAAAAH9/e38=\",0)","v":{"$error":"#REF!"}},{"$f":"AND(#REF!,\"AAAAAH9/e4A=\")","v":{"$error":"#REF!"}},{"$f":"AND(#REF!,\"AAAAAH9/e4E=\")","v":{"$error":"#REF!"}},{"$f":"AND(#REF!,\"AAAAAH9/e4I=\")","v":{"$error":"#REF!"}},{"$f":"AND(#REF!,\"AAAAAH9/e4M=\")","v":{"$error":"#REF!"}},{"$f":"AND(#REF!,\"AAAAAH9/e4Q=\")","v":{"$error":"#REF!"}},{"$f":"AND(#REF!,\"AAAAAH9/e4U=\")","v":{"$error":"#REF!"}},{"$f":"AND(#REF!,\"AAAAAH9/e4Y=\")","v":{"$error":"#REF!"}},{"$f":"AND(#REF!,\"AAAAAH9/e4c=\")","v":{"$error":"#REF!"}},{"$f":"AND(#REF!,\"AAAAAH9/e4g=\")","v":{"$error":"#REF!"}},{"$f":"AND(#REF!,\"AAAAAH9/e4k=\")","v":{"$error":"#REF!"}},{"$f":"AND(#REF!,\"AAAAAH9/e4o=\")","v":{"$error":"#REF!"}},{"$f":"AND(#REF!,\"AAAAAH9/e4s=\")","v":{"$error":"#REF!"}},{"$f":"AND(#REF!,\"AAAAAH9/e4w=\")","v":{"$error":"#REF!"}},{"$f":"AND(#REF!,\"AAAAAH9/e40=\")","v":{"$error":"#REF!"}},{"$f":"AND(#REF!,\"AAAAAH9/e44=\")","v":{"$error":"#REF!"}},{"$f":"AND(#REF!,\"AAAAAH9/e48=\")","v":{"$error":"#REF!"}},{"$f":"AND(#REF!,\"AAAAAH9/e5A=\")","v":{"$error":"#REF!"}},{"$f":"AND(#REF!,\"AAAAAH9/e5E=\")","v":{"$error":"#REF!"}},{"$f":"AND(#REF!,\"AAAAAH9/e5I=\")","v":{"$error":"#REF!"}},{"$f":"AND(#REF!,\"AAAAAH9/e5M=\")","v":{"$error":"#REF!"}},{"$f":"IF(#REF!,\"AAAAAH9/e5Q=\",0)","v":{"$error":"#REF!"}},{"$f":"AND(#REF!,\"AAAAAH9/e5U=\")","v":{"$error":"#REF!"}},{"$f":"AND(#REF!,\"AAAAAH9/e5Y=\")","v":{"$error":"#REF!"}},{"$f":"AND(#REF!,\"AAAAAH9/e5c=\")","v":{"$error":"#REF!"}},{"$f":"AND(#REF!,\"AAAAAH9/e5g=\")","v":{"$error":"#REF!"}},{"$f":"AND(#REF!,\"AAAAAH9/e5k=\")","v":{"$error":"#REF!"}},{"$f":"AND(#REF!,\"AAAAAH9/e5o=\")","v":{"$error":"#REF!"}},{"$f":"AND(#REF!,\"AAAAAH9/e5s=\")","v":{"$error":"#REF!"}},{"$f":"AND(#REF!,\"AAAAAH9/e5w=\")","v":{"$error":"#REF!"}},{"$f":"AND(#REF!,\"AAAAAH9/e50=\")","v":{"$error":"#REF!"}},{"$f":"AND(#REF!,\"AAAAAH9/e54=\")","v":{"$error":"#REF!"}},{"$f":"AND(#REF!,\"AAAAAH9/e58=\")","v":{"$error":"#REF!"}},{"$f":"AND(#REF!,\"AAAAAH9/e6A=\")","v":{"$error":"#REF!"}},{"$f":"AND(#REF!,\"AAAAAH9/e6E=\")","v":{"$error":"#REF!"}},{"$f":"AND(#REF!,\"AAAAAH9/e6I=\")","v":{"$error":"#REF!"}},{"$f":"AND(#REF!,\"AAAAAH9/e6M=\")","v":{"$error":"#REF!"}},{"$f":"AND(#REF!,\"AAAAAH9/e6Q=\")","v":{"$error":"#REF!"}},{"$f":"AND(#REF!,\"AAAAAH9/e6U=\")","v":{"$error":"#REF!"}},{"$f":"AND(#REF!,\"AAAAAH9/e6Y=\")","v":{"$error":"#REF!"}},{"$f":"AND(#REF!,\"AAAAAH9/e6c=\")","v":{"$error":"#REF!"}},{"$f":"AND(#REF!,\"AAAAAH9/e6g=\")","v":{"$error":"#REF!"}},{"$f":"IF(#REF!,\"AAAAAH9/e6k=\",0)","v":{"$error":"#REF!"}},{"$f":"AND(#REF!,\"AAAAAH9/e6o=\")","v":{"$error":"#REF!"}},{"$f":"AND(#REF!,\"AAAAAH9/e6s=\")","v":{"$error":"#REF!"}},{"$f":"AND(#REF!,\"AAAAAH9/e6w=\")","v":{"$error":"#REF!"}},{"$f":"AND(#REF!,\"AAAAAH9/e60=\")","v":{"$error":"#REF!"}},{"$f":"AND(#REF!,\"AAAAAH9/e64=\")","v":{"$error":"#REF!"}},{"$f":"AND(#REF!,\"AAAAAH9/e68=\")","v":{"$error":"#REF!"}},{"$f":"AND(#REF!,\"AAAAAH9/e7A=\")","v":{"$error":"#REF!"}},{"$f":"AND(#REF!,\"AAAAAH9/e7E=\")","v":{"$error":"#REF!"}},{"$f":"AND(#REF!,\"AAAAAH9/e7I=\")","v":{"$error":"#REF!"}},{"$f":"AND(#REF!,\"AAAAAH9/e7M=\")","v":{"$error":"#REF!"}},{"$f":"AND(#REF!,\"AAAAAH9/e7Q=\")","v":{"$error":"#REF!"}},{"$f":"AND(#REF!,\"AAAAAH9/e7U=\")","v":{"$error":"#REF!"}},{"$f":"AND(#REF!,\"AAAAAH9/e7Y=\")","v":{"$error":"#REF!"}},{"$f":"AND(#REF!,\"AAAAAH9/e7c=\")","v":{"$error":"#REF!"}},{"$f":"AND(#REF!,\"AAAAAH9/e7g=\")","v":{"$error":"#REF!"}},{"$f":"AND(#REF!,\"AAAAAH9/e7k=\")","v":{"$error":"#REF!"}},{"$f":"AND(#REF!,\"AAAAAH9/e7o=\")","v":{"$error":"#REF!"}},{"$f":"AND(#REF!,\"AAAAAH9/e7s=\")","v":{"$error":"#REF!"}},{"$f":"AND(#REF!,\"AAAAAH9/e7w=\")","v":{"$error":"#REF!"}},{"$f":"AND(#REF!,\"AAAAAH9/e70=\")","v":{"$error":"#REF!"}},{"$f":"IF(#REF!,\"AAAAAH9/e74=\",0)","v":{"$error":"#REF!"}},{"$f":"AND(#REF!,\"AAAAAH9/e78=\")","v":{"$error":"#REF!"}},{"$f":"AND(#REF!,\"AAAAAH9/e8A=\")","v":{"$error":"#REF!"}},{"$f":"AND(#REF!,\"AAAAAH9/e8E=\")","v":{"$error":"#REF!"}},{"$f":"AND(#REF!,\"AAAAAH9/e8I=\")","v":{"$error":"#REF!"}},{"$f":"AND(#REF!,\"AAAAAH9/e8M=\")","v":{"$error":"#REF!"}},{"$f":"AND(#REF!,\"AAAAAH9/e8Q=\")","v":{"$error":"#REF!"}},{"$f":"AND(#REF!,\"AAAAAH9/e8U=\")","v":{"$error":"#REF!"}},{"$f":"AND(#REF!,\"AAAAAH9/e8Y=\")","v":{"$error":"#REF!"}},{"$f":"AND(#REF!,\"AAAAAH9/e8c=\")","v":{"$error":"#REF!"}},{"$f":"AND(#REF!,\"AAAAAH9/e8g=\")","v":{"$error":"#REF!"}},{"$f":"AND(#REF!,\"AAAAAH9/e8k=\")","v":{"$error":"#REF!"}},{"$f":"AND(#REF!,\"AAAAAH9/e8o=\")","v":{"$error":"#REF!"}},{"$f":"AND(#REF!,\"AAAAAH9/e8s=\")","v":{"$error":"#REF!"}},{"$f":"AND(#REF!,\"AAAAAH9/e8w=\")","v":{"$error":"#REF!"}},{"$f":"AND(#REF!,\"AAAAAH9/e80=\")","v":{"$error":"#REF!"}},{"$f":"AND(#REF!,\"AAAAAH9/e84=\")","v":{"$error":"#REF!"}},{"$f":"AND(#REF!,\"AAAAAH9/e88=\")","v":{"$error":"#REF!"}},{"$f":"AND(#REF!,\"AAAAAH9/e9A=\")","v":{"$error":"#REF!"}},{"$f":"AND(#REF!,\"AAAAAH9/e9E=\")","v":{"$error":"#REF!"}},{"$f":"AND(#REF!,\"AAAAAH9/e9I=\")","v":{"$error":"#REF!"}},{"$f":"IF(#REF!,\"AAAAAH9/e9M=\",0)","v":{"$error":"#REF!"}},{"$f":"AND(#REF!,\"AAAAAH9/e9Q=\")","v":{"$error":"#REF!"}},{"$f":"AND(#REF!,\"AAAAAH9/e9U=\")","v":{"$error":"#REF!"}},{"$f":"AND(#REF!,\"AAAAAH9/e9Y=\")","v":{"$error":"#REF!"}},{"$f":"AND(#REF!,\"AAAAAH9/e9c=\")","v":{"$error":"#REF!"}},{"$f":"AND(#REF!,\"AAAAAH9/e9g=\")","v":{"$error":"#REF!"}},{"$f":"AND(#REF!,\"AAAAAH9/e9k=\")","v":{"$error":"#REF!"}},{"$f":"AND(#REF!,\"AAAAAH9/e9o=\")","v":{"$error":"#REF!"}},{"$f":"AND(#REF!,\"AAAAAH9/e9s=\")","v":{"$error":"#REF!"}},{"$f":"AND(#REF!,\"AAAAAH9/e9w=\")","v":{"$error":"#REF!"}},{"$f":"AND(#REF!,\"AAAAAH9/e90=\")","v":{"$error":"#REF!"}},{"$f":"AND(#REF!,\"AAAAAH9/e94=\")","v":{"$error":"#REF!"}},{"$f":"AND(#REF!,\"AAAAAH9/e98=\")","v":{"$error":"#REF!"}},{"$f":"AND(#REF!,\"AAAAAH9/e+A=\")","v":{"$error":"#REF!"}},{"$f":"AND(#REF!,\"AAAAAH9/e+E=\")","v":{"$error":"#REF!"}},{"$f":"AND(#REF!,\"AAAAAH9/e+I=\")","v":{"$error":"#REF!"}},{"$f":"AND(#REF!,\"AAAAAH9/e+M=\")","v":{"$error":"#REF!"}},{"$f":"AND(#REF!,\"AAAAAH9/e+Q=\")","v":{"$error":"#REF!"}},{"$f":"AND(#REF!,\"AAAAAH9/e+U=\")","v":{"$error":"#REF!"}},{"$f":"AND(#REF!,\"AAAAAH9/e+Y=\")","v":{"$error":"#REF!"}},{"$f":"AND(#REF!,\"AAAAAH9/e+c=\")","v":{"$error":"#REF!"}},{"$f":"IF(#REF!,\"AAAAAH9/e+g=\",0)","v":{"$error":"#REF!"}},{"$f":"IF(#REF!,\"AAAAAH9/e+k=\",0)","v":{"$error":"#REF!"}},{"$f":"IF(#REF!,\"AAAAAH9/e+o=\",0)","v":{"$error":"#REF!"}},{"$f":"IF(#REF!,\"AAAAAH9/e+s=\",0)","v":{"$error":"#REF!"}},{"$f":"IF(#REF!,\"AAAAAH9/e+w=\",0)","v":{"$error":"#REF!"}},{"$f":"IF(#REF!,\"AAAAAH9/e+0=\",0)","v":{"$error":"#REF!"}},{"$f":"IF(#REF!,\"AAAAAH9/e+4=\",0)","v":{"$error":"#REF!"}},{"$f":"IF(#REF!,\"AAAAAH9/e+8=\",0)","v":{"$error":"#REF!"}},{"$f":"IF(#REF!,\"AAAAAH9/e/A=\",0)","v":{"$error":"#REF!"}},{"$f":"IF(#REF!,\"AAAAAH9/e/E=\",0)","v":{"$error":"#REF!"}},{"$f":"IF(#REF!,\"AAAAAH9/e/I=\",0)","v":{"$error":"#REF!"}},{"$f":"IF(#REF!,\"AAAAAH9/e/M=\",0)","v":{"$error":"#REF!"}},{"$f":"IF(#REF!,\"AAAAAH9/e/Q=\",0)","v":{"$error":"#REF!"}},{"$f":"IF(#REF!,\"AAAAAH9/e/U=\",0)","v":{"$error":"#REF!"}},{"$f":"IF(#REF!,\"AAAAAH9/e/Y=\",0)","v":{"$error":"#REF!"}},{"$f":"IF(#REF!,\"AAAAAH9/e/c=\",0)","v":{"$error":"#REF!"}},{"$f":"IF(#REF!,\"AAAAAH9/e/g=\",0)","v":{"$error":"#REF!"}},{"$f":"IF(#REF!,\"AAAAAH9/e/k=\",0)","v":{"$error":"#REF!"}},{"$f":"IF(#REF!,\"AAAAAH9/e/o=\",0)","v":{"$error":"#REF!"}},{"$f":"IF(#REF!,\"AAAAAH9/e/s=\",0)","v":{"$error":"#REF!"}},{"$f":"IF(#REF!,\"AAAAAH9/e/w=\",0)","v":{"$error":"#REF!"}},{"$f":"IF(#REF!,\"AAAAAH9/e/0=\",0)","v":{"$error":"#REF!"}},{"$f":"IF('Streaming - Res Calc'!1:1,\"AAAAAH9/e/4=\",0)","v":0},{"$f":"AND('Streaming - Res Calc'!C1,\"AAAAAH9/e/8=\")","v":{"$error":"#VALUE!"}}]
[{"$f":"AND('Streaming - Res Calc'!D1,\"AAAAAH/i/QA=\")","v":{"$error":"#VALUE!"}},{"$f":"AND('Streaming - Res Calc'!E1,\"AAAAAH/i/QE=\")","v":{"$error":"#VALUE!"}},{"$f":"AND('Streaming - Res Calc'!F1,\"AAAAAH/i/QI=\")","v":{"$error":"#VALUE!"}},{"$f":"AND('Streaming - Res Calc'!G1,\"AAAAAH/i/QM=\")","v":{"$error":"#VALUE!"}},{"$f":"AND('Streaming - Res Calc'!H1,\"AAAAAH/i/QQ=\")","v":{"$error":"#VALUE!"}},{"$f":"AND('Streaming - Res Calc'!I1,\"AAAAAH/i/QU=\")","v":{"$error":"#VALUE!"}},{"$f":"AND('Streaming - Res Calc'!J1,\"AAAAAH/i/QY=\")","v":{"$error":"#VALUE!"}},{"$f":"AND('Streaming - Res Calc'!K1,\"AAAAAH/i/Qc=\")","v":{"$error":"#VALUE!"}},{"$f":"AND('Streaming - Res Calc'!L1,\"AAAAAH/i/Qg=\")","v":{"$error":"#VALUE!"}},{"$f":"AND('Streaming - Res Calc'!M1,\"AAAAAH/i/Qk=\")","v":{"$error":"#VALUE!"}},{"$f":"AND('Streaming - Res Calc'!N1,\"AAAAAH/i/Qo=\")","v":{"$error":"#VALUE!"}},{"$f":"AND('Streaming - Res Calc'!O1,\"AAAAAH/i/Qs=\")","v":{"$error":"#VALUE!"}},{"$f":"AND('Streaming - Res Calc'!P1,\"AAAAAH/i/Qw=\")","v":{"$error":"#VALUE!"}},{"$f":"AND('Streaming - Res Calc'!Q1,\"AAAAAH/i/Q0=\")","v":{"$error":"#VALUE!"}},{"$f":"AND('Streaming - Res Calc'!R1,\"AAAAAH/i/Q4=\")","v":{"$error":"#VALUE!"}},{"$f":"AND('Streaming - Res Calc'!S1,\"AAAAAH/i/Q8=\")","v":{"$error":"#VALUE!"}},{"$f":"AND('Streaming - Res Calc'!T1,\"AAAAAH/i/RA=\")","v":{"$error":"#VALUE!"}},{"$f":"AND('Streaming - Res Calc'!U1,\"AAAAAH/i/RE=\")","v":{"$error":"#VALUE!"}},{"$f":"AND('Streaming - Res Calc'!V1,\"AAAAAH/i/RI=\")","v":{"$error":"#VALUE!"}},{"$f":"AND('Streaming - Res Calc'!W1,\"AAAAAH/i/RM=\")","v":{"$error":"#VALUE!"}},{"$f":"IF('Streaming - Res Calc'!2:2,\"AAAAAH/i/RQ=\",0)","v":0},{"$f":"AND('Streaming - Res Calc'!C2,\"AAAAAH/i/RU=\")","v":{"$error":"#VALUE!"}},{"$f":"AND('Streaming - Res Calc'!D2,\"AAAAAH/i/RY=\")","v":{"$error":"#VALUE!"}},{"$f":"AND('Streaming - Res Calc'!E2,\"AAAAAH/i/Rc=\")","v":{"$error":"#VALUE!"}},{"$f":"AND('Streaming - Res Calc'!F2,\"AAAAAH/i/Rg=\")","v":{"$error":"#VALUE!"}},{"$f":"AND('Streaming - Res Calc'!G2,\"AAAAAH/i/Rk=\")","v":{"$error":"#VALUE!"}},{"$f":"AND('Streaming - Res Calc'!H2,\"AAAAAH/i/Ro=\")","v":{"$error":"#VALUE!"}},{"$f":"AND('Streaming - Res Calc'!I2,\"AAAAAH/i/Rs=\")","v":{"$error":"#VALUE!"}},{"$f":"AND('Streaming - Res Calc'!J2,\"AAAAAH/i/Rw=\")","v":{"$error":"#VALUE!"}},{"$f":"AND('Streaming - Res Calc'!K2,\"AAAAAH/i/R0=\")","v":{"$error":"#VALUE!"}},{"$f":"AND('Streaming - Res Calc'!L2,\"AAAAAH/i/R4=\")","v":{"$error":"#VALUE!"}},{"$f":"AND('Streaming - Res Calc'!M2,\"AAAAAH/i/R8=\")","v":{"$error":"#VALUE!"}},{"$f":"AND('Streaming - Res Calc'!N2,\"AAAAAH/i/SA=\")","v":{"$error":"#VALUE!"}},{"$f":"AND('Streaming - Res Calc'!O2,\"AAAAAH/i/SE=\")","v":{"$error":"#VALUE!"}},{"$f":"AND('Streaming - Res Calc'!P2,\"AAAAAH/i/SI=\")","v":{"$error":"#VALUE!"}},{"$f":"AND('Streaming - Res Calc'!Q2,\"AAAAAH/i/SM=\")","v":{"$error":"#VALUE!"}},{"$f":"AND('Streaming - Res Calc'!R2,\"AAAAAH/i/SQ=\")","v":{"$error":"#VALUE!"}},{"$f":"AND('Streaming - Res Calc'!S2,\"AAAAAH/i/SU=\")","v":{"$error":"#VALUE!"}},{"$f":"AND('Streaming - Res Calc'!T2,\"AAAAAH/i/SY=\")","v":{"$error":"#VALUE!"}},{"$f":"AND('Streaming - Res Calc'!U2,\"AAAAAH/i/Sc=\")","v":{"$error":"#VALUE!"}},{"$f":"AND('Streaming - Res Calc'!V2,\"AAAAAH/i/Sg=\")","v":{"$error":"#VALUE!"}},{"$f":"AND('Streaming - Res Calc'!W2,\"AAAAAH/i/Sk=\")","v":{"$error":"#VALUE!"}},{"$f":"IF('Streaming - Res Calc'!3:3,\"AAAAAH/i/So=\",0)","v":0},{"$f":"AND('Streaming - Res Calc'!C3,\"AAAAAH/i/Ss=\")","v":{"$error":"#VALUE!"}},{"$f":"AND('Streaming - Res Calc'!D3,\"AAAAAH/i/Sw=\")","v":{"$error":"#VALUE!"}},{"$f":"AND('Streaming - Res Calc'!E3,\"AAAAAH/i/S0=\")","v":{"$error":"#VALUE!"}},{"$f":"AND('Streaming - Res Calc'!F3,\"AAAAAH/i/S4=\")","v":{"$error":"#VALUE!"}},{"$f":"AND('Streaming - Res Calc'!G3,\"AAAAAH/i/S8=\")","v":{"$error":"#VALUE!"}},{"$f":"AND('Streaming - Res Calc'!H3,\"AAAAAH/i/TA=\")","v":{"$error":"#VALUE!"}},{"$f":"AND('Streaming - Res Calc'!I3,\"AAAAAH/i/TE=\")","v":{"$error":"#VALUE!"}},{"$f":"AND('Streaming - Res Calc'!J3,\"AAAAAH/i/TI=\")","v":{"$error":"#VALUE!"}},{"$f":"AND('Streaming - Res Calc'!K3,\"AAAAAH/i/TM=\")","v":{"$error":"#VALUE!"}},{"$f":"AND('Streaming - Res Calc'!L3,\"AAAAAH/i/TQ=\")","v":{"$error":"#VALUE!"}},{"$f":"AND('Streaming - Res Calc'!M3,\"AAAAAH/i/TU=\")","v":{"$error":"#VALUE!"}},{"$f":"AND('Streaming - Res Calc'!N3,\"AAAAAH/i/TY=\")","v":{"$error":"#VALUE!"}},{"$f":"AND('Streaming - Res Calc'!O3,\"AAAAAH/i/Tc=\")","v":{"$error":"#VALUE!"}},{"$f":"AND('Streaming - Res Calc'!P3,\"AAAAAH/i/Tg=\")","v":{"$error":"#VALUE!"}},{"$f":"AND('Streaming - Res Calc'!Q3,\"AAAAAH/i/Tk=\")","v":{"$error":"#VALUE!"}},{"$f":"AND('Streaming - Res Calc'!R3,\"AAAAAH/i/To=\")","v":{"$error":"#VALUE!"}},{"$f":"AND('Streaming - Res Calc'!S3,\"AAAAAH/i/Ts=\")","v":{"$error":"#VALUE!"}},{"$f":"AND('Streaming - Res Calc'!T3,\"AAAAAH/i/Tw=\")","v":{"$error":"#VALUE!"}},{"$f":"AND('Streaming - Res Calc'!U3,\"AAAAAH/i/T0=\")","v":{"$error":"#VALUE!"}},{"$f":"AND('Streaming - Res Calc'!V3,\"AAAAAH/i/T4=\")","v":{"$error":"#VALUE!"}},{"$f":"AND('Streaming - Res Calc'!W3,\"AAAAAH/i/T8=\")","v":{"$error":"#VALUE!"}},{"$f":"IF('Streaming - Res Calc'!4:4,\"AAAAAH/i/UA=\",0)","v":0},{"$f":"AND('Streaming - Res Calc'!C4,\"AAAAAH/i/UE=\")","v":{"$error":"#VALUE!"}},{"$f":"AND('Streaming - Res Calc'!D4,\"AAAAAH/i/UI=\")","v":{"$error":"#VALUE!"}},{"$f":"AND('Streaming - Res Calc'!E4,\"AAAAAH/i/UM=\")","v":{"$error":"#VALUE!"}},{"$f":"AND('Streaming - Res Calc'!F4,\"AAAAAH/i/UQ=\")","v":{"$error":"#VALUE!"}},{"$f":"AND('Streaming - Res Calc'!G4,\"AAAAAH/i/UU=\")","v":{"$error":"#VALUE!"}},{"$f":"AND('Streaming - Res Calc'!H4,\"AAAAAH/i/UY=\")","v":{"$error":"#VALUE!"}},{"$f":"AND('Streaming - Res Calc'!I4,\"AAAAAH/i/Uc=\")","v":{"$error":"#VALUE!"}},{"$f":"AND('Streaming - Res Calc'!J4,\"AAAAAH/i/Ug=\")","v":{"$error":"#VALUE!"}},{"$f":"AND('Streaming - Res Calc'!K4,\"AAAAAH/i/Uk=\")","v":{"$error":"#VALUE!"}},{"$f":"AND('Streaming - Res Calc'!L4,\"AAAAAH/i/Uo=\")","v":{"$error":"#VALUE!"}},{"$f":"AND('Streaming - Res Calc'!M4,\"AAAAAH/i/Us=\")","v":{"$error":"#VALUE!"}},{"$f":"AND('Streaming - Res Calc'!N4,\"AAAAAH/i/Uw=\")","v":{"$error":"#VALUE!"}},{"$f":"AND('Streaming - Res Calc'!O4,\"AAAAAH/i/U0=\")","v":{"$error":"#VALUE!"}},{"$f":"AND('Streaming - Res Calc'!P4,\"AAAAAH/i/U4=\")","v":{"$error":"#VALUE!"}},{"$f":"AND('Streaming - Res Calc'!Q4,\"AAAAAH/i/U8=\")","v":{"$error":"#VALUE!"}},{"$f":"AND('Streaming - Res Calc'!R4,\"AAAAAH/i/VA=\")","v":{"$error":"#VALUE!"}},{"$f":"AND('Streaming - Res Calc'!S4,\"AAAAAH/i/VE=\")","v":{"$error":"#VALUE!"}},{"$f":"AND('Streaming - Res Calc'!T4,\"AAAAAH/i/VI=\")","v":{"$error":"#VALUE!"}},{"$f":"AND('Streaming - Res Calc'!U4,\"AAAAAH/i/VM=\")","v":{"$error":"#VALUE!"}},{"$f":"AND('Streaming - Res Calc'!V4,\"AAAAAH/i/VQ=\")","v":{"$error":"#VALUE!"}},{"$f":"AND('Streaming - Res Calc'!W4,\"AAAAAH/i/VU=\")","v":{"$error":"#VALUE!"}},{"$f":"IF('Streaming - Res Calc'!5:5,\"AAAAAH/i/VY=\",0)","v":0},{"$f":"AND('Streaming - Res Calc'!C5,\"AAAAAH/i/Vc=\")","v":{"$error":"#VALUE!"}},{"$f":"AND('Streaming - Res Calc'!D5,\"AAAAAH/i/Vg=\")","v":{"$error":"#VALUE!"}},{"$f":"AND('Streaming - Res Calc'!E5,\"AAAAAH/i/Vk=\")","v":{"$error":"#VALUE!"}},{"$f":"AND('Streaming - Res Calc'!F5,\"AAAAAH/i/Vo=\")","v":{"$error":"#VALUE!"}},{"$f":"AND('Streaming - Res Calc'!G5,\"AAAAAH/i/Vs=\")","v":{"$error":"#VALUE!"}},{"$f":"AND('Streaming - Res Calc'!H5,\"AAAAAH/i/Vw=\")","v":{"$error":"#VALUE!"}},{"$f":"AND('Streaming - Res Calc'!I5,\"AAAAAH/i/V0=\")","v":{"$error":"#VALUE!"}},{"$f":"AND('Streaming - Res Calc'!J5,\"AAAAAH/i/V4=\")","v":{"$error":"#VALUE!"}},{"$f":"AND('Streaming - Res Calc'!K5,\"AAAAAH/i/V8=\")","v":{"$error":"#VALUE!"}},{"$f":"AND('Streaming - Res Calc'!L5,\"AAAAAH/i/WA=\")","v":{"$error":"#VALUE!"}},{"$f":"AND('Streaming - Res Calc'!M5,\"AAAAAH/i/WE=\")","v":{"$error":"#VALUE!"}},{"$f":"AND('Streaming - Res Calc'!N5,\"AAAAAH/i/WI=\")","v":{"$error":"#VALUE!"}},{"$f":"AND('Streaming - Res Calc'!O5,\"AAAAAH/i/WM=\")","v":{"$error":"#VALUE!"}},{"$f":"AND('Streaming - Res Calc'!P5,\"AAAAAH/i/WQ=\")","v":{"$error":"#VALUE!"}},{"$f":"AND('Streaming - Res Calc'!Q5,\"AAAAAH/i/WU=\")","v":{"$error":"#VALUE!"}},{"$f":"AND('Streaming - Res Calc'!R5,\"AAAAAH/i/WY=\")","v":{"$error":"#VALUE!"}},{"$f":"AND('Streaming - Res Calc'!S5,\"AAAAAH/i/Wc=\")","v":{"$error":"#VALUE!"}},{"$f":"AND('Streaming - Res Calc'!T5,\"AAAAAH/i/Wg=\")","v":{"$error":"#VALUE!"}},{"$f":"AND('Streaming - Res Calc'!U5,\"AAAAAH/i/Wk=\")","v":{"$error":"#VALUE!"}},{"$f":"AND('Streaming - Res Calc'!V5,\"AAAAAH/i/Wo=\")","v":{"$error":"#VALUE!"}},{"$f":"AND('Streaming - Res Calc'!W5,\"AAAAAH/i/Ws=\")","v":{"$error":"#VALUE!"}},{"$f":"IF('Streaming - Res Calc'!6:6,\"AAAAAH/i/Ww=\",0)","v":0},{"$f":"AND('Streaming - Res Calc'!C6,\"AAAAAH/i/W0=\")","v":{"$error":"#VALUE!"}},{"$f":"AND('Streaming - Res Calc'!D6,\"AAAAAH/i/W4=\")","v":{"$error":"#VALUE!"}},{"$f":"AND('Streaming - Res Calc'!E6,\"AAAAAH/i/W8=\")","v":{"$error":"#VALUE!"}},{"$f":"AND('Streaming - Res Calc'!F6,\"AAAAAH/i/XA=\")","v":{"$error":"#VALUE!"}},{"$f":"AND('Streaming - Res Calc'!G6,\"AAAAAH/i/XE=\")","v":{"$error":"#VALUE!"}},{"$f":"AND('Streaming - Res Calc'!H6,\"AAAAAH/i/XI=\")","v":{"$error":"#VALUE!"}},{"$f":"AND('Streaming - Res Calc'!I6,\"AAAAAH/i/XM=\")","v":{"$error":"#VALUE!"}},{"$f":"AND('Streaming - Res Calc'!J6,\"AAAAAH/i/XQ=\")","v":{"$error":"#VALUE!"}},{"$f":"AND('Streaming - Res Calc'!K6,\"AAAAAH/i/XU=\")","v":{"$error":"#VALUE!"}},{"$f":"AND('Streaming - Res Calc'!L6,\"AAAAAH/i/XY=\")","v":{"$error":"#VALUE!"}},{"$f":"AND('Streaming - Res Calc'!M6,\"AAAAAH/i/Xc=\")","v":{"$error":"#VALUE!"}},{"$f":"AND('Streaming - Res Calc'!N6,\"AAAAAH/i/Xg=\")","v":{"$error":"#VALUE!"}},{"$f":"AND('Streaming - Res Calc'!O6,\"AAAAAH/i/Xk=\")","v":{"$error":"#VALUE!"}},{"$f":"AND('Streaming - Res Calc'!P6,\"AAAAAH/i/Xo=\")","v":{"$error":"#VALUE!"}},{"$f":"AND('Streaming - Res Calc'!Q6,\"AAAAAH/i/Xs=\")","v":{"$error":"#VALUE!"}},{"$f":"AND('Streaming - Res Calc'!R6,\"AAAAAH/i/Xw=\")","v":{"$error":"#VALUE!"}},{"$f":"AND('Streaming - Res Calc'!S6,\"AAAAAH/i/X0=\")","v":{"$error":"#VALUE!"}},{"$f":"AND('Streaming - Res Calc'!T6,\"AAAAAH/i/X4=\")","v":{"$error":"#VALUE!"}},{"$f":"AND('Streaming - Res Calc'!U6,\"AAAAAH/i/X8=\")","v":{"$error":"#VALUE!"}},{"$f":"AND('Streaming - Res Calc'!V6,\"AAAAAH/i/YA=\")","v":{"$error":"#VALUE!"}},{"$f":"AND('Streaming - Res Calc'!W6,\"AAAAAH/i/YE=\")","v":{"$error":"#VALUE!"}},{"$f":"IF('Streaming - Res Calc'!7:7,\"AAAAAH/i/YI=\",0)","v":0},{"$f":"AND('Streaming - Res Calc'!C7,\"AAAAAH/i/YM=\")","v":{"$error":"#VALUE!"}},{"$f":"AND('Streaming - Res Calc'!D7,\"AAAAAH/i/YQ=\")","v":{"$error":"#VALUE!"}},{"$f":"AND('Streaming - Res Calc'!E7,\"AAAAAH/i/YU=\")","v":{"$error":"#VALUE!"}},{"$f":"AND('Streaming - Res Calc'!F7,\"AAAAAH/i/YY=\")","v":{"$error":"#VALUE!"}},{"$f":"AND('Streaming - Res Calc'!G7,\"AAAAAH/i/Yc=\")","v":{"$error":"#VALUE!"}},{"$f":"AND('Streaming - Res Calc'!H7,\"AAAAAH/i/Yg=\")","v":{"$error":"#VALUE!"}},{"$f":"AND('Streaming - Res Calc'!I7,\"AAAAAH/i/Yk=\")","v":{"$error":"#VALUE!"}},{"$f":"AND('Streaming - Res Calc'!J7,\"AAAAAH/i/Yo=\")","v":{"$error":"#VALUE!"}},{"$f":"AND('Streaming - Res Calc'!K7,\"AAAAAH/i/Ys=\")","v":{"$error":"#VALUE!"}},{"$f":"AND('Streaming - Res Calc'!L7,\"AAAAAH/i/Yw=\")","v":{"$error":"#VALUE!"}},{"$f":"AND('Streaming - Res Calc'!M7,\"AAAAAH/i/Y0=\")","v":{"$error":"#VALUE!"}},{"$f":"AND('Streaming - Res Calc'!N7,\"AAAAAH/i/Y4=\")","v":{"$error":"#VALUE!"}},{"$f":"AND('Streaming - Res Calc'!O7,\"AAAAAH/i/Y8=\")","v":{"$error":"#VALUE!"}},{"$f":"AND('Streaming - Res Calc'!P7,\"AAAAAH/i/ZA=\")","v":{"$error":"#VALUE!"}},{"$f":"AND('Streaming - Res Calc'!Q7,\"AAAAAH/i/ZE=\")","v":{"$error":"#VALUE!"}},{"$f":"AND('Streaming - Res Calc'!R7,\"AAAAAH/i/ZI=\")","v":{"$error":"#VALUE!"}},{"$f":"AND('Streaming - Res Calc'!S7,\"AAAAAH/i/ZM=\")","v":{"$error":"#VALUE!"}},{"$f":"AND('Streaming - Res Calc'!T7,\"AAAAAH/i/ZQ=\")","v":{"$error":"#VALUE!"}},{"$f":"AND('Streaming - Res Calc'!U7,\"AAAAAH/i/ZU=\")","v":{"$error":"#VALUE!"}},{"$f":"AND('Streaming - Res Calc'!V7,\"AAAAAH/i/ZY=\")","v":{"$error":"#VALUE!"}},{"$f":"AND('Streaming - Res Calc'!W7,\"AAAAAH/i/Zc=\")","v":{"$error":"#VALUE!"}},{"$f":"IF('Streaming - Res Calc'!8:8,\"AAAAAH/i/Zg=\",0)","v":0},{"$f":"AND('Streaming - Res Calc'!C8,\"AAAAAH/i/Zk=\")","v":{"$error":"#VALUE!"}},{"$f":"AND('Streaming - Res Calc'!D8,\"AAAAAH/i/Zo=\")","v":{"$error":"#VALUE!"}},{"$f":"AND('Streaming - Res Calc'!E8,\"AAAAAH/i/Zs=\")","v":{"$error":"#VALUE!"}},{"$f":"AND('Streaming - Res Calc'!F8,\"AAAAAH/i/Zw=\")","v":{"$error":"#VALUE!"}},{"$f":"AND('Streaming - Res Calc'!G8,\"AAAAAH/i/Z0=\")","v":{"$error":"#VALUE!"}},{"$f":"AND('Streaming - Res Calc'!H8,\"AAAAAH/i/Z4=\")","v":{"$error":"#VALUE!"}},{"$f":"AND('Streaming - Res Calc'!I8,\"AAAAAH/i/Z8=\")","v":{"$error":"#VALUE!"}},{"$f":"AND('Streaming - Res Calc'!J8,\"AAAAAH/i/aA=\")","v":{"$error":"#VALUE!"}},{"$f":"AND('Streaming - Res Calc'!K8,\"AAAAAH/i/aE=\")","v":{"$error":"#VALUE!"}},{"$f":"AND('Streaming - Res Calc'!L8,\"AAAAAH/i/aI=\")","v":{"$error":"#VALUE!"}},{"$f":"AND('Streaming - Res Calc'!M8,\"AAAAAH/i/aM=\")","v":{"$error":"#VALUE!"}},{"$f":"AND('Streaming - Res Calc'!N8,\"AAAAAH/i/aQ=\")","v":{"$error":"#VALUE!"}},{"$f":"AND('Streaming - Res Calc'!O8,\"AAAAAH/i/aU=\")","v":{"$error":"#VALUE!"}},{"$f":"AND('Streaming - Res Calc'!P8,\"AAAAAH/i/aY=\")","v":{"$error":"#VALUE!"}},{"$f":"AND('Streaming - Res Calc'!Q8,\"AAAAAH/i/ac=\")","v":{"$error":"#VALUE!"}},{"$f":"AND('Streaming - Res Calc'!R8,\"AAAAAH/i/ag=\")","v":{"$error":"#VALUE!"}},{"$f":"AND('Streaming - Res Calc'!S8,\"AAAAAH/i/ak=\")","v":{"$error":"#VALUE!"}},{"$f":"AND('Streaming - Res Calc'!T8,\"AAAAAH/i/ao=\")","v":{"$error":"#VALUE!"}},{"$f":"AND('Streaming - Res Calc'!U8,\"AAAAAH/i/as=\")","v":{"$error":"#VALUE!"}},{"$f":"AND('Streaming - Res Calc'!V8,\"AAAAAH/i/aw=\")","v":{"$error":"#VALUE!"}},{"$f":"AND('Streaming - Res Calc'!W8,\"AAAAAH/i/a0=\")","v":{"$error":"#VALUE!"}},{"$f":"IF('Streaming - Res Calc'!9:9,\"AAAAAH/i/a4=\",0)","v":0},{"$f":"AND('Streaming - Res Calc'!C9,\"AAAAAH/i/a8=\")","v":{"$error":"#VALUE!"}},{"$f":"AND('Streaming - Res Calc'!D9,\"AAAAAH/i/bA=\")","v":{"$error":"#VALUE!"}},{"$f":"AND('Streaming - Res Calc'!E9,\"AAAAAH/i/bE=\")","v":{"$error":"#VALUE!"}},{"$f":"AND('Streaming - Res Calc'!F9,\"AAAAAH/i/bI=\")","v":{"$error":"#VALUE!"}},{"$f":"AND('Streaming - Res Calc'!G9,\"AAAAAH/i/bM=\")","v":{"$error":"#VALUE!"}},{"$f":"AND('Streaming - Res Calc'!H9,\"AAAAAH/i/bQ=\")","v":{"$error":"#VALUE!"}},{"$f":"AND('Streaming - Res Calc'!I9,\"AAAAAH/i/bU=\")","v":{"$error":"#VALUE!"}},{"$f":"AND('Streaming - Res Calc'!J9,\"AAAAAH/i/bY=\")","v":{"$error":"#VALUE!"}},{"$f":"AND('Streaming - Res Calc'!K9,\"AAAAAH/i/bc=\")","v":{"$error":"#VALUE!"}},{"$f":"AND('Streaming - Res Calc'!L9,\"AAAAAH/i/bg=\")","v":{"$error":"#VALUE!"}},{"$f":"AND('Streaming - Res Calc'!M9,\"AAAAAH/i/bk=\")","v":{"$error":"#VALUE!"}},{"$f":"AND('Streaming - Res Calc'!N9,\"AAAAAH/i/bo=\")","v":{"$error":"#VALUE!"}},{"$f":"AND('Streaming - Res Calc'!O9,\"AAAAAH/i/bs=\")","v":{"$error":"#VALUE!"}},{"$f":"AND('Streaming - Res Calc'!P9,\"AAAAAH/i/bw=\")","v":{"$error":"#VALUE!"}},{"$f":"AND('Streaming - Res Calc'!Q9,\"AAAAAH/i/b0=\")","v":{"$error":"#VALUE!"}},{"$f":"AND('Streaming - Res Calc'!R9,\"AAAAAH/i/b4=\")","v":{"$error":"#VALUE!"}},{"$f":"AND('Streaming - Res Calc'!S9,\"AAAAAH/i/b8=\")","v":{"$error":"#VALUE!"}},{"$f":"AND('Streaming - Res Calc'!T9,\"AAAAAH/i/cA=\")","v":{"$error":"#VALUE!"}},{"$f":"AND('Streaming - Res Calc'!U9,\"AAAAAH/i/cE=\")","v":{"$error":"#VALUE!"}},{"$f":"AND('Streaming - Res Calc'!V9,\"AAAAAH/i/cI=\")","v":{"$error":"#VALUE!"}},{"$f":"AND('Streaming - Res Calc'!W9,\"AAAAAH/i/cM=\")","v":{"$error":"#VALUE!"}},{"$f":"IF('Streaming - Res Calc'!10:10,\"AAAAAH/i/cQ=\",0)","v":0},{"$f":"AND('Streaming - Res Calc'!C10,\"AAAAAH/i/cU=\")","v":{"$error":"#VALUE!"}},{"$f":"AND('Streaming - Res Calc'!D10,\"AAAAAH/i/cY=\")","v":{"$error":"#VALUE!"}},{"$f":"AND('Streaming - Res Calc'!E10,\"AAAAAH/i/cc=\")","v":{"$error":"#VALUE!"}},{"$f":"AND('Streaming - Res Calc'!F10,\"AAAAAH/i/cg=\")","v":{"$error":"#VALUE!"}},{"$f":"AND('Streaming - Res Calc'!G10,\"AAAAAH/i/ck=\")","v":{"$error":"#VALUE!"}},{"$f":"AND('Streaming - Res Calc'!H10,\"AAAAAH/i/co=\")","v":{"$error":"#VALUE!"}},{"$f":"AND('Streaming - Res Calc'!I10,\"AAAAAH/i/cs=\")","v":{"$error":"#VALUE!"}},{"$f":"AND('Streaming - Res Calc'!J10,\"AAAAAH/i/cw=\")","v":{"$error":"#VALUE!"}},{"$f":"AND('Streaming - Res Calc'!K10,\"AAAAAH/i/c0=\")","v":{"$error":"#VALUE!"}},{"$f":"AND('Streaming - Res Calc'!L10,\"AAAAAH/i/c4=\")","v":{"$error":"#VALUE!"}},{"$f":"AND('Streaming - Res Calc'!M10,\"AAAAAH/i/c8=\")","v":{"$error":"#VALUE!"}},{"$f":"AND('Streaming - Res Calc'!N10,\"AAAAAH/i/dA=\")","v":{"$error":"#VALUE!"}},{"$f":"AND('Streaming - Res Calc'!O10,\"AAAAAH/i/dE=\")","v":{"$error":"#VALUE!"}},{"$f":"AND('Streaming - Res Calc'!P10,\"AAAAAH/i/dI=\")","v":{"$error":"#VALUE!"}},{"$f":"AND('Streaming - Res Calc'!Q10,\"AAAAAH/i/dM=\")","v":{"$error":"#VALUE!"}},{"$f":"AND('Streaming - Res Calc'!R10,\"AAAAAH/i/dQ=\")","v":{"$error":"#VALUE!"}},{"$f":"AND('Streaming - Res Calc'!S10,\"AAAAAH/i/dU=\")","v":{"$error":"#VALUE!"}},{"$f":"AND('Streaming - Res Calc'!T10,\"AAAAAH/i/dY=\")","v":{"$error":"#VALUE!"}},{"$f":"AND('Streaming - Res Calc'!U10,\"AAAAAH/i/dc=\")","v":{"$error":"#VALUE!"}},{"$f":"AND('Streaming - Res Calc'!V10,\"AAAAAH/i/dg=\")","v":{"$error":"#VALUE!"}},{"$f":"AND('Streaming - Res Calc'!W10,\"AAAAAH/i/dk=\")","v":{"$error":"#VALUE!"}},{"$f":"IF('Streaming - Res Calc'!11:11,\"AAAAAH/i/do=\",0)","v":0},{"$f":"AND('Streaming - Res Calc'!C11,\"AAAAAH/i/ds=\")","v":{"$error":"#VALUE!"}},{"$f":"AND('Streaming - Res Calc'!D11,\"AAAAAH/i/dw=\")","v":{"$error":"#VALUE!"}},{"$f":"AND('Streaming - Res Calc'!E11,\"AAAAAH/i/d0=\")","v":{"$error":"#VALUE!"}},{"$f":"AND('Streaming - Res Calc'!F11,\"AAAAAH/i/d4=\")","v":{"$error":"#VALUE!"}},{"$f":"AND('Streaming - Res Calc'!G11,\"AAAAAH/i/d8=\")","v":{"$error":"#VALUE!"}},{"$f":"AND('Streaming - Res Calc'!H11,\"AAAAAH/i/eA=\")","v":{"$error":"#VALUE!"}},{"$f":"AND('Streaming - Res Calc'!I11,\"AAAAAH/i/eE=\")","v":{"$error":"#VALUE!"}},{"$f":"AND('Streaming - Res Calc'!J11,\"AAAAAH/i/eI=\")","v":{"$error":"#VALUE!"}},{"$f":"AND('Streaming - Res Calc'!K11,\"AAAAAH/i/eM=\")","v":{"$error":"#VALUE!"}},{"$f":"AND('Streaming - Res Calc'!L11,\"AAAAAH/i/eQ=\")","v":{"$error":"#VALUE!"}},{"$f":"AND('Streaming - Res Calc'!M11,\"AAAAAH/i/eU=\")","v":{"$error":"#VALUE!"}},{"$f":"AND('Streaming - Res Calc'!N11,\"AAAAAH/i/eY=\")","v":{"$error":"#VALUE!"}},{"$f":"AND('Streaming - Res Calc'!O11,\"AAAAAH/i/ec=\")","v":{"$error":"#VALUE!"}},{"$f":"AND('Streaming - Res Calc'!P11,\"AAAAAH/i/eg=\")","v":{"$error":"#VALUE!"}},{"$f":"AND('Streaming - Res Calc'!Q11,\"AAAAAH/i/ek=\")","v":{"$error":"#VALUE!"}},{"$f":"AND('Streaming - Res Calc'!R11,\"AAAAAH/i/eo=\")","v":{"$error":"#VALUE!"}},{"$f":"AND('Streaming - Res Calc'!S11,\"AAAAAH/i/es=\")","v":{"$error":"#VALUE!"}},{"$f":"AND('Streaming - Res Calc'!T11,\"AAAAAH/i/ew=\")","v":{"$error":"#VALUE!"}},{"$f":"AND('Streaming - Res Calc'!U11,\"AAAAAH/i/e0=\")","v":{"$error":"#VALUE!"}},{"$f":"AND('Streaming - Res Calc'!V11,\"AAAAAH/i/e4=\")","v":{"$error":"#VALUE!"}},{"$f":"AND('Streaming - Res Calc'!W11,\"AAAAAH/i/e8=\")","v":{"$error":"#VALUE!"}},{"$f":"IF('Streaming - Res Calc'!12:12,\"AAAAAH/i/fA=\",0)","v":0},{"$f":"AND('Streaming - Res Calc'!C12,\"AAAAAH/i/fE=\")","v":{"$error":"#VALUE!"}},{"$f":"AND('Streaming - Res Calc'!D12,\"AAAAAH/i/fI=\")","v":{"$error":"#VALUE!"}},{"$f":"AND('Streaming - Res Calc'!E12,\"AAAAAH/i/fM=\")","v":{"$error":"#VALUE!"}},{"$f":"AND('Streaming - Res Calc'!F12,\"AAAAAH/i/fQ=\")","v":{"$error":"#VALUE!"}},{"$f":"AND('Streaming - Res Calc'!G12,\"AAAAAH/i/fU=\")","v":{"$error":"#VALUE!"}},{"$f":"AND('Streaming - Res Calc'!H12,\"AAAAAH/i/fY=\")","v":{"$error":"#VALUE!"}},{"$f":"AND('Streaming - Res Calc'!I12,\"AAAAAH/i/fc=\")","v":{"$error":"#VALUE!"}},{"$f":"AND('Streaming - Res Calc'!J12,\"AAAAAH/i/fg=\")","v":{"$error":"#VALUE!"}},{"$f":"AND('Streaming - Res Calc'!K12,\"AAAAAH/i/fk=\")","v":{"$error":"#VALUE!"}},{"$f":"AND('Streaming - Res Calc'!L12,\"AAAAAH/i/fo=\")","v":{"$error":"#VALUE!"}},{"$f":"AND('Streaming - Res Calc'!M12,\"AAAAAH/i/fs=\")","v":{"$error":"#VALUE!"}},{"$f":"AND('Streaming - Res Calc'!N12,\"AAAAAH/i/fw=\")","v":{"$error":"#VALUE!"}},{"$f":"AND('Streaming - Res Calc'!O12,\"AAAAAH/i/f0=\")","v":{"$error":"#VALUE!"}},{"$f":"AND('Streaming - Res Calc'!P12,\"AAAAAH/i/f4=\")","v":{"$error":"#VALUE!"}},{"$f":"AND('Streaming - Res Calc'!Q12,\"AAAAAH/i/f8=\")","v":{"$error":"#VALUE!"}}]
[{"$f":"AND('Streaming - Res Calc'!R12,\"AAAAAHyS6wA=\")","v":{"$error":"#VALUE!"}},{"$f":"AND('Streaming - Res Calc'!S12,\"AAAAAHyS6wE=\")","v":{"$error":"#VALUE!"}},{"$f":"AND('Streaming - Res Calc'!T12,\"AAAAAHyS6wI=\")","v":{"$error":"#VALUE!"}},{"$f":"AND('Streaming - Res Calc'!U12,\"AAAAAHyS6wM=\")","v":{"$error":"#VALUE!"}},{"$f":"AND('Streaming - Res Calc'!V12,\"AAAAAHyS6wQ=\")","v":{"$error":"#VALUE!"}},{"$f":"AND('Streaming - Res Calc'!W12,\"AAAAAHyS6wU=\")","v":{"$error":"#VALUE!"}},{"$f":"IF('Streaming - Res Calc'!13:13,\"AAAAAHyS6wY=\",0)","v":0},{"$f":"AND('Streaming - Res Calc'!C13,\"AAAAAHyS6wc=\")","v":{"$error":"#VALUE!"}},{"$f":"AND('Streaming - Res Calc'!D13,\"AAAAAHyS6wg=\")","v":{"$error":"#VALUE!"}},{"$f":"AND('Streaming - Res Calc'!E13,\"AAAAAHyS6wk=\")","v":{"$error":"#VALUE!"}},{"$f":"AND('Streaming - Res Calc'!F13,\"AAAAAHyS6wo=\")","v":{"$error":"#VALUE!"}},{"$f":"AND('Streaming - Res Calc'!G13,\"AAAAAHyS6ws=\")","v":{"$error":"#VALUE!"}},{"$f":"AND('Streaming - Res Calc'!H13,\"AAAAAHyS6ww=\")","v":{"$error":"#VALUE!"}},{"$f":"AND('Streaming - Res Calc'!I13,\"AAAAAHyS6w0=\")","v":{"$error":"#VALUE!"}},{"$f":"AND('Streaming - Res Calc'!J13,\"AAAAAHyS6w4=\")","v":{"$error":"#VALUE!"}},{"$f":"AND('Streaming - Res Calc'!K13,\"AAAAAHyS6w8=\")","v":{"$error":"#VALUE!"}},{"$f":"AND('Streaming - Res Calc'!L13,\"AAAAAHyS6xA=\")","v":{"$error":"#VALUE!"}},{"$f":"AND('Streaming - Res Calc'!M13,\"AAAAAHyS6xE=\")","v":{"$error":"#VALUE!"}},{"$f":"AND('Streaming - Res Calc'!N13,\"AAAAAHyS6xI=\")","v":{"$error":"#VALUE!"}},{"$f":"AND('Streaming - Res Calc'!O13,\"AAAAAHyS6xM=\")","v":{"$error":"#VALUE!"}},{"$f":"AND('Streaming - Res Calc'!P13,\"AAAAAHyS6xQ=\")","v":{"$error":"#VALUE!"}},{"$f":"AND('Streaming - Res Calc'!Q13,\"AAAAAHyS6xU=\")","v":{"$error":"#VALUE!"}},{"$f":"AND('Streaming - Res Calc'!R13,\"AAAAAHyS6xY=\")","v":{"$error":"#VALUE!"}},{"$f":"AND('Streaming - Res Calc'!S13,\"AAAAAHyS6xc=\")","v":{"$error":"#VALUE!"}},{"$f":"AND('Streaming - Res Calc'!T13,\"AAAAAHyS6xg=\")","v":{"$error":"#VALUE!"}},{"$f":"AND('Streaming - Res Calc'!U13,\"AAAAAHyS6xk=\")","v":{"$error":"#VALUE!"}},{"$f":"AND('Streaming - Res Calc'!V13,\"AAAAAHyS6xo=\")","v":{"$error":"#VALUE!"}},{"$f":"AND('Streaming - Res Calc'!W13,\"AAAAAHyS6xs=\")","v":{"$error":"#VALUE!"}},{"$f":"IF('Streaming - Res Calc'!14:14,\"AAAAAHyS6xw=\",0)","v":0},{"$f":"AND('Streaming - Res Calc'!C14,\"AAAAAHyS6x0=\")","v":{"$error":"#VALUE!"}},{"$f":"AND('Streaming - Res Calc'!D14,\"AAAAAHyS6x4=\")","v":{"$error":"#VALUE!"}},{"$f":"AND('Streaming - Res Calc'!E14,\"AAAAAHyS6x8=\")","v":{"$error":"#VALUE!"}},{"$f":"AND('Streaming - Res Calc'!F14,\"AAAAAHyS6yA=\")","v":{"$error":"#VALUE!"}},{"$f":"AND('Streaming - Res Calc'!G14,\"AAAAAHyS6yE=\")","v":{"$error":"#VALUE!"}},{"$f":"AND('Streaming - Res Calc'!H14,\"AAAAAHyS6yI=\")","v":{"$error":"#VALUE!"}},{"$f":"AND('Streaming - Res Calc'!I14,\"AAAAAHyS6yM=\")","v":{"$error":"#VALUE!"}},{"$f":"AND('Streaming - Res Calc'!J14,\"AAAAAHyS6yQ=\")","v":{"$error":"#VALUE!"}},{"$f":"AND('Streaming - Res Calc'!K14,\"AAAAAHyS6yU=\")","v":{"$error":"#VALUE!"}},{"$f":"AND('Streaming - Res Calc'!L14,\"AAAAAHyS6yY=\")","v":{"$error":"#VALUE!"}},{"$f":"AND('Streaming - Res Calc'!M14,\"AAAAAHyS6yc=\")","v":{"$error":"#VALUE!"}},{"$f":"AND('Streaming - Res Calc'!N14,\"AAAAAHyS6yg=\")","v":{"$error":"#VALUE!"}},{"$f":"AND('Streaming - Res Calc'!O14,\"AAAAAHyS6yk=\")","v":{"$error":"#VALUE!"}},{"$f":"AND('Streaming - Res Calc'!P14,\"AAAAAHyS6yo=\")","v":{"$error":"#VALUE!"}},{"$f":"AND('Streaming - Res Calc'!Q14,\"AAAAAHyS6ys=\")","v":{"$error":"#VALUE!"}},{"$f":"AND('Streaming - Res Calc'!R14,\"AAAAAHyS6yw=\")","v":{"$error":"#VALUE!"}},{"$f":"AND('Streaming - Res Calc'!S14,\"AAAAAHyS6y0=\")","v":{"$error":"#VALUE!"}},{"$f":"AND('Streaming - Res Calc'!T14,\"AAAAAHyS6y4=\")","v":{"$error":"#VALUE!"}},{"$f":"AND('Streaming - Res Calc'!U14,\"AAAAAHyS6y8=\")","v":{"$error":"#VALUE!"}},{"$f":"AND('Streaming - Res Calc'!V14,\"AAAAAHyS6zA=\")","v":{"$error":"#VALUE!"}},{"$f":"AND('Streaming - Res Calc'!W14,\"AAAAAHyS6zE=\")","v":{"$error":"#VALUE!"}},{"$f":"IF('Streaming - Res Calc'!15:15,\"AAAAAHyS6zI=\",0)","v":0},{"$f":"AND('Streaming - Res Calc'!C15,\"AAAAAHyS6zM=\")","v":{"$error":"#VALUE!"}},{"$f":"AND('Streaming - Res Calc'!D15,\"AAAAAHyS6zQ=\")","v":{"$error":"#VALUE!"}},{"$f":"AND('Streaming - Res Calc'!E15,\"AAAAAHyS6zU=\")","v":{"$error":"#VALUE!"}},{"$f":"AND('Streaming - Res Calc'!F15,\"AAAAAHyS6zY=\")","v":{"$error":"#VALUE!"}},{"$f":"AND('Streaming - Res Calc'!G15,\"AAAAAHyS6zc=\")","v":{"$error":"#VALUE!"}},{"$f":"AND('Streaming - Res Calc'!H15,\"AAAAAHyS6zg=\")","v":{"$error":"#VALUE!"}},{"$f":"AND('Streaming - Res Calc'!I15,\"AAAAAHyS6zk=\")","v":{"$error":"#VALUE!"}},{"$f":"AND('Streaming - Res Calc'!J15,\"AAAAAHyS6zo=\")","v":{"$error":"#VALUE!"}},{"$f":"AND('Streaming - Res Calc'!K15,\"AAAAAHyS6zs=\")","v":{"$error":"#VALUE!"}},{"$f":"AND('Streaming - Res Calc'!L15,\"AAAAAHyS6zw=\")","v":{"$error":"#VALUE!"}},{"$f":"AND('Streaming - Res Calc'!M15,\"AAAAAHyS6z0=\")","v":{"$error":"#VALUE!"}},{"$f":"AND('Streaming - Res Calc'!N15,\"AAAAAHyS6z4=\")","v":{"$error":"#VALUE!"}},{"$f":"AND('Streaming - Res Calc'!O15,\"AAAAAHyS6z8=\")","v":{"$error":"#VALUE!"}},{"$f":"AND('Streaming - Res Calc'!P15,\"AAAAAHyS60A=\")","v":{"$error":"#VALUE!"}},{"$f":"AND('Streaming - Res Calc'!Q15,\"AAAAAHyS60E=\")","v":{"$error":"#VALUE!"}},{"$f":"AND('Streaming - Res Calc'!R15,\"AAAAAHyS60I=\")","v":{"$error":"#VALUE!"}},{"$f":"AND('Streaming - Res Calc'!S15,\"AAAAAHyS60M=\")","v":{"$error":"#VALUE!"}},{"$f":"AND('Streaming - Res Calc'!T15,\"AAAAAHyS60Q=\")","v":{"$error":"#VALUE!"}},{"$f":"AND('Streaming - Res Calc'!U15,\"AAAAAHyS60U=\")","v":{"$error":"#VALUE!"}},{"$f":"AND('Streaming - Res Calc'!V15,\"AAAAAHyS60Y=\")","v":{"$error":"#VALUE!"}},{"$f":"AND('Streaming - Res Calc'!W15,\"AAAAAHyS60c=\")","v":{"$error":"#VALUE!"}},{"$f":"IF('Streaming - Res Calc'!16:16,\"AAAAAHyS60g=\",0)","v":0},{"$f":"AND('Streaming - Res Calc'!C16,\"AAAAAHyS60k=\")","v":{"$error":"#VALUE!"}},{"$f":"AND('Streaming - Res Calc'!D16,\"AAAAAHyS60o=\")","v":{"$error":"#VALUE!"}},{"$f":"AND('Streaming - Res Calc'!E16,\"AAAAAHyS60s=\")","v":{"$error":"#VALUE!"}},{"$f":"AND('Streaming - Res Calc'!F16,\"AAAAAHyS60w=\")","v":{"$error":"#VALUE!"}},{"$f":"AND('Streaming - Res Calc'!G16,\"AAAAAHyS600=\")","v":{"$error":"#VALUE!"}},{"$f":"AND('Streaming - Res Calc'!H16,\"AAAAAHyS604=\")","v":{"$error":"#VALUE!"}},{"$f":"AND('Streaming - Res Calc'!I16,\"AAAAAHyS608=\")","v":{"$error":"#VALUE!"}},{"$f":"AND('Streaming - Res Calc'!J16,\"AAAAAHyS61A=\")","v":{"$error":"#VALUE!"}},{"$f":"AND('Streaming - Res Calc'!K16,\"AAAAAHyS61E=\")","v":{"$error":"#VALUE!"}},{"$f":"AND('Streaming - Res Calc'!#REF!,\"AAAAAHyS61I=\")","v":{"$error":"#REF!"}},{"$f":"AND('Streaming - Res Calc'!L16,\"AAAAAHyS61M=\")","v":{"$error":"#VALUE!"}},{"$f":"AND('Streaming - Res Calc'!N16,\"AAAAAHyS61Q=\")","v":{"$error":"#VALUE!"}},{"$f":"AND('Streaming - Res Calc'!O16,\"AAAAAHyS61U=\")","v":{"$error":"#VALUE!"}},{"$f":"AND('Streaming - Res Calc'!P16,\"AAAAAHyS61Y=\")","v":{"$error":"#VALUE!"}},{"$f":"AND('Streaming - Res Calc'!Q16,\"AAAAAHyS61c=\")","v":{"$error":"#VALUE!"}},{"$f":"AND('Streaming - Res Calc'!R16,\"AAAAAHyS61g=\")","v":{"$error":"#VALUE!"}},{"$f":"AND('Streaming - Res Calc'!S16,\"AAAAAHyS61k=\")","v":{"$error":"#VALUE!"}},{"$f":"AND('Streaming - Res Calc'!T16,\"AAAAAHyS61o=\")","v":{"$error":"#VALUE!"}},{"$f":"AND('Streaming - Res Calc'!U16,\"AAAAAHyS61s=\")","v":{"$error":"#VALUE!"}},{"$f":"AND('Streaming - Res Calc'!V16,\"AAAAAHyS61w=\")","v":{"$error":"#VALUE!"}},{"$f":"AND('Streaming - Res Calc'!W16,\"AAAAAHyS610=\")","v":{"$error":"#VALUE!"}},{"$f":"IF('Streaming - Res Calc'!17:17,\"AAAAAHyS614=\",0)","v":0},{"$f":"AND('Streaming - Res Calc'!C17,\"AAAAAHyS618=\")","v":{"$error":"#VALUE!"}},{"$f":"AND('Streaming - Res Calc'!D17,\"AAAAAHyS62A=\")","v":{"$error":"#VALUE!"}},{"$f":"AND('Streaming - Res Calc'!E17,\"AAAAAHyS62E=\")","v":{"$error":"#VALUE!"}},{"$f":"AND('Streaming - Res Calc'!F17,\"AAAAAHyS62I=\")","v":{"$error":"#VALUE!"}},{"$f":"AND('Streaming - Res Calc'!G17,\"AAAAAHyS62M=\")","v":{"$error":"#VALUE!"}},{"$f":"AND('Streaming - Res Calc'!H17,\"AAAAAHyS62Q=\")","v":{"$error":"#VALUE!"}},{"$f":"AND('Streaming - Res Calc'!I17,\"AAAAAHyS62U=\")","v":{"$error":"#VALUE!"}},{"$f":"AND('Streaming - Res Calc'!J17,\"AAAAAHyS62Y=\")","v":{"$error":"#VALUE!"}},{"$f":"AND('Streaming - Res Calc'!K17,\"AAAAAHyS62c=\")","v":{"$error":"#VALUE!"}},{"$f":"AND('Streaming - Res Calc'!L17,\"AAAAAHyS62g=\")","v":{"$error":"#VALUE!"}},{"$f":"AND('Streaming - Res Calc'!M17,\"AAAAAHyS62k=\")","v":{"$error":"#VALUE!"}},{"$f":"AND('Streaming - Res Calc'!N17,\"AAAAAHyS62o=\")","v":{"$error":"#VALUE!"}},{"$f":"AND('Streaming - Res Calc'!O17,\"AAAAAHyS62s=\")","v":{"$error":"#VALUE!"}},{"$f":"AND('Streaming - Res Calc'!P17,\"AAAAAHyS62w=\")","v":{"$error":"#VALUE!"}},{"$f":"AND('Streaming - Res Calc'!Q17,\"AAAAAHyS620=\")","v":{"$error":"#VALUE!"}},{"$f":"AND('Streaming - Res Calc'!R17,\"AAAAAHyS624=\")","v":{"$error":"#VALUE!"}},{"$f":"AND('Streaming - Res Calc'!S17,\"AAAAAHyS628=\")","v":{"$error":"#VALUE!"}},{"$f":"AND('Streaming - Res Calc'!T17,\"AAAAAHyS63A=\")","v":{"$error":"#VALUE!"}},{"$f":"AND('Streaming - Res Calc'!U17,\"AAAAAHyS63E=\")","v":{"$error":"#VALUE!"}},{"$f":"AND('Streaming - Res Calc'!V17,\"AAAAAHyS63I=\")","v":{"$error":"#VALUE!"}},{"$f":"AND('Streaming - Res Calc'!W17,\"AAAAAHyS63M=\")","v":{"$error":"#VALUE!"}},{"$f":"IF('Streaming - Res Calc'!18:18,\"AAAAAHyS63Q=\",0)","v":0},{"$f":"AND('Streaming - Res Calc'!C18,\"AAAAAHyS63U=\")","v":{"$error":"#VALUE!"}},{"$f":"AND('Streaming - Res Calc'!D18,\"AAAAAHyS63Y=\")","v":{"$error":"#VALUE!"}},{"$f":"AND('Streaming - Res Calc'!E18,\"AAAAAHyS63c=\")","v":{"$error":"#VALUE!"}},{"$f":"AND('Streaming - Res Calc'!F18,\"AAAAAHyS63g=\")","v":{"$error":"#VALUE!"}},{"$f":"AND('Streaming - Res Calc'!G18,\"AAAAAHyS63k=\")","v":{"$error":"#VALUE!"}},{"$f":"AND('Streaming - Res Calc'!H18,\"AAAAAHyS63o=\")","v":{"$error":"#VALUE!"}},{"$f":"AND('Streaming - Res Calc'!I18,\"AAAAAHyS63s=\")","v":{"$error":"#VALUE!"}},{"$f":"AND('Streaming - Res Calc'!J18,\"AAAAAHyS63w=\")","v":{"$error":"#VALUE!"}},{"$f":"AND('Streaming - Res Calc'!K18,\"AAAAAHyS630=\")","v":{"$error":"#VALUE!"}},{"$f":"AND('Streaming - Res Calc'!L18,\"AAAAAHyS634=\")","v":{"$error":"#VALUE!"}},{"$f":"AND('Streaming - Res Calc'!M18,\"AAAAAHyS638=\")","v":{"$error":"#VALUE!"}},{"$f":"AND('Streaming - Res Calc'!N18,\"AAAAAHyS64A=\")","v":{"$error":"#VALUE!"}},{"$f":"AND('Streaming - Res Calc'!O18,\"AAAAAHyS64E=\")","v":{"$error":"#VALUE!"}},{"$f":"AND('Streaming - Res Calc'!P18,\"AAAAAHyS64I=\")","v":{"$error":"#VALUE!"}},{"$f":"AND('Streaming - Res Calc'!Q18,\"AAAAAHyS64M=\")","v":{"$error":"#VALUE!"}},{"$f":"AND('Streaming - Res Calc'!R18,\"AAAAAHyS64Q=\")","v":{"$error":"#VALUE!"}},{"$f":"AND('Streaming - Res Calc'!S18,\"AAAAAHyS64U=\")","v":{"$error":"#VALUE!"}},{"$f":"AND('Streaming - Res Calc'!T18,\"AAAAAHyS64Y=\")","v":{"$error":"#VALUE!"}},{"$f":"AND('Streaming - Res Calc'!U18,\"AAAAAHyS64c=\")","v":{"$error":"#VALUE!"}},{"$f":"AND('Streaming - Res Calc'!V18,\"AAAAAHyS64g=\")","v":{"$error":"#VALUE!"}},{"$f":"AND('Streaming - Res Calc'!W18,\"AAAAAHyS64k=\")","v":{"$error":"#VALUE!"}},{"$f":"IF('Streaming - Res Calc'!19:19,\"AAAAAHyS64o=\",0)","v":0},{"$f":"AND('Streaming - Res Calc'!C19,\"AAAAAHyS64s=\")","v":{"$error":"#VALUE!"}},{"$f":"AND('Streaming - Res Calc'!D19,\"AAAAAHyS64w=\")","v":{"$error":"#VALUE!"}},{"$f":"AND('Streaming - Res Calc'!E19,\"AAAAAHyS640=\")","v":{"$error":"#VALUE!"}},{"$f":"AND('Streaming - Res Calc'!F19,\"AAAAAHyS644=\")","v":{"$error":"#VALUE!"}},{"$f":"AND('Streaming - Res Calc'!G19,\"AAAAAHyS648=\")","v":{"$error":"#VALUE!"}},{"$f":"AND('Streaming - Res Calc'!H19,\"AAAAAHyS65A=\")","v":{"$error":"#VALUE!"}},{"$f":"AND('Streaming - Res Calc'!I19,\"AAAAAHyS65E=\")","v":{"$error":"#VALUE!"}},{"$f":"AND('Streaming - Res Calc'!J19,\"AAAAAHyS65I=\")","v":{"$error":"#VALUE!"}},{"$f":"AND('Streaming - Res Calc'!K19,\"AAAAAHyS65M=\")","v":{"$error":"#VALUE!"}},{"$f":"AND('Streaming - Res Calc'!L19,\"AAAAAHyS65Q=\")","v":{"$error":"#VALUE!"}},{"$f":"AND('Streaming - Res Calc'!M19,\"AAAAAHyS65U=\")","v":{"$error":"#VALUE!"}},{"$f":"AND('Streaming - Res Calc'!N19,\"AAAAAHyS65Y=\")","v":{"$error":"#VALUE!"}},{"$f":"AND('Streaming - Res Calc'!O19,\"AAAAAHyS65c=\")","v":{"$error":"#VALUE!"}},{"$f":"AND('Streaming - Res Calc'!P19,\"AAAAAHyS65g=\")","v":{"$error":"#VALUE!"}},{"$f":"AND('Streaming - Res Calc'!Q19,\"AAAAAHyS65k=\")","v":{"$error":"#VALUE!"}},{"$f":"AND('Streaming - Res Calc'!R19,\"AAAAAHyS65o=\")","v":{"$error":"#VALUE!"}},{"$f":"AND('Streaming - Res Calc'!S19,\"AAAAAHyS65s=\")","v":{"$error":"#VALUE!"}},{"$f":"AND('Streaming - Res Calc'!T19,\"AAAAAHyS65w=\")","v":{"$error":"#VALUE!"}},{"$f":"AND('Streaming - Res Calc'!U19,\"AAAAAHyS650=\")","v":{"$error":"#VALUE!"}},{"$f":"AND('Streaming - Res Calc'!V19,\"AAAAAHyS654=\")","v":{"$error":"#VALUE!"}},{"$f":"AND('Streaming - Res Calc'!W19,\"AAAAAHyS658=\")","v":{"$error":"#VALUE!"}},{"$f":"IF('Streaming - Res Calc'!20:20,\"AAAAAHyS66A=\",0)","v":0},{"$f":"AND('Streaming - Res Calc'!C20,\"AAAAAHyS66E=\")","v":{"$error":"#VALUE!"}},{"$f":"AND('Streaming - Res Calc'!D20,\"AAAAAHyS66I=\")","v":{"$error":"#VALUE!"}},{"$f":"AND('Streaming - Res Calc'!E20,\"AAAAAHyS66M=\")","v":{"$error":"#VALUE!"}},{"$f":"AND('Streaming - Res Calc'!F20,\"AAAAAHyS66Q=\")","v":{"$error":"#VALUE!"}},{"$f":"AND('Streaming - Res Calc'!G20,\"AAAAAHyS66U=\")","v":{"$error":"#VALUE!"}},{"$f":"AND('Streaming - Res Calc'!H20,\"AAAAAHyS66Y=\")","v":{"$error":"#VALUE!"}},{"$f":"AND('Streaming - Res Calc'!I20,\"AAAAAHyS66c=\")","v":{"$error":"#VALUE!"}},{"$f":"AND('Streaming - Res Calc'!J20,\"AAAAAHyS66g=\")","v":{"$error":"#VALUE!"}},{"$f":"AND('Streaming - Res Calc'!K20,\"AAAAAHyS66k=\")","v":{"$error":"#VALUE!"}},{"$f":"AND('Streaming - Res Calc'!L20,\"AAAAAHyS66o=\")","v":{"$error":"#VALUE!"}},{"$f":"AND('Streaming - Res Calc'!M20,\"AAAAAHyS66s=\")","v":{"$error":"#VALUE!"}},{"$f":"AND('Streaming - Res Calc'!N20,\"AAAAAHyS66w=\")","v":{"$error":"#VALUE!"}},{"$f":"AND('Streaming - Res Calc'!O20,\"AAAAAHyS660=\")","v":{"$error":"#VALUE!"}},{"$f":"AND('Streaming - Res Calc'!P20,\"AAAAAHyS664=\")","v":{"$error":"#VALUE!"}},{"$f":"AND('Streaming - Res Calc'!Q20,\"AAAAAHyS668=\")","v":{"$error":"#VALUE!"}},{"$f":"AND('Streaming - Res Calc'!R20,\"AAAAAHyS67A=\")","v":{"$error":"#VALUE!"}},{"$f":"AND('Streaming - Res Calc'!S20,\"AAAAAHyS67E=\")","v":{"$error":"#VALUE!"}},{"$f":"AND('Streaming - Res Calc'!T20,\"AAAAAHyS67I=\")","v":{"$error":"#VALUE!"}},{"$f":"AND('Streaming - Res Calc'!U20,\"AAAAAHyS67M=\")","v":{"$error":"#VALUE!"}},{"$f":"AND('Streaming - Res Calc'!V20,\"AAAAAHyS67Q=\")","v":{"$error":"#VALUE!"}},{"$f":"AND('Streaming - Res Calc'!W20,\"AAAAAHyS67U=\")","v":{"$error":"#VALUE!"}},{"$f":"IF('Streaming - Res Calc'!21:21,\"AAAAAHyS67Y=\",0)","v":0},{"$f":"AND('Streaming - Res Calc'!C21,\"AAAAAHyS67c=\")","v":{"$error":"#VALUE!"}},{"$f":"AND('Streaming - Res Calc'!D21,\"AAAAAHyS67g=\")","v":{"$error":"#VALUE!"}},{"$f":"AND('Streaming - Res Calc'!E21,\"AAAAAHyS67k=\")","v":{"$error":"#VALUE!"}},{"$f":"AND('Streaming - Res Calc'!F21,\"AAAAAHyS67o=\")","v":{"$error":"#VALUE!"}},{"$f":"AND('Streaming - Res Calc'!G21,\"AAAAAHyS67s=\")","v":{"$error":"#VALUE!"}},{"$f":"AND('Streaming - Res Calc'!H21,\"AAAAAHyS67w=\")","v":{"$error":"#VALUE!"}},{"$f":"AND('Streaming - Res Calc'!I21,\"AAAAAHyS670=\")","v":{"$error":"#VALUE!"}},{"$f":"AND('Streaming - Res Calc'!J21,\"AAAAAHyS674=\")","v":{"$error":"#VALUE!"}},{"$f":"AND('Streaming - Res Calc'!K21,\"AAAAAHyS678=\")","v":{"$error":"#VALUE!"}},{"$f":"AND('Streaming - Res Calc'!L21,\"AAAAAHyS68A=\")","v":{"$error":"#VALUE!"}},{"$f":"AND('Streaming - Res Calc'!M21,\"AAAAAHyS68E=\")","v":{"$error":"#VALUE!"}},{"$f":"AND('Streaming - Res Calc'!N21,\"AAAAAHyS68I=\")","v":{"$error":"#VALUE!"}},{"$f":"AND('Streaming - Res Calc'!O21,\"AAAAAHyS68M=\")","v":{"$error":"#VALUE!"}},{"$f":"AND('Streaming - Res Calc'!P21,\"AAAAAHyS68Q=\")","v":{"$error":"#VALUE!"}},{"$f":"AND('Streaming - Res Calc'!Q21,\"AAAAAHyS68U=\")","v":{"$error":"#VALUE!"}},{"$f":"AND('Streaming - Res Calc'!R21,\"AAAAAHyS68Y=\")","v":{"$error":"#VALUE!"}},{"$f":"AND('Streaming - Res Calc'!S21,\"AAAAAHyS68c=\")","v":{"$error":"#VALUE!"}},{"$f":"AND('Streaming - Res Calc'!T21,\"AAAAAHyS68g=\")","v":{"$error":"#VALUE!"}},{"$f":"AND('Streaming - Res Calc'!U21,\"AAAAAHyS68k=\")","v":{"$error":"#VALUE!"}},{"$f":"AND('Streaming - Res Calc'!V21,\"AAAAAHyS68o=\")","v":{"$error":"#VALUE!"}},{"$f":"AND('Streaming - Res Calc'!W21,\"AAAAAHyS68s=\")","v":{"$error":"#VALUE!"}},{"$f":"IF('Streaming - Res Calc'!22:22,\"AAAAAHyS68w=\",0)","v":0},{"$f":"AND('Streaming - Res Calc'!C22,\"AAAAAHyS680=\")","v":{"$error":"#VALUE!"}},{"$f":"AND('Streaming - Res Calc'!D22,\"AAAAAHyS684=\")","v":{"$error":"#VALUE!"}},{"$f":"AND('Streaming - Res Calc'!E22,\"AAAAAHyS688=\")","v":{"$error":"#VALUE!"}},{"$f":"AND('Streaming - Res Calc'!F22,\"AAAAAHyS69A=\")","v":{"$error":"#VALUE!"}},{"$f":"AND('Streaming - Res Calc'!G22,\"AAAAAHyS69E=\")","v":{"$error":"#VALUE!"}},{"$f":"AND('Streaming - Res Calc'!H22,\"AAAAAHyS69I=\")","v":{"$error":"#VALUE!"}},{"$f":"AND('Streaming - Res Calc'!I22,\"AAAAAHyS69M=\")","v":{"$error":"#VALUE!"}},{"$f":"AND('Streaming - Res Calc'!J22,\"AAAAAHyS69Q=\")","v":{"$error":"#VALUE!"}},{"$f":"AND('Streaming - Res Calc'!K22,\"AAAAAHyS69U=\")","v":{"$error":"#VALUE!"}},{"$f":"AND('Streaming - Res Calc'!L22,\"AAAAAHyS69Y=\")","v":{"$error":"#VALUE!"}},{"$f":"AND('Streaming - Res Calc'!M22,\"AAAAAHyS69c=\")","v":{"$error":"#VALUE!"}},{"$f":"AND('Streaming - Res Calc'!N22,\"AAAAAHyS69g=\")","v":{"$error":"#VALUE!"}},{"$f":"AND('Streaming - Res Calc'!O22,\"AAAAAHyS69k=\")","v":{"$error":"#VALUE!"}},{"$f":"AND('Streaming - Res Calc'!P22,\"AAAAAHyS69o=\")","v":{"$error":"#VALUE!"}},{"$f":"AND('Streaming - Res Calc'!Q22,\"AAAAAHyS69s=\")","v":{"$error":"#VALUE!"}},{"$f":"AND('Streaming - Res Calc'!R22,\"AAAAAHyS69w=\")","v":{"$error":"#VALUE!"}},{"$f":"AND('Streaming - Res Calc'!S22,\"AAAAAHyS690=\")","v":{"$error":"#VALUE!"}},{"$f":"AND('Streaming - Res Calc'!T22,\"AAAAAHyS694=\")","v":{"$error":"#VALUE!"}},{"$f":"AND('Streaming - Res Calc'!U22,\"AAAAAHyS698=\")","v":{"$error":"#VALUE!"}},{"$f":"AND('Streaming - Res Calc'!V22,\"AAAAAHyS6+A=\")","v":{"$error":"#VALUE!"}},{"$f":"AND('Streaming - Res Calc'!W22,\"AAAAAHyS6+E=\")","v":{"$error":"#VALUE!"}},{"$f":"IF('Streaming - Res Calc'!23:23,\"AAAAAHyS6+I=\",0)","v":0},{"$f":"AND('Streaming - Res Calc'!C23,\"AAAAAHyS6+M=\")","v":{"$error":"#VALUE!"}},{"$f":"AND('Streaming - Res Calc'!D23,\"AAAAAHyS6+Q=\")","v":{"$error":"#VALUE!"}},{"$f":"AND('Streaming - Res Calc'!E23,\"AAAAAHyS6+U=\")","v":{"$error":"#VALUE!"}},{"$f":"AND('Streaming - Res Calc'!F23,\"AAAAAHyS6+Y=\")","v":{"$error":"#VALUE!"}},{"$f":"AND('Streaming - Res Calc'!G23,\"AAAAAHyS6+c=\")","v":{"$error":"#VALUE!"}},{"$f":"AND('Streaming - Res Calc'!H23,\"AAAAAHyS6+g=\")","v":{"$error":"#VALUE!"}},{"$f":"AND('Streaming - Res Calc'!I23,\"AAAAAHyS6+k=\")","v":{"$error":"#VALUE!"}},{"$f":"AND('Streaming - Res Calc'!J23,\"AAAAAHyS6+o=\")","v":{"$error":"#VALUE!"}},{"$f":"AND('Streaming - Res Calc'!K23,\"AAAAAHyS6+s=\")","v":{"$error":"#VALUE!"}},{"$f":"AND('Streaming - Res Calc'!L23,\"AAAAAHyS6+w=\")","v":{"$error":"#VALUE!"}},{"$f":"AND('Streaming - Res Calc'!M23,\"AAAAAHyS6+0=\")","v":{"$error":"#VALUE!"}},{"$f":"AND('Streaming - Res Calc'!N23,\"AAAAAHyS6+4=\")","v":{"$error":"#VALUE!"}},{"$f":"AND('Streaming - Res Calc'!O23,\"AAAAAHyS6+8=\")","v":{"$error":"#VALUE!"}},{"$f":"AND('Streaming - Res Calc'!P23,\"AAAAAHyS6/A=\")","v":{"$error":"#VALUE!"}},{"$f":"AND('Streaming - Res Calc'!Q23,\"AAAAAHyS6/E=\")","v":{"$error":"#VALUE!"}},{"$f":"AND('Streaming - Res Calc'!R23,\"AAAAAHyS6/I=\")","v":{"$error":"#VALUE!"}},{"$f":"AND('Streaming - Res Calc'!S23,\"AAAAAHyS6/M=\")","v":{"$error":"#VALUE!"}},{"$f":"AND('Streaming - Res Calc'!T23,\"AAAAAHyS6/Q=\")","v":{"$error":"#VALUE!"}},{"$f":"AND('Streaming - Res Calc'!U23,\"AAAAAHyS6/U=\")","v":{"$error":"#VALUE!"}},{"$f":"AND('Streaming - Res Calc'!V23,\"AAAAAHyS6/Y=\")","v":{"$error":"#VALUE!"}},{"$f":"AND('Streaming - Res Calc'!W23,\"AAAAAHyS6/c=\")","v":{"$error":"#VALUE!"}},{"$f":"IF('Streaming - Res Calc'!24:24,\"AAAAAHyS6/g=\",0)","v":0},{"$f":"AND('Streaming - Res Calc'!C24,\"AAAAAHyS6/k=\")","v":{"$error":"#VALUE!"}},{"$f":"AND('Streaming - Res Calc'!D24,\"AAAAAHyS6/o=\")","v":{"$error":"#VALUE!"}},{"$f":"AND('Streaming - Res Calc'!E24,\"AAAAAHyS6/s=\")","v":{"$error":"#VALUE!"}},{"$f":"AND('Streaming - Res Calc'!F24,\"AAAAAHyS6/w=\")","v":{"$error":"#VALUE!"}},{"$f":"AND('Streaming - Res Calc'!G24,\"AAAAAHyS6/0=\")","v":{"$error":"#VALUE!"}},{"$f":"AND('Streaming - Res Calc'!H24,\"AAAAAHyS6/4=\")","v":{"$error":"#VALUE!"}},{"$f":"AND('Streaming - Res Calc'!I24,\"AAAAAHyS6/8=\")","v":{"$error":"#VALUE!"}}]
[{"$f":"AND('Streaming - Res Calc'!J24,\"AAAAAF/K9wA=\")","v":{"$error":"#VALUE!"}},{"$f":"AND('Streaming - Res Calc'!K24,\"AAAAAF/K9wE=\")","v":{"$error":"#VALUE!"}},{"$f":"AND('Streaming - Res Calc'!L24,\"AAAAAF/K9wI=\")","v":{"$error":"#VALUE!"}},{"$f":"AND('Streaming - Res Calc'!M24,\"AAAAAF/K9wM=\")","v":{"$error":"#VALUE!"}},{"$f":"AND('Streaming - Res Calc'!N24,\"AAAAAF/K9wQ=\")","v":{"$error":"#VALUE!"}},{"$f":"AND('Streaming - Res Calc'!O24,\"AAAAAF/K9wU=\")","v":{"$error":"#VALUE!"}},{"$f":"AND('Streaming - Res Calc'!P24,\"AAAAAF/K9wY=\")","v":{"$error":"#VALUE!"}},{"$f":"AND('Streaming - Res Calc'!Q24,\"AAAAAF/K9wc=\")","v":{"$error":"#VALUE!"}},{"$f":"AND('Streaming - Res Calc'!R24,\"AAAAAF/K9wg=\")","v":{"$error":"#VALUE!"}},{"$f":"AND('Streaming - Res Calc'!S24,\"AAAAAF/K9wk=\")","v":{"$error":"#VALUE!"}},{"$f":"AND('Streaming - Res Calc'!T24,\"AAAAAF/K9wo=\")","v":{"$error":"#VALUE!"}},{"$f":"AND('Streaming - Res Calc'!U24,\"AAAAAF/K9ws=\")","v":{"$error":"#VALUE!"}},{"$f":"AND('Streaming - Res Calc'!V24,\"AAAAAF/K9ww=\")","v":{"$error":"#VALUE!"}},{"$f":"AND('Streaming - Res Calc'!W24,\"AAAAAF/K9w0=\")","v":{"$error":"#VALUE!"}},{"$f":"IF('Streaming - Res Calc'!25:25,\"AAAAAF/K9w4=\",0)","v":{"$error":"#VALUE!"}},{"$f":"AND('Streaming - Res Calc'!C25,\"AAAAAF/K9w8=\")","v":{"$error":"#VALUE!"}},{"$f":"AND('Streaming - Res Calc'!D25,\"AAAAAF/K9xA=\")","v":{"$error":"#VALUE!"}},{"$f":"AND('Streaming - Res Calc'!E25,\"AAAAAF/K9xE=\")","v":{"$error":"#VALUE!"}},{"$f":"AND('Streaming - Res Calc'!F25,\"AAAAAF/K9xI=\")","v":{"$error":"#VALUE!"}},{"$f":"AND('Streaming - Res Calc'!G25,\"AAAAAF/K9xM=\")","v":{"$error":"#VALUE!"}},{"$f":"AND('Streaming - Res Calc'!H25,\"AAAAAF/K9xQ=\")","v":{"$error":"#VALUE!"}},{"$f":"AND('Streaming - Res Calc'!I25,\"AAAAAF/K9xU=\")","v":{"$error":"#VALUE!"}},{"$f":"AND('Streaming - Res Calc'!J25,\"AAAAAF/K9xY=\")","v":{"$error":"#VALUE!"}},{"$f":"AND('Streaming - Res Calc'!K25,\"AAAAAF/K9xc=\")","v":{"$error":"#VALUE!"}},{"$f":"AND('Streaming - Res Calc'!L25,\"AAAAAF/K9xg=\")","v":{"$error":"#VALUE!"}},{"$f":"AND('Streaming - Res Calc'!M25,\"AAAAAF/K9xk=\")","v":{"$error":"#VALUE!"}},{"$f":"AND('Streaming - Res Calc'!N25,\"AAAAAF/K9xo=\")","v":{"$error":"#VALUE!"}},{"$f":"AND('Streaming - Res Calc'!O25,\"AAAAAF/K9xs=\")","v":{"$error":"#VALUE!"}},{"$f":"AND('Streaming - Res Calc'!P25,\"AAAAAF/K9xw=\")","v":{"$error":"#VALUE!"}},{"$f":"AND('Streaming - Res Calc'!Q25,\"AAAAAF/K9x0=\")","v":{"$error":"#VALUE!"}},{"$f":"AND('Streaming - Res Calc'!R25,\"AAAAAF/K9x4=\")","v":{"$error":"#VALUE!"}},{"$f":"AND('Streaming - Res Calc'!S25,\"AAAAAF/K9x8=\")","v":{"$error":"#VALUE!"}},{"$f":"AND('Streaming - Res Calc'!T25,\"AAAAAF/K9yA=\")","v":{"$error":"#VALUE!"}},{"$f":"AND('Streaming - Res Calc'!U25,\"AAAAAF/K9yE=\")","v":{"$error":"#VALUE!"}},{"$f":"AND('Streaming - Res Calc'!V25,\"AAAAAF/K9yI=\")","v":{"$error":"#VALUE!"}},{"$f":"AND('Streaming - Res Calc'!W25,\"AAAAAF/K9yM=\")","v":{"$error":"#VALUE!"}},{"$f":"IF('Streaming - Res Calc'!26:26,\"AAAAAF/K9yQ=\",0)","v":0},{"$f":"AND('Streaming - Res Calc'!C26,\"AAAAAF/K9yU=\")","v":{"$error":"#VALUE!"}},{"$f":"AND('Streaming - Res Calc'!D26,\"AAAAAF/K9yY=\")","v":{"$error":"#VALUE!"}},{"$f":"AND('Streaming - Res Calc'!E26,\"AAAAAF/K9yc=\")","v":{"$error":"#VALUE!"}},{"$f":"AND('Streaming - Res Calc'!F26,\"AAAAAF/K9yg=\")","v":{"$error":"#VALUE!"}},{"$f":"AND('Streaming - Res Calc'!G26,\"AAAAAF/K9yk=\")","v":{"$error":"#VALUE!"}},{"$f":"AND('Streaming - Res Calc'!H26,\"AAAAAF/K9yo=\")","v":{"$error":"#VALUE!"}},{"$f":"AND('Streaming - Res Calc'!I26,\"AAAAAF/K9ys=\")","v":{"$error":"#VALUE!"}},{"$f":"AND('Streaming - Res Calc'!J26,\"AAAAAF/K9yw=\")","v":{"$error":"#VALUE!"}},{"$f":"AND('Streaming - Res Calc'!K26,\"AAAAAF/K9y0=\")","v":{"$error":"#VALUE!"}},{"$f":"AND('Streaming - Res Calc'!L26,\"AAAAAF/K9y4=\")","v":{"$error":"#VALUE!"}},{"$f":"AND('Streaming - Res Calc'!M26,\"AAAAAF/K9y8=\")","v":{"$error":"#VALUE!"}},{"$f":"AND('Streaming - Res Calc'!N26,\"AAAAAF/K9zA=\")","v":{"$error":"#VALUE!"}},{"$f":"AND('Streaming - Res Calc'!O26,\"AAAAAF/K9zE=\")","v":{"$error":"#VALUE!"}},{"$f":"AND('Streaming - Res Calc'!P26,\"AAAAAF/K9zI=\")","v":{"$error":"#VALUE!"}},{"$f":"AND('Streaming - Res Calc'!Q26,\"AAAAAF/K9zM=\")","v":{"$error":"#VALUE!"}},{"$f":"AND('Streaming - Res Calc'!R26,\"AAAAAF/K9zQ=\")","v":{"$error":"#VALUE!"}},{"$f":"AND('Streaming - Res Calc'!S26,\"AAAAAF/K9zU=\")","v":{"$error":"#VALUE!"}},{"$f":"AND('Streaming - Res Calc'!T26,\"AAAAAF/K9zY=\")","v":{"$error":"#VALUE!"}},{"$f":"AND('Streaming - Res Calc'!U26,\"AAAAAF/K9zc=\")","v":{"$error":"#VALUE!"}},{"$f":"AND('Streaming - Res Calc'!V26,\"AAAAAF/K9zg=\")","v":{"$error":"#VALUE!"}},{"$f":"AND('Streaming - Res Calc'!W26,\"AAAAAF/K9zk=\")","v":{"$error":"#VALUE!"}},{"$f":"IF('Streaming - Res Calc'!27:27,\"AAAAAF/K9zo=\",0)","v":0},{"$f":"AND('Streaming - Res Calc'!C27,\"AAAAAF/K9zs=\")","v":{"$error":"#VALUE!"}},{"$f":"AND('Streaming - Res Calc'!D27,\"AAAAAF/K9zw=\")","v":{"$error":"#VALUE!"}},{"$f":"AND('Streaming - Res Calc'!E27,\"AAAAAF/K9z0=\")","v":{"$error":"#VALUE!"}},{"$f":"AND('Streaming - Res Calc'!F27,\"AAAAAF/K9z4=\")","v":{"$error":"#VALUE!"}},{"$f":"AND('Streaming - Res Calc'!G27,\"AAAAAF/K9z8=\")","v":{"$error":"#VALUE!"}},{"$f":"AND('Streaming - Res Calc'!H27,\"AAAAAF/K90A=\")","v":{"$error":"#VALUE!"}},{"$f":"AND('Streaming - Res Calc'!I27,\"AAAAAF/K90E=\")","v":{"$error":"#VALUE!"}},{"$f":"AND('Streaming - Res Calc'!J27,\"AAAAAF/K90I=\")","v":{"$error":"#VALUE!"}},{"$f":"AND('Streaming - Res Calc'!K27,\"AAAAAF/K90M=\")","v":{"$error":"#VALUE!"}},{"$f":"AND('Streaming - Res Calc'!L27,\"AAAAAF/K90Q=\")","v":{"$error":"#VALUE!"}},{"$f":"AND('Streaming - Res Calc'!M27,\"AAAAAF/K90U=\")","v":{"$error":"#VALUE!"}},{"$f":"AND('Streaming - Res Calc'!N27,\"AAAAAF/K90Y=\")","v":{"$error":"#VALUE!"}},{"$f":"AND('Streaming - Res Calc'!O27,\"AAAAAF/K90c=\")","v":{"$error":"#VALUE!"}},{"$f":"AND('Streaming - Res Calc'!P27,\"AAAAAF/K90g=\")","v":{"$error":"#VALUE!"}},{"$f":"AND('Streaming - Res Calc'!Q27,\"AAAAAF/K90k=\")","v":{"$error":"#VALUE!"}},{"$f":"AND('Streaming - Res Calc'!R27,\"AAAAAF/K90o=\")","v":{"$error":"#VALUE!"}},{"$f":"AND('Streaming - Res Calc'!S27,\"AAAAAF/K90s=\")","v":{"$error":"#VALUE!"}},{"$f":"AND('Streaming - Res Calc'!T27,\"AAAAAF/K90w=\")","v":{"$error":"#VALUE!"}},{"$f":"AND('Streaming - Res Calc'!U27,\"AAAAAF/K900=\")","v":{"$error":"#VALUE!"}},{"$f":"AND('Streaming - Res Calc'!V27,\"AAAAAF/K904=\")","v":{"$error":"#VALUE!"}},{"$f":"AND('Streaming - Res Calc'!W27,\"AAAAAF/K908=\")","v":{"$error":"#VALUE!"}},{"$f":"IF('Streaming - Res Calc'!28:28,\"AAAAAF/K91A=\",0)","v":0},{"$f":"AND('Streaming - Res Calc'!C28,\"AAAAAF/K91E=\")","v":{"$error":"#VALUE!"}},{"$f":"AND('Streaming - Res Calc'!D28,\"AAAAAF/K91I=\")","v":{"$error":"#VALUE!"}},{"$f":"AND('Streaming - Res Calc'!E28,\"AAAAAF/K91M=\")","v":{"$error":"#VALUE!"}},{"$f":"AND('Streaming - Res Calc'!F28,\"AAAAAF/K91Q=\")","v":{"$error":"#VALUE!"}},{"$f":"AND('Streaming - Res Calc'!G28,\"AAAAAF/K91U=\")","v":{"$error":"#VALUE!"}},{"$f":"AND('Streaming - Res Calc'!H28,\"AAAAAF/K91Y=\")","v":{"$error":"#VALUE!"}},{"$f":"AND('Streaming - Res Calc'!I28,\"AAAAAF/K91c=\")","v":{"$error":"#VALUE!"}},{"$f":"AND('Streaming - Res Calc'!J28,\"AAAAAF/K91g=\")","v":{"$error":"#VALUE!"}},{"$f":"AND('Streaming - Res Calc'!K28,\"AAAAAF/K91k=\")","v":{"$error":"#VALUE!"}},{"$f":"AND('Streaming - Res Calc'!L28,\"AAAAAF/K91o=\")","v":{"$error":"#VALUE!"}},{"$f":"AND('Streaming - Res Calc'!M28,\"AAAAAF/K91s=\")","v":{"$error":"#VALUE!"}},{"$f":"AND('Streaming - Res Calc'!N28,\"AAAAAF/K91w=\")","v":{"$error":"#VALUE!"}},{"$f":"AND('Streaming - Res Calc'!O28,\"AAAAAF/K910=\")","v":{"$error":"#VALUE!"}},{"$f":"AND('Streaming - Res Calc'!P28,\"AAAAAF/K914=\")","v":{"$error":"#VALUE!"}},{"$f":"AND('Streaming - Res Calc'!Q28,\"AAAAAF/K918=\")","v":{"$error":"#VALUE!"}},{"$f":"AND('Streaming - Res Calc'!R28,\"AAAAAF/K92A=\")","v":{"$error":"#VALUE!"}},{"$f":"AND('Streaming - Res Calc'!S28,\"AAAAAF/K92E=\")","v":{"$error":"#VALUE!"}},{"$f":"AND('Streaming - Res Calc'!T28,\"AAAAAF/K92I=\")","v":{"$error":"#VALUE!"}},{"$f":"AND('Streaming - Res Calc'!U28,\"AAAAAF/K92M=\")","v":{"$error":"#VALUE!"}},{"$f":"AND('Streaming - Res Calc'!V28,\"AAAAAF/K92Q=\")","v":{"$error":"#VALUE!"}},{"$f":"AND('Streaming - Res Calc'!W28,\"AAAAAF/K92U=\")","v":{"$error":"#VALUE!"}},{"$f":"IF('Streaming - Res Calc'!29:29,\"AAAAAF/K92Y=\",0)","v":0},{"$f":"AND('Streaming - Res Calc'!C29,\"AAAAAF/K92c=\")","v":{"$error":"#VALUE!"}},{"$f":"AND('Streaming - Res Calc'!D29,\"AAAAAF/K92g=\")","v":{"$error":"#VALUE!"}},{"$f":"AND('Streaming - Res Calc'!E29,\"AAAAAF/K92k=\")","v":{"$error":"#VALUE!"}},{"$f":"AND('Streaming - Res Calc'!F29,\"AAAAAF/K92o=\")","v":{"$error":"#VALUE!"}},{"$f":"AND('Streaming - Res Calc'!G29,\"AAAAAF/K92s=\")","v":{"$error":"#VALUE!"}},{"$f":"AND('Streaming - Res Calc'!H29,\"AAAAAF/K92w=\")","v":{"$error":"#VALUE!"}},{"$f":"AND('Streaming - Res Calc'!I29,\"AAAAAF/K920=\")","v":{"$error":"#VALUE!"}},{"$f":"AND('Streaming - Res Calc'!J29,\"AAAAAF/K924=\")","v":{"$error":"#VALUE!"}},{"$f":"AND('Streaming - Res Calc'!K29,\"AAAAAF/K928=\")","v":{"$error":"#VALUE!"}},{"$f":"AND('Streaming - Res Calc'!L29,\"AAAAAF/K93A=\")","v":{"$error":"#VALUE!"}},{"$f":"AND('Streaming - Res Calc'!M29,\"AAAAAF/K93E=\")","v":{"$error":"#VALUE!"}},{"$f":"AND('Streaming - Res Calc'!N29,\"AAAAAF/K93I=\")","v":{"$error":"#VALUE!"}},{"$f":"AND('Streaming - Res Calc'!O29,\"AAAAAF/K93M=\")","v":{"$error":"#VALUE!"}},{"$f":"AND('Streaming - Res Calc'!P29,\"AAAAAF/K93Q=\")","v":{"$error":"#VALUE!"}},{"$f":"AND('Streaming - Res Calc'!Q29,\"AAAAAF/K93U=\")","v":{"$error":"#VALUE!"}},{"$f":"AND('Streaming - Res Calc'!R29,\"AAAAAF/K93Y=\")","v":{"$error":"#VALUE!"}},{"$f":"AND('Streaming - Res Calc'!S29,\"AAAAAF/K93c=\")","v":{"$error":"#VALUE!"}},{"$f":"AND('Streaming - Res Calc'!T29,\"AAAAAF/K93g=\")","v":{"$error":"#VALUE!"}},{"$f":"AND('Streaming - Res Calc'!U29,\"AAAAAF/K93k=\")","v":{"$error":"#VALUE!"}},{"$f":"AND('Streaming - Res Calc'!V29,\"AAAAAF/K93o=\")","v":{"$error":"#VALUE!"}},{"$f":"AND('Streaming - Res Calc'!W29,\"AAAAAF/K93s=\")","v":{"$error":"#VALUE!"}},{"$f":"IF('Streaming - Res Calc'!30:30,\"AAAAAF/K93w=\",0)","v":0},{"$f":"AND('Streaming - Res Calc'!C30,\"AAAAAF/K930=\")","v":{"$error":"#VALUE!"}},{"$f":"AND('Streaming - Res Calc'!D30,\"AAAAAF/K934=\")","v":{"$error":"#VALUE!"}},{"$f":"AND('Streaming - Res Calc'!E30,\"AAAAAF/K938=\")","v":{"$error":"#VALUE!"}},{"$f":"AND('Streaming - Res Calc'!F30,\"AAAAAF/K94A=\")","v":{"$error":"#VALUE!"}},{"$f":"AND('Streaming - Res Calc'!G30,\"AAAAAF/K94E=\")","v":{"$error":"#VALUE!"}},{"$f":"AND('Streaming - Res Calc'!H30,\"AAAAAF/K94I=\")","v":{"$error":"#VALUE!"}},{"$f":"AND('Streaming - Res Calc'!I30,\"AAAAAF/K94M=\")","v":{"$error":"#VALUE!"}},{"$f":"AND('Streaming - Res Calc'!J30,\"AAAAAF/K94Q=\")","v":{"$error":"#VALUE!"}},{"$f":"AND('Streaming - Res Calc'!K30,\"AAAAAF/K94U=\")","v":{"$error":"#VALUE!"}},{"$f":"AND('Streaming - Res Calc'!L30,\"AAAAAF/K94Y=\")","v":{"$error":"#VALUE!"}},{"$f":"AND('Streaming - Res Calc'!M30,\"AAAAAF/K94c=\")","v":{"$error":"#VALUE!"}},{"$f":"AND('Streaming - Res Calc'!N30,\"AAAAAF/K94g=\")","v":{"$error":"#VALUE!"}},{"$f":"AND('Streaming - Res Calc'!O30,\"AAAAAF/K94k=\")","v":{"$error":"#VALUE!"}},{"$f":"AND('Streaming - Res Calc'!P30,\"AAAAAF/K94o=\")","v":{"$error":"#VALUE!"}},{"$f":"AND('Streaming - Res Calc'!Q30,\"AAAAAF/K94s=\")","v":{"$error":"#VALUE!"}},{"$f":"AND('Streaming - Res Calc'!R30,\"AAAAAF/K94w=\")","v":{"$error":"#VALUE!"}},{"$f":"AND('Streaming - Res Calc'!S30,\"AAAAAF/K940=\")","v":{"$error":"#VALUE!"}},{"$f":"AND('Streaming - Res Calc'!T30,\"AAAAAF/K944=\")","v":{"$error":"#VALUE!"}},{"$f":"AND('Streaming - Res Calc'!U30,\"AAAAAF/K948=\")","v":{"$error":"#VALUE!"}},{"$f":"AND('Streaming - Res Calc'!V30,\"AAAAAF/K95A=\")","v":{"$error":"#VALUE!"}},{"$f":"AND('Streaming - Res Calc'!W30,\"AAAAAF/K95E=\")","v":{"$error":"#VALUE!"}},{"$f":"IF('Streaming - Res Calc'!31:31,\"AAAAAF/K95I=\",0)","v":0},{"$f":"AND('Streaming - Res Calc'!C31,\"AAAAAF/K95M=\")","v":{"$error":"#VALUE!"}},{"$f":"AND('Streaming - Res Calc'!D31,\"AAAAAF/K95Q=\")","v":{"$error":"#VALUE!"}},{"$f":"AND('Streaming - Res Calc'!E31,\"AAAAAF/K95U=\")","v":{"$error":"#VALUE!"}},{"$f":"AND('Streaming - Res Calc'!F31,\"AAAAAF/K95Y=\")","v":{"$error":"#VALUE!"}},{"$f":"AND('Streaming - Res Calc'!G31,\"AAAAAF/K95c=\")","v":{"$error":"#VALUE!"}},{"$f":"AND('Streaming - Res Calc'!H31,\"AAAAAF/K95g=\")","v":{"$error":"#VALUE!"}},{"$f":"AND('Streaming - Res Calc'!I31,\"AAAAAF/K95k=\")","v":{"$error":"#VALUE!"}},{"$f":"AND('Streaming - Res Calc'!J31,\"AAAAAF/K95o=\")","v":{"$error":"#VALUE!"}},{"$f":"AND('Streaming - Res Calc'!K31,\"AAAAAF/K95s=\")","v":{"$error":"#VALUE!"}},{"$f":"AND('Streaming - Res Calc'!L31,\"AAAAAF/K95w=\")","v":{"$error":"#VALUE!"}},{"$f":"AND('Streaming - Res Calc'!M31,\"AAAAAF/K950=\")","v":{"$error":"#VALUE!"}},{"$f":"AND('Streaming - Res Calc'!N31,\"AAAAAF/K954=\")","v":{"$error":"#VALUE!"}},{"$f":"AND('Streaming - Res Calc'!O31,\"AAAAAF/K958=\")","v":{"$error":"#VALUE!"}},{"$f":"AND('Streaming - Res Calc'!P31,\"AAAAAF/K96A=\")","v":{"$error":"#VALUE!"}},{"$f":"AND('Streaming - Res Calc'!Q31,\"AAAAAF/K96E=\")","v":{"$error":"#VALUE!"}},{"$f":"AND('Streaming - Res Calc'!R31,\"AAAAAF/K96I=\")","v":{"$error":"#VALUE!"}},{"$f":"AND('Streaming - Res Calc'!S31,\"AAAAAF/K96M=\")","v":{"$error":"#VALUE!"}},{"$f":"AND('Streaming - Res Calc'!T31,\"AAAAAF/K96Q=\")","v":{"$error":"#VALUE!"}},{"$f":"AND('Streaming - Res Calc'!U31,\"AAAAAF/K96U=\")","v":{"$error":"#VALUE!"}},{"$f":"AND('Streaming - Res Calc'!V31,\"AAAAAF/K96Y=\")","v":{"$error":"#VALUE!"}},{"$f":"AND('Streaming - Res Calc'!W31,\"AAAAAF/K96c=\")","v":{"$error":"#VALUE!"}},{"$f":"IF('Streaming - Res Calc'!32:32,\"AAAAAF/K96g=\",0)","v":0},{"$f":"AND('Streaming - Res Calc'!C32,\"AAAAAF/K96k=\")","v":{"$error":"#VALUE!"}},{"$f":"AND('Streaming - Res Calc'!D32,\"AAAAAF/K96o=\")","v":{"$error":"#VALUE!"}},{"$f":"AND('Streaming - Res Calc'!E32,\"AAAAAF/K96s=\")","v":{"$error":"#VALUE!"}},{"$f":"AND('Streaming - Res Calc'!F32,\"AAAAAF/K96w=\")","v":{"$error":"#VALUE!"}},{"$f":"AND('Streaming - Res Calc'!G32,\"AAAAAF/K960=\")","v":{"$error":"#VALUE!"}},{"$f":"AND('Streaming - Res Calc'!H32,\"AAAAAF/K964=\")","v":{"$error":"#VALUE!"}},{"$f":"AND('Streaming - Res Calc'!I32,\"AAAAAF/K968=\")","v":{"$error":"#VALUE!"}},{"$f":"AND('Streaming - Res Calc'!J32,\"AAAAAF/K97A=\")","v":{"$error":"#VALUE!"}},{"$f":"AND('Streaming - Res Calc'!K32,\"AAAAAF/K97E=\")","v":{"$error":"#VALUE!"}},{"$f":"AND('Streaming - Res Calc'!L32,\"AAAAAF/K97I=\")","v":{"$error":"#VALUE!"}},{"$f":"AND('Streaming - Res Calc'!M32,\"AAAAAF/K97M=\")","v":{"$error":"#VALUE!"}},{"$f":"AND('Streaming - Res Calc'!N32,\"AAAAAF/K97Q=\")","v":{"$error":"#VALUE!"}},{"$f":"AND('Streaming - Res Calc'!O32,\"AAAAAF/K97U=\")","v":{"$error":"#VALUE!"}},{"$f":"AND('Streaming - Res Calc'!P32,\"AAAAAF/K97Y=\")","v":{"$error":"#VALUE!"}},{"$f":"AND('Streaming - Res Calc'!Q32,\"AAAAAF/K97c=\")","v":{"$error":"#VALUE!"}},{"$f":"AND('Streaming - Res Calc'!R32,\"AAAAAF/K97g=\")","v":{"$error":"#VALUE!"}},{"$f":"AND('Streaming - Res Calc'!S32,\"AAAAAF/K97k=\")","v":{"$error":"#VALUE!"}},{"$f":"AND('Streaming - Res Calc'!T32,\"AAAAAF/K97o=\")","v":{"$error":"#VALUE!"}},{"$f":"AND('Streaming - Res Calc'!U32,\"AAAAAF/K97s=\")","v":{"$error":"#VALUE!"}},{"$f":"AND('Streaming - Res Calc'!V32,\"AAAAAF/K97w=\")","v":{"$error":"#VALUE!"}},{"$f":"AND('Streaming - Res Calc'!W32,\"AAAAAF/K970=\")","v":{"$error":"#VALUE!"}},{"$f":"IF('Streaming - Res Calc'!33:33,\"AAAAAF/K974=\",0)","v":0},{"$f":"AND('Streaming - Res Calc'!C33,\"AAAAAF/K978=\")","v":{"$error":"#VALUE!"}},{"$f":"AND('Streaming - Res Calc'!D33,\"AAAAAF/K98A=\")","v":{"$error":"#VALUE!"}},{"$f":"AND('Streaming - Res Calc'!E33,\"AAAAAF/K98E=\")","v":{"$error":"#VALUE!"}},{"$f":"AND('Streaming - Res Calc'!F33,\"AAAAAF/K98I=\")","v":{"$error":"#VALUE!"}},{"$f":"AND('Streaming - Res Calc'!G33,\"AAAAAF/K98M=\")","v":{"$error":"#VALUE!"}},{"$f":"AND('Streaming - Res Calc'!H33,\"AAAAAF/K98Q=\")","v":{"$error":"#VALUE!"}},{"$f":"AND('Streaming - Res Calc'!I33,\"AAAAAF/K98U=\")","v":{"$error":"#VALUE!"}},{"$f":"AND('Streaming - Res Calc'!J33,\"AAAAAF/K98Y=\")","v":{"$error":"#VALUE!"}},{"$f":"AND('Streaming - Res Calc'!K33,\"AAAAAF/K98c=\")","v":{"$error":"#VALUE!"}},{"$f":"AND('Streaming - Res Calc'!L33,\"AAAAAF/K98g=\")","v":{"$error":"#VALUE!"}},{"$f":"AND('Streaming - Res Calc'!M33,\"AAAAAF/K98k=\")","v":{"$error":"#VALUE!"}},{"$f":"AND('Streaming - Res Calc'!N33,\"AAAAAF/K98o=\")","v":{"$error":"#VALUE!"}},{"$f":"AND('Streaming - Res Calc'!O33,\"AAAAAF/K98s=\")","v":{"$error":"#VALUE!"}},{"$f":"AND('Streaming - Res Calc'!P33,\"AAAAAF/K98w=\")","v":{"$error":"#VALUE!"}},{"$f":"AND('Streaming - Res Calc'!Q33,\"AAAAAF/K980=\")","v":{"$error":"#VALUE!"}},{"$f":"AND('Streaming - Res Calc'!R33,\"AAAAAF/K984=\")","v":{"$error":"#VALUE!"}},{"$f":"AND('Streaming - Res Calc'!S33,\"AAAAAF/K988=\")","v":{"$error":"#VALUE!"}},{"$f":"AND('Streaming - Res Calc'!T33,\"AAAAAF/K99A=\")","v":{"$error":"#VALUE!"}},{"$f":"AND('Streaming - Res Calc'!U33,\"AAAAAF/K99E=\")","v":{"$error":"#VALUE!"}},{"$f":"AND('Streaming - Res Calc'!V33,\"AAAAAF/K99I=\")","v":{"$error":"#VALUE!"}},{"$f":"AND('Streaming - Res Calc'!W33,\"AAAAAF/K99M=\")","v":{"$error":"#VALUE!"}},{"$f":"IF('Streaming - Res Calc'!34:34,\"AAAAAF/K99Q=\",0)","v":0},{"$f":"AND('Streaming - Res Calc'!C34,\"AAAAAF/K99U=\")","v":{"$error":"#VALUE!"}},{"$f":"AND('Streaming - Res Calc'!D34,\"AAAAAF/K99Y=\")","v":{"$error":"#VALUE!"}},{"$f":"AND('Streaming - Res Calc'!E34,\"AAAAAF/K99c=\")","v":{"$error":"#VALUE!"}},{"$f":"AND('Streaming - Res Calc'!F34,\"AAAAAF/K99g=\")","v":{"$error":"#VALUE!"}},{"$f":"AND('Streaming - Res Calc'!G34,\"AAAAAF/K99k=\")","v":{"$error":"#VALUE!"}},{"$f":"AND('Streaming - Res Calc'!H34,\"AAAAAF/K99o=\")","v":{"$error":"#VALUE!"}},{"$f":"AND('Streaming - Res Calc'!I34,\"AAAAAF/K99s=\")","v":{"$error":"#VALUE!"}},{"$f":"AND('Streaming - Res Calc'!J34,\"AAAAAF/K99w=\")","v":{"$error":"#VALUE!"}},{"$f":"AND('Streaming - Res Calc'!K34,\"AAAAAF/K990=\")","v":{"$error":"#VALUE!"}},{"$f":"AND('Streaming - Res Calc'!L34,\"AAAAAF/K994=\")","v":{"$error":"#VALUE!"}},{"$f":"AND('Streaming - Res Calc'!M34,\"AAAAAF/K998=\")","v":{"$error":"#VALUE!"}},{"$f":"AND('Streaming - Res Calc'!N34,\"AAAAAF/K9+A=\")","v":{"$error":"#VALUE!"}},{"$f":"AND('Streaming - Res Calc'!O34,\"AAAAAF/K9+E=\")","v":{"$error":"#VALUE!"}},{"$f":"AND('Streaming - Res Calc'!P34,\"AAAAAF/K9+I=\")","v":{"$error":"#VALUE!"}},{"$f":"AND('Streaming - Res Calc'!Q34,\"AAAAAF/K9+M=\")","v":{"$error":"#VALUE!"}},{"$f":"AND('Streaming - Res Calc'!R34,\"AAAAAF/K9+Q=\")","v":{"$error":"#VALUE!"}},{"$f":"AND('Streaming - Res Calc'!S34,\"AAAAAF/K9+U=\")","v":{"$error":"#VALUE!"}},{"$f":"AND('Streaming - Res Calc'!T34,\"AAAAAF/K9+Y=\")","v":{"$error":"#VALUE!"}},{"$f":"AND('Streaming - Res Calc'!U34,\"AAAAAF/K9+c=\")","v":{"$error":"#VALUE!"}},{"$f":"AND('Streaming - Res Calc'!V34,\"AAAAAF/K9+g=\")","v":{"$error":"#VALUE!"}},{"$f":"AND('Streaming - Res Calc'!W34,\"AAAAAF/K9+k=\")","v":{"$error":"#VALUE!"}},{"$f":"IF('Streaming - Res Calc'!35:35,\"AAAAAF/K9+o=\",0)","v":0},{"$f":"AND('Streaming - Res Calc'!C35,\"AAAAAF/K9+s=\")","v":{"$error":"#VALUE!"}},{"$f":"AND('Streaming - Res Calc'!D35,\"AAAAAF/K9+w=\")","v":{"$error":"#VALUE!"}},{"$f":"AND('Streaming - Res Calc'!E35,\"AAAAAF/K9+0=\")","v":{"$error":"#VALUE!"}},{"$f":"AND('Streaming - Res Calc'!F35,\"AAAAAF/K9+4=\")","v":{"$error":"#VALUE!"}},{"$f":"AND('Streaming - Res Calc'!G35,\"AAAAAF/K9+8=\")","v":{"$error":"#VALUE!"}},{"$f":"AND('Streaming - Res Calc'!H35,\"AAAAAF/K9/A=\")","v":{"$error":"#VALUE!"}},{"$f":"AND('Streaming - Res Calc'!I35,\"AAAAAF/K9/E=\")","v":{"$error":"#VALUE!"}},{"$f":"AND('Streaming - Res Calc'!J35,\"AAAAAF/K9/I=\")","v":{"$error":"#VALUE!"}},{"$f":"AND('Streaming - Res Calc'!K35,\"AAAAAF/K9/M=\")","v":{"$error":"#VALUE!"}},{"$f":"AND('Streaming - Res Calc'!L35,\"AAAAAF/K9/Q=\")","v":{"$error":"#VALUE!"}},{"$f":"AND('Streaming - Res Calc'!M35,\"AAAAAF/K9/U=\")","v":{"$error":"#VALUE!"}},{"$f":"AND('Streaming - Res Calc'!N35,\"AAAAAF/K9/Y=\")","v":{"$error":"#VALUE!"}},{"$f":"AND('Streaming - Res Calc'!O35,\"AAAAAF/K9/c=\")","v":{"$error":"#VALUE!"}},{"$f":"AND('Streaming - Res Calc'!P35,\"AAAAAF/K9/g=\")","v":{"$error":"#VALUE!"}},{"$f":"AND('Streaming - Res Calc'!Q35,\"AAAAAF/K9/k=\")","v":{"$error":"#VALUE!"}},{"$f":"AND('Streaming - Res Calc'!R35,\"AAAAAF/K9/o=\")","v":{"$error":"#VALUE!"}},{"$f":"AND('Streaming - Res Calc'!S35,\"AAAAAF/K9/s=\")","v":{"$error":"#VALUE!"}},{"$f":"AND('Streaming - Res Calc'!T35,\"AAAAAF/K9/w=\")","v":{"$error":"#VALUE!"}},{"$f":"AND('Streaming - Res Calc'!U35,\"AAAAAF/K9/0=\")","v":{"$error":"#VALUE!"}},{"$f":"AND('Streaming - Res Calc'!V35,\"AAAAAF/K9/4=\")","v":{"$error":"#VALUE!"}},{"$f":"AND('Streaming - Res Calc'!W35,\"AAAAAF/K9/8=\")","v":{"$error":"#VALUE!"}}]
[{"$f":"IF('Streaming - Res Calc'!36:36,\"AAAAAC8/+wA=\",0)","v":0},{"$f":"AND('Streaming - Res Calc'!C36,\"AAAAAC8/+wE=\")","v":{"$error":"#VALUE!"}},{"$f":"AND('Streaming - Res Calc'!D36,\"AAAAAC8/+wI=\")","v":{"$error":"#VALUE!"}},{"$f":"AND('Streaming - Res Calc'!E36,\"AAAAAC8/+wM=\")","v":{"$error":"#VALUE!"}},{"$f":"AND('Streaming - Res Calc'!F36,\"AAAAAC8/+wQ=\")","v":{"$error":"#VALUE!"}},{"$f":"AND('Streaming - Res Calc'!G36,\"AAAAAC8/+wU=\")","v":{"$error":"#VALUE!"}},{"$f":"AND('Streaming - Res Calc'!H36,\"AAAAAC8/+wY=\")","v":{"$error":"#VALUE!"}},{"$f":"AND('Streaming - Res Calc'!I36,\"AAAAAC8/+wc=\")","v":{"$error":"#VALUE!"}},{"$f":"AND('Streaming - Res Calc'!J36,\"AAAAAC8/+wg=\")","v":{"$error":"#VALUE!"}},{"$f":"AND('Streaming - Res Calc'!K36,\"AAAAAC8/+wk=\")","v":{"$error":"#VALUE!"}},{"$f":"AND('Streaming - Res Calc'!L36,\"AAAAAC8/+wo=\")","v":{"$error":"#VALUE!"}},{"$f":"AND('Streaming - Res Calc'!M36,\"AAAAAC8/+ws=\")","v":{"$error":"#VALUE!"}},{"$f":"AND('Streaming - Res Calc'!N36,\"AAAAAC8/+ww=\")","v":{"$error":"#VALUE!"}},{"$f":"AND('Streaming - Res Calc'!O36,\"AAAAAC8/+w0=\")","v":{"$error":"#VALUE!"}},{"$f":"AND('Streaming - Res Calc'!P36,\"AAAAAC8/+w4=\")","v":{"$error":"#VALUE!"}},{"$f":"AND('Streaming - Res Calc'!Q36,\"AAAAAC8/+w8=\")","v":{"$error":"#VALUE!"}},{"$f":"AND('Streaming - Res Calc'!R36,\"AAAAAC8/+xA=\")","v":{"$error":"#VALUE!"}},{"$f":"AND('Streaming - Res Calc'!S36,\"AAAAAC8/+xE=\")","v":{"$error":"#VALUE!"}},{"$f":"AND('Streaming - Res Calc'!T36,\"AAAAAC8/+xI=\")","v":{"$error":"#VALUE!"}},{"$f":"AND('Streaming - Res Calc'!U36,\"AAAAAC8/+xM=\")","v":{"$error":"#VALUE!"}},{"$f":"AND('Streaming - Res Calc'!V36,\"AAAAAC8/+xQ=\")","v":{"$error":"#VALUE!"}},{"$f":"AND('Streaming - Res Calc'!W36,\"AAAAAC8/+xU=\")","v":{"$error":"#VALUE!"}},{"$f":"IF('Streaming - Res Calc'!37:37,\"AAAAAC8/+xY=\",0)","v":0},{"$f":"AND('Streaming - Res Calc'!C37,\"AAAAAC8/+xc=\")","v":{"$error":"#VALUE!"}},{"$f":"AND('Streaming - Res Calc'!D37,\"AAAAAC8/+xg=\")","v":{"$error":"#VALUE!"}},{"$f":"AND('Streaming - Res Calc'!E37,\"AAAAAC8/+xk=\")","v":{"$error":"#VALUE!"}},{"$f":"AND('Streaming - Res Calc'!F37,\"AAAAAC8/+xo=\")","v":{"$error":"#VALUE!"}},{"$f":"AND('Streaming - Res Calc'!G37,\"AAAAAC8/+xs=\")","v":{"$error":"#VALUE!"}},{"$f":"AND('Streaming - Res Calc'!H37,\"AAAAAC8/+xw=\")","v":{"$error":"#VALUE!"}},{"$f":"AND('Streaming - Res Calc'!I37,\"AAAAAC8/+x0=\")","v":{"$error":"#VALUE!"}},{"$f":"AND('Streaming - Res Calc'!J37,\"AAAAAC8/+x4=\")","v":{"$error":"#VALUE!"}},{"$f":"AND('Streaming - Res Calc'!K37,\"AAAAAC8/+x8=\")","v":{"$error":"#VALUE!"}},{"$f":"AND('Streaming - Res Calc'!L37,\"AAAAAC8/+yA=\")","v":{"$error":"#VALUE!"}},{"$f":"AND('Streaming - Res Calc'!M37,\"AAAAAC8/+yE=\")","v":{"$error":"#VALUE!"}},{"$f":"AND('Streaming - Res Calc'!N37,\"AAAAAC8/+yI=\")","v":{"$error":"#VALUE!"}},{"$f":"AND('Streaming - Res Calc'!O37,\"AAAAAC8/+yM=\")","v":{"$error":"#VALUE!"}},{"$f":"AND('Streaming - Res Calc'!P37,\"AAAAAC8/+yQ=\")","v":{"$error":"#VALUE!"}},{"$f":"AND('Streaming - Res Calc'!Q37,\"AAAAAC8/+yU=\")","v":{"$error":"#VALUE!"}},{"$f":"AND('Streaming - Res Calc'!R37,\"AAAAAC8/+yY=\")","v":{"$error":"#VALUE!"}},{"$f":"AND('Streaming - Res Calc'!S37,\"AAAAAC8/+yc=\")","v":{"$error":"#VALUE!"}},{"$f":"AND('Streaming - Res Calc'!T37,\"AAAAAC8/+yg=\")","v":{"$error":"#VALUE!"}},{"$f":"AND('Streaming - Res Calc'!U37,\"AAAAAC8/+yk=\")","v":{"$error":"#VALUE!"}},{"$f":"AND('Streaming - Res Calc'!V37,\"AAAAAC8/+yo=\")","v":{"$error":"#VALUE!"}},{"$f":"AND('Streaming - Res Calc'!W37,\"AAAAAC8/+ys=\")","v":{"$error":"#VALUE!"}},{"$f":"IF('Streaming - Res Calc'!38:38,\"AAAAAC8/+yw=\",0)","v":0},{"$f":"AND('Streaming - Res Calc'!C38,\"AAAAAC8/+y0=\")","v":{"$error":"#VALUE!"}},{"$f":"AND('Streaming - Res Calc'!D38,\"AAAAAC8/+y4=\")","v":{"$error":"#VALUE!"}},{"$f":"AND('Streaming - Res Calc'!E38,\"AAAAAC8/+y8=\")","v":{"$error":"#VALUE!"}},{"$f":"AND('Streaming - Res Calc'!F38,\"AAAAAC8/+zA=\")","v":{"$error":"#VALUE!"}},{"$f":"AND('Streaming - Res Calc'!G38,\"AAAAAC8/+zE=\")","v":{"$error":"#VALUE!"}},{"$f":"AND('Streaming - Res Calc'!H38,\"AAAAAC8/+zI=\")","v":{"$error":"#VALUE!"}},{"$f":"AND('Streaming - Res Calc'!I38,\"AAAAAC8/+zM=\")","v":{"$error":"#VALUE!"}},{"$f":"AND('Streaming - Res Calc'!J38,\"AAAAAC8/+zQ=\")","v":{"$error":"#VALUE!"}},{"$f":"AND('Streaming - Res Calc'!K38,\"AAAAAC8/+zU=\")","v":{"$error":"#VALUE!"}},{"$f":"AND('Streaming - Res Calc'!L38,\"AAAAAC8/+zY=\")","v":{"$error":"#VALUE!"}},{"$f":"AND('Streaming - Res Calc'!M38,\"AAAAAC8/+zc=\")","v":{"$error":"#VALUE!"}},{"$f":"AND('Streaming - Res Calc'!N38,\"AAAAAC8/+zg=\")","v":{"$error":"#VALUE!"}},{"$f":"AND('Streaming - Res Calc'!O38,\"AAAAAC8/+zk=\")","v":{"$error":"#VALUE!"}},{"$f":"AND('Streaming - Res Calc'!P38,\"AAAAAC8/+zo=\")","v":{"$error":"#VALUE!"}},{"$f":"AND('Streaming - Res Calc'!Q38,\"AAAAAC8/+zs=\")","v":{"$error":"#VALUE!"}},{"$f":"AND('Streaming - Res Calc'!R38,\"AAAAAC8/+zw=\")","v":{"$error":"#VALUE!"}},{"$f":"AND('Streaming - Res Calc'!S38,\"AAAAAC8/+z0=\")","v":{"$error":"#VALUE!"}},{"$f":"AND('Streaming - Res Calc'!T38,\"AAAAAC8/+z4=\")","v":{"$error":"#VALUE!"}},{"$f":"AND('Streaming - Res Calc'!U38,\"AAAAAC8/+z8=\")","v":{"$error":"#VALUE!"}},{"$f":"AND('Streaming - Res Calc'!V38,\"AAAAAC8/+0A=\")","v":{"$error":"#VALUE!"}},{"$f":"AND('Streaming - Res Calc'!W38,\"AAAAAC8/+0E=\")","v":{"$error":"#VALUE!"}},{"$f":"IF('Streaming - Res Calc'!39:39,\"AAAAAC8/+0I=\",0)","v":0},{"$f":"AND('Streaming - Res Calc'!C39,\"AAAAAC8/+0M=\")","v":{"$error":"#VALUE!"}},{"$f":"AND('Streaming - Res Calc'!D39,\"AAAAAC8/+0Q=\")","v":{"$error":"#VALUE!"}},{"$f":"AND('Streaming - Res Calc'!E39,\"AAAAAC8/+0U=\")","v":{"$error":"#VALUE!"}},{"$f":"AND('Streaming - Res Calc'!F39,\"AAAAAC8/+0Y=\")","v":{"$error":"#VALUE!"}},{"$f":"AND('Streaming - Res Calc'!G39,\"AAAAAC8/+0c=\")","v":{"$error":"#VALUE!"}},{"$f":"AND('Streaming - Res Calc'!H39,\"AAAAAC8/+0g=\")","v":{"$error":"#VALUE!"}},{"$f":"AND('Streaming - Res Calc'!I39,\"AAAAAC8/+0k=\")","v":{"$error":"#VALUE!"}},{"$f":"AND('Streaming - Res Calc'!J39,\"AAAAAC8/+0o=\")","v":{"$error":"#VALUE!"}},{"$f":"AND('Streaming - Res Calc'!K39,\"AAAAAC8/+0s=\")","v":{"$error":"#VALUE!"}},{"$f":"AND('Streaming - Res Calc'!L39,\"AAAAAC8/+0w=\")","v":{"$error":"#VALUE!"}},{"$f":"AND('Streaming - Res Calc'!M39,\"AAAAAC8/+00=\")","v":{"$error":"#VALUE!"}},{"$f":"AND('Streaming - Res Calc'!N39,\"AAAAAC8/+04=\")","v":{"$error":"#VALUE!"}},{"$f":"AND('Streaming - Res Calc'!O39,\"AAAAAC8/+08=\")","v":{"$error":"#VALUE!"}},{"$f":"AND('Streaming - Res Calc'!P39,\"AAAAAC8/+1A=\")","v":{"$error":"#VALUE!"}},{"$f":"AND('Streaming - Res Calc'!Q39,\"AAAAAC8/+1E=\")","v":{"$error":"#VALUE!"}},{"$f":"AND('Streaming - Res Calc'!R39,\"AAAAAC8/+1I=\")","v":{"$error":"#VALUE!"}},{"$f":"AND('Streaming - Res Calc'!S39,\"AAAAAC8/+1M=\")","v":{"$error":"#VALUE!"}},{"$f":"AND('Streaming - Res Calc'!T39,\"AAAAAC8/+1Q=\")","v":{"$error":"#VALUE!"}},{"$f":"AND('Streaming - Res Calc'!U39,\"AAAAAC8/+1U=\")","v":{"$error":"#VALUE!"}},{"$f":"AND('Streaming - Res Calc'!V39,\"AAAAAC8/+1Y=\")","v":{"$error":"#VALUE!"}},{"$f":"AND('Streaming - Res Calc'!W39,\"AAAAAC8/+1c=\")","v":{"$error":"#VALUE!"}},{"$f":"IF('Streaming - Res Calc'!40:40,\"AAAAAC8/+1g=\",0)","v":0},{"$f":"AND('Streaming - Res Calc'!C40,\"AAAAAC8/+1k=\")","v":{"$error":"#VALUE!"}},{"$f":"AND('Streaming - Res Calc'!D40,\"AAAAAC8/+1o=\")","v":{"$error":"#VALUE!"}},{"$f":"AND('Streaming - Res Calc'!E40,\"AAAAAC8/+1s=\")","v":{"$error":"#VALUE!"}},{"$f":"AND('Streaming - Res Calc'!F40,\"AAAAAC8/+1w=\")","v":{"$error":"#VALUE!"}},{"$f":"AND('Streaming - Res Calc'!G40,\"AAAAAC8/+10=\")","v":{"$error":"#VALUE!"}},{"$f":"AND('Streaming - Res Calc'!H40,\"AAAAAC8/+14=\")","v":{"$error":"#VALUE!"}},{"$f":"AND('Streaming - Res Calc'!I40,\"AAAAAC8/+18=\")","v":{"$error":"#VALUE!"}},{"$f":"AND('Streaming - Res Calc'!J40,\"AAAAAC8/+2A=\")","v":{"$error":"#VALUE!"}},{"$f":"AND('Streaming - Res Calc'!K40,\"AAAAAC8/+2E=\")","v":{"$error":"#VALUE!"}},{"$f":"AND('Streaming - Res Calc'!L40,\"AAAAAC8/+2I=\")","v":{"$error":"#VALUE!"}},{"$f":"AND('Streaming - Res Calc'!M40,\"AAAAAC8/+2M=\")","v":{"$error":"#VALUE!"}},{"$f":"AND('Streaming - Res Calc'!N40,\"AAAAAC8/+2Q=\")","v":{"$error":"#VALUE!"}},{"$f":"AND('Streaming - Res Calc'!O40,\"AAAAAC8/+2U=\")","v":{"$error":"#VALUE!"}},{"$f":"AND('Streaming - Res Calc'!P40,\"AAAAAC8/+2Y=\")","v":{"$error":"#VALUE!"}},{"$f":"AND('Streaming - Res Calc'!Q40,\"AAAAAC8/+2c=\")","v":{"$error":"#VALUE!"}},{"$f":"AND('Streaming - Res Calc'!R40,\"AAAAAC8/+2g=\")","v":{"$error":"#VALUE!"}},{"$f":"AND('Streaming - Res Calc'!S40,\"AAAAAC8/+2k=\")","v":{"$error":"#VALUE!"}},{"$f":"AND('Streaming - Res Calc'!T40,\"AAAAAC8/+2o=\")","v":{"$error":"#VALUE!"}},{"$f":"AND('Streaming - Res Calc'!U40,\"AAAAAC8/+2s=\")","v":{"$error":"#VALUE!"}},{"$f":"AND('Streaming - Res Calc'!V40,\"AAAAAC8/+2w=\")","v":{"$error":"#VALUE!"}},{"$f":"AND('Streaming - Res Calc'!W40,\"AAAAAC8/+20=\")","v":{"$error":"#VALUE!"}},{"$f":"IF('Streaming - Res Calc'!41:41,\"AAAAAC8/+24=\",0)","v":0},{"$f":"AND('Streaming - Res Calc'!C41,\"AAAAAC8/+28=\")","v":{"$error":"#VALUE!"}},{"$f":"AND('Streaming - Res Calc'!D41,\"AAAAAC8/+3A=\")","v":{"$error":"#VALUE!"}},{"$f":"AND('Streaming - Res Calc'!E41,\"AAAAAC8/+3E=\")","v":{"$error":"#VALUE!"}},{"$f":"AND('Streaming - Res Calc'!F41,\"AAAAAC8/+3I=\")","v":{"$error":"#VALUE!"}},{"$f":"AND('Streaming - Res Calc'!G41,\"AAAAAC8/+3M=\")","v":{"$error":"#VALUE!"}},{"$f":"AND('Streaming - Res Calc'!H41,\"AAAAAC8/+3Q=\")","v":{"$error":"#VALUE!"}},{"$f":"AND('Streaming - Res Calc'!I41,\"AAAAAC8/+3U=\")","v":{"$error":"#VALUE!"}},{"$f":"AND('Streaming - Res Calc'!J41,\"AAAAAC8/+3Y=\")","v":{"$error":"#VALUE!"}},{"$f":"AND('Streaming - Res Calc'!K41,\"AAAAAC8/+3c=\")","v":{"$error":"#VALUE!"}},{"$f":"AND('Streaming - Res Calc'!L41,\"AAAAAC8/+3g=\")","v":{"$error":"#VALUE!"}},{"$f":"AND('Streaming - Res Calc'!M41,\"AAAAAC8/+3k=\")","v":{"$error":"#VALUE!"}},{"$f":"AND('Streaming - Res Calc'!N41,\"AAAAAC8/+3o=\")","v":{"$error":"#VALUE!"}},{"$f":"AND('Streaming - Res Calc'!O41,\"AAAAAC8/+3s=\")","v":{"$error":"#VALUE!"}},{"$f":"AND('Streaming - Res Calc'!P41,\"AAAAAC8/+3w=\")","v":{"$error":"#VALUE!"}},{"$f":"AND('Streaming - Res Calc'!Q41,\"AAAAAC8/+30=\")","v":{"$error":"#VALUE!"}},{"$f":"AND('Streaming - Res Calc'!R41,\"AAAAAC8/+34=\")","v":{"$error":"#VALUE!"}},{"$f":"AND('Streaming - Res Calc'!S41,\"AAAAAC8/+38=\")","v":{"$error":"#VALUE!"}},{"$f":"AND('Streaming - Res Calc'!T41,\"AAAAAC8/+4A=\")","v":{"$error":"#VALUE!"}},{"$f":"AND('Streaming - Res Calc'!U41,\"AAAAAC8/+4E=\")","v":{"$error":"#VALUE!"}},{"$f":"AND('Streaming - Res Calc'!V41,\"AAAAAC8/+4I=\")","v":{"$error":"#VALUE!"}},{"$f":"AND('Streaming - Res Calc'!W41,\"AAAAAC8/+4M=\")","v":{"$error":"#VALUE!"}},{"$f":"IF('Streaming - Res Calc'!42:42,\"AAAAAC8/+4Q=\",0)","v":0},{"$f":"AND('Streaming - Res Calc'!C42,\"AAAAAC8/+4U=\")","v":{"$error":"#VALUE!"}},{"$f":"AND('Streaming - Res Calc'!D42,\"AAAAAC8/+4Y=\")","v":{"$error":"#VALUE!"}},{"$f":"AND('Streaming - Res Calc'!E42,\"AAAAAC8/+4c=\")","v":{"$error":"#VALUE!"}},{"$f":"AND('Streaming - Res Calc'!F42,\"AAAAAC8/+4g=\")","v":{"$error":"#VALUE!"}},{"$f":"AND('Streaming - Res Calc'!G42,\"AAAAAC8/+4k=\")","v":{"$error":"#VALUE!"}},{"$f":"AND('Streaming - Res Calc'!H42,\"AAAAAC8/+4o=\")","v":{"$error":"#VALUE!"}},{"$f":"AND('Streaming - Res Calc'!I42,\"AAAAAC8/+4s=\")","v":{"$error":"#VALUE!"}},{"$f":"AND('Streaming - Res Calc'!J42,\"AAAAAC8/+4w=\")","v":{"$error":"#VALUE!"}},{"$f":"AND('Streaming - Res Calc'!K42,\"AAAAAC8/+40=\")","v":{"$error":"#VALUE!"}},{"$f":"AND('Streaming - Res Calc'!L42,\"AAAAAC8/+44=\")","v":{"$error":"#VALUE!"}},{"$f":"AND('Streaming - Res Calc'!M42,\"AAAAAC8/+48=\")","v":{"$error":"#VALUE!"}},{"$f":"AND('Streaming - Res Calc'!N42,\"AAAAAC8/+5A=\")","v":{"$error":"#VALUE!"}},{"$f":"AND('Streaming - Res Calc'!O42,\"AAAAAC8/+5E=\")","v":{"$error":"#VALUE!"}},{"$f":"AND('Streaming - Res Calc'!P42,\"AAAAAC8/+5I=\")","v":{"$error":"#VALUE!"}},{"$f":"AND('Streaming - Res Calc'!Q42,\"AAAAAC8/+5M=\")","v":{"$error":"#VALUE!"}},{"$f":"AND('Streaming - Res Calc'!R42,\"AAAAAC8/+5Q=\")","v":{"$error":"#VALUE!"}},{"$f":"AND('Streaming - Res Calc'!S42,\"AAAAAC8/+5U=\")","v":{"$error":"#VALUE!"}},{"$f":"AND('Streaming - Res Calc'!T42,\"AAAAAC8/+5Y=\")","v":{"$error":"#VALUE!"}},{"$f":"AND('Streaming - Res Calc'!U42,\"AAAAAC8/+5c=\")","v":{"$error":"#VALUE!"}},{"$f":"AND('Streaming - Res Calc'!V42,\"AAAAAC8/+5g=\")","v":{"$error":"#VALUE!"}},{"$f":"AND('Streaming - Res Calc'!W42,\"AAAAAC8/+5k=\")","v":{"$error":"#VALUE!"}},{"$f":"IF('Streaming - Res Calc'!43:43,\"AAAAAC8/+5o=\",0)","v":0},{"$f":"AND('Streaming - Res Calc'!C43,\"AAAAAC8/+5s=\")","v":{"$error":"#VALUE!"}},{"$f":"AND('Streaming - Res Calc'!D43,\"AAAAAC8/+5w=\")","v":{"$error":"#VALUE!"}},{"$f":"AND('Streaming - Res Calc'!E43,\"AAAAAC8/+50=\")","v":{"$error":"#VALUE!"}},{"$f":"AND('Streaming - Res Calc'!F43,\"AAAAAC8/+54=\")","v":{"$error":"#VALUE!"}},{"$f":"AND('Streaming - Res Calc'!G43,\"AAAAAC8/+58=\")","v":{"$error":"#VALUE!"}},{"$f":"AND('Streaming - Res Calc'!H43,\"AAAAAC8/+6A=\")","v":{"$error":"#VALUE!"}},{"$f":"AND('Streaming - Res Calc'!I43,\"AAAAAC8/+6E=\")","v":{"$error":"#VALUE!"}},{"$f":"AND('Streaming - Res Calc'!J43,\"AAAAAC8/+6I=\")","v":{"$error":"#VALUE!"}},{"$f":"AND('Streaming - Res Calc'!K43,\"AAAAAC8/+6M=\")","v":{"$error":"#VALUE!"}},{"$f":"AND('Streaming - Res Calc'!L43,\"AAAAAC8/+6Q=\")","v":{"$error":"#VALUE!"}},{"$f":"AND('Streaming - Res Calc'!M43,\"AAAAAC8/+6U=\")","v":{"$error":"#VALUE!"}},{"$f":"AND('Streaming - Res Calc'!N43,\"AAAAAC8/+6Y=\")","v":{"$error":"#VALUE!"}},{"$f":"AND('Streaming - Res Calc'!O43,\"AAAAAC8/+6c=\")","v":{"$error":"#VALUE!"}},{"$f":"AND('Streaming - Res Calc'!P43,\"AAAAAC8/+6g=\")","v":{"$error":"#VALUE!"}},{"$f":"AND('Streaming - Res Calc'!Q43,\"AAAAAC8/+6k=\")","v":{"$error":"#VALUE!"}},{"$f":"AND('Streaming - Res Calc'!R43,\"AAAAAC8/+6o=\")","v":{"$error":"#VALUE!"}},{"$f":"AND('Streaming - Res Calc'!S43,\"AAAAAC8/+6s=\")","v":{"$error":"#VALUE!"}},{"$f":"AND('Streaming - Res Calc'!T43,\"AAAAAC8/+6w=\")","v":{"$error":"#VALUE!"}},{"$f":"AND('Streaming - Res Calc'!U43,\"AAAAAC8/+60=\")","v":{"$error":"#VALUE!"}},{"$f":"AND('Streaming - Res Calc'!V43,\"AAAAAC8/+64=\")","v":{"$error":"#VALUE!"}},{"$f":"AND('Streaming - Res Calc'!W43,\"AAAAAC8/+68=\")","v":{"$error":"#VALUE!"}},{"$f":"IF('Streaming - Res Calc'!44:44,\"AAAAAC8/+7A=\",0)","v":0},{"$f":"AND('Streaming - Res Calc'!C44,\"AAAAAC8/+7E=\")","v":{"$error":"#VALUE!"}},{"$f":"AND('Streaming - Res Calc'!D44,\"AAAAAC8/+7I=\")","v":{"$error":"#VALUE!"}},{"$f":"AND('Streaming - Res Calc'!E44,\"AAAAAC8/+7M=\")","v":{"$error":"#VALUE!"}},{"$f":"AND('Streaming - Res Calc'!F44,\"AAAAAC8/+7Q=\")","v":{"$error":"#VALUE!"}},{"$f":"AND('Streaming - Res Calc'!G44,\"AAAAAC8/+7U=\")","v":{"$error":"#VALUE!"}},{"$f":"AND('Streaming - Res Calc'!H44,\"AAAAAC8/+7Y=\")","v":{"$error":"#VALUE!"}},{"$f":"AND('Streaming - Res Calc'!I44,\"AAAAAC8/+7c=\")","v":{"$error":"#VALUE!"}},{"$f":"AND('Streaming - Res Calc'!J44,\"AAAAAC8/+7g=\")","v":{"$error":"#VALUE!"}},{"$f":"AND('Streaming - Res Calc'!K44,\"AAAAAC8/+7k=\")","v":{"$error":"#VALUE!"}},{"$f":"AND('Streaming - Res Calc'!L44,\"AAAAAC8/+7o=\")","v":{"$error":"#VALUE!"}},{"$f":"AND('Streaming - Res Calc'!M44,\"AAAAAC8/+7s=\")","v":{"$error":"#VALUE!"}},{"$f":"AND('Streaming - Res Calc'!N44,\"AAAAAC8/+7w=\")","v":{"$error":"#VALUE!"}},{"$f":"AND('Streaming - Res Calc'!O44,\"AAAAAC8/+70=\")","v":{"$error":"#VALUE!"}},{"$f":"AND('Streaming - Res Calc'!P44,\"AAAAAC8/+74=\")","v":{"$error":"#VALUE!"}},{"$f":"AND('Streaming - Res Calc'!Q44,\"AAAAAC8/+78=\")","v":{"$error":"#VALUE!"}},{"$f":"AND('Streaming - Res Calc'!R44,\"AAAAAC8/+8A=\")","v":{"$error":"#VALUE!"}},{"$f":"AND('Streaming - Res Calc'!S44,\"AAAAAC8/+8E=\")","v":{"$error":"#VALUE!"}},{"$f":"AND('Streaming - Res Calc'!T44,\"AAAAAC8/+8I=\")","v":{"$error":"#VALUE!"}},{"$f":"AND('Streaming - Res Calc'!U44,\"AAAAAC8/+8M=\")","v":{"$error":"#VALUE!"}},{"$f":"AND('Streaming - Res Calc'!V44,\"AAAAAC8/+8Q=\")","v":{"$error":"#VALUE!"}},{"$f":"AND('Streaming - Res Calc'!W44,\"AAAAAC8/+8U=\")","v":{"$error":"#VALUE!"}},{"$f":"IF('Streaming - Res Calc'!45:45,\"AAAAAC8/+8Y=\",0)","v":0},{"$f":"AND('Streaming - Res Calc'!C45,\"AAAAAC8/+8c=\")","v":{"$error":"#VALUE!"}},{"$f":"AND('Streaming - Res Calc'!D45,\"AAAAAC8/+8g=\")","v":{"$error":"#VALUE!"}},{"$f":"AND('Streaming - Res Calc'!E45,\"AAAAAC8/+8k=\")","v":{"$error":"#VALUE!"}},{"$f":"AND('Streaming - Res Calc'!F45,\"AAAAAC8/+8o=\")","v":{"$error":"#VALUE!"}},{"$f":"AND('Streaming - Res Calc'!G45,\"AAAAAC8/+8s=\")","v":{"$error":"#VALUE!"}},{"$f":"AND('Streaming - Res Calc'!H45,\"AAAAAC8/+8w=\")","v":{"$error":"#VALUE!"}},{"$f":"AND('Streaming - Res Calc'!I45,\"AAAAAC8/+80=\")","v":{"$error":"#VALUE!"}},{"$f":"AND('Streaming - Res Calc'!J45,\"AAAAAC8/+84=\")","v":{"$error":"#VALUE!"}},{"$f":"AND('Streaming - Res Calc'!K45,\"AAAAAC8/+88=\")","v":{"$error":"#VALUE!"}},{"$f":"AND('Streaming - Res Calc'!L45,\"AAAAAC8/+9A=\")","v":{"$error":"#VALUE!"}},{"$f":"AND('Streaming - Res Calc'!M45,\"AAAAAC8/+9E=\")","v":{"$error":"#VALUE!"}},{"$f":"AND('Streaming - Res Calc'!N45,\"AAAAAC8/+9I=\")","v":{"$error":"#VALUE!"}},{"$f":"AND('Streaming - Res Calc'!O45,\"AAAAAC8/+9M=\")","v":{"$error":"#VALUE!"}},{"$f":"AND('Streaming - Res Calc'!P45,\"AAAAAC8/+9Q=\")","v":{"$error":"#VALUE!"}},{"$f":"AND('Streaming - Res Calc'!Q45,\"AAAAAC8/+9U=\")","v":{"$error":"#VALUE!"}},{"$f":"AND('Streaming - Res Calc'!R45,\"AAAAAC8/+9Y=\")","v":{"$error":"#VALUE!"}},{"$f":"AND('Streaming - Res Calc'!S45,\"AAAAAC8/+9c=\")","v":{"$error":"#VALUE!"}},{"$f":"AND('Streaming - Res Calc'!T45,\"AAAAAC8/+9g=\")","v":{"$error":"#VALUE!"}},{"$f":"AND('Streaming - Res Calc'!U45,\"AAAAAC8/+9k=\")","v":{"$error":"#VALUE!"}},{"$f":"AND('Streaming - Res Calc'!V45,\"AAAAAC8/+9o=\")","v":{"$error":"#VALUE!"}},{"$f":"AND('Streaming - Res Calc'!W45,\"AAAAAC8/+9s=\")","v":{"$error":"#VALUE!"}},{"$f":"IF('Streaming - Res Calc'!46:46,\"AAAAAC8/+9w=\",0)","v":0},{"$f":"AND('Streaming - Res Calc'!C46,\"AAAAAC8/+90=\")","v":{"$error":"#VALUE!"}},{"$f":"AND('Streaming - Res Calc'!D46,\"AAAAAC8/+94=\")","v":{"$error":"#VALUE!"}},{"$f":"AND('Streaming - Res Calc'!E46,\"AAAAAC8/+98=\")","v":{"$error":"#VALUE!"}},{"$f":"AND('Streaming - Res Calc'!F46,\"AAAAAC8/++A=\")","v":{"$error":"#VALUE!"}},{"$f":"AND('Streaming - Res Calc'!G46,\"AAAAAC8/++E=\")","v":{"$error":"#VALUE!"}},{"$f":"AND('Streaming - Res Calc'!H46,\"AAAAAC8/++I=\")","v":{"$error":"#VALUE!"}},{"$f":"AND('Streaming - Res Calc'!I46,\"AAAAAC8/++M=\")","v":{"$error":"#VALUE!"}},{"$f":"AND('Streaming - Res Calc'!J46,\"AAAAAC8/++Q=\")","v":{"$error":"#VALUE!"}},{"$f":"AND('Streaming - Res Calc'!K46,\"AAAAAC8/++U=\")","v":{"$error":"#VALUE!"}},{"$f":"AND('Streaming - Res Calc'!L46,\"AAAAAC8/++Y=\")","v":{"$error":"#VALUE!"}},{"$f":"AND('Streaming - Res Calc'!M46,\"AAAAAC8/++c=\")","v":{"$error":"#VALUE!"}},{"$f":"AND('Streaming - Res Calc'!N46,\"AAAAAC8/++g=\")","v":{"$error":"#VALUE!"}},{"$f":"AND('Streaming - Res Calc'!O46,\"AAAAAC8/++k=\")","v":{"$error":"#VALUE!"}},{"$f":"AND('Streaming - Res Calc'!P46,\"AAAAAC8/++o=\")","v":{"$error":"#VALUE!"}},{"$f":"AND('Streaming - Res Calc'!Q46,\"AAAAAC8/++s=\")","v":{"$error":"#VALUE!"}},{"$f":"AND('Streaming - Res Calc'!R46,\"AAAAAC8/++w=\")","v":{"$error":"#VALUE!"}},{"$f":"AND('Streaming - Res Calc'!S46,\"AAAAAC8/++0=\")","v":{"$error":"#VALUE!"}},{"$f":"AND('Streaming - Res Calc'!T46,\"AAAAAC8/++4=\")","v":{"$error":"#VALUE!"}},{"$f":"AND('Streaming - Res Calc'!U46,\"AAAAAC8/++8=\")","v":{"$error":"#VALUE!"}},{"$f":"AND('Streaming - Res Calc'!V46,\"AAAAAC8/+/A=\")","v":{"$error":"#VALUE!"}},{"$f":"AND('Streaming - Res Calc'!W46,\"AAAAAC8/+/E=\")","v":{"$error":"#VALUE!"}},{"$f":"IF('Streaming - Res Calc'!47:47,\"AAAAAC8/+/I=\",0)","v":0},{"$f":"AND('Streaming - Res Calc'!C47,\"AAAAAC8/+/M=\")","v":{"$error":"#VALUE!"}},{"$f":"AND('Streaming - Res Calc'!D47,\"AAAAAC8/+/Q=\")","v":{"$error":"#VALUE!"}},{"$f":"AND('Streaming - Res Calc'!E47,\"AAAAAC8/+/U=\")","v":{"$error":"#VALUE!"}},{"$f":"AND('Streaming - Res Calc'!F47,\"AAAAAC8/+/Y=\")","v":{"$error":"#VALUE!"}},{"$f":"AND('Streaming - Res Calc'!G47,\"AAAAAC8/+/c=\")","v":{"$error":"#VALUE!"}},{"$f":"AND('Streaming - Res Calc'!H47,\"AAAAAC8/+/g=\")","v":{"$error":"#VALUE!"}},{"$f":"AND('Streaming - Res Calc'!I47,\"AAAAAC8/+/k=\")","v":{"$error":"#VALUE!"}},{"$f":"AND('Streaming - Res Calc'!J47,\"AAAAAC8/+/o=\")","v":{"$error":"#VALUE!"}},{"$f":"AND('Streaming - Res Calc'!K47,\"AAAAAC8/+/s=\")","v":{"$error":"#VALUE!"}},{"$f":"AND('Streaming - Res Calc'!L47,\"AAAAAC8/+/w=\")","v":{"$error":"#VALUE!"}},{"$f":"AND('Streaming - Res Calc'!M47,\"AAAAAC8/+/0=\")","v":{"$error":"#VALUE!"}},{"$f":"AND('Streaming - Res Calc'!N47,\"AAAAAC8/+/4=\")","v":{"$error":"#VALUE!"}},{"$f":"AND('Streaming - Res Calc'!O47,\"AAAAAC8/+/8=\")","v":{"$error":"#VALUE!"}}]
[{"$f":"AND('Streaming - Res Calc'!P47,\"AAAAAH//qwA=\")","v":{"$error":"#VALUE!"}},{"$f":"AND('Streaming - Res Calc'!Q47,\"AAAAAH//qwE=\")","v":{"$error":"#VALUE!"}},{"$f":"AND('Streaming - Res Calc'!R47,\"AAAAAH//qwI=\")","v":{"$error":"#VALUE!"}},{"$f":"AND('Streaming - Res Calc'!S47,\"AAAAAH//qwM=\")","v":{"$error":"#VALUE!"}},{"$f":"AND('Streaming - Res Calc'!T47,\"AAAAAH//qwQ=\")","v":{"$error":"#VALUE!"}},{"$f":"AND('Streaming - Res Calc'!U47,\"AAAAAH//qwU=\")","v":{"$error":"#VALUE!"}},{"$f":"AND('Streaming - Res Calc'!V47,\"AAAAAH//qwY=\")","v":{"$error":"#VALUE!"}},{"$f":"AND('Streaming - Res Calc'!W47,\"AAAAAH//qwc=\")","v":{"$error":"#VALUE!"}},{"$f":"IF('Streaming - Res Calc'!A:A,\"AAAAAH//qwg=\",0)","v":0},{"$f":"IF('Streaming - Res Calc'!B:B,\"AAAAAH//qwk=\",0)","v":0},{"$f":"IF('Streaming - Res Calc'!C:C,\"AAAAAH//qwo=\",0)","v":0},{"$f":"IF('Streaming - Res Calc'!D:D,\"AAAAAH//qws=\",0)","v":0},{"$f":"IF('Streaming - Res Calc'!E:E,\"AAAAAH//qww=\",0)","v":0},{"$f":"IF('Streaming - Res Calc'!F:F,\"AAAAAH//qw0=\",0)","v":0},{"$f":"IF('Streaming - Res Calc'!G:G,\"AAAAAH//qw4=\",0)","v":{"$error":"#VALUE!"}},{"$f":"IF('Streaming - Res Calc'!H:H,\"AAAAAH//qw8=\",0)","v":0},{"$f":"IF('Streaming - Res Calc'!I:I,\"AAAAAH//qxA=\",0)","v":0},{"$f":"IF('Streaming - Res Calc'!J:J,\"AAAAAH//qxE=\",0)","v":0},{"$f":"IF('Streaming - Res Calc'!K:K,\"AAAAAH//qxI=\",0)","v":0},{"$f":"IF('Streaming - Res Calc'!L:L,\"AAAAAH//qxM=\",0)","v":{"$error":"#VALUE!"}},{"$f":"IF('Streaming - Res Calc'!M:M,\"AAAAAH//qxQ=\",0)","v":0},{"$f":"IF('Streaming - Res Calc'!N:N,\"AAAAAH//qxU=\",0)","v":0},{"$f":"IF('Streaming - Res Calc'!O:O,\"AAAAAH//qxY=\",0)","v":0},{"$f":"IF('Streaming - Res Calc'!P:P,\"AAAAAH//qxc=\",0)","v":0},{"$f":"IF('Streaming - Res Calc'!Q:Q,\"AAAAAH//qxg=\",0)","v":0},{"$f":"IF('Streaming - Res Calc'!R:R,\"AAAAAH//qxk=\",0)","v":0},{"$f":"IF('Streaming - Res Calc'!S:S,\"AAAAAH//qxo=\",0)","v":0},{"$f":"IF('Streaming - Res Calc'!T:T,\"AAAAAH//qxs=\",0)","v":0},{"$f":"IF('Streaming - Res Calc'!U:U,\"AAAAAH//qxw=\",0)","v":0},{"$f":"IF('Streaming - Res Calc'!V:V,\"AAAAAH//qx0=\",0)","v":0},{"$f":"IF('Streaming - Res Calc'!W:W,\"AAAAAH//qx4=\",0)","v":0},{"$f":"IF(#REF!,\"AAAAAH//qx8=\",0)","v":{"$error":"#REF!"}},{"$f":"AND(#REF!,\"AAAAAH//qyA=\")","v":{"$error":"#REF!"}},{"$f":"AND(#REF!,\"AAAAAH//qyE=\")","v":{"$error":"#REF!"}},{"$f":"AND(#REF!,\"AAAAAH//qyI=\")","v":{"$error":"#REF!"}},{"$f":"AND(#REF!,\"AAAAAH//qyM=\")","v":{"$error":"#REF!"}},{"$f":"AND(#REF!,\"AAAAAH//qyQ=\")","v":{"$error":"#REF!"}},{"$f":"AND(#REF!,\"AAAAAH//qyU=\")","v":{"$error":"#REF!"}},{"$f":"AND(#REF!,\"AAAAAH//qyY=\")","v":{"$error":"#REF!"}},{"$f":"AND(#REF!,\"AAAAAH//qyc=\")","v":{"$error":"#REF!"}},{"$f":"AND(#REF!,\"AAAAAH//qyg=\")","v":{"$error":"#REF!"}},{"$f":"AND(#REF!,\"AAAAAH//qyk=\")","v":{"$error":"#REF!"}},{"$f":"AND(#REF!,\"AAAAAH//qyo=\")","v":{"$error":"#REF!"}},{"$f":"AND(#REF!,\"AAAAAH//qys=\")","v":{"$error":"#REF!"}},{"$f":"AND(#REF!,\"AAAAAH//qyw=\")","v":{"$error":"#REF!"}},{"$f":"AND(#REF!,\"AAAAAH//qy0=\")","v":{"$error":"#REF!"}},{"$f":"AND(#REF!,\"AAAAAH//qy4=\")","v":{"$error":"#REF!"}},{"$f":"AND(#REF!,\"AAAAAH//qy8=\")","v":{"$error":"#REF!"}},{"$f":"AND(#REF!,\"AAAAAH//qzA=\")","v":{"$error":"#REF!"}},{"$f":"AND(#REF!,\"AAAAAH//qzE=\")","v":{"$error":"#REF!"}},{"$f":"AND(#REF!,\"AAAAAH//qzI=\")","v":{"$error":"#REF!"}},{"$f":"AND(#REF!,\"AAAAAH//qzM=\")","v":{"$error":"#REF!"}},{"$f":"AND(#REF!,\"AAAAAH//qzQ=\")","v":{"$error":"#REF!"}},{"$f":"IF(#REF!,\"AAAAAH//qzU=\",0)","v":{"$error":"#REF!"}},{"$f":"AND(#REF!,\"AAAAAH//qzY=\")","v":{"$error":"#REF!"}},{"$f":"AND(#REF!,\"AAAAAH//qzc=\")","v":{"$error":"#REF!"}},{"$f":"AND(#REF!,\"AAAAAH//qzg=\")","v":{"$error":"#REF!"}},{"$f":"AND(#REF!,\"AAAAAH//qzk=\")","v":{"$error":"#REF!"}},{"$f":"AND(#REF!,\"AAAAAH//qzo=\")","v":{"$error":"#REF!"}},{"$f":"AND(#REF!,\"AAAAAH//qzs=\")","v":{"$error":"#REF!"}},{"$f":"AND(#REF!,\"AAAAAH//qzw=\")","v":{"$error":"#REF!"}},{"$f":"AND(#REF!,\"AAAAAH//qz0=\")","v":{"$error":"#REF!"}},{"$f":"AND(#REF!,\"AAAAAH//qz4=\")","v":{"$error":"#REF!"}},{"$f":"AND(#REF!,\"AAAAAH//qz8=\")","v":{"$error":"#REF!"}},{"$f":"AND(#REF!,\"AAAAAH//q0A=\")","v":{"$error":"#REF!"}},{"$f":"AND(#REF!,\"AAAAAH//q0E=\")","v":{"$error":"#REF!"}},{"$f":"AND(#REF!,\"AAAAAH//q0I=\")","v":{"$error":"#REF!"}},{"$f":"AND(#REF!,\"AAAAAH//q0M=\")","v":{"$error":"#REF!"}},{"$f":"AND(#REF!,\"AAAAAH//q0Q=\")","v":{"$error":"#REF!"}},{"$f":"AND(#REF!,\"AAAAAH//q0U=\")","v":{"$error":"#REF!"}},{"$f":"AND(#REF!,\"AAAAAH//q0Y=\")","v":{"$error":"#REF!"}},{"$f":"AND(#REF!,\"AAAAAH//q0c=\")","v":{"$error":"#REF!"}},{"$f":"AND(#REF!,\"AAAAAH//q0g=\")","v":{"$error":"#REF!"}},{"$f":"AND(#REF!,\"AAAAAH//q0k=\")","v":{"$error":"#REF!"}},{"$f":"AND(#REF!,\"AAAAAH//q0o=\")","v":{"$error":"#REF!"}},{"$f":"IF(#REF!,\"AAAAAH//q0s=\",0)","v":{"$error":"#REF!"}},{"$f":"AND(#REF!,\"AAAAAH//q0w=\")","v":{"$error":"#REF!"}},{"$f":"AND(#REF!,\"AAAAAH//q00=\")","v":{"$error":"#REF!"}},{"$f":"AND(#REF!,\"AAAAAH//q04=\")","v":{"$error":"#REF!"}},{"$f":"AND(#REF!,\"AAAAAH//q08=\")","v":{"$error":"#REF!"}},{"$f":"AND(#REF!,\"AAAAAH//q1A=\")","v":{"$error":"#REF!"}},{"$f":"AND(#REF!,\"AAAAAH//q1E=\")","v":{"$error":"#REF!"}},{"$f":"AND(#REF!,\"AAAAAH//q1I=\")","v":{"$error":"#REF!"}},{"$f":"AND(#REF!,\"AAAAAH//q1M=\")","v":{"$error":"#REF!"}},{"$f":"AND(#REF!,\"AAAAAH//q1Q=\")","v":{"$error":"#REF!"}},{"$f":"AND(#REF!,\"AAAAAH//q1U=\")","v":{"$error":"#REF!"}},{"$f":"AND(#REF!,\"AAAAAH//q1Y=\")","v":{"$error":"#REF!"}},{"$f":"AND(#REF!,\"AAAAAH//q1c=\")","v":{"$error":"#REF!"}},{"$f":"AND(#REF!,\"AAAAAH//q1g=\")","v":{"$error":"#REF!"}},{"$f":"AND(#REF!,\"AAAAAH//q1k=\")","v":{"$error":"#REF!"}},{"$f":"AND(#REF!,\"AAAAAH//q1o=\")","v":{"$error":"#REF!"}},{"$f":"AND(#REF!,\"AAAAAH//q1s=\")","v":{"$error":"#REF!"}},{"$f":"AND(#REF!,\"AAAAAH//q1w=\")","v":{"$error":"#REF!"}},{"$f":"AND(#REF!,\"AAAAAH//q10=\")","v":{"$error":"#REF!"}},{"$f":"AND(#REF!,\"AAAAAH//q14=\")","v":{"$error":"#REF!"}},{"$f":"AND(#REF!,\"AAAAAH//q18=\")","v":{"$error":"#REF!"}},{"$f":"AND(#REF!,\"AAAAAH//q2A=\")","v":{"$error":"#REF!"}},{"$f":"IF(#REF!,\"AAAAAH//q2E=\",0)","v":{"$error":"#REF!"}},{"$f":"AND(#REF!,\"AAAAAH//q2I=\")","v":{"$error":"#REF!"}},{"$f":"AND(#REF!,\"AAAAAH//q2M=\")","v":{"$error":"#REF!"}},{"$f":"AND(#REF!,\"AAAAAH//q2Q=\")","v":{"$error":"#REF!"}},{"$f":"AND(#REF!,\"AAAAAH//q2U=\")","v":{"$error":"#REF!"}},{"$f":"AND(#REF!,\"AAAAAH//q2Y=\")","v":{"$error":"#REF!"}},{"$f":"AND(#REF!,\"AAAAAH//q2c=\")","v":{"$error":"#REF!"}},{"$f":"AND(#REF!,\"AAAAAH//q2g=\")","v":{"$error":"#REF!"}},{"$f":"AND(#REF!,\"AAAAAH//q2k=\")","v":{"$error":"#REF!"}},{"$f":"AND(#REF!,\"AAAAAH//q2o=\")","v":{"$error":"#REF!"}},{"$f":"AND(#REF!,\"AAAAAH//q2s=\")","v":{"$error":"#REF!"}},{"$f":"AND(#REF!,\"AAAAAH//q2w=\")","v":{"$error":"#REF!"}},{"$f":"AND(#REF!,\"AAAAAH//q20=\")","v":{"$error":"#REF!"}},{"$f":"AND(#REF!,\"AAAAAH//q24=\")","v":{"$error":"#REF!"}},{"$f":"AND(#REF!,\"AAAAAH//q28=\")","v":{"$error":"#REF!"}},{"$f":"AND(#REF!,\"AAAAAH//q3A=\")","v":{"$error":"#REF!"}},{"$f":"AND(#REF!,\"AAAAAH//q3E=\")","v":{"$error":"#REF!"}},{"$f":"AND(#REF!,\"AAAAAH//q3I=\")","v":{"$error":"#REF!"}},{"$f":"AND(#REF!,\"AAAAAH//q3M=\")","v":{"$error":"#REF!"}},{"$f":"AND(#REF!,\"AAAAAH//q3Q=\")","v":{"$error":"#REF!"}},{"$f":"AND(#REF!,\"AAAAAH//q3U=\")","v":{"$error":"#REF!"}},{"$f":"AND(#REF!,\"AAAAAH//q3Y=\")","v":{"$error":"#REF!"}},{"$f":"IF(#REF!,\"AAAAAH//q3c=\",0)","v":{"$error":"#REF!"}},{"$f":"AND(#REF!,\"AAAAAH//q3g=\")","v":{"$error":"#REF!"}},{"$f":"AND(#REF!,\"AAAAAH//q3k=\")","v":{"$error":"#REF!"}},{"$f":"AND(#REF!,\"AAAAAH//q3o=\")","v":{"$error":"#REF!"}},{"$f":"AND(#REF!,\"AAAAAH//q3s=\")","v":{"$error":"#REF!"}},{"$f":"AND(#REF!,\"AAAAAH//q3w=\")","v":{"$error":"#REF!"}},{"$f":"AND(#REF!,\"AAAAAH//q30=\")","v":{"$error":"#REF!"}},{"$f":"AND(#REF!,\"AAAAAH//q34=\")","v":{"$error":"#REF!"}},{"$f":"AND(#REF!,\"AAAAAH//q38=\")","v":{"$error":"#REF!"}},{"$f":"AND(#REF!,\"AAAAAH//q4A=\")","v":{"$error":"#REF!"}},{"$f":"AND(#REF!,\"AAAAAH//q4E=\")","v":{"$error":"#REF!"}},{"$f":"AND(#REF!,\"AAAAAH//q4I=\")","v":{"$error":"#REF!"}},{"$f":"AND(#REF!,\"AAAAAH//q4M=\")","v":{"$error":"#REF!"}},{"$f":"AND(#REF!,\"AAAAAH//q4Q=\")","v":{"$error":"#REF!"}},{"$f":"AND(#REF!,\"AAAAAH//q4U=\")","v":{"$error":"#REF!"}},{"$f":"AND(#REF!,\"AAAAAH//q4Y=\")","v":{"$error":"#REF!"}},{"$f":"AND(#REF!,\"AAAAAH//q4c=\")","v":{"$error":"#REF!"}},{"$f":"AND(#REF!,\"AAAAAH//q4g=\")","v":{"$error":"#REF!"}},{"$f":"AND(#REF!,\"AAAAAH//q4k=\")","v":{"$error":"#REF!"}},{"$f":"AND(#REF!,\"AAAAAH//q4o=\")","v":{"$error":"#REF!"}},{"$f":"AND(#REF!,\"AAAAAH//q4s=\")","v":{"$error":"#REF!"}},{"$f":"AND(#REF!,\"AAAAAH//q4w=\")","v":{"$error":"#REF!"}},{"$f":"IF(#REF!,\"AAAAAH//q40=\",0)","v":{"$error":"#REF!"}},{"$f":"AND(#REF!,\"AAAAAH//q44=\")","v":{"$error":"#REF!"}},{"$f":"AND(#REF!,\"AAAAAH//q48=\")","v":{"$error":"#REF!"}},{"$f":"AND(#REF!,\"AAAAAH//q5A=\")","v":{"$error":"#REF!"}},{"$f":"AND(#REF!,\"AAAAAH//q5E=\")","v":{"$error":"#REF!"}},{"$f":"AND(#REF!,\"AAAAAH//q5I=\")","v":{"$error":"#REF!"}},{"$f":"AND(#REF!,\"AAAAAH//q5M=\")","v":{"$error":"#REF!"}},{"$f":"AND(#REF!,\"AAAAAH//q5Q=\")","v":{"$error":"#REF!"}},{"$f":"AND(#REF!,\"AAAAAH//q5U=\")","v":{"$error":"#REF!"}},{"$f":"AND(#REF!,\"AAAAAH//q5Y=\")","v":{"$error":"#REF!"}},{"$f":"AND(#REF!,\"AAAAAH//q5c=\")","v":{"$error":"#REF!"}},{"$f":"AND(#REF!,\"AAAAAH//q5g=\")","v":{"$error":"#REF!"}},{"$f":"AND(#REF!,\"AAAAAH//q5k=\")","v":{"$error":"#REF!"}},{"$f":"AND(#REF!,\"AAAAAH//q5o=\")","v":{"$error":"#REF!"}},{"$f":"AND(#REF!,\"AAAAAH//q5s=\")","v":{"$error":"#REF!"}},{"$f":"AND(#REF!,\"AAAAAH//q5w=\")","v":{"$error":"#REF!"}},{"$f":"AND(#REF!,\"AAAAAH//q50=\")","v":{"$error":"#REF!"}},{"$f":"AND(#REF!,\"AAAAAH//q54=\")","v":{"$error":"#REF!"}},{"$f":"AND(#REF!,\"AAAAAH//q58=\")","v":{"$error":"#REF!"}},{"$f":"AND(#REF!,\"AAAAAH//q6A=\")","v":{"$error":"#REF!"}},{"$f":"AND(#REF!,\"AAAAAH//q6E=\")","v":{"$error":"#REF!"}},{"$f":"AND(#REF!,\"AAAAAH//q6I=\")","v":{"$error":"#REF!"}},{"$f":"IF(#REF!,\"AAAAAH//q6M=\",0)","v":{"$error":"#REF!"}},{"$f":"AND(#REF!,\"AAAAAH//q6Q=\")","v":{"$error":"#REF!"}},{"$f":"AND(#REF!,\"AAAAAH//q6U=\")","v":{"$error":"#REF!"}},{"$f":"AND(#REF!,\"AAAAAH//q6Y=\")","v":{"$error":"#REF!"}},{"$f":"AND(#REF!,\"AAAAAH//q6c=\")","v":{"$error":"#REF!"}},{"$f":"AND(#REF!,\"AAAAAH//q6g=\")","v":{"$error":"#REF!"}},{"$f":"AND(#REF!,\"AAAAAH//q6k=\")","v":{"$error":"#REF!"}},{"$f":"AND(#REF!,\"AAAAAH//q6o=\")","v":{"$error":"#REF!"}},{"$f":"AND(#REF!,\"AAAAAH//q6s=\")","v":{"$error":"#REF!"}},{"$f":"AND(#REF!,\"AAAAAH//q6w=\")","v":{"$error":"#REF!"}},{"$f":"AND(#REF!,\"AAAAAH//q60=\")","v":{"$error":"#REF!"}},{"$f":"AND(#REF!,\"AAAAAH//q64=\")","v":{"$error":"#REF!"}},{"$f":"AND(#REF!,\"AAAAAH//q68=\")","v":{"$error":"#REF!"}},{"$f":"AND(#REF!,\"AAAAAH//q7A=\")","v":{"$error":"#REF!"}},{"$f":"AND(#REF!,\"AAAAAH//q7E=\")","v":{"$error":"#REF!"}},{"$f":"AND(#REF!,\"AAAAAH//q7I=\")","v":{"$error":"#REF!"}},{"$f":"AND(#REF!,\"AAAAAH//q7M=\")","v":{"$error":"#REF!"}},{"$f":"AND(#REF!,\"AAAAAH//q7Q=\")","v":{"$error":"#REF!"}},{"$f":"AND(#REF!,\"AAAAAH//q7U=\")","v":{"$error":"#REF!"}},{"$f":"AND(#REF!,\"AAAAAH//q7Y=\")","v":{"$error":"#REF!"}},{"$f":"AND(#REF!,\"AAAAAH//q7c=\")","v":{"$error":"#REF!"}},{"$f":"AND(#REF!,\"AAAAAH//q7g=\")","v":{"$error":"#REF!"}},{"$f":"IF(#REF!,\"AAAAAH//q7k=\",0)","v":{"$error":"#REF!"}},{"$f":"AND(#REF!,\"AAAAAH//q7o=\")","v":{"$error":"#REF!"}},{"$f":"AND(#REF!,\"AAAAAH//q7s=\")","v":{"$error":"#REF!"}},{"$f":"AND(#REF!,\"AAAAAH//q7w=\")","v":{"$error":"#REF!"}},{"$f":"AND(#REF!,\"AAAAAH//q70=\")","v":{"$error":"#REF!"}},{"$f":"AND(#REF!,\"AAAAAH//q74=\")","v":{"$error":"#REF!"}},{"$f":"AND(#REF!,\"AAAAAH//q78=\")","v":{"$error":"#REF!"}},{"$f":"AND(#REF!,\"AAAAAH//q8A=\")","v":{"$error":"#REF!"}},{"$f":"AND(#REF!,\"AAAAAH//q8E=\")","v":{"$error":"#REF!"}},{"$f":"AND(#REF!,\"AAAAAH//q8I=\")","v":{"$error":"#REF!"}},{"$f":"AND(#REF!,\"AAAAAH//q8M=\")","v":{"$error":"#REF!"}},{"$f":"AND(#REF!,\"AAAAAH//q8Q=\")","v":{"$error":"#REF!"}},{"$f":"AND(#REF!,\"AAAAAH//q8U=\")","v":{"$error":"#REF!"}},{"$f":"AND(#REF!,\"AAAAAH//q8Y=\")","v":{"$error":"#REF!"}},{"$f":"AND(#REF!,\"AAAAAH//q8c=\")","v":{"$error":"#REF!"}},{"$f":"AND(#REF!,\"AAAAAH//q8g=\")","v":{"$error":"#REF!"}},{"$f":"AND(#REF!,\"AAAAAH//q8k=\")","v":{"$error":"#REF!"}},{"$f":"AND(#REF!,\"AAAAAH//q8o=\")","v":{"$error":"#REF!"}},{"$f":"AND(#REF!,\"AAAAAH//q8s=\")","v":{"$error":"#REF!"}},{"$f":"AND(#REF!,\"AAAAAH//q8w=\")","v":{"$error":"#REF!"}},{"$f":"AND(#REF!,\"AAAAAH//q80=\")","v":{"$error":"#REF!"}},{"$f":"AND(#REF!,\"AAAAAH//q84=\")","v":{"$error":"#REF!"}},{"$f":"IF(#REF!,\"AAAAAH//q88=\",0)","v":{"$error":"#REF!"}},{"$f":"AND(#REF!,\"AAAAAH//q9A=\")","v":{"$error":"#REF!"}},{"$f":"AND(#REF!,\"AAAAAH//q9E=\")","v":{"$error":"#REF!"}},{"$f":"AND(#REF!,\"AAAAAH//q9I=\")","v":{"$error":"#REF!"}},{"$f":"AND(#REF!,\"AAAAAH//q9M=\")","v":{"$error":"#REF!"}},{"$f":"AND(#REF!,\"AAAAAH//q9Q=\")","v":{"$error":"#REF!"}},{"$f":"AND(#REF!,\"AAAAAH//q9U=\")","v":{"$error":"#REF!"}},{"$f":"AND(#REF!,\"AAAAAH//q9Y=\")","v":{"$error":"#REF!"}},{"$f":"AND(#REF!,\"AAAAAH//q9c=\")","v":{"$error":"#REF!"}},{"$f":"AND(#REF!,\"AAAAAH//q9g=\")","v":{"$error":"#REF!"}},{"$f":"AND(#REF!,\"AAAAAH//q9k=\")","v":{"$error":"#REF!"}},{"$f":"AND(#REF!,\"AAAAAH//q9o=\")","v":{"$error":"#REF!"}},{"$f":"AND(#REF!,\"AAAAAH//q9s=\")","v":{"$error":"#REF!"}},{"$f":"AND(#REF!,\"AAAAAH//q9w=\")","v":{"$error":"#REF!"}},{"$f":"AND(#REF!,\"AAAAAH//q90=\")","v":{"$error":"#REF!"}},{"$f":"AND(#REF!,\"AAAAAH//q94=\")","v":{"$error":"#REF!"}},{"$f":"AND(#REF!,\"AAAAAH//q98=\")","v":{"$error":"#REF!"}},{"$f":"AND(#REF!,\"AAAAAH//q+A=\")","v":{"$error":"#REF!"}},{"$f":"AND(#REF!,\"AAAAAH//q+E=\")","v":{"$error":"#REF!"}},{"$f":"AND(#REF!,\"AAAAAH//q+I=\")","v":{"$error":"#REF!"}},{"$f":"AND(#REF!,\"AAAAAH//q+M=\")","v":{"$error":"#REF!"}},{"$f":"AND(#REF!,\"AAAAAH//q+Q=\")","v":{"$error":"#REF!"}},{"$f":"IF(#REF!,\"AAAAAH//q+U=\",0)","v":{"$error":"#REF!"}},{"$f":"AND(#REF!,\"AAAAAH//q+Y=\")","v":{"$error":"#REF!"}},{"$f":"AND(#REF!,\"AAAAAH//q+c=\")","v":{"$error":"#REF!"}},{"$f":"AND(#REF!,\"AAAAAH//q+g=\")","v":{"$error":"#REF!"}},{"$f":"AND(#REF!,\"AAAAAH//q+k=\")","v":{"$error":"#REF!"}},{"$f":"AND(#REF!,\"AAAAAH//q+o=\")","v":{"$error":"#REF!"}},{"$f":"AND(#REF!,\"AAAAAH//q+s=\")","v":{"$error":"#REF!"}},{"$f":"AND(#REF!,\"AAAAAH//q+w=\")","v":{"$error":"#REF!"}},{"$f":"AND(#REF!,\"AAAAAH//q+0=\")","v":{"$error":"#REF!"}},{"$f":"AND(#REF!,\"AAAAAH//q+4=\")","v":{"$error":"#REF!"}},{"$f":"AND(#REF!,\"AAAAAH//q+8=\")","v":{"$error":"#REF!"}},{"$f":"AND(#REF!,\"AAAAAH//q/A=\")","v":{"$error":"#REF!"}},{"$f":"AND(#REF!,\"AAAAAH//q/E=\")","v":{"$error":"#REF!"}},{"$f":"AND(#REF!,\"AAAAAH//q/I=\")","v":{"$error":"#REF!"}},{"$f":"AND(#REF!,\"AAAAAH//q/M=\")","v":{"$error":"#REF!"}},{"$f":"AND(#REF!,\"AAAAAH//q/Q=\")","v":{"$error":"#REF!"}},{"$f":"AND(#REF!,\"AAAAAH//q/U=\")","v":{"$error":"#REF!"}},{"$f":"AND(#REF!,\"AAAAAH//q/Y=\")","v":{"$error":"#REF!"}},{"$f":"AND(#REF!,\"AAAAAH//q/c=\")","v":{"$error":"#REF!"}},{"$f":"AND(#REF!,\"AAAAAH//q/g=\")","v":{"$error":"#REF!"}},{"$f":"AND(#REF!,\"AAAAAH//q/k=\")","v":{"$error":"#REF!"}},{"$f":"AND(#REF!,\"AAAAAH//q/o=\")","v":{"$error":"#REF!"}},{"$f":"IF(#REF!,\"AAAAAH//q/s=\",0)","v":{"$error":"#REF!"}},{"$f":"AND(#REF!,\"AAAAAH//q/w=\")","v":{"$error":"#REF!"}},{"$f":"AND(#REF!,\"AAAAAH//q/0=\")","v":{"$error":"#REF!"}},{"$f":"AND(#REF!,\"AAAAAH//q/4=\")","v":{"$error":"#REF!"}},{"$f":"AND(#REF!,\"AAAAAH//q/8=\")","v":{"$error":"#REF!"}}]
[{"$f":"AND(#REF!,\"AAAAAHf7/wA=\")","v":{"$error":"#REF!"}},{"$f":"AND(#REF!,\"AAAAAHf7/wE=\")","v":{"$error":"#REF!"}},{"$f":"AND(#REF!,\"AAAAAHf7/wI=\")","v":{"$error":"#REF!"}},{"$f":"AND(#REF!,\"AAAAAHf7/wM=\")","v":{"$error":"#REF!"}},{"$f":"AND(#REF!,\"AAAAAHf7/wQ=\")","v":{"$error":"#REF!"}},{"$f":"AND(#REF!,\"AAAAAHf7/wU=\")","v":{"$error":"#REF!"}},{"$f":"AND(#REF!,\"AAAAAHf7/wY=\")","v":{"$error":"#REF!"}},{"$f":"AND(#REF!,\"AAAAAHf7/wc=\")","v":{"$error":"#REF!"}},{"$f":"AND(#REF!,\"AAAAAHf7/wg=\")","v":{"$error":"#REF!"}},{"$f":"AND(#REF!,\"AAAAAHf7/wk=\")","v":{"$error":"#REF!"}},{"$f":"AND(#REF!,\"AAAAAHf7/wo=\")","v":{"$error":"#REF!"}},{"$f":"AND(#REF!,\"AAAAAHf7/ws=\")","v":{"$error":"#REF!"}},{"$f":"AND(#REF!,\"AAAAAHf7/ww=\")","v":{"$error":"#REF!"}},{"$f":"AND(#REF!,\"AAAAAHf7/w0=\")","v":{"$error":"#REF!"}},{"$f":"AND(#REF!,\"AAAAAHf7/w4=\")","v":{"$error":"#REF!"}},{"$f":"AND(#REF!,\"AAAAAHf7/w8=\")","v":{"$error":"#REF!"}},{"$f":"AND(#REF!,\"AAAAAHf7/xA=\")","v":{"$error":"#REF!"}},{"$f":"IF(#REF!,\"AAAAAHf7/xE=\",0)","v":{"$error":"#REF!"}},{"$f":"AND(#REF!,\"AAAAAHf7/xI=\")","v":{"$error":"#REF!"}},{"$f":"AND(#REF!,\"AAAAAHf7/xM=\")","v":{"$error":"#REF!"}},{"$f":"AND(#REF!,\"AAAAAHf7/xQ=\")","v":{"$error":"#REF!"}},{"$f":"AND(#REF!,\"AAAAAHf7/xU=\")","v":{"$error":"#REF!"}},{"$f":"AND(#REF!,\"AAAAAHf7/xY=\")","v":{"$error":"#REF!"}},{"$f":"AND(#REF!,\"AAAAAHf7/xc=\")","v":{"$error":"#REF!"}},{"$f":"AND(#REF!,\"AAAAAHf7/xg=\")","v":{"$error":"#REF!"}},{"$f":"AND(#REF!,\"AAAAAHf7/xk=\")","v":{"$error":"#REF!"}},{"$f":"AND(#REF!,\"AAAAAHf7/xo=\")","v":{"$error":"#REF!"}},{"$f":"AND(#REF!,\"AAAAAHf7/xs=\")","v":{"$error":"#REF!"}},{"$f":"AND(#REF!,\"AAAAAHf7/xw=\")","v":{"$error":"#REF!"}},{"$f":"AND(#REF!,\"AAAAAHf7/x0=\")","v":{"$error":"#REF!"}},{"$f":"AND(#REF!,\"AAAAAHf7/x4=\")","v":{"$error":"#REF!"}},{"$f":"AND(#REF!,\"AAAAAHf7/x8=\")","v":{"$error":"#REF!"}},{"$f":"AND(#REF!,\"AAAAAHf7/yA=\")","v":{"$error":"#REF!"}},{"$f":"AND(#REF!,\"AAAAAHf7/yE=\")","v":{"$error":"#REF!"}},{"$f":"AND(#REF!,\"AAAAAHf7/yI=\")","v":{"$error":"#REF!"}},{"$f":"AND(#REF!,\"AAAAAHf7/yM=\")","v":{"$error":"#REF!"}},{"$f":"AND(#REF!,\"AAAAAHf7/yQ=\")","v":{"$error":"#REF!"}},{"$f":"AND(#REF!,\"AAAAAHf7/yU=\")","v":{"$error":"#REF!"}},{"$f":"AND(#REF!,\"AAAAAHf7/yY=\")","v":{"$error":"#REF!"}},{"$f":"IF(#REF!,\"AAAAAHf7/yc=\",0)","v":{"$error":"#REF!"}},{"$f":"AND(#REF!,\"AAAAAHf7/yg=\")","v":{"$error":"#REF!"}},{"$f":"AND(#REF!,\"AAAAAHf7/yk=\")","v":{"$error":"#REF!"}},{"$f":"AND(#REF!,\"AAAAAHf7/yo=\")","v":{"$error":"#REF!"}},{"$f":"AND(#REF!,\"AAAAAHf7/ys=\")","v":{"$error":"#REF!"}},{"$f":"AND(#REF!,\"AAAAAHf7/yw=\")","v":{"$error":"#REF!"}},{"$f":"AND(#REF!,\"AAAAAHf7/y0=\")","v":{"$error":"#REF!"}},{"$f":"AND(#REF!,\"AAAAAHf7/y4=\")","v":{"$error":"#REF!"}},{"$f":"AND(#REF!,\"AAAAAHf7/y8=\")","v":{"$error":"#REF!"}},{"$f":"AND(#REF!,\"AAAAAHf7/zA=\")","v":{"$error":"#REF!"}},{"$f":"AND(#REF!,\"AAAAAHf7/zE=\")","v":{"$error":"#REF!"}},{"$f":"AND(#REF!,\"AAAAAHf7/zI=\")","v":{"$error":"#REF!"}},{"$f":"AND(#REF!,\"AAAAAHf7/zM=\")","v":{"$error":"#REF!"}},{"$f":"AND(#REF!,\"AAAAAHf7/zQ=\")","v":{"$error":"#REF!"}},{"$f":"AND(#REF!,\"AAAAAHf7/zU=\")","v":{"$error":"#REF!"}},{"$f":"AND(#REF!,\"AAAAAHf7/zY=\")","v":{"$error":"#REF!"}},{"$f":"AND(#REF!,\"AAAAAHf7/zc=\")","v":{"$error":"#REF!"}},{"$f":"AND(#REF!,\"AAAAAHf7/zg=\")","v":{"$error":"#REF!"}},{"$f":"AND(#REF!,\"AAAAAHf7/zk=\")","v":{"$error":"#REF!"}},{"$f":"AND(#REF!,\"AAAAAHf7/zo=\")","v":{"$error":"#REF!"}},{"$f":"AND(#REF!,\"AAAAAHf7/zs=\")","v":{"$error":"#REF!"}},{"$f":"AND(#REF!,\"AAAAAHf7/zw=\")","v":{"$error":"#REF!"}},{"$f":"IF(#REF!,\"AAAAAHf7/z0=\",0)","v":{"$error":"#REF!"}},{"$f":"AND(#REF!,\"AAAAAHf7/z4=\")","v":{"$error":"#REF!"}},{"$f":"AND(#REF!,\"AAAAAHf7/z8=\")","v":{"$error":"#REF!"}},{"$f":"AND(#REF!,\"AAAAAHf7/0A=\")","v":{"$error":"#REF!"}},{"$f":"AND(#REF!,\"AAAAAHf7/0E=\")","v":{"$error":"#REF!"}},{"$f":"AND(#REF!,\"AAAAAHf7/0I=\")","v":{"$error":"#REF!"}},{"$f":"AND(#REF!,\"AAAAAHf7/0M=\")","v":{"$error":"#REF!"}},{"$f":"AND(#REF!,\"AAAAAHf7/0Q=\")","v":{"$error":"#REF!"}},{"$f":"AND(#REF!,\"AAAAAHf7/0U=\")","v":{"$error":"#REF!"}},{"$f":"AND(#REF!,\"AAAAAHf7/0Y=\")","v":{"$error":"#REF!"}},{"$f":"AND(#REF!,\"AAAAAHf7/0c=\")","v":{"$error":"#REF!"}},{"$f":"AND(#REF!,\"AAAAAHf7/0g=\")","v":{"$error":"#REF!"}},{"$f":"AND(#REF!,\"AAAAAHf7/0k=\")","v":{"$error":"#REF!"}},{"$f":"AND(#REF!,\"AAAAAHf7/0o=\")","v":{"$error":"#REF!"}},{"$f":"AND(#REF!,\"AAAAAHf7/0s=\")","v":{"$error":"#REF!"}},{"$f":"AND(#REF!,\"AAAAAHf7/0w=\")","v":{"$error":"#REF!"}},{"$f":"AND(#REF!,\"AAAAAHf7/00=\")","v":{"$error":"#REF!"}},{"$f":"AND(#REF!,\"AAAAAHf7/04=\")","v":{"$error":"#REF!"}},{"$f":"AND(#REF!,\"AAAAAHf7/08=\")","v":{"$error":"#REF!"}},{"$f":"AND(#REF!,\"AAAAAHf7/1A=\")","v":{"$error":"#REF!"}},{"$f":"AND(#REF!,\"AAAAAHf7/1E=\")","v":{"$error":"#REF!"}},{"$f":"AND(#REF!,\"AAAAAHf7/1I=\")","v":{"$error":"#REF!"}},{"$f":"IF(#REF!,\"AAAAAHf7/1M=\",0)","v":{"$error":"#REF!"}},{"$f":"AND(#REF!,\"AAAAAHf7/1Q=\")","v":{"$error":"#REF!"}},{"$f":"AND(#REF!,\"AAAAAHf7/1U=\")","v":{"$error":"#REF!"}},{"$f":"AND(#REF!,\"AAAAAHf7/1Y=\")","v":{"$error":"#REF!"}},{"$f":"AND(#REF!,\"AAAAAHf7/1c=\")","v":{"$error":"#REF!"}},{"$f":"AND(#REF!,\"AAAAAHf7/1g=\")","v":{"$error":"#REF!"}},{"$f":"AND(#REF!,\"AAAAAHf7/1k=\")","v":{"$error":"#REF!"}},{"$f":"AND(#REF!,\"AAAAAHf7/1o=\")","v":{"$error":"#REF!"}},{"$f":"AND(#REF!,\"AAAAAHf7/1s=\")","v":{"$error":"#REF!"}},{"$f":"AND(#REF!,\"AAAAAHf7/1w=\")","v":{"$error":"#REF!"}},{"$f":"AND(#REF!,\"AAAAAHf7/10=\")","v":{"$error":"#REF!"}},{"$f":"AND(#REF!,\"AAAAAHf7/14=\")","v":{"$error":"#REF!"}},{"$f":"AND(#REF!,\"AAAAAHf7/18=\")","v":{"$error":"#REF!"}},{"$f":"AND(#REF!,\"AAAAAHf7/2A=\")","v":{"$error":"#REF!"}},{"$f":"AND(#REF!,\"AAAAAHf7/2E=\")","v":{"$error":"#REF!"}},{"$f":"AND(#REF!,\"AAAAAHf7/2I=\")","v":{"$error":"#REF!"}},{"$f":"AND(#REF!,\"AAAAAHf7/2M=\")","v":{"$error":"#REF!"}},{"$f":"AND(#REF!,\"AAAAAHf7/2Q=\")","v":{"$error":"#REF!"}},{"$f":"AND(#REF!,\"AAAAAHf7/2U=\")","v":{"$error":"#REF!"}},{"$f":"AND(#REF!,\"AAAAAHf7/2Y=\")","v":{"$error":"#REF!"}},{"$f":"AND(#REF!,\"AAAAAHf7/2c=\")","v":{"$error":"#REF!"}},{"$f":"AND(#REF!,\"AAAAAHf7/2g=\")","v":{"$error":"#REF!"}},{"$f":"IF(#REF!,\"AAAAAHf7/2k=\",0)","v":{"$error":"#REF!"}},{"$f":"AND(#REF!,\"AAAAAHf7/2o=\")","v":{"$error":"#REF!"}},{"$f":"AND(#REF!,\"AAAAAHf7/2s=\")","v":{"$error":"#REF!"}},{"$f":"AND(#REF!,\"AAAAAHf7/2w=\")","v":{"$error":"#REF!"}},{"$f":"AND(#REF!,\"AAAAAHf7/20=\")","v":{"$error":"#REF!"}},{"$f":"AND(#REF!,\"AAAAAHf7/24=\")","v":{"$error":"#REF!"}},{"$f":"AND(#REF!,\"AAAAAHf7/28=\")","v":{"$error":"#REF!"}},{"$f":"AND(#REF!,\"AAAAAHf7/3A=\")","v":{"$error":"#REF!"}},{"$f":"AND(#REF!,\"AAAAAHf7/3E=\")","v":{"$error":"#REF!"}},{"$f":"AND(#REF!,\"AAAAAHf7/3I=\")","v":{"$error":"#REF!"}},{"$f":"AND(#REF!,\"AAAAAHf7/3M=\")","v":{"$error":"#REF!"}},{"$f":"AND(#REF!,\"AAAAAHf7/3Q=\")","v":{"$error":"#REF!"}},{"$f":"AND(#REF!,\"AAAAAHf7/3U=\")","v":{"$error":"#REF!"}},{"$f":"AND(#REF!,\"AAAAAHf7/3Y=\")","v":{"$error":"#REF!"}},{"$f":"AND(#REF!,\"AAAAAHf7/3c=\")","v":{"$error":"#REF!"}},{"$f":"AND(#REF!,\"AAAAAHf7/3g=\")","v":{"$error":"#REF!"}},{"$f":"AND(#REF!,\"AAAAAHf7/3k=\")","v":{"$error":"#REF!"}},{"$f":"AND(#REF!,\"AAAAAHf7/3o=\")","v":{"$error":"#REF!"}},{"$f":"AND(#REF!,\"AAAAAHf7/3s=\")","v":{"$error":"#REF!"}},{"$f":"AND(#REF!,\"AAAAAHf7/3w=\")","v":{"$error":"#REF!"}},{"$f":"AND(#REF!,\"AAAAAHf7/30=\")","v":{"$error":"#REF!"}},{"$f":"AND(#REF!,\"AAAAAHf7/34=\")","v":{"$error":"#REF!"}},{"$f":"IF(#REF!,\"AAAAAHf7/38=\",0)","v":{"$error":"#REF!"}},{"$f":"AND(#REF!,\"AAAAAHf7/4A=\")","v":{"$error":"#REF!"}},{"$f":"AND(#REF!,\"AAAAAHf7/4E=\")","v":{"$error":"#REF!"}},{"$f":"AND(#REF!,\"AAAAAHf7/4I=\")","v":{"$error":"#REF!"}},{"$f":"AND(#REF!,\"AAAAAHf7/4M=\")","v":{"$error":"#REF!"}},{"$f":"AND(#REF!,\"AAAAAHf7/4Q=\")","v":{"$error":"#REF!"}},{"$f":"AND(#REF!,\"AAAAAHf7/4U=\")","v":{"$error":"#REF!"}},{"$f":"AND(#REF!,\"AAAAAHf7/4Y=\")","v":{"$error":"#REF!"}},{"$f":"AND(#REF!,\"AAAAAHf7/4c=\")","v":{"$error":"#REF!"}},{"$f":"AND(#REF!,\"AAAAAHf7/4g=\")","v":{"$error":"#REF!"}},{"$f":"AND(#REF!,\"AAAAAHf7/4k=\")","v":{"$error":"#REF!"}},{"$f":"AND(#REF!,\"AAAAAHf7/4o=\")","v":{"$error":"#REF!"}},{"$f":"AND(#REF!,\"AAAAAHf7/4s=\")","v":{"$error":"#REF!"}},{"$f":"AND(#REF!,\"AAAAAHf7/4w=\")","v":{"$error":"#REF!"}},{"$f":"AND(#REF!,\"AAAAAHf7/40=\")","v":{"$error":"#REF!"}},{"$f":"AND(#REF!,\"AAAAAHf7/44=\")","v":{"$error":"#REF!"}},{"$f":"AND(#REF!,\"AAAAAHf7/48=\")","v":{"$error":"#REF!"}},{"$f":"AND(#REF!,\"AAAAAHf7/5A=\")","v":{"$error":"#REF!"}},{"$f":"AND(#REF!,\"AAAAAHf7/5E=\")","v":{"$error":"#REF!"}},{"$f":"AND(#REF!,\"AAAAAHf7/5I=\")","v":{"$error":"#REF!"}},{"$f":"AND(#REF!,\"AAAAAHf7/5M=\")","v":{"$error":"#REF!"}},{"$f":"AND(#REF!,\"AAAAAHf7/5Q=\")","v":{"$error":"#REF!"}},{"$f":"IF(#REF!,\"AAAAAHf7/5U=\",0)","v":{"$error":"#REF!"}},{"$f":"AND(#REF!,\"AAAAAHf7/5Y=\")","v":{"$error":"#REF!"}},{"$f":"AND(#REF!,\"AAAAAHf7/5c=\")","v":{"$error":"#REF!"}},{"$f":"AND(#REF!,\"AAAAAHf7/5g=\")","v":{"$error":"#REF!"}},{"$f":"AND(#REF!,\"AAAAAHf7/5k=\")","v":{"$error":"#REF!"}},{"$f":"AND(#REF!,\"AAAAAHf7/5o=\")","v":{"$error":"#REF!"}},{"$f":"AND(#REF!,\"AAAAAHf7/5s=\")","v":{"$error":"#REF!"}},{"$f":"AND(#REF!,\"AAAAAHf7/5w=\")","v":{"$error":"#REF!"}},{"$f":"AND(#REF!,\"AAAAAHf7/50=\")","v":{"$error":"#REF!"}},{"$f":"AND(#REF!,\"AAAAAHf7/54=\")","v":{"$error":"#REF!"}},{"$f":"AND(#REF!,\"AAAAAHf7/58=\")","v":{"$error":"#REF!"}},{"$f":"AND(#REF!,\"AAAAAHf7/6A=\")","v":{"$error":"#REF!"}},{"$f":"AND(#REF!,\"AAAAAHf7/6E=\")","v":{"$error":"#REF!"}},{"$f":"AND(#REF!,\"AAAAAHf7/6I=\")","v":{"$error":"#REF!"}},{"$f":"AND(#REF!,\"AAAAAHf7/6M=\")","v":{"$error":"#REF!"}},{"$f":"AND(#REF!,\"AAAAAHf7/6Q=\")","v":{"$error":"#REF!"}},{"$f":"AND(#REF!,\"AAAAAHf7/6U=\")","v":{"$error":"#REF!"}},{"$f":"AND(#REF!,\"AAAAAHf7/6Y=\")","v":{"$error":"#REF!"}},{"$f":"AND(#REF!,\"AAAAAHf7/6c=\")","v":{"$error":"#REF!"}},{"$f":"AND(#REF!,\"AAAAAHf7/6g=\")","v":{"$error":"#REF!"}},{"$f":"AND(#REF!,\"AAAAAHf7/6k=\")","v":{"$error":"#REF!"}},{"$f":"AND(#REF!,\"AAAAAHf7/6o=\")","v":{"$error":"#REF!"}},{"$f":"IF(#REF!,\"AAAAAHf7/6s=\",0)","v":{"$error":"#REF!"}},{"$f":"AND(#REF!,\"AAAAAHf7/6w=\")","v":{"$error":"#REF!"}},{"$f":"AND(#REF!,\"AAAAAHf7/60=\")","v":{"$error":"#REF!"}},{"$f":"AND(#REF!,\"AAAAAHf7/64=\")","v":{"$error":"#REF!"}},{"$f":"AND(#REF!,\"AAAAAHf7/68=\")","v":{"$error":"#REF!"}},{"$f":"AND(#REF!,\"AAAAAHf7/7A=\")","v":{"$error":"#REF!"}},{"$f":"AND(#REF!,\"AAAAAHf7/7E=\")","v":{"$error":"#REF!"}},{"$f":"AND(#REF!,\"AAAAAHf7/7I=\")","v":{"$error":"#REF!"}},{"$f":"AND(#REF!,\"AAAAAHf7/7M=\")","v":{"$error":"#REF!"}},{"$f":"AND(#REF!,\"AAAAAHf7/7Q=\")","v":{"$error":"#REF!"}},{"$f":"AND(#REF!,\"AAAAAHf7/7U=\")","v":{"$error":"#REF!"}},{"$f":"AND(#REF!,\"AAAAAHf7/7Y=\")","v":{"$error":"#REF!"}},{"$f":"AND(#REF!,\"AAAAAHf7/7c=\")","v":{"$error":"#REF!"}},{"$f":"AND(#REF!,\"AAAAAHf7/7g=\")","v":{"$error":"#REF!"}},{"$f":"AND(#REF!,\"AAAAAHf7/7k=\")","v":{"$error":"#REF!"}},{"$f":"AND(#REF!,\"AAAAAHf7/7o=\")","v":{"$error":"#REF!"}},{"$f":"AND(#REF!,\"AAAAAHf7/7s=\")","v":{"$error":"#REF!"}},{"$f":"AND(#REF!,\"AAAAAHf7/7w=\")","v":{"$error":"#REF!"}},{"$f":"AND(#REF!,\"AAAAAHf7/70=\")","v":{"$error":"#REF!"}},{"$f":"AND(#REF!,\"AAAAAHf7/74=\")","v":{"$error":"#REF!"}},{"$f":"AND(#REF!,\"AAAAAHf7/78=\")","v":{"$error":"#REF!"}},{"$f":"AND(#REF!,\"AAAAAHf7/8A=\")","v":{"$error":"#REF!"}},{"$f":"IF(#REF!,\"AAAAAHf7/8E=\",0)","v":{"$error":"#REF!"}},{"$f":"AND(#REF!,\"AAAAAHf7/8I=\")","v":{"$error":"#REF!"}},{"$f":"AND(#REF!,\"AAAAAHf7/8M=\")","v":{"$error":"#REF!"}},{"$f":"AND(#REF!,\"AAAAAHf7/8Q=\")","v":{"$error":"#REF!"}},{"$f":"AND(#REF!,\"AAAAAHf7/8U=\")","v":{"$error":"#REF!"}},{"$f":"AND(#REF!,\"AAAAAHf7/8Y=\")","v":{"$error":"#REF!"}},{"$f":"AND(#REF!,\"AAAAAHf7/8c=\")","v":{"$error":"#REF!"}},{"$f":"AND(#REF!,\"AAAAAHf7/8g=\")","v":{"$error":"#REF!"}},{"$f":"AND(#REF!,\"AAAAAHf7/8k=\")","v":{"$error":"#REF!"}},{"$f":"AND(#REF!,\"AAAAAHf7/8o=\")","v":{"$error":"#REF!"}},{"$f":"AND(#REF!,\"AAAAAHf7/8s=\")","v":{"$error":"#REF!"}},{"$f":"AND(#REF!,\"AAAAAHf7/8w=\")","v":{"$error":"#REF!"}},{"$f":"AND(#REF!,\"AAAAAHf7/80=\")","v":{"$error":"#REF!"}},{"$f":"AND(#REF!,\"AAAAAHf7/84=\")","v":{"$error":"#REF!"}},{"$f":"AND(#REF!,\"AAAAAHf7/88=\")","v":{"$error":"#REF!"}},{"$f":"AND(#REF!,\"AAAAAHf7/9A=\")","v":{"$error":"#REF!"}},{"$f":"AND(#REF!,\"AAAAAHf7/9E=\")","v":{"$error":"#REF!"}},{"$f":"AND(#REF!,\"AAAAAHf7/9I=\")","v":{"$error":"#REF!"}},{"$f":"AND(#REF!,\"AAAAAHf7/9M=\")","v":{"$error":"#REF!"}},{"$f":"AND(#REF!,\"AAAAAHf7/9Q=\")","v":{"$error":"#REF!"}},{"$f":"AND(#REF!,\"AAAAAHf7/9U=\")","v":{"$error":"#REF!"}},{"$f":"AND(#REF!,\"AAAAAHf7/9Y=\")","v":{"$error":"#REF!"}},{"$f":"IF(#REF!,\"AAAAAHf7/9c=\",0)","v":{"$error":"#REF!"}},{"$f":"AND(#REF!,\"AAAAAHf7/9g=\")","v":{"$error":"#REF!"}},{"$f":"AND(#REF!,\"AAAAAHf7/9k=\")","v":{"$error":"#REF!"}},{"$f":"AND(#REF!,\"AAAAAHf7/9o=\")","v":{"$error":"#REF!"}},{"$f":"AND(#REF!,\"AAAAAHf7/9s=\")","v":{"$error":"#REF!"}},{"$f":"AND(#REF!,\"AAAAAHf7/9w=\")","v":{"$error":"#REF!"}},{"$f":"AND(#REF!,\"AAAAAHf7/90=\")","v":{"$error":"#REF!"}},{"$f":"AND(#REF!,\"AAAAAHf7/94=\")","v":{"$error":"#REF!"}},{"$f":"AND(#REF!,\"AAAAAHf7/98=\")","v":{"$error":"#REF!"}},{"$f":"AND(#REF!,\"AAAAAHf7/+A=\")","v":{"$error":"#REF!"}},{"$f":"AND(#REF!,\"AAAAAHf7/+E=\")","v":{"$error":"#REF!"}},{"$f":"AND(#REF!,\"AAAAAHf7/+I=\")","v":{"$error":"#REF!"}},{"$f":"AND(#REF!,\"AAAAAHf7/+M=\")","v":{"$error":"#REF!"}},{"$f":"AND(#REF!,\"AAAAAHf7/+Q=\")","v":{"$error":"#REF!"}},{"$f":"AND(#REF!,\"AAAAAHf7/+U=\")","v":{"$error":"#REF!"}},{"$f":"AND(#REF!,\"AAAAAHf7/+Y=\")","v":{"$error":"#REF!"}},{"$f":"AND(#REF!,\"AAAAAHf7/+c=\")","v":{"$error":"#REF!"}},{"$f":"AND(#REF!,\"AAAAAHf7/+g=\")","v":{"$error":"#REF!"}},{"$f":"AND(#REF!,\"AAAAAHf7/+k=\")","v":{"$error":"#REF!"}},{"$f":"AND(#REF!,\"AAAAAHf7/+o=\")","v":{"$error":"#REF!"}},{"$f":"AND(#REF!,\"AAAAAHf7/+s=\")","v":{"$error":"#REF!"}},{"$f":"AND(#REF!,\"AAAAAHf7/+w=\")","v":{"$error":"#REF!"}},{"$f":"IF(#REF!,\"AAAAAHf7/+0=\",0)","v":{"$error":"#REF!"}},{"$f":"AND(#REF!,\"AAAAAHf7/+4=\")","v":{"$error":"#REF!"}},{"$f":"AND(#REF!,\"AAAAAHf7/+8=\")","v":{"$error":"#REF!"}},{"$f":"AND(#REF!,\"AAAAAHf7//A=\")","v":{"$error":"#REF!"}},{"$f":"AND(#REF!,\"AAAAAHf7//E=\")","v":{"$error":"#REF!"}},{"$f":"AND(#REF!,\"AAAAAHf7//I=\")","v":{"$error":"#REF!"}},{"$f":"AND(#REF!,\"AAAAAHf7//M=\")","v":{"$error":"#REF!"}},{"$f":"AND(#REF!,\"AAAAAHf7//Q=\")","v":{"$error":"#REF!"}},{"$f":"AND(#REF!,\"AAAAAHf7//U=\")","v":{"$error":"#REF!"}},{"$f":"AND(#REF!,\"AAAAAHf7//Y=\")","v":{"$error":"#REF!"}},{"$f":"AND(#REF!,\"AAAAAHf7//c=\")","v":{"$error":"#REF!"}},{"$f":"AND(#REF!,\"AAAAAHf7//g=\")","v":{"$error":"#REF!"}},{"$f":"AND(#REF!,\"AAAAAHf7//k=\")","v":{"$error":"#REF!"}},{"$f":"AND(#REF!,\"AAAAAHf7//o=\")","v":{"$error":"#REF!"}},{"$f":"AND(#REF!,\"AAAAAHf7//s=\")","v":{"$error":"#REF!"}},{"$f":"AND(#REF!,\"AAAAAHf7//w=\")","v":{"$error":"#REF!"}},{"$f":"AND(#REF!,\"AAAAAHf7//0=\")","v":{"$error":"#REF!"}},{"$f":"AND(#REF!,\"AAAAAHf7//4=\")","v":{"$error":"#REF!"}},{"$f":"AND(#REF!,\"AAAAAHf7//8=\")","v":{"$error":"#REF!"}}]
[{"$f":"AND(#REF!,\"AAAAAH77/wA=\")","v":{"$error":"#REF!"}},{"$f":"AND(#REF!,\"AAAAAH77/wE=\")","v":{"$error":"#REF!"}},{"$f":"AND(#REF!,\"AAAAAH77/wI=\")","v":{"$error":"#REF!"}},{"$f":"IF(#REF!,\"AAAAAH77/wM=\",0)","v":{"$error":"#REF!"}},{"$f":"AND(#REF!,\"AAAAAH77/wQ=\")","v":{"$error":"#REF!"}},{"$f":"AND(#REF!,\"AAAAAH77/wU=\")","v":{"$error":"#REF!"}},{"$f":"AND(#REF!,\"AAAAAH77/wY=\")","v":{"$error":"#REF!"}},{"$f":"AND(#REF!,\"AAAAAH77/wc=\")","v":{"$error":"#REF!"}},{"$f":"AND(#REF!,\"AAAAAH77/wg=\")","v":{"$error":"#REF!"}},{"$f":"AND(#REF!,\"AAAAAH77/wk=\")","v":{"$error":"#REF!"}},{"$f":"AND(#REF!,\"AAAAAH77/wo=\")","v":{"$error":"#REF!"}},{"$f":"AND(#REF!,\"AAAAAH77/ws=\")","v":{"$error":"#REF!"}},{"$f":"AND(#REF!,\"AAAAAH77/ww=\")","v":{"$error":"#REF!"}},{"$f":"AND(#REF!,\"AAAAAH77/w0=\")","v":{"$error":"#REF!"}},{"$f":"AND(#REF!,\"AAAAAH77/w4=\")","v":{"$error":"#REF!"}},{"$f":"AND(#REF!,\"AAAAAH77/w8=\")","v":{"$error":"#REF!"}},{"$f":"AND(#REF!,\"AAAAAH77/xA=\")","v":{"$error":"#REF!"}},{"$f":"AND(#REF!,\"AAAAAH77/xE=\")","v":{"$error":"#REF!"}},{"$f":"AND(#REF!,\"AAAAAH77/xI=\")","v":{"$error":"#REF!"}},{"$f":"AND(#REF!,\"AAAAAH77/xM=\")","v":{"$error":"#REF!"}},{"$f":"AND(#REF!,\"AAAAAH77/xQ=\")","v":{"$error":"#REF!"}},{"$f":"AND(#REF!,\"AAAAAH77/xU=\")","v":{"$error":"#REF!"}},{"$f":"AND(#REF!,\"AAAAAH77/xY=\")","v":{"$error":"#REF!"}},{"$f":"AND(#REF!,\"AAAAAH77/xc=\")","v":{"$error":"#REF!"}},{"$f":"AND(#REF!,\"AAAAAH77/xg=\")","v":{"$error":"#REF!"}},{"$f":"IF(#REF!,\"AAAAAH77/xk=\",0)","v":{"$error":"#REF!"}},{"$f":"AND(#REF!,\"AAAAAH77/xo=\")","v":{"$error":"#REF!"}},{"$f":"AND(#REF!,\"AAAAAH77/xs=\")","v":{"$error":"#REF!"}},{"$f":"AND(#REF!,\"AAAAAH77/xw=\")","v":{"$error":"#REF!"}},{"$f":"AND(#REF!,\"AAAAAH77/x0=\")","v":{"$error":"#REF!"}},{"$f":"AND(#REF!,\"AAAAAH77/x4=\")","v":{"$error":"#REF!"}},{"$f":"AND(#REF!,\"AAAAAH77/x8=\")","v":{"$error":"#REF!"}},{"$f":"AND(#REF!,\"AAAAAH77/yA=\")","v":{"$error":"#REF!"}},{"$f":"AND(#REF!,\"AAAAAH77/yE=\")","v":{"$error":"#REF!"}},{"$f":"AND(#REF!,\"AAAAAH77/yI=\")","v":{"$error":"#REF!"}},{"$f":"AND(#REF!,\"AAAAAH77/yM=\")","v":{"$error":"#REF!"}},{"$f":"AND(#REF!,\"AAAAAH77/yQ=\")","v":{"$error":"#REF!"}},{"$f":"AND(#REF!,\"AAAAAH77/yU=\")","v":{"$error":"#REF!"}},{"$f":"AND(#REF!,\"AAAAAH77/yY=\")","v":{"$error":"#REF!"}},{"$f":"AND(#REF!,\"AAAAAH77/yc=\")","v":{"$error":"#REF!"}},{"$f":"AND(#REF!,\"AAAAAH77/yg=\")","v":{"$error":"#REF!"}},{"$f":"AND(#REF!,\"AAAAAH77/yk=\")","v":{"$error":"#REF!"}},{"$f":"AND(#REF!,\"AAAAAH77/yo=\")","v":{"$error":"#REF!"}},{"$f":"AND(#REF!,\"AAAAAH77/ys=\")","v":{"$error":"#REF!"}},{"$f":"AND(#REF!,\"AAAAAH77/yw=\")","v":{"$error":"#REF!"}},{"$f":"AND(#REF!,\"AAAAAH77/y0=\")","v":{"$error":"#REF!"}},{"$f":"AND(#REF!,\"AAAAAH77/y4=\")","v":{"$error":"#REF!"}},{"$f":"IF(#REF!,\"AAAAAH77/y8=\",0)","v":{"$error":"#REF!"}},{"$f":"AND(#REF!,\"AAAAAH77/zA=\")","v":{"$error":"#REF!"}},{"$f":"AND(#REF!,\"AAAAAH77/zE=\")","v":{"$error":"#REF!"}},{"$f":"AND(#REF!,\"AAAAAH77/zI=\")","v":{"$error":"#REF!"}},{"$f":"AND(#REF!,\"AAAAAH77/zM=\")","v":{"$error":"#REF!"}},{"$f":"AND(#REF!,\"AAAAAH77/zQ=\")","v":{"$error":"#REF!"}},{"$f":"AND(#REF!,\"AAAAAH77/zU=\")","v":{"$error":"#REF!"}},{"$f":"AND(#REF!,\"AAAAAH77/zY=\")","v":{"$error":"#REF!"}},{"$f":"AND(#REF!,\"AAAAAH77/zc=\")","v":{"$error":"#REF!"}},{"$f":"AND(#REF!,\"AAAAAH77/zg=\")","v":{"$error":"#REF!"}},{"$f":"AND(#REF!,\"AAAAAH77/zk=\")","v":{"$error":"#REF!"}},{"$f":"AND(#REF!,\"AAAAAH77/zo=\")","v":{"$error":"#REF!"}},{"$f":"AND(#REF!,\"AAAAAH77/zs=\")","v":{"$error":"#REF!"}},{"$f":"AND(#REF!,\"AAAAAH77/zw=\")","v":{"$error":"#REF!"}},{"$f":"AND(#REF!,\"AAAAAH77/z0=\")","v":{"$error":"#REF!"}},{"$f":"AND(#REF!,\"AAAAAH77/z4=\")","v":{"$error":"#REF!"}},{"$f":"AND(#REF!,\"AAAAAH77/z8=\")","v":{"$error":"#REF!"}},{"$f":"AND(#REF!,\"AAAAAH77/0A=\")","v":{"$error":"#REF!"}},{"$f":"AND(#REF!,\"AAAAAH77/0E=\")","v":{"$error":"#REF!"}},{"$f":"AND(#REF!,\"AAAAAH77/0I=\")","v":{"$error":"#REF!"}},{"$f":"AND(#REF!,\"AAAAAH77/0M=\")","v":{"$error":"#REF!"}},{"$f":"AND(#REF!,\"AAAAAH77/0Q=\")","v":{"$error":"#REF!"}},{"$f":"IF(#REF!,\"AAAAAH77/0U=\",0)","v":{"$error":"#REF!"}},{"$f":"AND(#REF!,\"AAAAAH77/0Y=\")","v":{"$error":"#REF!"}},{"$f":"AND(#REF!,\"AAAAAH77/0c=\")","v":{"$error":"#REF!"}},{"$f":"AND(#REF!,\"AAAAAH77/0g=\")","v":{"$error":"#REF!"}},{"$f":"AND(#REF!,\"AAAAAH77/0k=\")","v":{"$error":"#REF!"}},{"$f":"AND(#REF!,\"AAAAAH77/0o=\")","v":{"$error":"#REF!"}},{"$f":"AND(#REF!,\"AAAAAH77/0s=\")","v":{"$error":"#REF!"}},{"$f":"AND(#REF!,\"AAAAAH77/0w=\")","v":{"$error":"#REF!"}},{"$f":"AND(#REF!,\"AAAAAH77/00=\")","v":{"$error":"#REF!"}},{"$f":"AND(#REF!,\"AAAAAH77/04=\")","v":{"$error":"#REF!"}},{"$f":"AND(#REF!,\"AAAAAH77/08=\")","v":{"$error":"#REF!"}},{"$f":"AND(#REF!,\"AAAAAH77/1A=\")","v":{"$error":"#REF!"}},{"$f":"AND(#REF!,\"AAAAAH77/1E=\")","v":{"$error":"#REF!"}},{"$f":"AND(#REF!,\"AAAAAH77/1I=\")","v":{"$error":"#REF!"}},{"$f":"AND(#REF!,\"AAAAAH77/1M=\")","v":{"$error":"#REF!"}},{"$f":"AND(#REF!,\"AAAAAH77/1Q=\")","v":{"$error":"#REF!"}},{"$f":"AND(#REF!,\"AAAAAH77/1U=\")","v":{"$error":"#REF!"}},{"$f":"AND(#REF!,\"AAAAAH77/1Y=\")","v":{"$error":"#REF!"}},{"$f":"AND(#REF!,\"AAAAAH77/1c=\")","v":{"$error":"#REF!"}},{"$f":"AND(#REF!,\"AAAAAH77/1g=\")","v":{"$error":"#REF!"}},{"$f":"AND(#REF!,\"AAAAAH77/1k=\")","v":{"$error":"#REF!"}},{"$f":"AND(#REF!,\"AAAAAH77/1o=\")","v":{"$error":"#REF!"}},{"$f":"IF(#REF!,\"AAAAAH77/1s=\",0)","v":{"$error":"#REF!"}},{"$f":"AND(#REF!,\"AAAAAH77/1w=\")","v":{"$error":"#REF!"}},{"$f":"AND(#REF!,\"AAAAAH77/10=\")","v":{"$error":"#REF!"}},{"$f":"AND(#REF!,\"AAAAAH77/14=\")","v":{"$error":"#REF!"}},{"$f":"AND(#REF!,\"AAAAAH77/18=\")","v":{"$error":"#REF!"}},{"$f":"AND(#REF!,\"AAAAAH77/2A=\")","v":{"$error":"#REF!"}},{"$f":"AND(#REF!,\"AAAAAH77/2E=\")","v":{"$error":"#REF!"}},{"$f":"AND(#REF!,\"AAAAAH77/2I=\")","v":{"$error":"#REF!"}},{"$f":"AND(#REF!,\"AAAAAH77/2M=\")","v":{"$error":"#REF!"}},{"$f":"AND(#REF!,\"AAAAAH77/2Q=\")","v":{"$error":"#REF!"}},{"$f":"AND(#REF!,\"AAAAAH77/2U=\")","v":{"$error":"#REF!"}},{"$f":"AND(#REF!,\"AAAAAH77/2Y=\")","v":{"$error":"#REF!"}},{"$f":"AND(#REF!,\"AAAAAH77/2c=\")","v":{"$error":"#REF!"}},{"$f":"AND(#REF!,\"AAAAAH77/2g=\")","v":{"$error":"#REF!"}},{"$f":"AND(#REF!,\"AAAAAH77/2k=\")","v":{"$error":"#REF!"}},{"$f":"AND(#REF!,\"AAAAAH77/2o=\")","v":{"$error":"#REF!"}},{"$f":"AND(#REF!,\"AAAAAH77/2s=\")","v":{"$error":"#REF!"}},{"$f":"AND(#REF!,\"AAAAAH77/2w=\")","v":{"$error":"#REF!"}},{"$f":"AND(#REF!,\"AAAAAH77/20=\")","v":{"$error":"#REF!"}},{"$f":"AND(#REF!,\"AAAAAH77/24=\")","v":{"$error":"#REF!"}},{"$f":"AND(#REF!,\"AAAAAH77/28=\")","v":{"$error":"#REF!"}},{"$f":"AND(#REF!,\"AAAAAH77/3A=\")","v":{"$error":"#REF!"}},{"$f":"IF(#REF!,\"AAAAAH77/3E=\",0)","v":{"$error":"#REF!"}},{"$f":"AND(#REF!,\"AAAAAH77/3I=\")","v":{"$error":"#REF!"}},{"$f":"AND(#REF!,\"AAAAAH77/3M=\")","v":{"$error":"#REF!"}},{"$f":"AND(#REF!,\"AAAAAH77/3Q=\")","v":{"$error":"#REF!"}},{"$f":"AND(#REF!,\"AAAAAH77/3U=\")","v":{"$error":"#REF!"}},{"$f":"AND(#REF!,\"AAAAAH77/3Y=\")","v":{"$error":"#REF!"}},{"$f":"AND(#REF!,\"AAAAAH77/3c=\")","v":{"$error":"#REF!"}},{"$f":"AND(#REF!,\"AAAAAH77/3g=\")","v":{"$error":"#REF!"}},{"$f":"AND(#REF!,\"AAAAAH77/3k=\")","v":{"$error":"#REF!"}},{"$f":"AND(#REF!,\"AAAAAH77/3o=\")","v":{"$error":"#REF!"}},{"$f":"AND(#REF!,\"AAAAAH77/3s=\")","v":{"$error":"#REF!"}},{"$f":"AND(#REF!,\"AAAAAH77/3w=\")","v":{"$error":"#REF!"}},{"$f":"AND(#REF!,\"AAAAAH77/30=\")","v":{"$error":"#REF!"}},{"$f":"AND(#REF!,\"AAAAAH77/34=\")","v":{"$error":"#REF!"}},{"$f":"AND(#REF!,\"AAAAAH77/38=\")","v":{"$error":"#REF!"}},{"$f":"AND(#REF!,\"AAAAAH77/4A=\")","v":{"$error":"#REF!"}},{"$f":"AND(#REF!,\"AAAAAH77/4E=\")","v":{"$error":"#REF!"}},{"$f":"AND(#REF!,\"AAAAAH77/4I=\")","v":{"$error":"#REF!"}},{"$f":"AND(#REF!,\"AAAAAH77/4M=\")","v":{"$error":"#REF!"}},{"$f":"AND(#REF!,\"AAAAAH77/4Q=\")","v":{"$error":"#REF!"}},{"$f":"AND(#REF!,\"AAAAAH77/4U=\")","v":{"$error":"#REF!"}},{"$f":"AND(#REF!,\"AAAAAH77/4Y=\")","v":{"$error":"#REF!"}},{"$f":"IF(#REF!,\"AAAAAH77/4c=\",0)","v":{"$error":"#REF!"}},{"$f":"AND(#REF!,\"AAAAAH77/4g=\")","v":{"$error":"#REF!"}},{"$f":"AND(#REF!,\"AAAAAH77/4k=\")","v":{"$error":"#REF!"}},{"$f":"AND(#REF!,\"AAAAAH77/4o=\")","v":{"$error":"#REF!"}},{"$f":"AND(#REF!,\"AAAAAH77/4s=\")","v":{"$error":"#REF!"}},{"$f":"AND(#REF!,\"AAAAAH77/4w=\")","v":{"$error":"#REF!"}},{"$f":"AND(#REF!,\"AAAAAH77/40=\")","v":{"$error":"#REF!"}},{"$f":"AND(#REF!,\"AAAAAH77/44=\")","v":{"$error":"#REF!"}},{"$f":"AND(#REF!,\"AAAAAH77/48=\")","v":{"$error":"#REF!"}},{"$f":"AND(#REF!,\"AAAAAH77/5A=\")","v":{"$error":"#REF!"}},{"$f":"AND(#REF!,\"AAAAAH77/5E=\")","v":{"$error":"#REF!"}},{"$f":"AND(#REF!,\"AAAAAH77/5I=\")","v":{"$error":"#REF!"}},{"$f":"AND(#REF!,\"AAAAAH77/5M=\")","v":{"$error":"#REF!"}},{"$f":"AND(#REF!,\"AAAAAH77/5Q=\")","v":{"$error":"#REF!"}},{"$f":"AND(#REF!,\"AAAAAH77/5U=\")","v":{"$error":"#REF!"}},{"$f":"AND(#REF!,\"AAAAAH77/5Y=\")","v":{"$error":"#REF!"}},{"$f":"AND(#REF!,\"AAAAAH77/5c=\")","v":{"$error":"#REF!"}},{"$f":"AND(#REF!,\"AAAAAH77/5g=\")","v":{"$error":"#REF!"}},{"$f":"AND(#REF!,\"AAAAAH77/5k=\")","v":{"$error":"#REF!"}},{"$f":"AND(#REF!,\"AAAAAH77/5o=\")","v":{"$error":"#REF!"}},{"$f":"AND(#REF!,\"AAAAAH77/5s=\")","v":{"$error":"#REF!"}},{"$f":"AND(#REF!,\"AAAAAH77/5w=\")","v":{"$error":"#REF!"}},{"$f":"IF(#REF!,\"AAAAAH77/50=\",0)","v":{"$error":"#REF!"}},{"$f":"AND(#REF!,\"AAAAAH77/54=\")","v":{"$error":"#REF!"}},{"$f":"AND(#REF!,\"AAAAAH77/58=\")","v":{"$error":"#REF!"}},{"$f":"AND(#REF!,\"AAAAAH77/6A=\")","v":{"$error":"#REF!"}},{"$f":"AND(#REF!,\"AAAAAH77/6E=\")","v":{"$error":"#REF!"}},{"$f":"AND(#REF!,\"AAAAAH77/6I=\")","v":{"$error":"#REF!"}},{"$f":"AND(#REF!,\"AAAAAH77/6M=\")","v":{"$error":"#REF!"}},{"$f":"AND(#REF!,\"AAAAAH77/6Q=\")","v":{"$error":"#REF!"}},{"$f":"AND(#REF!,\"AAAAAH77/6U=\")","v":{"$error":"#REF!"}},{"$f":"AND(#REF!,\"AAAAAH77/6Y=\")","v":{"$error":"#REF!"}},{"$f":"AND(#REF!,\"AAAAAH77/6c=\")","v":{"$error":"#REF!"}},{"$f":"AND(#REF!,\"AAAAAH77/6g=\")","v":{"$error":"#REF!"}},{"$f":"AND(#REF!,\"AAAAAH77/6k=\")","v":{"$error":"#REF!"}},{"$f":"AND(#REF!,\"AAAAAH77/6o=\")","v":{"$error":"#REF!"}},{"$f":"AND(#REF!,\"AAAAAH77/6s=\")","v":{"$error":"#REF!"}},{"$f":"AND(#REF!,\"AAAAAH77/6w=\")","v":{"$error":"#REF!"}},{"$f":"AND(#REF!,\"AAAAAH77/60=\")","v":{"$error":"#REF!"}},{"$f":"AND(#REF!,\"AAAAAH77/64=\")","v":{"$error":"#REF!"}},{"$f":"AND(#REF!,\"AAAAAH77/68=\")","v":{"$error":"#REF!"}},{"$f":"AND(#REF!,\"AAAAAH77/7A=\")","v":{"$error":"#REF!"}},{"$f":"AND(#REF!,\"AAAAAH77/7E=\")","v":{"$error":"#REF!"}},{"$f":"AND(#REF!,\"AAAAAH77/7I=\")","v":{"$error":"#REF!"}},{"$f":"IF(#REF!,\"AAAAAH77/7M=\",0)","v":{"$error":"#REF!"}},{"$f":"AND(#REF!,\"AAAAAH77/7Q=\")","v":{"$error":"#REF!"}},{"$f":"AND(#REF!,\"AAAAAH77/7U=\")","v":{"$error":"#REF!"}},{"$f":"AND(#REF!,\"AAAAAH77/7Y=\")","v":{"$error":"#REF!"}},{"$f":"AND(#REF!,\"AAAAAH77/7c=\")","v":{"$error":"#REF!"}},{"$f":"AND(#REF!,\"AAAAAH77/7g=\")","v":{"$error":"#REF!"}},{"$f":"AND(#REF!,\"AAAAAH77/7k=\")","v":{"$error":"#REF!"}},{"$f":"AND(#REF!,\"AAAAAH77/7o=\")","v":{"$error":"#REF!"}},{"$f":"AND(#REF!,\"AAAAAH77/7s=\")","v":{"$error":"#REF!"}},{"$f":"AND(#REF!,\"AAAAAH77/7w=\")","v":{"$error":"#REF!"}},{"$f":"AND(#REF!,\"AAAAAH77/70=\")","v":{"$error":"#REF!"}},{"$f":"AND(#REF!,\"AAAAAH77/74=\")","v":{"$error":"#REF!"}},{"$f":"AND(#REF!,\"AAAAAH77/78=\")","v":{"$error":"#REF!"}},{"$f":"AND(#REF!,\"AAAAAH77/8A=\")","v":{"$error":"#REF!"}},{"$f":"AND(#REF!,\"AAAAAH77/8E=\")","v":{"$error":"#REF!"}},{"$f":"AND(#REF!,\"AAAAAH77/8I=\")","v":{"$error":"#REF!"}},{"$f":"AND(#REF!,\"AAAAAH77/8M=\")","v":{"$error":"#REF!"}},{"$f":"AND(#REF!,\"AAAAAH77/8Q=\")","v":{"$error":"#REF!"}},{"$f":"AND(#REF!,\"AAAAAH77/8U=\")","v":{"$error":"#REF!"}},{"$f":"AND(#REF!,\"AAAAAH77/8Y=\")","v":{"$error":"#REF!"}},{"$f":"AND(#REF!,\"AAAAAH77/8c=\")","v":{"$error":"#REF!"}},{"$f":"AND(#REF!,\"AAAAAH77/8g=\")","v":{"$error":"#REF!"}},{"$f":"IF(#REF!,\"AAAAAH77/8k=\",0)","v":{"$error":"#REF!"}},{"$f":"AND(#REF!,\"AAAAAH77/8o=\")","v":{"$error":"#REF!"}},{"$f":"AND(#REF!,\"AAAAAH77/8s=\")","v":{"$error":"#REF!"}},{"$f":"AND(#REF!,\"AAAAAH77/8w=\")","v":{"$error":"#REF!"}},{"$f":"AND(#REF!,\"AAAAAH77/80=\")","v":{"$error":"#REF!"}},{"$f":"AND(#REF!,\"AAAAAH77/84=\")","v":{"$error":"#REF!"}},{"$f":"AND(#REF!,\"AAAAAH77/88=\")","v":{"$error":"#REF!"}},{"$f":"AND(#REF!,\"AAAAAH77/9A=\")","v":{"$error":"#REF!"}},{"$f":"AND(#REF!,\"AAAAAH77/9E=\")","v":{"$error":"#REF!"}},{"$f":"AND(#REF!,\"AAAAAH77/9I=\")","v":{"$error":"#REF!"}},{"$f":"AND(#REF!,\"AAAAAH77/9M=\")","v":{"$error":"#REF!"}},{"$f":"AND(#REF!,\"AAAAAH77/9Q=\")","v":{"$error":"#REF!"}},{"$f":"AND(#REF!,\"AAAAAH77/9U=\")","v":{"$error":"#REF!"}},{"$f":"AND(#REF!,\"AAAAAH77/9Y=\")","v":{"$error":"#REF!"}},{"$f":"AND(#REF!,\"AAAAAH77/9c=\")","v":{"$error":"#REF!"}},{"$f":"AND(#REF!,\"AAAAAH77/9g=\")","v":{"$error":"#REF!"}},{"$f":"AND(#REF!,\"AAAAAH77/9k=\")","v":{"$error":"#REF!"}},{"$f":"AND(#REF!,\"AAAAAH77/9o=\")","v":{"$error":"#REF!"}},{"$f":"AND(#REF!,\"AAAAAH77/9s=\")","v":{"$error":"#REF!"}},{"$f":"AND(#REF!,\"AAAAAH77/9w=\")","v":{"$error":"#REF!"}},{"$f":"AND(#REF!,\"AAAAAH77/90=\")","v":{"$error":"#REF!"}},{"$f":"AND(#REF!,\"AAAAAH77/94=\")","v":{"$error":"#REF!"}},{"$f":"IF(#REF!,\"AAAAAH77/98=\",0)","v":{"$error":"#REF!"}},{"$f":"AND(#REF!,\"AAAAAH77/+A=\")","v":{"$error":"#REF!"}},{"$f":"AND(#REF!,\"AAAAAH77/+E=\")","v":{"$error":"#REF!"}},{"$f":"AND(#REF!,\"AAAAAH77/+I=\")","v":{"$error":"#REF!"}},{"$f":"AND(#REF!,\"AAAAAH77/+M=\")","v":{"$error":"#REF!"}},{"$f":"AND(#REF!,\"AAAAAH77/+Q=\")","v":{"$error":"#REF!"}},{"$f":"AND(#REF!,\"AAAAAH77/+U=\")","v":{"$error":"#REF!"}},{"$f":"AND(#REF!,\"AAAAAH77/+Y=\")","v":{"$error":"#REF!"}},{"$f":"AND(#REF!,\"AAAAAH77/+c=\")","v":{"$error":"#REF!"}},{"$f":"AND(#REF!,\"AAAAAH77/+g=\")","v":{"$error":"#REF!"}},{"$f":"AND(#REF!,\"AAAAAH77/+k=\")","v":{"$error":"#REF!"}},{"$f":"AND(#REF!,\"AAAAAH77/+o=\")","v":{"$error":"#REF!"}},{"$f":"AND(#REF!,\"AAAAAH77/+s=\")","v":{"$error":"#REF!"}},{"$f":"AND(#REF!,\"AAAAAH77/+w=\")","v":{"$error":"#REF!"}},{"$f":"AND(#REF!,\"AAAAAH77/+0=\")","v":{"$error":"#REF!"}},{"$f":"AND(#REF!,\"AAAAAH77/+4=\")","v":{"$error":"#REF!"}},{"$f":"AND(#REF!,\"AAAAAH77/+8=\")","v":{"$error":"#REF!"}},{"$f":"AND(#REF!,\"AAAAAH77//A=\")","v":{"$error":"#REF!"}},{"$f":"AND(#REF!,\"AAAAAH77//E=\")","v":{"$error":"#REF!"}},{"$f":"AND(#REF!,\"AAAAAH77//I=\")","v":{"$error":"#REF!"}},{"$f":"AND(#REF!,\"AAAAAH77//M=\")","v":{"$error":"#REF!"}},{"$f":"AND(#REF!,\"AAAAAH77//Q=\")","v":{"$error":"#REF!"}},{"$f":"IF(#REF!,\"AAAAAH77//U=\",0)","v":{"$error":"#REF!"}},{"$f":"AND(#REF!,\"AAAAAH77//Y=\")","v":{"$error":"#REF!"}},{"$f":"AND(#REF!,\"AAAAAH77//c=\")","v":{"$error":"#REF!"}},{"$f":"AND(#REF!,\"AAAAAH77//g=\")","v":{"$error":"#REF!"}},{"$f":"AND(#REF!,\"AAAAAH77//k=\")","v":{"$error":"#REF!"}},{"$f":"AND(#REF!,\"AAAAAH77//o=\")","v":{"$error":"#REF!"}},{"$f":"AND(#REF!,\"AAAAAH77//s=\")","v":{"$error":"#REF!"}},{"$f":"AND(#REF!,\"AAAAAH77//w=\")","v":{"$error":"#REF!"}},{"$f":"AND(#REF!,\"AAAAAH77//0=\")","v":{"$error":"#REF!"}},{"$f":"AND(#REF!,\"AAAAAH77//4=\")","v":{"$error":"#REF!"}},{"$f":"AND(#REF!,\"AAAAAH77//8=\")","v":{"$error":"#REF!"}}]
[{"$f":"AND(#REF!,\"AAAAAHhD3gA=\")","v":{"$error":"#REF!"}},{"$f":"AND(#REF!,\"AAAAAHhD3gE=\")","v":{"$error":"#REF!"}},{"$f":"AND(#REF!,\"AAAAAHhD3gI=\")","v":{"$error":"#REF!"}},{"$f":"AND(#REF!,\"AAAAAHhD3gM=\")","v":{"$error":"#REF!"}},{"$f":"AND(#REF!,\"AAAAAHhD3gQ=\")","v":{"$error":"#REF!"}},{"$f":"AND(#REF!,\"AAAAAHhD3gU=\")","v":{"$error":"#REF!"}},{"$f":"AND(#REF!,\"AAAAAHhD3gY=\")","v":{"$error":"#REF!"}},{"$f":"AND(#REF!,\"AAAAAHhD3gc=\")","v":{"$error":"#REF!"}},{"$f":"AND(#REF!,\"AAAAAHhD3gg=\")","v":{"$error":"#REF!"}},{"$f":"AND(#REF!,\"AAAAAHhD3gk=\")","v":{"$error":"#REF!"}},{"$f":"AND(#REF!,\"AAAAAHhD3go=\")","v":{"$error":"#REF!"}},{"$f":"IF(#REF!,\"AAAAAHhD3gs=\",0)","v":{"$error":"#REF!"}},{"$f":"AND(#REF!,\"AAAAAHhD3gw=\")","v":{"$error":"#REF!"}},{"$f":"AND(#REF!,\"AAAAAHhD3g0=\")","v":{"$error":"#REF!"}},{"$f":"AND(#REF!,\"AAAAAHhD3g4=\")","v":{"$error":"#REF!"}},{"$f":"AND(#REF!,\"AAAAAHhD3g8=\")","v":{"$error":"#REF!"}},{"$f":"AND(#REF!,\"AAAAAHhD3hA=\")","v":{"$error":"#REF!"}},{"$f":"AND(#REF!,\"AAAAAHhD3hE=\")","v":{"$error":"#REF!"}},{"$f":"AND(#REF!,\"AAAAAHhD3hI=\")","v":{"$error":"#REF!"}},{"$f":"AND(#REF!,\"AAAAAHhD3hM=\")","v":{"$error":"#REF!"}},{"$f":"AND(#REF!,\"AAAAAHhD3hQ=\")","v":{"$error":"#REF!"}},{"$f":"AND(#REF!,\"AAAAAHhD3hU=\")","v":{"$error":"#REF!"}},{"$f":"AND(#REF!,\"AAAAAHhD3hY=\")","v":{"$error":"#REF!"}},{"$f":"AND(#REF!,\"AAAAAHhD3hc=\")","v":{"$error":"#REF!"}},{"$f":"AND(#REF!,\"AAAAAHhD3hg=\")","v":{"$error":"#REF!"}},{"$f":"AND(#REF!,\"AAAAAHhD3hk=\")","v":{"$error":"#REF!"}},{"$f":"AND(#REF!,\"AAAAAHhD3ho=\")","v":{"$error":"#REF!"}},{"$f":"AND(#REF!,\"AAAAAHhD3hs=\")","v":{"$error":"#REF!"}},{"$f":"AND(#REF!,\"AAAAAHhD3hw=\")","v":{"$error":"#REF!"}},{"$f":"AND(#REF!,\"AAAAAHhD3h0=\")","v":{"$error":"#REF!"}},{"$f":"AND(#REF!,\"AAAAAHhD3h4=\")","v":{"$error":"#REF!"}},{"$f":"AND(#REF!,\"AAAAAHhD3h8=\")","v":{"$error":"#REF!"}},{"$f":"AND(#REF!,\"AAAAAHhD3iA=\")","v":{"$error":"#REF!"}},{"$f":"IF(#REF!,\"AAAAAHhD3iE=\",0)","v":{"$error":"#REF!"}},{"$f":"AND(#REF!,\"AAAAAHhD3iI=\")","v":{"$error":"#REF!"}},{"$f":"AND(#REF!,\"AAAAAHhD3iM=\")","v":{"$error":"#REF!"}},{"$f":"AND(#REF!,\"AAAAAHhD3iQ=\")","v":{"$error":"#REF!"}},{"$f":"AND(#REF!,\"AAAAAHhD3iU=\")","v":{"$error":"#REF!"}},{"$f":"AND(#REF!,\"AAAAAHhD3iY=\")","v":{"$error":"#REF!"}},{"$f":"AND(#REF!,\"AAAAAHhD3ic=\")","v":{"$error":"#REF!"}},{"$f":"AND(#REF!,\"AAAAAHhD3ig=\")","v":{"$error":"#REF!"}},{"$f":"AND(#REF!,\"AAAAAHhD3ik=\")","v":{"$error":"#REF!"}},{"$f":"AND(#REF!,\"AAAAAHhD3io=\")","v":{"$error":"#REF!"}},{"$f":"AND(#REF!,\"AAAAAHhD3is=\")","v":{"$error":"#REF!"}},{"$f":"AND(#REF!,\"AAAAAHhD3iw=\")","v":{"$error":"#REF!"}},{"$f":"AND(#REF!,\"AAAAAHhD3i0=\")","v":{"$error":"#REF!"}},{"$f":"AND(#REF!,\"AAAAAHhD3i4=\")","v":{"$error":"#REF!"}},{"$f":"AND(#REF!,\"AAAAAHhD3i8=\")","v":{"$error":"#REF!"}},{"$f":"AND(#REF!,\"AAAAAHhD3jA=\")","v":{"$error":"#REF!"}},{"$f":"AND(#REF!,\"AAAAAHhD3jE=\")","v":{"$error":"#REF!"}},{"$f":"AND(#REF!,\"AAAAAHhD3jI=\")","v":{"$error":"#REF!"}},{"$f":"AND(#REF!,\"AAAAAHhD3jM=\")","v":{"$error":"#REF!"}},{"$f":"AND(#REF!,\"AAAAAHhD3jQ=\")","v":{"$error":"#REF!"}},{"$f":"AND(#REF!,\"AAAAAHhD3jU=\")","v":{"$error":"#REF!"}},{"$f":"AND(#REF!,\"AAAAAHhD3jY=\")","v":{"$error":"#REF!"}},{"$f":"IF(#REF!,\"AAAAAHhD3jc=\",0)","v":{"$error":"#REF!"}},{"$f":"AND(#REF!,\"AAAAAHhD3jg=\")","v":{"$error":"#REF!"}},{"$f":"AND(#REF!,\"AAAAAHhD3jk=\")","v":{"$error":"#REF!"}},{"$f":"AND(#REF!,\"AAAAAHhD3jo=\")","v":{"$error":"#REF!"}},{"$f":"AND(#REF!,\"AAAAAHhD3js=\")","v":{"$error":"#REF!"}},{"$f":"AND(#REF!,\"AAAAAHhD3jw=\")","v":{"$error":"#REF!"}},{"$f":"AND(#REF!,\"AAAAAHhD3j0=\")","v":{"$error":"#REF!"}},{"$f":"AND(#REF!,\"AAAAAHhD3j4=\")","v":{"$error":"#REF!"}},{"$f":"AND(#REF!,\"AAAAAHhD3j8=\")","v":{"$error":"#REF!"}},{"$f":"AND(#REF!,\"AAAAAHhD3kA=\")","v":{"$error":"#REF!"}},{"$f":"AND(#REF!,\"AAAAAHhD3kE=\")","v":{"$error":"#REF!"}},{"$f":"AND(#REF!,\"AAAAAHhD3kI=\")","v":{"$error":"#REF!"}},{"$f":"AND(#REF!,\"AAAAAHhD3kM=\")","v":{"$error":"#REF!"}},{"$f":"AND(#REF!,\"AAAAAHhD3kQ=\")","v":{"$error":"#REF!"}},{"$f":"AND(#REF!,\"AAAAAHhD3kU=\")","v":{"$error":"#REF!"}},{"$f":"AND(#REF!,\"AAAAAHhD3kY=\")","v":{"$error":"#REF!"}},{"$f":"AND(#REF!,\"AAAAAHhD3kc=\")","v":{"$error":"#REF!"}},{"$f":"AND(#REF!,\"AAAAAHhD3kg=\")","v":{"$error":"#REF!"}},{"$f":"AND(#REF!,\"AAAAAHhD3kk=\")","v":{"$error":"#REF!"}},{"$f":"AND(#REF!,\"AAAAAHhD3ko=\")","v":{"$error":"#REF!"}},{"$f":"AND(#REF!,\"AAAAAHhD3ks=\")","v":{"$error":"#REF!"}},{"$f":"AND(#REF!,\"AAAAAHhD3kw=\")","v":{"$error":"#REF!"}},{"$f":"IF(#REF!,\"AAAAAHhD3k0=\",0)","v":{"$error":"#REF!"}},{"$f":"AND(#REF!,\"AAAAAHhD3k4=\")","v":{"$error":"#REF!"}},{"$f":"AND(#REF!,\"AAAAAHhD3k8=\")","v":{"$error":"#REF!"}},{"$f":"AND(#REF!,\"AAAAAHhD3lA=\")","v":{"$error":"#REF!"}},{"$f":"AND(#REF!,\"AAAAAHhD3lE=\")","v":{"$error":"#REF!"}},{"$f":"AND(#REF!,\"AAAAAHhD3lI=\")","v":{"$error":"#REF!"}},{"$f":"AND(#REF!,\"AAAAAHhD3lM=\")","v":{"$error":"#REF!"}},{"$f":"AND(#REF!,\"AAAAAHhD3lQ=\")","v":{"$error":"#REF!"}},{"$f":"AND(#REF!,\"AAAAAHhD3lU=\")","v":{"$error":"#REF!"}},{"$f":"AND(#REF!,\"AAAAAHhD3lY=\")","v":{"$error":"#REF!"}},{"$f":"AND(#REF!,\"AAAAAHhD3lc=\")","v":{"$error":"#REF!"}},{"$f":"AND(#REF!,\"AAAAAHhD3lg=\")","v":{"$error":"#REF!"}},{"$f":"AND(#REF!,\"AAAAAHhD3lk=\")","v":{"$error":"#REF!"}},{"$f":"AND(#REF!,\"AAAAAHhD3lo=\")","v":{"$error":"#REF!"}},{"$f":"AND(#REF!,\"AAAAAHhD3ls=\")","v":{"$error":"#REF!"}},{"$f":"AND(#REF!,\"AAAAAHhD3lw=\")","v":{"$error":"#REF!"}},{"$f":"AND(#REF!,\"AAAAAHhD3l0=\")","v":{"$error":"#REF!"}},{"$f":"AND(#REF!,\"AAAAAHhD3l4=\")","v":{"$error":"#REF!"}},{"$f":"AND(#REF!,\"AAAAAHhD3l8=\")","v":{"$error":"#REF!"}},{"$f":"AND(#REF!,\"AAAAAHhD3mA=\")","v":{"$error":"#REF!"}},{"$f":"AND(#REF!,\"AAAAAHhD3mE=\")","v":{"$error":"#REF!"}},{"$f":"AND(#REF!,\"AAAAAHhD3mI=\")","v":{"$error":"#REF!"}},{"$f":"IF(#REF!,\"AAAAAHhD3mM=\",0)","v":{"$error":"#REF!"}},{"$f":"AND(#REF!,\"AAAAAHhD3mQ=\")","v":{"$error":"#REF!"}},{"$f":"AND(#REF!,\"AAAAAHhD3mU=\")","v":{"$error":"#REF!"}},{"$f":"AND(#REF!,\"AAAAAHhD3mY=\")","v":{"$error":"#REF!"}},{"$f":"AND(#REF!,\"AAAAAHhD3mc=\")","v":{"$error":"#REF!"}},{"$f":"AND(#REF!,\"AAAAAHhD3mg=\")","v":{"$error":"#REF!"}},{"$f":"AND(#REF!,\"AAAAAHhD3mk=\")","v":{"$error":"#REF!"}},{"$f":"AND(#REF!,\"AAAAAHhD3mo=\")","v":{"$error":"#REF!"}},{"$f":"AND(#REF!,\"AAAAAHhD3ms=\")","v":{"$error":"#REF!"}},{"$f":"AND(#REF!,\"AAAAAHhD3mw=\")","v":{"$error":"#REF!"}},{"$f":"AND(#REF!,\"AAAAAHhD3m0=\")","v":{"$error":"#REF!"}},{"$f":"AND(#REF!,\"AAAAAHhD3m4=\")","v":{"$error":"#REF!"}},{"$f":"AND(#REF!,\"AAAAAHhD3m8=\")","v":{"$error":"#REF!"}},{"$f":"AND(#REF!,\"AAAAAHhD3nA=\")","v":{"$error":"#REF!"}},{"$f":"AND(#REF!,\"AAAAAHhD3nE=\")","v":{"$error":"#REF!"}},{"$f":"AND(#REF!,\"AAAAAHhD3nI=\")","v":{"$error":"#REF!"}},{"$f":"AND(#REF!,\"AAAAAHhD3nM=\")","v":{"$error":"#REF!"}},{"$f":"AND(#REF!,\"AAAAAHhD3nQ=\")","v":{"$error":"#REF!"}},{"$f":"AND(#REF!,\"AAAAAHhD3nU=\")","v":{"$error":"#REF!"}},{"$f":"AND(#REF!,\"AAAAAHhD3nY=\")","v":{"$error":"#REF!"}},{"$f":"AND(#REF!,\"AAAAAHhD3nc=\")","v":{"$error":"#REF!"}},{"$f":"AND(#REF!,\"AAAAAHhD3ng=\")","v":{"$error":"#REF!"}},{"$f":"IF(#REF!,\"AAAAAHhD3nk=\",0)","v":{"$error":"#REF!"}},{"$f":"AND(#REF!,\"AAAAAHhD3no=\")","v":{"$error":"#REF!"}},{"$f":"AND(#REF!,\"AAAAAHhD3ns=\")","v":{"$error":"#REF!"}},{"$f":"AND(#REF!,\"AAAAAHhD3nw=\")","v":{"$error":"#REF!"}},{"$f":"AND(#REF!,\"AAAAAHhD3n0=\")","v":{"$error":"#REF!"}},{"$f":"AND(#REF!,\"AAAAAHhD3n4=\")","v":{"$error":"#REF!"}},{"$f":"AND(#REF!,\"AAAAAHhD3n8=\")","v":{"$error":"#REF!"}},{"$f":"AND(#REF!,\"AAAAAHhD3oA=\")","v":{"$error":"#REF!"}},{"$f":"AND(#REF!,\"AAAAAHhD3oE=\")","v":{"$error":"#REF!"}},{"$f":"AND(#REF!,\"AAAAAHhD3oI=\")","v":{"$error":"#REF!"}},{"$f":"AND(#REF!,\"AAAAAHhD3oM=\")","v":{"$error":"#REF!"}},{"$f":"AND(#REF!,\"AAAAAHhD3oQ=\")","v":{"$error":"#REF!"}},{"$f":"AND(#REF!,\"AAAAAHhD3oU=\")","v":{"$error":"#REF!"}},{"$f":"AND(#REF!,\"AAAAAHhD3oY=\")","v":{"$error":"#REF!"}},{"$f":"AND(#REF!,\"AAAAAHhD3oc=\")","v":{"$error":"#REF!"}},{"$f":"AND(#REF!,\"AAAAAHhD3og=\")","v":{"$error":"#REF!"}},{"$f":"AND(#REF!,\"AAAAAHhD3ok=\")","v":{"$error":"#REF!"}},{"$f":"AND(#REF!,\"AAAAAHhD3oo=\")","v":{"$error":"#REF!"}},{"$f":"AND(#REF!,\"AAAAAHhD3os=\")","v":{"$error":"#REF!"}},{"$f":"AND(#REF!,\"AAAAAHhD3ow=\")","v":{"$error":"#REF!"}},{"$f":"AND(#REF!,\"AAAAAHhD3o0=\")","v":{"$error":"#REF!"}},{"$f":"AND(#REF!,\"AAAAAHhD3o4=\")","v":{"$error":"#REF!"}},{"$f":"IF(#REF!,\"AAAAAHhD3o8=\",0)","v":{"$error":"#REF!"}},{"$f":"AND(#REF!,\"AAAAAHhD3pA=\")","v":{"$error":"#REF!"}},{"$f":"AND(#REF!,\"AAAAAHhD3pE=\")","v":{"$error":"#REF!"}},{"$f":"AND(#REF!,\"AAAAAHhD3pI=\")","v":{"$error":"#REF!"}},{"$f":"AND(#REF!,\"AAAAAHhD3pM=\")","v":{"$error":"#REF!"}},{"$f":"AND(#REF!,\"AAAAAHhD3pQ=\")","v":{"$error":"#REF!"}},{"$f":"AND(#REF!,\"AAAAAHhD3pU=\")","v":{"$error":"#REF!"}},{"$f":"AND(#REF!,\"AAAAAHhD3pY=\")","v":{"$error":"#REF!"}},{"$f":"AND(#REF!,\"AAAAAHhD3pc=\")","v":{"$error":"#REF!"}},{"$f":"AND(#REF!,\"AAAAAHhD3pg=\")","v":{"$error":"#REF!"}},{"$f":"AND(#REF!,\"AAAAAHhD3pk=\")","v":{"$error":"#REF!"}},{"$f":"AND(#REF!,\"AAAAAHhD3po=\")","v":{"$error":"#REF!"}},{"$f":"AND(#REF!,\"AAAAAHhD3ps=\")","v":{"$error":"#REF!"}},{"$f":"AND(#REF!,\"AAAAAHhD3pw=\")","v":{"$error":"#REF!"}},{"$f":"AND(#REF!,\"AAAAAHhD3p0=\")","v":{"$error":"#REF!"}},{"$f":"AND(#REF!,\"AAAAAHhD3p4=\")","v":{"$error":"#REF!"}},{"$f":"AND(#REF!,\"AAAAAHhD3p8=\")","v":{"$error":"#REF!"}},{"$f":"AND(#REF!,\"AAAAAHhD3qA=\")","v":{"$error":"#REF!"}},{"$f":"AND(#REF!,\"AAAAAHhD3qE=\")","v":{"$error":"#REF!"}},{"$f":"AND(#REF!,\"AAAAAHhD3qI=\")","v":{"$error":"#REF!"}},{"$f":"AND(#REF!,\"AAAAAHhD3qM=\")","v":{"$error":"#REF!"}},{"$f":"AND(#REF!,\"AAAAAHhD3qQ=\")","v":{"$error":"#REF!"}},{"$f":"IF(#REF!,\"AAAAAHhD3qU=\",0)","v":{"$error":"#REF!"}},{"$f":"AND(#REF!,\"AAAAAHhD3qY=\")","v":{"$error":"#REF!"}},{"$f":"AND(#REF!,\"AAAAAHhD3qc=\")","v":{"$error":"#REF!"}},{"$f":"AND(#REF!,\"AAAAAHhD3qg=\")","v":{"$error":"#REF!"}},{"$f":"AND(#REF!,\"AAAAAHhD3qk=\")","v":{"$error":"#REF!"}},{"$f":"AND(#REF!,\"AAAAAHhD3qo=\")","v":{"$error":"#REF!"}},{"$f":"AND(#REF!,\"AAAAAHhD3qs=\")","v":{"$error":"#REF!"}},{"$f":"AND(#REF!,\"AAAAAHhD3qw=\")","v":{"$error":"#REF!"}},{"$f":"AND(#REF!,\"AAAAAHhD3q0=\")","v":{"$error":"#REF!"}},{"$f":"AND(#REF!,\"AAAAAHhD3q4=\")","v":{"$error":"#REF!"}},{"$f":"AND(#REF!,\"AAAAAHhD3q8=\")","v":{"$error":"#REF!"}},{"$f":"AND(#REF!,\"AAAAAHhD3rA=\")","v":{"$error":"#REF!"}},{"$f":"AND(#REF!,\"AAAAAHhD3rE=\")","v":{"$error":"#REF!"}},{"$f":"AND(#REF!,\"AAAAAHhD3rI=\")","v":{"$error":"#REF!"}},{"$f":"AND(#REF!,\"AAAAAHhD3rM=\")","v":{"$error":"#REF!"}},{"$f":"AND(#REF!,\"AAAAAHhD3rQ=\")","v":{"$error":"#REF!"}},{"$f":"AND(#REF!,\"AAAAAHhD3rU=\")","v":{"$error":"#REF!"}},{"$f":"AND(#REF!,\"AAAAAHhD3rY=\")","v":{"$error":"#REF!"}},{"$f":"AND(#REF!,\"AAAAAHhD3rc=\")","v":{"$error":"#REF!"}},{"$f":"AND(#REF!,\"AAAAAHhD3rg=\")","v":{"$error":"#REF!"}},{"$f":"AND(#REF!,\"AAAAAHhD3rk=\")","v":{"$error":"#REF!"}},{"$f":"AND(#REF!,\"AAAAAHhD3ro=\")","v":{"$error":"#REF!"}},{"$f":"IF(#REF!,\"AAAAAHhD3rs=\",0)","v":{"$error":"#REF!"}},{"$f":"AND(#REF!,\"AAAAAHhD3rw=\")","v":{"$error":"#REF!"}},{"$f":"AND(#REF!,\"AAAAAHhD3r0=\")","v":{"$error":"#REF!"}},{"$f":"AND(#REF!,\"AAAAAHhD3r4=\")","v":{"$error":"#REF!"}},{"$f":"AND(#REF!,\"AAAAAHhD3r8=\")","v":{"$error":"#REF!"}},{"$f":"AND(#REF!,\"AAAAAHhD3sA=\")","v":{"$error":"#REF!"}},{"$f":"AND(#REF!,\"AAAAAHhD3sE=\")","v":{"$error":"#REF!"}},{"$f":"AND(#REF!,\"AAAAAHhD3sI=\")","v":{"$error":"#REF!"}},{"$f":"AND(#REF!,\"AAAAAHhD3sM=\")","v":{"$error":"#REF!"}},{"$f":"AND(#REF!,\"AAAAAHhD3sQ=\")","v":{"$error":"#REF!"}},{"$f":"AND(#REF!,\"AAAAAHhD3sU=\")","v":{"$error":"#REF!"}},{"$f":"AND(#REF!,\"AAAAAHhD3sY=\")","v":{"$error":"#REF!"}},{"$f":"AND(#REF!,\"AAAAAHhD3sc=\")","v":{"$error":"#REF!"}},{"$f":"AND(#REF!,\"AAAAAHhD3sg=\")","v":{"$error":"#REF!"}},{"$f":"AND(#REF!,\"AAAAAHhD3sk=\")","v":{"$error":"#REF!"}},{"$f":"AND(#REF!,\"AAAAAHhD3so=\")","v":{"$error":"#REF!"}},{"$f":"AND(#REF!,\"AAAAAHhD3ss=\")","v":{"$error":"#REF!"}},{"$f":"AND(#REF!,\"AAAAAHhD3sw=\")","v":{"$error":"#REF!"}},{"$f":"AND(#REF!,\"AAAAAHhD3s0=\")","v":{"$error":"#REF!"}},{"$f":"AND(#REF!,\"AAAAAHhD3s4=\")","v":{"$error":"#REF!"}},{"$f":"AND(#REF!,\"AAAAAHhD3s8=\")","v":{"$error":"#REF!"}},{"$f":"AND(#REF!,\"AAAAAHhD3tA=\")","v":{"$error":"#REF!"}},{"$f":"IF(#REF!,\"AAAAAHhD3tE=\",0)","v":{"$error":"#REF!"}},{"$f":"AND(#REF!,\"AAAAAHhD3tI=\")","v":{"$error":"#REF!"}},{"$f":"AND(#REF!,\"AAAAAHhD3tM=\")","v":{"$error":"#REF!"}},{"$f":"AND(#REF!,\"AAAAAHhD3tQ=\")","v":{"$error":"#REF!"}},{"$f":"AND(#REF!,\"AAAAAHhD3tU=\")","v":{"$error":"#REF!"}},{"$f":"AND(#REF!,\"AAAAAHhD3tY=\")","v":{"$error":"#REF!"}},{"$f":"AND(#REF!,\"AAAAAHhD3tc=\")","v":{"$error":"#REF!"}},{"$f":"AND(#REF!,\"AAAAAHhD3tg=\")","v":{"$error":"#REF!"}},{"$f":"AND(#REF!,\"AAAAAHhD3tk=\")","v":{"$error":"#REF!"}},{"$f":"AND(#REF!,\"AAAAAHhD3to=\")","v":{"$error":"#REF!"}},{"$f":"AND(#REF!,\"AAAAAHhD3ts=\")","v":{"$error":"#REF!"}},{"$f":"AND(#REF!,\"AAAAAHhD3tw=\")","v":{"$error":"#REF!"}},{"$f":"AND(#REF!,\"AAAAAHhD3t0=\")","v":{"$error":"#REF!"}},{"$f":"AND(#REF!,\"AAAAAHhD3t4=\")","v":{"$error":"#REF!"}},{"$f":"AND(#REF!,\"AAAAAHhD3t8=\")","v":{"$error":"#REF!"}},{"$f":"AND(#REF!,\"AAAAAHhD3uA=\")","v":{"$error":"#REF!"}},{"$f":"AND(#REF!,\"AAAAAHhD3uE=\")","v":{"$error":"#REF!"}},{"$f":"AND(#REF!,\"AAAAAHhD3uI=\")","v":{"$error":"#REF!"}},{"$f":"AND(#REF!,\"AAAAAHhD3uM=\")","v":{"$error":"#REF!"}},{"$f":"AND(#REF!,\"AAAAAHhD3uQ=\")","v":{"$error":"#REF!"}},{"$f":"AND(#REF!,\"AAAAAHhD3uU=\")","v":{"$error":"#REF!"}},{"$f":"AND(#REF!,\"AAAAAHhD3uY=\")","v":{"$error":"#REF!"}},{"$f":"IF(#REF!,\"AAAAAHhD3uc=\",0)","v":{"$error":"#REF!"}},{"$f":"AND(#REF!,\"AAAAAHhD3ug=\")","v":{"$error":"#REF!"}},{"$f":"AND(#REF!,\"AAAAAHhD3uk=\")","v":{"$error":"#REF!"}},{"$f":"AND(#REF!,\"AAAAAHhD3uo=\")","v":{"$error":"#REF!"}},{"$f":"AND(#REF!,\"AAAAAHhD3us=\")","v":{"$error":"#REF!"}},{"$f":"AND(#REF!,\"AAAAAHhD3uw=\")","v":{"$error":"#REF!"}},{"$f":"AND(#REF!,\"AAAAAHhD3u0=\")","v":{"$error":"#REF!"}},{"$f":"AND(#REF!,\"AAAAAHhD3u4=\")","v":{"$error":"#REF!"}},{"$f":"AND(#REF!,\"AAAAAHhD3u8=\")","v":{"$error":"#REF!"}},{"$f":"AND(#REF!,\"AAAAAHhD3vA=\")","v":{"$error":"#REF!"}},{"$f":"AND(#REF!,\"AAAAAHhD3vE=\")","v":{"$error":"#REF!"}},{"$f":"AND(#REF!,\"AAAAAHhD3vI=\")","v":{"$error":"#REF!"}},{"$f":"AND(#REF!,\"AAAAAHhD3vM=\")","v":{"$error":"#REF!"}},{"$f":"AND(#REF!,\"AAAAAHhD3vQ=\")","v":{"$error":"#REF!"}},{"$f":"AND(#REF!,\"AAAAAHhD3vU=\")","v":{"$error":"#REF!"}},{"$f":"AND(#REF!,\"AAAAAHhD3vY=\")","v":{"$error":"#REF!"}},{"$f":"AND(#REF!,\"AAAAAHhD3vc=\")","v":{"$error":"#REF!"}},{"$f":"AND(#REF!,\"AAAAAHhD3vg=\")","v":{"$error":"#REF!"}},{"$f":"AND(#REF!,\"AAAAAHhD3vk=\")","v":{"$error":"#REF!"}},{"$f":"AND(#REF!,\"AAAAAHhD3vo=\")","v":{"$error":"#REF!"}},{"$f":"AND(#REF!,\"AAAAAHhD3vs=\")","v":{"$error":"#REF!"}},{"$f":"AND(#REF!,\"AAAAAHhD3vw=\")","v":{"$error":"#REF!"}},{"$f":"IF(#REF!,\"AAAAAHhD3v0=\",0)","v":{"$error":"#REF!"}},{"$f":"AND(#REF!,\"AAAAAHhD3v4=\")","v":{"$error":"#REF!"}},{"$f":"AND(#REF!,\"AAAAAHhD3v8=\")","v":{"$error":"#REF!"}}]
[{"$f":"AND(#REF!,\"AAAAAH2eLQA=\")","v":{"$error":"#REF!"}},{"$f":"AND(#REF!,\"AAAAAH2eLQE=\")","v":{"$error":"#REF!"}},{"$f":"AND(#REF!,\"AAAAAH2eLQI=\")","v":{"$error":"#REF!"}},{"$f":"AND(#REF!,\"AAAAAH2eLQM=\")","v":{"$error":"#REF!"}},{"$f":"AND(#REF!,\"AAAAAH2eLQQ=\")","v":{"$error":"#REF!"}},{"$f":"AND(#REF!,\"AAAAAH2eLQU=\")","v":{"$error":"#REF!"}},{"$f":"AND(#REF!,\"AAAAAH2eLQY=\")","v":{"$error":"#REF!"}},{"$f":"AND(#REF!,\"AAAAAH2eLQc=\")","v":{"$error":"#REF!"}},{"$f":"AND(#REF!,\"AAAAAH2eLQg=\")","v":{"$error":"#REF!"}},{"$f":"AND(#REF!,\"AAAAAH2eLQk=\")","v":{"$error":"#REF!"}},{"$f":"AND(#REF!,\"AAAAAH2eLQo=\")","v":{"$error":"#REF!"}},{"$f":"AND(#REF!,\"AAAAAH2eLQs=\")","v":{"$error":"#REF!"}},{"$f":"AND(#REF!,\"AAAAAH2eLQw=\")","v":{"$error":"#REF!"}},{"$f":"AND(#REF!,\"AAAAAH2eLQ0=\")","v":{"$error":"#REF!"}},{"$f":"AND(#REF!,\"AAAAAH2eLQ4=\")","v":{"$error":"#REF!"}},{"$f":"AND(#REF!,\"AAAAAH2eLQ8=\")","v":{"$error":"#REF!"}},{"$f":"AND(#REF!,\"AAAAAH2eLRA=\")","v":{"$error":"#REF!"}},{"$f":"AND(#REF!,\"AAAAAH2eLRE=\")","v":{"$error":"#REF!"}},{"$f":"AND(#REF!,\"AAAAAH2eLRI=\")","v":{"$error":"#REF!"}},{"$f":"IF(#REF!,\"AAAAAH2eLRM=\",0)","v":{"$error":"#REF!"}},{"$f":"AND(#REF!,\"AAAAAH2eLRQ=\")","v":{"$error":"#REF!"}},{"$f":"AND(#REF!,\"AAAAAH2eLRU=\")","v":{"$error":"#REF!"}},{"$f":"AND(#REF!,\"AAAAAH2eLRY=\")","v":{"$error":"#REF!"}},{"$f":"AND(#REF!,\"AAAAAH2eLRc=\")","v":{"$error":"#REF!"}},{"$f":"AND(#REF!,\"AAAAAH2eLRg=\")","v":{"$error":"#REF!"}},{"$f":"AND(#REF!,\"AAAAAH2eLRk=\")","v":{"$error":"#REF!"}},{"$f":"AND(#REF!,\"AAAAAH2eLRo=\")","v":{"$error":"#REF!"}},{"$f":"AND(#REF!,\"AAAAAH2eLRs=\")","v":{"$error":"#REF!"}},{"$f":"AND(#REF!,\"AAAAAH2eLRw=\")","v":{"$error":"#REF!"}},{"$f":"AND(#REF!,\"AAAAAH2eLR0=\")","v":{"$error":"#REF!"}},{"$f":"AND(#REF!,\"AAAAAH2eLR4=\")","v":{"$error":"#REF!"}},{"$f":"AND(#REF!,\"AAAAAH2eLR8=\")","v":{"$error":"#REF!"}},{"$f":"AND(#REF!,\"AAAAAH2eLSA=\")","v":{"$error":"#REF!"}},{"$f":"AND(#REF!,\"AAAAAH2eLSE=\")","v":{"$error":"#REF!"}},{"$f":"AND(#REF!,\"AAAAAH2eLSI=\")","v":{"$error":"#REF!"}},{"$f":"AND(#REF!,\"AAAAAH2eLSM=\")","v":{"$error":"#REF!"}},{"$f":"AND(#REF!,\"AAAAAH2eLSQ=\")","v":{"$error":"#REF!"}},{"$f":"AND(#REF!,\"AAAAAH2eLSU=\")","v":{"$error":"#REF!"}},{"$f":"AND(#REF!,\"AAAAAH2eLSY=\")","v":{"$error":"#REF!"}},{"$f":"AND(#REF!,\"AAAAAH2eLSc=\")","v":{"$error":"#REF!"}},{"$f":"AND(#REF!,\"AAAAAH2eLSg=\")","v":{"$error":"#REF!"}},{"$f":"IF(#REF!,\"AAAAAH2eLSk=\",0)","v":{"$error":"#REF!"}},{"$f":"IF(#REF!,\"AAAAAH2eLSo=\",0)","v":{"$error":"#REF!"}},{"$f":"IF(#REF!,\"AAAAAH2eLSs=\",0)","v":{"$error":"#REF!"}},{"$f":"IF(#REF!,\"AAAAAH2eLSw=\",0)","v":{"$error":"#REF!"}},{"$f":"IF(#REF!,\"AAAAAH2eLS0=\",0)","v":{"$error":"#REF!"}},{"$f":"IF(#REF!,\"AAAAAH2eLS4=\",0)","v":{"$error":"#REF!"}},{"$f":"IF(#REF!,\"AAAAAH2eLS8=\",0)","v":{"$error":"#REF!"}},{"$f":"IF(#REF!,\"AAAAAH2eLTA=\",0)","v":{"$error":"#REF!"}},{"$f":"IF(#REF!,\"AAAAAH2eLTE=\",0)","v":{"$error":"#REF!"}},{"$f":"IF(#REF!,\"AAAAAH2eLTI=\",0)","v":{"$error":"#REF!"}},{"$f":"IF(#REF!,\"AAAAAH2eLTM=\",0)","v":{"$error":"#REF!"}},{"$f":"IF(#REF!,\"AAAAAH2eLTQ=\",0)","v":{"$error":"#REF!"}},{"$f":"IF(#REF!,\"AAAAAH2eLTU=\",0)","v":{"$error":"#REF!"}},{"$f":"IF(#REF!,\"AAAAAH2eLTY=\",0)","v":{"$error":"#REF!"}},{"$f":"IF(#REF!,\"AAAAAH2eLTc=\",0)","v":{"$error":"#REF!"}},{"$f":"IF(#REF!,\"AAAAAH2eLTg=\",0)","v":{"$error":"#REF!"}},{"$f":"IF(#REF!,\"AAAAAH2eLTk=\",0)","v":{"$error":"#REF!"}},{"$f":"IF(#REF!,\"AAAAAH2eLTo=\",0)","v":{"$error":"#REF!"}},{"$f":"IF(#REF!,\"AAAAAH2eLTs=\",0)","v":{"$error":"#REF!"}},{"$f":"IF(#REF!,\"AAAAAH2eLTw=\",0)","v":{"$error":"#REF!"}},{"$f":"IF(#REF!,\"AAAAAH2eLT0=\",0)","v":{"$error":"#REF!"}},{"$f":"IF(#REF!,\"AAAAAH2eLT4=\",0)","v":{"$error":"#REF!"}},{"$f":"IF(#REF!,\"AAAAAH2eLT8=\",0)","v":{"$error":"#REF!"}},{"$f":"IF(#REF!,\"AAAAAH2eLUA=\",0)","v":{"$error":"#REF!"}},{"$f":"AND(#REF!,\"AAAAAH2eLUE=\")","v":{"$error":"#REF!"}},{"$f":"AND(#REF!,\"AAAAAH2eLUI=\")","v":{"$error":"#REF!"}},{"$f":"AND(#REF!,\"AAAAAH2eLUM=\")","v":{"$error":"#REF!"}},{"$f":"AND(#REF!,\"AAAAAH2eLUQ=\")","v":{"$error":"#REF!"}},{"$f":"AND(#REF!,\"AAAAAH2eLUU=\")","v":{"$error":"#REF!"}},{"$f":"AND(#REF!,\"AAAAAH2eLUY=\")","v":{"$error":"#REF!"}},{"$f":"AND(#REF!,\"AAAAAH2eLUc=\")","v":{"$error":"#REF!"}},{"$f":"AND(#REF!,\"AAAAAH2eLUg=\")","v":{"$error":"#REF!"}},{"$f":"AND(#REF!,\"AAAAAH2eLUk=\")","v":{"$error":"#REF!"}},{"$f":"AND(#REF!,\"AAAAAH2eLUo=\")","v":{"$error":"#REF!"}},{"$f":"AND(#REF!,\"AAAAAH2eLUs=\")","v":{"$error":"#REF!"}},{"$f":"AND(#REF!,\"AAAAAH2eLUw=\")","v":{"$error":"#REF!"}},{"$f":"AND(#REF!,\"AAAAAH2eLU0=\")","v":{"$error":"#REF!"}},{"$f":"AND(#REF!,\"AAAAAH2eLU4=\")","v":{"$error":"#REF!"}},{"$f":"AND(#REF!,\"AAAAAH2eLU8=\")","v":{"$error":"#REF!"}},{"$f":"AND(#REF!,\"AAAAAH2eLVA=\")","v":{"$error":"#REF!"}},{"$f":"AND(#REF!,\"AAAAAH2eLVE=\")","v":{"$error":"#REF!"}},{"$f":"AND(#REF!,\"AAAAAH2eLVI=\")","v":{"$error":"#REF!"}},{"$f":"AND(#REF!,\"AAAAAH2eLVM=\")","v":{"$error":"#REF!"}},{"$f":"AND(#REF!,\"AAAAAH2eLVQ=\")","v":{"$error":"#REF!"}},{"$f":"AND(#REF!,\"AAAAAH2eLVU=\")","v":{"$error":"#REF!"}},{"$f":"AND(#REF!,\"AAAAAH2eLVY=\")","v":{"$error":"#REF!"}},{"$f":"AND(#REF!,\"AAAAAH2eLVc=\")","v":{"$error":"#REF!"}},{"$f":"AND(#REF!,\"AAAAAH2eLVg=\")","v":{"$error":"#REF!"}},{"$f":"AND(#REF!,\"AAAAAH2eLVk=\")","v":{"$error":"#REF!"}},{"$f":"AND(#REF!,\"AAAAAH2eLVo=\")","v":{"$error":"#REF!"}},{"$f":"AND(#REF!,\"AAAAAH2eLVs=\")","v":{"$error":"#REF!"}},{"$f":"AND(#REF!,\"AAAAAH2eLVw=\")","v":{"$error":"#REF!"}},{"$f":"AND(#REF!,\"AAAAAH2eLV0=\")","v":{"$error":"#REF!"}},{"$f":"AND(#REF!,\"AAAAAH2eLV4=\")","v":{"$error":"#REF!"}},{"$f":"AND(#REF!,\"AAAAAH2eLV8=\")","v":{"$error":"#REF!"}},{"$f":"AND(#REF!,\"AAAAAH2eLWA=\")","v":{"$error":"#REF!"}},{"$f":"AND(#REF!,\"AAAAAH2eLWE=\")","v":{"$error":"#REF!"}},{"$f":"IF(#REF!,\"AAAAAH2eLWI=\",0)","v":{"$error":"#REF!"}},{"$f":"AND(#REF!,\"AAAAAH2eLWM=\")","v":{"$error":"#REF!"}},{"$f":"AND(#REF!,\"AAAAAH2eLWQ=\")","v":{"$error":"#REF!"}},{"$f":"AND(#REF!,\"AAAAAH2eLWU=\")","v":{"$error":"#REF!"}},{"$f":"AND(#REF!,\"AAAAAH2eLWY=\")","v":{"$error":"#REF!"}},{"$f":"AND(#REF!,\"AAAAAH2eLWc=\")","v":{"$error":"#REF!"}},{"$f":"AND(#REF!,\"AAAAAH2eLWg=\")","v":{"$error":"#REF!"}},{"$f":"AND(#REF!,\"AAAAAH2eLWk=\")","v":{"$error":"#REF!"}},{"$f":"AND(#REF!,\"AAAAAH2eLWo=\")","v":{"$error":"#REF!"}},{"$f":"AND(#REF!,\"AAAAAH2eLWs=\")","v":{"$error":"#REF!"}},{"$f":"AND(#REF!,\"AAAAAH2eLWw=\")","v":{"$error":"#REF!"}},{"$f":"AND(#REF!,\"AAAAAH2eLW0=\")","v":{"$error":"#REF!"}},{"$f":"AND(#REF!,\"AAAAAH2eLW4=\")","v":{"$error":"#REF!"}},{"$f":"AND(#REF!,\"AAAAAH2eLW8=\")","v":{"$error":"#REF!"}},{"$f":"AND(#REF!,\"AAAAAH2eLXA=\")","v":{"$error":"#REF!"}},{"$f":"AND(#REF!,\"AAAAAH2eLXE=\")","v":{"$error":"#REF!"}},{"$f":"AND(#REF!,\"AAAAAH2eLXI=\")","v":{"$error":"#REF!"}},{"$f":"AND(#REF!,\"AAAAAH2eLXM=\")","v":{"$error":"#REF!"}},{"$f":"AND(#REF!,\"AAAAAH2eLXQ=\")","v":{"$error":"#REF!"}},{"$f":"AND(#REF!,\"AAAAAH2eLXU=\")","v":{"$error":"#REF!"}},{"$f":"AND(#REF!,\"AAAAAH2eLXY=\")","v":{"$error":"#REF!"}},{"$f":"AND(#REF!,\"AAAAAH2eLXc=\")","v":{"$error":"#REF!"}},{"$f":"AND(#REF!,\"AAAAAH2eLXg=\")","v":{"$error":"#REF!"}},{"$f":"AND(#REF!,\"AAAAAH2eLXk=\")","v":{"$error":"#REF!"}},{"$f":"AND(#REF!,\"AAAAAH2eLXo=\")","v":{"$error":"#REF!"}},{"$f":"AND(#REF!,\"AAAAAH2eLXs=\")","v":{"$error":"#REF!"}},{"$f":"AND(#REF!,\"AAAAAH2eLXw=\")","v":{"$error":"#REF!"}},{"$f":"AND(#REF!,\"AAAAAH2eLX0=\")","v":{"$error":"#REF!"}},{"$f":"AND(#REF!,\"AAAAAH2eLX4=\")","v":{"$error":"#REF!"}},{"$f":"AND(#REF!,\"AAAAAH2eLX8=\")","v":{"$error":"#REF!"}},{"$f":"AND(#REF!,\"AAAAAH2eLYA=\")","v":{"$error":"#REF!"}},{"$f":"AND(#REF!,\"AAAAAH2eLYE=\")","v":{"$error":"#REF!"}},{"$f":"AND(#REF!,\"AAAAAH2eLYI=\")","v":{"$error":"#REF!"}},{"$f":"AND(#REF!,\"AAAAAH2eLYM=\")","v":{"$error":"#REF!"}},{"$f":"IF(#REF!,\"AAAAAH2eLYQ=\",0)","v":{"$error":"#REF!"}},{"$f":"AND(#REF!,\"AAAAAH2eLYU=\")","v":{"$error":"#REF!"}},{"$f":"AND(#REF!,\"AAAAAH2eLYY=\")","v":{"$error":"#REF!"}},{"$f":"AND(#REF!,\"AAAAAH2eLYc=\")","v":{"$error":"#REF!"}},{"$f":"AND(#REF!,\"AAAAAH2eLYg=\")","v":{"$error":"#REF!"}},{"$f":"AND(#REF!,\"AAAAAH2eLYk=\")","v":{"$error":"#REF!"}},{"$f":"AND(#REF!,\"AAAAAH2eLYo=\")","v":{"$error":"#REF!"}},{"$f":"AND(#REF!,\"AAAAAH2eLYs=\")","v":{"$error":"#REF!"}},{"$f":"AND(#REF!,\"AAAAAH2eLYw=\")","v":{"$error":"#REF!"}},{"$f":"AND(#REF!,\"AAAAAH2eLY0=\")","v":{"$error":"#REF!"}},{"$f":"AND(#REF!,\"AAAAAH2eLY4=\")","v":{"$error":"#REF!"}},{"$f":"AND(#REF!,\"AAAAAH2eLY8=\")","v":{"$error":"#REF!"}},{"$f":"AND(#REF!,\"AAAAAH2eLZA=\")","v":{"$error":"#REF!"}},{"$f":"AND(#REF!,\"AAAAAH2eLZE=\")","v":{"$error":"#REF!"}},{"$f":"AND(#REF!,\"AAAAAH2eLZI=\")","v":{"$error":"#REF!"}},{"$f":"AND(#REF!,\"AAAAAH2eLZM=\")","v":{"$error":"#REF!"}},{"$f":"AND(#REF!,\"AAAAAH2eLZQ=\")","v":{"$error":"#REF!"}},{"$f":"AND(#REF!,\"AAAAAH2eLZU=\")","v":{"$error":"#REF!"}},{"$f":"AND(#REF!,\"AAAAAH2eLZY=\")","v":{"$error":"#REF!"}},{"$f":"AND(#REF!,\"AAAAAH2eLZc=\")","v":{"$error":"#REF!"}},{"$f":"AND(#REF!,\"AAAAAH2eLZg=\")","v":{"$error":"#REF!"}},{"$f":"AND(#REF!,\"AAAAAH2eLZk=\")","v":{"$error":"#REF!"}},{"$f":"AND(#REF!,\"AAAAAH2eLZo=\")","v":{"$error":"#REF!"}},{"$f":"AND(#REF!,\"AAAAAH2eLZs=\")","v":{"$error":"#REF!"}},{"$f":"AND(#REF!,\"AAAAAH2eLZw=\")","v":{"$error":"#REF!"}},{"$f":"AND(#REF!,\"AAAAAH2eLZ0=\")","v":{"$error":"#REF!"}},{"$f":"AND(#REF!,\"AAAAAH2eLZ4=\")","v":{"$error":"#REF!"}},{"$f":"AND(#REF!,\"AAAAAH2eLZ8=\")","v":{"$error":"#REF!"}},{"$f":"AND(#REF!,\"AAAAAH2eLaA=\")","v":{"$error":"#REF!"}},{"$f":"AND(#REF!,\"AAAAAH2eLaE=\")","v":{"$error":"#REF!"}},{"$f":"AND(#REF!,\"AAAAAH2eLaI=\")","v":{"$error":"#REF!"}},{"$f":"AND(#REF!,\"AAAAAH2eLaM=\")","v":{"$error":"#REF!"}},{"$f":"AND(#REF!,\"AAAAAH2eLaQ=\")","v":{"$error":"#REF!"}},{"$f":"AND(#REF!,\"AAAAAH2eLaU=\")","v":{"$error":"#REF!"}},{"$f":"IF(#REF!,\"AAAAAH2eLaY=\",0)","v":{"$error":"#REF!"}},{"$f":"AND(#REF!,\"AAAAAH2eLac=\")","v":{"$error":"#REF!"}},{"$f":"AND(#REF!,\"AAAAAH2eLag=\")","v":{"$error":"#REF!"}},{"$f":"AND(#REF!,\"AAAAAH2eLak=\")","v":{"$error":"#REF!"}},{"$f":"AND(#REF!,\"AAAAAH2eLao=\")","v":{"$error":"#REF!"}},{"$f":"AND(#REF!,\"AAAAAH2eLas=\")","v":{"$error":"#REF!"}},{"$f":"AND(#REF!,\"AAAAAH2eLaw=\")","v":{"$error":"#REF!"}},{"$f":"AND(#REF!,\"AAAAAH2eLa0=\")","v":{"$error":"#REF!"}},{"$f":"AND(#REF!,\"AAAAAH2eLa4=\")","v":{"$error":"#REF!"}},{"$f":"AND(#REF!,\"AAAAAH2eLa8=\")","v":{"$error":"#REF!"}},{"$f":"AND(#REF!,\"AAAAAH2eLbA=\")","v":{"$error":"#REF!"}},{"$f":"AND(#REF!,\"AAAAAH2eLbE=\")","v":{"$error":"#REF!"}},{"$f":"AND(#REF!,\"AAAAAH2eLbI=\")","v":{"$error":"#REF!"}},{"$f":"AND(#REF!,\"AAAAAH2eLbM=\")","v":{"$error":"#REF!"}},{"$f":"AND(#REF!,\"AAAAAH2eLbQ=\")","v":{"$error":"#REF!"}},{"$f":"AND(#REF!,\"AAAAAH2eLbU=\")","v":{"$error":"#REF!"}},{"$f":"AND(#REF!,\"AAAAAH2eLbY=\")","v":{"$error":"#REF!"}},{"$f":"AND(#REF!,\"AAAAAH2eLbc=\")","v":{"$error":"#REF!"}},{"$f":"AND(#REF!,\"AAAAAH2eLbg=\")","v":{"$error":"#REF!"}},{"$f":"AND(#REF!,\"AAAAAH2eLbk=\")","v":{"$error":"#REF!"}},{"$f":"AND(#REF!,\"AAAAAH2eLbo=\")","v":{"$error":"#REF!"}},{"$f":"AND(#REF!,\"AAAAAH2eLbs=\")","v":{"$error":"#REF!"}},{"$f":"AND(#REF!,\"AAAAAH2eLbw=\")","v":{"$error":"#REF!"}},{"$f":"AND(#REF!,\"AAAAAH2eLb0=\")","v":{"$error":"#REF!"}},{"$f":"AND(#REF!,\"AAAAAH2eLb4=\")","v":{"$error":"#REF!"}},{"$f":"AND(#REF!,\"AAAAAH2eLb8=\")","v":{"$error":"#REF!"}},{"$f":"AND(#REF!,\"AAAAAH2eLcA=\")","v":{"$error":"#REF!"}},{"$f":"AND(#REF!,\"AAAAAH2eLcE=\")","v":{"$error":"#REF!"}},{"$f":"AND(#REF!,\"AAAAAH2eLcI=\")","v":{"$error":"#REF!"}},{"$f":"AND(#REF!,\"AAAAAH2eLcM=\")","v":{"$error":"#REF!"}},{"$f":"AND(#REF!,\"AAAAAH2eLcQ=\")","v":{"$error":"#REF!"}},{"$f":"AND(#REF!,\"AAAAAH2eLcU=\")","v":{"$error":"#REF!"}},{"$f":"AND(#REF!,\"AAAAAH2eLcY=\")","v":{"$error":"#REF!"}},{"$f":"AND(#REF!,\"AAAAAH2eLcc=\")","v":{"$error":"#REF!"}},{"$f":"IF(#REF!,\"AAAAAH2eLcg=\",0)","v":{"$error":"#REF!"}},{"$f":"AND(#REF!,\"AAAAAH2eLck=\")","v":{"$error":"#REF!"}},{"$f":"AND(#REF!,\"AAAAAH2eLco=\")","v":{"$error":"#REF!"}},{"$f":"AND(#REF!,\"AAAAAH2eLcs=\")","v":{"$error":"#REF!"}},{"$f":"AND(#REF!,\"AAAAAH2eLcw=\")","v":{"$error":"#REF!"}},{"$f":"AND(#REF!,\"AAAAAH2eLc0=\")","v":{"$error":"#REF!"}},{"$f":"AND(#REF!,\"AAAAAH2eLc4=\")","v":{"$error":"#REF!"}},{"$f":"AND(#REF!,\"AAAAAH2eLc8=\")","v":{"$error":"#REF!"}},{"$f":"AND(#REF!,\"AAAAAH2eLdA=\")","v":{"$error":"#REF!"}},{"$f":"AND(#REF!,\"AAAAAH2eLdE=\")","v":{"$error":"#REF!"}},{"$f":"AND(#REF!,\"AAAAAH2eLdI=\")","v":{"$error":"#REF!"}},{"$f":"AND(#REF!,\"AAAAAH2eLdM=\")","v":{"$error":"#REF!"}},{"$f":"AND(#REF!,\"AAAAAH2eLdQ=\")","v":{"$error":"#REF!"}},{"$f":"AND(#REF!,\"AAAAAH2eLdU=\")","v":{"$error":"#REF!"}},{"$f":"AND(#REF!,\"AAAAAH2eLdY=\")","v":{"$error":"#REF!"}},{"$f":"AND(#REF!,\"AAAAAH2eLdc=\")","v":{"$error":"#REF!"}},{"$f":"AND(#REF!,\"AAAAAH2eLdg=\")","v":{"$error":"#REF!"}},{"$f":"AND(#REF!,\"AAAAAH2eLdk=\")","v":{"$error":"#REF!"}},{"$f":"AND(#REF!,\"AAAAAH2eLdo=\")","v":{"$error":"#REF!"}},{"$f":"AND(#REF!,\"AAAAAH2eLds=\")","v":{"$error":"#REF!"}},{"$f":"AND(#REF!,\"AAAAAH2eLdw=\")","v":{"$error":"#REF!"}},{"$f":"AND(#REF!,\"AAAAAH2eLd0=\")","v":{"$error":"#REF!"}},{"$f":"AND(#REF!,\"AAAAAH2eLd4=\")","v":{"$error":"#REF!"}},{"$f":"AND(#REF!,\"AAAAAH2eLd8=\")","v":{"$error":"#REF!"}},{"$f":"AND(#REF!,\"AAAAAH2eLeA=\")","v":{"$error":"#REF!"}},{"$f":"AND(#REF!,\"AAAAAH2eLeE=\")","v":{"$error":"#REF!"}},{"$f":"AND(#REF!,\"AAAAAH2eLeI=\")","v":{"$error":"#REF!"}},{"$f":"AND(#REF!,\"AAAAAH2eLeM=\")","v":{"$error":"#REF!"}},{"$f":"AND(#REF!,\"AAAAAH2eLeQ=\")","v":{"$error":"#REF!"}},{"$f":"AND(#REF!,\"AAAAAH2eLeU=\")","v":{"$error":"#REF!"}},{"$f":"AND(#REF!,\"AAAAAH2eLeY=\")","v":{"$error":"#REF!"}},{"$f":"AND(#REF!,\"AAAAAH2eLec=\")","v":{"$error":"#REF!"}},{"$f":"AND(#REF!,\"AAAAAH2eLeg=\")","v":{"$error":"#REF!"}},{"$f":"AND(#REF!,\"AAAAAH2eLek=\")","v":{"$error":"#REF!"}},{"$f":"IF(#REF!,\"AAAAAH2eLeo=\",0)","v":{"$error":"#REF!"}},{"$f":"AND(#REF!,\"AAAAAH2eLes=\")","v":{"$error":"#REF!"}},{"$f":"AND(#REF!,\"AAAAAH2eLew=\")","v":{"$error":"#REF!"}},{"$f":"AND(#REF!,\"AAAAAH2eLe0=\")","v":{"$error":"#REF!"}},{"$f":"AND(#REF!,\"AAAAAH2eLe4=\")","v":{"$error":"#REF!"}},{"$f":"AND(#REF!,\"AAAAAH2eLe8=\")","v":{"$error":"#REF!"}},{"$f":"AND(#REF!,\"AAAAAH2eLfA=\")","v":{"$error":"#REF!"}},{"$f":"AND(#REF!,\"AAAAAH2eLfE=\")","v":{"$error":"#REF!"}},{"$f":"AND(#REF!,\"AAAAAH2eLfI=\")","v":{"$error":"#REF!"}},{"$f":"AND(#REF!,\"AAAAAH2eLfM=\")","v":{"$error":"#REF!"}},{"$f":"AND(#REF!,\"AAAAAH2eLfQ=\")","v":{"$error":"#REF!"}},{"$f":"AND(#REF!,\"AAAAAH2eLfU=\")","v":{"$error":"#REF!"}},{"$f":"AND(#REF!,\"AAAAAH2eLfY=\")","v":{"$error":"#REF!"}},{"$f":"AND(#REF!,\"AAAAAH2eLfc=\")","v":{"$error":"#REF!"}},{"$f":"AND(#REF!,\"AAAAAH2eLfg=\")","v":{"$error":"#REF!"}},{"$f":"AND(#REF!,\"AAAAAH2eLfk=\")","v":{"$error":"#REF!"}},{"$f":"AND(#REF!,\"AAAAAH2eLfo=\")","v":{"$error":"#REF!"}},{"$f":"AND(#REF!,\"AAAAAH2eLfs=\")","v":{"$error":"#REF!"}},{"$f":"AND(#REF!,\"AAAAAH2eLfw=\")","v":{"$error":"#REF!"}},{"$f":"AND(#REF!,\"AAAAAH2eLf0=\")","v":{"$error":"#REF!"}},{"$f":"AND(#REF!,\"AAAAAH2eLf4=\")","v":{"$error":"#REF!"}},{"$f":"AND(#REF!,\"AAAAAH2eLf8=\")","v":{"$error":"#REF!"}}]
[{"$f":"AND(#REF!,\"AAAAAHHfNgA=\")","v":{"$error":"#REF!"}},{"$f":"AND(#REF!,\"AAAAAHHfNgE=\")","v":{"$error":"#REF!"}},{"$f":"AND(#REF!,\"AAAAAHHfNgI=\")","v":{"$error":"#REF!"}},{"$f":"AND(#REF!,\"AAAAAHHfNgM=\")","v":{"$error":"#REF!"}},{"$f":"AND(#REF!,\"AAAAAHHfNgQ=\")","v":{"$error":"#REF!"}},{"$f":"AND(#REF!,\"AAAAAHHfNgU=\")","v":{"$error":"#REF!"}},{"$f":"AND(#REF!,\"AAAAAHHfNgY=\")","v":{"$error":"#REF!"}},{"$f":"AND(#REF!,\"AAAAAHHfNgc=\")","v":{"$error":"#REF!"}},{"$f":"AND(#REF!,\"AAAAAHHfNgg=\")","v":{"$error":"#REF!"}},{"$f":"AND(#REF!,\"AAAAAHHfNgk=\")","v":{"$error":"#REF!"}},{"$f":"AND(#REF!,\"AAAAAHHfNgo=\")","v":{"$error":"#REF!"}},{"$f":"AND(#REF!,\"AAAAAHHfNgs=\")","v":{"$error":"#REF!"}},{"$f":"IF(#REF!,\"AAAAAHHfNgw=\",0)","v":{"$error":"#REF!"}},{"$f":"AND(#REF!,\"AAAAAHHfNg0=\")","v":{"$error":"#REF!"}},{"$f":"AND(#REF!,\"AAAAAHHfNg4=\")","v":{"$error":"#REF!"}},{"$f":"AND(#REF!,\"AAAAAHHfNg8=\")","v":{"$error":"#REF!"}},{"$f":"AND(#REF!,\"AAAAAHHfNhA=\")","v":{"$error":"#REF!"}},{"$f":"AND(#REF!,\"AAAAAHHfNhE=\")","v":{"$error":"#REF!"}},{"$f":"AND(#REF!,\"AAAAAHHfNhI=\")","v":{"$error":"#REF!"}},{"$f":"AND(#REF!,\"AAAAAHHfNhM=\")","v":{"$error":"#REF!"}},{"$f":"AND(#REF!,\"AAAAAHHfNhQ=\")","v":{"$error":"#REF!"}},{"$f":"AND(#REF!,\"AAAAAHHfNhU=\")","v":{"$error":"#REF!"}},{"$f":"AND(#REF!,\"AAAAAHHfNhY=\")","v":{"$error":"#REF!"}},{"$f":"AND(#REF!,\"AAAAAHHfNhc=\")","v":{"$error":"#REF!"}},{"$f":"AND(#REF!,\"AAAAAHHfNhg=\")","v":{"$error":"#REF!"}},{"$f":"AND(#REF!,\"AAAAAHHfNhk=\")","v":{"$error":"#REF!"}},{"$f":"AND(#REF!,\"AAAAAHHfNho=\")","v":{"$error":"#REF!"}},{"$f":"AND(#REF!,\"AAAAAHHfNhs=\")","v":{"$error":"#REF!"}},{"$f":"AND(#REF!,\"AAAAAHHfNhw=\")","v":{"$error":"#REF!"}},{"$f":"AND(#REF!,\"AAAAAHHfNh0=\")","v":{"$error":"#REF!"}},{"$f":"AND(#REF!,\"AAAAAHHfNh4=\")","v":{"$error":"#REF!"}},{"$f":"AND(#REF!,\"AAAAAHHfNh8=\")","v":{"$error":"#REF!"}},{"$f":"AND(#REF!,\"AAAAAHHfNiA=\")","v":{"$error":"#REF!"}},{"$f":"AND(#REF!,\"AAAAAHHfNiE=\")","v":{"$error":"#REF!"}},{"$f":"AND(#REF!,\"AAAAAHHfNiI=\")","v":{"$error":"#REF!"}},{"$f":"AND(#REF!,\"AAAAAHHfNiM=\")","v":{"$error":"#REF!"}},{"$f":"AND(#REF!,\"AAAAAHHfNiQ=\")","v":{"$error":"#REF!"}},{"$f":"AND(#REF!,\"AAAAAHHfNiU=\")","v":{"$error":"#REF!"}},{"$f":"AND(#REF!,\"AAAAAHHfNiY=\")","v":{"$error":"#REF!"}},{"$f":"AND(#REF!,\"AAAAAHHfNic=\")","v":{"$error":"#REF!"}},{"$f":"AND(#REF!,\"AAAAAHHfNig=\")","v":{"$error":"#REF!"}},{"$f":"AND(#REF!,\"AAAAAHHfNik=\")","v":{"$error":"#REF!"}},{"$f":"AND(#REF!,\"AAAAAHHfNio=\")","v":{"$error":"#REF!"}},{"$f":"AND(#REF!,\"AAAAAHHfNis=\")","v":{"$error":"#REF!"}},{"$f":"AND(#REF!,\"AAAAAHHfNiw=\")","v":{"$error":"#REF!"}},{"$f":"AND(#REF!,\"AAAAAHHfNi0=\")","v":{"$error":"#REF!"}},{"$f":"IF(#REF!,\"AAAAAHHfNi4=\",0)","v":{"$error":"#REF!"}},{"$f":"AND(#REF!,\"AAAAAHHfNi8=\")","v":{"$error":"#REF!"}},{"$f":"AND(#REF!,\"AAAAAHHfNjA=\")","v":{"$error":"#REF!"}},{"$f":"AND(#REF!,\"AAAAAHHfNjE=\")","v":{"$error":"#REF!"}},{"$f":"AND(#REF!,\"AAAAAHHfNjI=\")","v":{"$error":"#REF!"}},{"$f":"AND(#REF!,\"AAAAAHHfNjM=\")","v":{"$error":"#REF!"}},{"$f":"AND(#REF!,\"AAAAAHHfNjQ=\")","v":{"$error":"#REF!"}},{"$f":"AND(#REF!,\"AAAAAHHfNjU=\")","v":{"$error":"#REF!"}},{"$f":"AND(#REF!,\"AAAAAHHfNjY=\")","v":{"$error":"#REF!"}},{"$f":"AND(#REF!,\"AAAAAHHfNjc=\")","v":{"$error":"#REF!"}},{"$f":"AND(#REF!,\"AAAAAHHfNjg=\")","v":{"$error":"#REF!"}},{"$f":"AND(#REF!,\"AAAAAHHfNjk=\")","v":{"$error":"#REF!"}},{"$f":"AND(#REF!,\"AAAAAHHfNjo=\")","v":{"$error":"#REF!"}},{"$f":"AND(#REF!,\"AAAAAHHfNjs=\")","v":{"$error":"#REF!"}},{"$f":"AND(#REF!,\"AAAAAHHfNjw=\")","v":{"$error":"#REF!"}},{"$f":"AND(#REF!,\"AAAAAHHfNj0=\")","v":{"$error":"#REF!"}},{"$f":"AND(#REF!,\"AAAAAHHfNj4=\")","v":{"$error":"#REF!"}},{"$f":"AND(#REF!,\"AAAAAHHfNj8=\")","v":{"$error":"#REF!"}},{"$f":"AND(#REF!,\"AAAAAHHfNkA=\")","v":{"$error":"#REF!"}},{"$f":"AND(#REF!,\"AAAAAHHfNkE=\")","v":{"$error":"#REF!"}},{"$f":"AND(#REF!,\"AAAAAHHfNkI=\")","v":{"$error":"#REF!"}},{"$f":"AND(#REF!,\"AAAAAHHfNkM=\")","v":{"$error":"#REF!"}},{"$f":"AND(#REF!,\"AAAAAHHfNkQ=\")","v":{"$error":"#REF!"}},{"$f":"AND(#REF!,\"AAAAAHHfNkU=\")","v":{"$error":"#REF!"}},{"$f":"AND(#REF!,\"AAAAAHHfNkY=\")","v":{"$error":"#REF!"}},{"$f":"AND(#REF!,\"AAAAAHHfNkc=\")","v":{"$error":"#REF!"}},{"$f":"AND(#REF!,\"AAAAAHHfNkg=\")","v":{"$error":"#REF!"}},{"$f":"AND(#REF!,\"AAAAAHHfNkk=\")","v":{"$error":"#REF!"}},{"$f":"AND(#REF!,\"AAAAAHHfNko=\")","v":{"$error":"#REF!"}},{"$f":"AND(#REF!,\"AAAAAHHfNks=\")","v":{"$error":"#REF!"}},{"$f":"AND(#REF!,\"AAAAAHHfNkw=\")","v":{"$error":"#REF!"}},{"$f":"AND(#REF!,\"AAAAAHHfNk0=\")","v":{"$error":"#REF!"}},{"$f":"AND(#REF!,\"AAAAAHHfNk4=\")","v":{"$error":"#REF!"}},{"$f":"AND(#REF!,\"AAAAAHHfNk8=\")","v":{"$error":"#REF!"}},{"$f":"IF(#REF!,\"AAAAAHHfNlA=\",0)","v":{"$error":"#REF!"}},{"$f":"AND(#REF!,\"AAAAAHHfNlE=\")","v":{"$error":"#REF!"}},{"$f":"AND(#REF!,\"AAAAAHHfNlI=\")","v":{"$error":"#REF!"}},{"$f":"AND(#REF!,\"AAAAAHHfNlM=\")","v":{"$error":"#REF!"}},{"$f":"AND(#REF!,\"AAAAAHHfNlQ=\")","v":{"$error":"#REF!"}},{"$f":"AND(#REF!,\"AAAAAHHfNlU=\")","v":{"$error":"#REF!"}},{"$f":"AND(#REF!,\"AAAAAHHfNlY=\")","v":{"$error":"#REF!"}},{"$f":"AND(#REF!,\"AAAAAHHfNlc=\")","v":{"$error":"#REF!"}},{"$f":"AND(#REF!,\"AAAAAHHfNlg=\")","v":{"$error":"#REF!"}},{"$f":"AND(#REF!,\"AAAAAHHfNlk=\")","v":{"$error":"#REF!"}},{"$f":"AND(#REF!,\"AAAAAHHfNlo=\")","v":{"$error":"#REF!"}},{"$f":"AND(#REF!,\"AAAAAHHfNls=\")","v":{"$error":"#REF!"}},{"$f":"AND(#REF!,\"AAAAAHHfNlw=\")","v":{"$error":"#REF!"}},{"$f":"AND(#REF!,\"AAAAAHHfNl0=\")","v":{"$error":"#REF!"}},{"$f":"AND(#REF!,\"AAAAAHHfNl4=\")","v":{"$error":"#REF!"}},{"$f":"AND(#REF!,\"AAAAAHHfNl8=\")","v":{"$error":"#REF!"}},{"$f":"AND(#REF!,\"AAAAAHHfNmA=\")","v":{"$error":"#REF!"}},{"$f":"AND(#REF!,\"AAAAAHHfNmE=\")","v":{"$error":"#REF!"}},{"$f":"AND(#REF!,\"AAAAAHHfNmI=\")","v":{"$error":"#REF!"}},{"$f":"AND(#REF!,\"AAAAAHHfNmM=\")","v":{"$error":"#REF!"}},{"$f":"AND(#REF!,\"AAAAAHHfNmQ=\")","v":{"$error":"#REF!"}},{"$f":"AND(#REF!,\"AAAAAHHfNmU=\")","v":{"$error":"#REF!"}},{"$f":"AND(#REF!,\"AAAAAHHfNmY=\")","v":{"$error":"#REF!"}},{"$f":"AND(#REF!,\"AAAAAHHfNmc=\")","v":{"$error":"#REF!"}},{"$f":"AND(#REF!,\"AAAAAHHfNmg=\")","v":{"$error":"#REF!"}},{"$f":"AND(#REF!,\"AAAAAHHfNmk=\")","v":{"$error":"#REF!"}},{"$f":"AND(#REF!,\"AAAAAHHfNmo=\")","v":{"$error":"#REF!"}},{"$f":"AND(#REF!,\"AAAAAHHfNms=\")","v":{"$error":"#REF!"}},{"$f":"AND(#REF!,\"AAAAAHHfNmw=\")","v":{"$error":"#REF!"}},{"$f":"AND(#REF!,\"AAAAAHHfNm0=\")","v":{"$error":"#REF!"}},{"$f":"AND(#REF!,\"AAAAAHHfNm4=\")","v":{"$error":"#REF!"}},{"$f":"AND(#REF!,\"AAAAAHHfNm8=\")","v":{"$error":"#REF!"}},{"$f":"AND(#REF!,\"AAAAAHHfNnA=\")","v":{"$error":"#REF!"}},{"$f":"AND(#REF!,\"AAAAAHHfNnE=\")","v":{"$error":"#REF!"}},{"$f":"IF(#REF!,\"AAAAAHHfNnI=\",0)","v":{"$error":"#REF!"}},{"$f":"AND(#REF!,\"AAAAAHHfNnM=\")","v":{"$error":"#REF!"}},{"$f":"AND(#REF!,\"AAAAAHHfNnQ=\")","v":{"$error":"#REF!"}},{"$f":"AND(#REF!,\"AAAAAHHfNnU=\")","v":{"$error":"#REF!"}},{"$f":"AND(#REF!,\"AAAAAHHfNnY=\")","v":{"$error":"#REF!"}},{"$f":"AND(#REF!,\"AAAAAHHfNnc=\")","v":{"$error":"#REF!"}},{"$f":"AND(#REF!,\"AAAAAHHfNng=\")","v":{"$error":"#REF!"}},{"$f":"AND(#REF!,\"AAAAAHHfNnk=\")","v":{"$error":"#REF!"}},{"$f":"AND(#REF!,\"AAAAAHHfNno=\")","v":{"$error":"#REF!"}},{"$f":"AND(#REF!,\"AAAAAHHfNns=\")","v":{"$error":"#REF!"}},{"$f":"AND(#REF!,\"AAAAAHHfNnw=\")","v":{"$error":"#REF!"}},{"$f":"AND(#REF!,\"AAAAAHHfNn0=\")","v":{"$error":"#REF!"}},{"$f":"AND(#REF!,\"AAAAAHHfNn4=\")","v":{"$error":"#REF!"}},{"$f":"AND(#REF!,\"AAAAAHHfNn8=\")","v":{"$error":"#REF!"}},{"$f":"AND(#REF!,\"AAAAAHHfNoA=\")","v":{"$error":"#REF!"}},{"$f":"AND(#REF!,\"AAAAAHHfNoE=\")","v":{"$error":"#REF!"}},{"$f":"AND(#REF!,\"AAAAAHHfNoI=\")","v":{"$error":"#REF!"}},{"$f":"AND(#REF!,\"AAAAAHHfNoM=\")","v":{"$error":"#REF!"}},{"$f":"AND(#REF!,\"AAAAAHHfNoQ=\")","v":{"$error":"#REF!"}},{"$f":"AND(#REF!,\"AAAAAHHfNoU=\")","v":{"$error":"#REF!"}},{"$f":"AND(#REF!,\"AAAAAHHfNoY=\")","v":{"$error":"#REF!"}},{"$f":"AND(#REF!,\"AAAAAHHfNoc=\")","v":{"$error":"#REF!"}},{"$f":"AND(#REF!,\"AAAAAHHfNog=\")","v":{"$error":"#REF!"}},{"$f":"AND(#REF!,\"AAAAAHHfNok=\")","v":{"$error":"#REF!"}},{"$f":"AND(#REF!,\"AAAAAHHfNoo=\")","v":{"$error":"#REF!"}},{"$f":"AND(#REF!,\"AAAAAHHfNos=\")","v":{"$error":"#REF!"}},{"$f":"AND(#REF!,\"AAAAAHHfNow=\")","v":{"$error":"#REF!"}},{"$f":"AND(#REF!,\"AAAAAHHfNo0=\")","v":{"$error":"#REF!"}},{"$f":"AND(#REF!,\"AAAAAHHfNo4=\")","v":{"$error":"#REF!"}},{"$f":"AND(#REF!,\"AAAAAHHfNo8=\")","v":{"$error":"#REF!"}},{"$f":"AND(#REF!,\"AAAAAHHfNpA=\")","v":{"$error":"#REF!"}},{"$f":"AND(#REF!,\"AAAAAHHfNpE=\")","v":{"$error":"#REF!"}},{"$f":"AND(#REF!,\"AAAAAHHfNpI=\")","v":{"$error":"#REF!"}},{"$f":"AND(#REF!,\"AAAAAHHfNpM=\")","v":{"$error":"#REF!"}},{"$f":"IF(#REF!,\"AAAAAHHfNpQ=\",0)","v":{"$error":"#REF!"}},{"$f":"AND(#REF!,\"AAAAAHHfNpU=\")","v":{"$error":"#REF!"}},{"$f":"AND(#REF!,\"AAAAAHHfNpY=\")","v":{"$error":"#REF!"}},{"$f":"AND(#REF!,\"AAAAAHHfNpc=\")","v":{"$error":"#REF!"}},{"$f":"AND(#REF!,\"AAAAAHHfNpg=\")","v":{"$error":"#REF!"}},{"$f":"AND(#REF!,\"AAAAAHHfNpk=\")","v":{"$error":"#REF!"}},{"$f":"AND(#REF!,\"AAAAAHHfNpo=\")","v":{"$error":"#REF!"}},{"$f":"AND(#REF!,\"AAAAAHHfNps=\")","v":{"$error":"#REF!"}},{"$f":"AND(#REF!,\"AAAAAHHfNpw=\")","v":{"$error":"#REF!"}},{"$f":"AND(#REF!,\"AAAAAHHfNp0=\")","v":{"$error":"#REF!"}},{"$f":"AND(#REF!,\"AAAAAHHfNp4=\")","v":{"$error":"#REF!"}},{"$f":"AND(#REF!,\"AAAAAHHfNp8=\")","v":{"$error":"#REF!"}},{"$f":"AND(#REF!,\"AAAAAHHfNqA=\")","v":{"$error":"#REF!"}},{"$f":"AND(#REF!,\"AAAAAHHfNqE=\")","v":{"$error":"#REF!"}},{"$f":"AND(#REF!,\"AAAAAHHfNqI=\")","v":{"$error":"#REF!"}},{"$f":"AND(#REF!,\"AAAAAHHfNqM=\")","v":{"$error":"#REF!"}},{"$f":"AND(#REF!,\"AAAAAHHfNqQ=\")","v":{"$error":"#REF!"}},{"$f":"AND(#REF!,\"AAAAAHHfNqU=\")","v":{"$error":"#REF!"}},{"$f":"AND(#REF!,\"AAAAAHHfNqY=\")","v":{"$error":"#REF!"}},{"$f":"AND(#REF!,\"AAAAAHHfNqc=\")","v":{"$error":"#REF!"}},{"$f":"AND(#REF!,\"AAAAAHHfNqg=\")","v":{"$error":"#REF!"}},{"$f":"AND(#REF!,\"AAAAAHHfNqk=\")","v":{"$error":"#REF!"}},{"$f":"AND(#REF!,\"AAAAAHHfNqo=\")","v":{"$error":"#REF!"}},{"$f":"AND(#REF!,\"AAAAAHHfNqs=\")","v":{"$error":"#REF!"}},{"$f":"AND(#REF!,\"AAAAAHHfNqw=\")","v":{"$error":"#REF!"}},{"$f":"AND(#REF!,\"AAAAAHHfNq0=\")","v":{"$error":"#REF!"}},{"$f":"AND(#REF!,\"AAAAAHHfNq4=\")","v":{"$error":"#REF!"}},{"$f":"AND(#REF!,\"AAAAAHHfNq8=\")","v":{"$error":"#REF!"}},{"$f":"AND(#REF!,\"AAAAAHHfNrA=\")","v":{"$error":"#REF!"}},{"$f":"AND(#REF!,\"AAAAAHHfNrE=\")","v":{"$error":"#REF!"}},{"$f":"AND(#REF!,\"AAAAAHHfNrI=\")","v":{"$error":"#REF!"}},{"$f":"AND(#REF!,\"AAAAAHHfNrM=\")","v":{"$error":"#REF!"}},{"$f":"AND(#REF!,\"AAAAAHHfNrQ=\")","v":{"$error":"#REF!"}},{"$f":"AND(#REF!,\"AAAAAHHfNrU=\")","v":{"$error":"#REF!"}},{"$f":"IF(#REF!,\"AAAAAHHfNrY=\",0)","v":{"$error":"#REF!"}},{"$f":"AND(#REF!,\"AAAAAHHfNrc=\")","v":{"$error":"#REF!"}},{"$f":"AND(#REF!,\"AAAAAHHfNrg=\")","v":{"$error":"#REF!"}},{"$f":"AND(#REF!,\"AAAAAHHfNrk=\")","v":{"$error":"#REF!"}},{"$f":"AND(#REF!,\"AAAAAHHfNro=\")","v":{"$error":"#REF!"}},{"$f":"AND(#REF!,\"AAAAAHHfNrs=\")","v":{"$error":"#REF!"}},{"$f":"AND(#REF!,\"AAAAAHHfNrw=\")","v":{"$error":"#REF!"}},{"$f":"AND(#REF!,\"AAAAAHHfNr0=\")","v":{"$error":"#REF!"}},{"$f":"AND(#REF!,\"AAAAAHHfNr4=\")","v":{"$error":"#REF!"}},{"$f":"AND(#REF!,\"AAAAAHHfNr8=\")","v":{"$error":"#REF!"}},{"$f":"AND(#REF!,\"AAAAAHHfNsA=\")","v":{"$error":"#REF!"}},{"$f":"AND(#REF!,\"AAAAAHHfNsE=\")","v":{"$error":"#REF!"}},{"$f":"AND(#REF!,\"AAAAAHHfNsI=\")","v":{"$error":"#REF!"}},{"$f":"AND(#REF!,\"AAAAAHHfNsM=\")","v":{"$error":"#REF!"}},{"$f":"AND(#REF!,\"AAAAAHHfNsQ=\")","v":{"$error":"#REF!"}},{"$f":"AND(#REF!,\"AAAAAHHfNsU=\")","v":{"$error":"#REF!"}},{"$f":"AND(#REF!,\"AAAAAHHfNsY=\")","v":{"$error":"#REF!"}},{"$f":"AND(#REF!,\"AAAAAHHfNsc=\")","v":{"$error":"#REF!"}},{"$f":"AND(#REF!,\"AAAAAHHfNsg=\")","v":{"$error":"#REF!"}},{"$f":"AND(#REF!,\"AAAAAHHfNsk=\")","v":{"$error":"#REF!"}},{"$f":"AND(#REF!,\"AAAAAHHfNso=\")","v":{"$error":"#REF!"}},{"$f":"AND(#REF!,\"AAAAAHHfNss=\")","v":{"$error":"#REF!"}},{"$f":"AND(#REF!,\"AAAAAHHfNsw=\")","v":{"$error":"#REF!"}},{"$f":"AND(#REF!,\"AAAAAHHfNs0=\")","v":{"$error":"#REF!"}},{"$f":"AND(#REF!,\"AAAAAHHfNs4=\")","v":{"$error":"#REF!"}},{"$f":"AND(#REF!,\"AAAAAHHfNs8=\")","v":{"$error":"#REF!"}},{"$f":"AND(#REF!,\"AAAAAHHfNtA=\")","v":{"$error":"#REF!"}},{"$f":"AND(#REF!,\"AAAAAHHfNtE=\")","v":{"$error":"#REF!"}},{"$f":"AND(#REF!,\"AAAAAHHfNtI=\")","v":{"$error":"#REF!"}},{"$f":"AND(#REF!,\"AAAAAHHfNtM=\")","v":{"$error":"#REF!"}},{"$f":"AND(#REF!,\"AAAAAHHfNtQ=\")","v":{"$error":"#REF!"}},{"$f":"AND(#REF!,\"AAAAAHHfNtU=\")","v":{"$error":"#REF!"}},{"$f":"AND(#REF!,\"AAAAAHHfNtY=\")","v":{"$error":"#REF!"}},{"$f":"AND(#REF!,\"AAAAAHHfNtc=\")","v":{"$error":"#REF!"}},{"$f":"IF(#REF!,\"AAAAAHHfNtg=\",0)","v":{"$error":"#REF!"}},{"$f":"AND(#REF!,\"AAAAAHHfNtk=\")","v":{"$error":"#REF!"}},{"$f":"AND(#REF!,\"AAAAAHHfNto=\")","v":{"$error":"#REF!"}},{"$f":"AND(#REF!,\"AAAAAHHfNts=\")","v":{"$error":"#REF!"}},{"$f":"AND(#REF!,\"AAAAAHHfNtw=\")","v":{"$error":"#REF!"}},{"$f":"AND(#REF!,\"AAAAAHHfNt0=\")","v":{"$error":"#REF!"}},{"$f":"AND(#REF!,\"AAAAAHHfNt4=\")","v":{"$error":"#REF!"}},{"$f":"AND(#REF!,\"AAAAAHHfNt8=\")","v":{"$error":"#REF!"}},{"$f":"AND(#REF!,\"AAAAAHHfNuA=\")","v":{"$error":"#REF!"}},{"$f":"AND(#REF!,\"AAAAAHHfNuE=\")","v":{"$error":"#REF!"}},{"$f":"AND(#REF!,\"AAAAAHHfNuI=\")","v":{"$error":"#REF!"}},{"$f":"AND(#REF!,\"AAAAAHHfNuM=\")","v":{"$error":"#REF!"}},{"$f":"AND(#REF!,\"AAAAAHHfNuQ=\")","v":{"$error":"#REF!"}},{"$f":"AND(#REF!,\"AAAAAHHfNuU=\")","v":{"$error":"#REF!"}},{"$f":"AND(#REF!,\"AAAAAHHfNuY=\")","v":{"$error":"#REF!"}},{"$f":"AND(#REF!,\"AAAAAHHfNuc=\")","v":{"$error":"#REF!"}},{"$f":"AND(#REF!,\"AAAAAHHfNug=\")","v":{"$error":"#REF!"}},{"$f":"AND(#REF!,\"AAAAAHHfNuk=\")","v":{"$error":"#REF!"}},{"$f":"AND(#REF!,\"AAAAAHHfNuo=\")","v":{"$error":"#REF!"}},{"$f":"AND(#REF!,\"AAAAAHHfNus=\")","v":{"$error":"#REF!"}},{"$f":"AND(#REF!,\"AAAAAHHfNuw=\")","v":{"$error":"#REF!"}},{"$f":"AND(#REF!,\"AAAAAHHfNu0=\")","v":{"$error":"#REF!"}},{"$f":"AND(#REF!,\"AAAAAHHfNu4=\")","v":{"$error":"#REF!"}},{"$f":"AND(#REF!,\"AAAAAHHfNu8=\")","v":{"$error":"#REF!"}},{"$f":"AND(#REF!,\"AAAAAHHfNvA=\")","v":{"$error":"#REF!"}},{"$f":"AND(#REF!,\"AAAAAHHfNvE=\")","v":{"$error":"#REF!"}},{"$f":"AND(#REF!,\"AAAAAHHfNvI=\")","v":{"$error":"#REF!"}},{"$f":"AND(#REF!,\"AAAAAHHfNvM=\")","v":{"$error":"#REF!"}},{"$f":"AND(#REF!,\"AAAAAHHfNvQ=\")","v":{"$error":"#REF!"}},{"$f":"AND(#REF!,\"AAAAAHHfNvU=\")","v":{"$error":"#REF!"}},{"$f":"AND(#REF!,\"AAAAAHHfNvY=\")","v":{"$error":"#REF!"}},{"$f":"AND(#REF!,\"AAAAAHHfNvc=\")","v":{"$error":"#REF!"}},{"$f":"AND(#REF!,\"AAAAAHHfNvg=\")","v":{"$error":"#REF!"}},{"$f":"AND(#REF!,\"AAAAAHHfNvk=\")","v":{"$error":"#REF!"}},{"$f":"IF(#REF!,\"AAAAAHHfNvo=\",0)","v":{"$error":"#REF!"}},{"$f":"AND(#REF!,\"AAAAAHHfNvs=\")","v":{"$error":"#REF!"}},{"$f":"AND(#REF!,\"AAAAAHHfNvw=\")","v":{"$error":"#REF!"}},{"$f":"AND(#REF!,\"AAAAAHHfNv0=\")","v":{"$error":"#REF!"}},{"$f":"AND(#REF!,\"AAAAAHHfNv4=\")","v":{"$error":"#REF!"}},{"$f":"AND(#REF!,\"AAAAAHHfNv8=\")","v":{"$error":"#REF!"}}]
[{"$f":"AND(#REF!,\"AAAAAHOy/wA=\")","v":{"$error":"#REF!"}},{"$f":"AND(#REF!,\"AAAAAHOy/wE=\")","v":{"$error":"#REF!"}},{"$f":"AND(#REF!,\"AAAAAHOy/wI=\")","v":{"$error":"#REF!"}},{"$f":"AND(#REF!,\"AAAAAHOy/wM=\")","v":{"$error":"#REF!"}},{"$f":"AND(#REF!,\"AAAAAHOy/wQ=\")","v":{"$error":"#REF!"}},{"$f":"AND(#REF!,\"AAAAAHOy/wU=\")","v":{"$error":"#REF!"}},{"$f":"AND(#REF!,\"AAAAAHOy/wY=\")","v":{"$error":"#REF!"}},{"$f":"AND(#REF!,\"AAAAAHOy/wc=\")","v":{"$error":"#REF!"}},{"$f":"AND(#REF!,\"AAAAAHOy/wg=\")","v":{"$error":"#REF!"}},{"$f":"AND(#REF!,\"AAAAAHOy/wk=\")","v":{"$error":"#REF!"}},{"$f":"AND(#REF!,\"AAAAAHOy/wo=\")","v":{"$error":"#REF!"}},{"$f":"AND(#REF!,\"AAAAAHOy/ws=\")","v":{"$error":"#REF!"}},{"$f":"AND(#REF!,\"AAAAAHOy/ww=\")","v":{"$error":"#REF!"}},{"$f":"AND(#REF!,\"AAAAAHOy/w0=\")","v":{"$error":"#REF!"}},{"$f":"AND(#REF!,\"AAAAAHOy/w4=\")","v":{"$error":"#REF!"}},{"$f":"AND(#REF!,\"AAAAAHOy/w8=\")","v":{"$error":"#REF!"}},{"$f":"AND(#REF!,\"AAAAAHOy/xA=\")","v":{"$error":"#REF!"}},{"$f":"AND(#REF!,\"AAAAAHOy/xE=\")","v":{"$error":"#REF!"}},{"$f":"AND(#REF!,\"AAAAAHOy/xI=\")","v":{"$error":"#REF!"}},{"$f":"AND(#REF!,\"AAAAAHOy/xM=\")","v":{"$error":"#REF!"}},{"$f":"AND(#REF!,\"AAAAAHOy/xQ=\")","v":{"$error":"#REF!"}},{"$f":"AND(#REF!,\"AAAAAHOy/xU=\")","v":{"$error":"#REF!"}},{"$f":"AND(#REF!,\"AAAAAHOy/xY=\")","v":{"$error":"#REF!"}},{"$f":"AND(#REF!,\"AAAAAHOy/xc=\")","v":{"$error":"#REF!"}},{"$f":"AND(#REF!,\"AAAAAHOy/xg=\")","v":{"$error":"#REF!"}},{"$f":"AND(#REF!,\"AAAAAHOy/xk=\")","v":{"$error":"#REF!"}},{"$f":"AND(#REF!,\"AAAAAHOy/xo=\")","v":{"$error":"#REF!"}},{"$f":"AND(#REF!,\"AAAAAHOy/xs=\")","v":{"$error":"#REF!"}},{"$f":"IF(#REF!,\"AAAAAHOy/xw=\",0)","v":{"$error":"#REF!"}},{"$f":"AND(#REF!,\"AAAAAHOy/x0=\")","v":{"$error":"#REF!"}},{"$f":"AND(#REF!,\"AAAAAHOy/x4=\")","v":{"$error":"#REF!"}},{"$f":"AND(#REF!,\"AAAAAHOy/x8=\")","v":{"$error":"#REF!"}},{"$f":"AND(#REF!,\"AAAAAHOy/yA=\")","v":{"$error":"#REF!"}},{"$f":"AND(#REF!,\"AAAAAHOy/yE=\")","v":{"$error":"#REF!"}},{"$f":"AND(#REF!,\"AAAAAHOy/yI=\")","v":{"$error":"#REF!"}},{"$f":"AND(#REF!,\"AAAAAHOy/yM=\")","v":{"$error":"#REF!"}},{"$f":"AND(#REF!,\"AAAAAHOy/yQ=\")","v":{"$error":"#REF!"}},{"$f":"AND(#REF!,\"AAAAAHOy/yU=\")","v":{"$error":"#REF!"}},{"$f":"AND(#REF!,\"AAAAAHOy/yY=\")","v":{"$error":"#REF!"}},{"$f":"AND(#REF!,\"AAAAAHOy/yc=\")","v":{"$error":"#REF!"}},{"$f":"AND(#REF!,\"AAAAAHOy/yg=\")","v":{"$error":"#REF!"}},{"$f":"AND(#REF!,\"AAAAAHOy/yk=\")","v":{"$error":"#REF!"}},{"$f":"AND(#REF!,\"AAAAAHOy/yo=\")","v":{"$error":"#REF!"}},{"$f":"AND(#REF!,\"AAAAAHOy/ys=\")","v":{"$error":"#REF!"}},{"$f":"AND(#REF!,\"AAAAAHOy/yw=\")","v":{"$error":"#REF!"}},{"$f":"AND(#REF!,\"AAAAAHOy/y0=\")","v":{"$error":"#REF!"}},{"$f":"AND(#REF!,\"AAAAAHOy/y4=\")","v":{"$error":"#REF!"}},{"$f":"AND(#REF!,\"AAAAAHOy/y8=\")","v":{"$error":"#REF!"}},{"$f":"AND(#REF!,\"AAAAAHOy/zA=\")","v":{"$error":"#REF!"}},{"$f":"AND(#REF!,\"AAAAAHOy/zE=\")","v":{"$error":"#REF!"}},{"$f":"AND(#REF!,\"AAAAAHOy/zI=\")","v":{"$error":"#REF!"}},{"$f":"AND(#REF!,\"AAAAAHOy/zM=\")","v":{"$error":"#REF!"}},{"$f":"AND(#REF!,\"AAAAAHOy/zQ=\")","v":{"$error":"#REF!"}},{"$f":"AND(#REF!,\"AAAAAHOy/zU=\")","v":{"$error":"#REF!"}},{"$f":"AND(#REF!,\"AAAAAHOy/zY=\")","v":{"$error":"#REF!"}},{"$f":"AND(#REF!,\"AAAAAHOy/zc=\")","v":{"$error":"#REF!"}},{"$f":"AND(#REF!,\"AAAAAHOy/zg=\")","v":{"$error":"#REF!"}},{"$f":"AND(#REF!,\"AAAAAHOy/zk=\")","v":{"$error":"#REF!"}},{"$f":"AND(#REF!,\"AAAAAHOy/zo=\")","v":{"$error":"#REF!"}},{"$f":"AND(#REF!,\"AAAAAHOy/zs=\")","v":{"$error":"#REF!"}},{"$f":"AND(#REF!,\"AAAAAHOy/zw=\")","v":{"$error":"#REF!"}},{"$f":"AND(#REF!,\"AAAAAHOy/z0=\")","v":{"$error":"#REF!"}},{"$f":"IF(#REF!,\"AAAAAHOy/z4=\",0)","v":{"$error":"#REF!"}},{"$f":"AND(#REF!,\"AAAAAHOy/z8=\")","v":{"$error":"#REF!"}},{"$f":"AND(#REF!,\"AAAAAHOy/0A=\")","v":{"$error":"#REF!"}},{"$f":"AND(#REF!,\"AAAAAHOy/0E=\")","v":{"$error":"#REF!"}},{"$f":"AND(#REF!,\"AAAAAHOy/0I=\")","v":{"$error":"#REF!"}},{"$f":"AND(#REF!,\"AAAAAHOy/0M=\")","v":{"$error":"#REF!"}},{"$f":"AND(#REF!,\"AAAAAHOy/0Q=\")","v":{"$error":"#REF!"}},{"$f":"AND(#REF!,\"AAAAAHOy/0U=\")","v":{"$error":"#REF!"}},{"$f":"AND(#REF!,\"AAAAAHOy/0Y=\")","v":{"$error":"#REF!"}},{"$f":"AND(#REF!,\"AAAAAHOy/0c=\")","v":{"$error":"#REF!"}},{"$f":"AND(#REF!,\"AAAAAHOy/0g=\")","v":{"$error":"#REF!"}},{"$f":"AND(#REF!,\"AAAAAHOy/0k=\")","v":{"$error":"#REF!"}},{"$f":"AND(#REF!,\"AAAAAHOy/0o=\")","v":{"$error":"#REF!"}},{"$f":"AND(#REF!,\"AAAAAHOy/0s=\")","v":{"$error":"#REF!"}},{"$f":"AND(#REF!,\"AAAAAHOy/0w=\")","v":{"$error":"#REF!"}},{"$f":"AND(#REF!,\"AAAAAHOy/00=\")","v":{"$error":"#REF!"}},{"$f":"AND(#REF!,\"AAAAAHOy/04=\")","v":{"$error":"#REF!"}},{"$f":"AND(#REF!,\"AAAAAHOy/08=\")","v":{"$error":"#REF!"}},{"$f":"AND(#REF!,\"AAAAAHOy/1A=\")","v":{"$error":"#REF!"}},{"$f":"AND(#REF!,\"AAAAAHOy/1E=\")","v":{"$error":"#REF!"}},{"$f":"AND(#REF!,\"AAAAAHOy/1I=\")","v":{"$error":"#REF!"}},{"$f":"AND(#REF!,\"AAAAAHOy/1M=\")","v":{"$error":"#REF!"}},{"$f":"AND(#REF!,\"AAAAAHOy/1Q=\")","v":{"$error":"#REF!"}},{"$f":"AND(#REF!,\"AAAAAHOy/1U=\")","v":{"$error":"#REF!"}},{"$f":"AND(#REF!,\"AAAAAHOy/1Y=\")","v":{"$error":"#REF!"}},{"$f":"AND(#REF!,\"AAAAAHOy/1c=\")","v":{"$error":"#REF!"}},{"$f":"AND(#REF!,\"AAAAAHOy/1g=\")","v":{"$error":"#REF!"}},{"$f":"AND(#REF!,\"AAAAAHOy/1k=\")","v":{"$error":"#REF!"}},{"$f":"AND(#REF!,\"AAAAAHOy/1o=\")","v":{"$error":"#REF!"}},{"$f":"AND(#REF!,\"AAAAAHOy/1s=\")","v":{"$error":"#REF!"}},{"$f":"AND(#REF!,\"AAAAAHOy/1w=\")","v":{"$error":"#REF!"}},{"$f":"AND(#REF!,\"AAAAAHOy/10=\")","v":{"$error":"#REF!"}},{"$f":"AND(#REF!,\"AAAAAHOy/14=\")","v":{"$error":"#REF!"}},{"$f":"AND(#REF!,\"AAAAAHOy/18=\")","v":{"$error":"#REF!"}},{"$f":"IF(#REF!,\"AAAAAHOy/2A=\",0)","v":{"$error":"#REF!"}},{"$f":"AND(#REF!,\"AAAAAHOy/2E=\")","v":{"$error":"#REF!"}},{"$f":"AND(#REF!,\"AAAAAHOy/2I=\")","v":{"$error":"#REF!"}},{"$f":"AND(#REF!,\"AAAAAHOy/2M=\")","v":{"$error":"#REF!"}},{"$f":"AND(#REF!,\"AAAAAHOy/2Q=\")","v":{"$error":"#REF!"}},{"$f":"AND(#REF!,\"AAAAAHOy/2U=\")","v":{"$error":"#REF!"}},{"$f":"AND(#REF!,\"AAAAAHOy/2Y=\")","v":{"$error":"#REF!"}},{"$f":"AND(#REF!,\"AAAAAHOy/2c=\")","v":{"$error":"#REF!"}},{"$f":"AND(#REF!,\"AAAAAHOy/2g=\")","v":{"$error":"#REF!"}},{"$f":"AND(#REF!,\"AAAAAHOy/2k=\")","v":{"$error":"#REF!"}},{"$f":"AND(#REF!,\"AAAAAHOy/2o=\")","v":{"$error":"#REF!"}},{"$f":"AND(#REF!,\"AAAAAHOy/2s=\")","v":{"$error":"#REF!"}},{"$f":"AND(#REF!,\"AAAAAHOy/2w=\")","v":{"$error":"#REF!"}},{"$f":"AND(#REF!,\"AAAAAHOy/20=\")","v":{"$error":"#REF!"}},{"$f":"AND(#REF!,\"AAAAAHOy/24=\")","v":{"$error":"#REF!"}},{"$f":"AND(#REF!,\"AAAAAHOy/28=\")","v":{"$error":"#REF!"}},{"$f":"AND(#REF!,\"AAAAAHOy/3A=\")","v":{"$error":"#REF!"}},{"$f":"AND(#REF!,\"AAAAAHOy/3E=\")","v":{"$error":"#REF!"}},{"$f":"AND(#REF!,\"AAAAAHOy/3I=\")","v":{"$error":"#REF!"}},{"$f":"AND(#REF!,\"AAAAAHOy/3M=\")","v":{"$error":"#REF!"}},{"$f":"AND(#REF!,\"AAAAAHOy/3Q=\")","v":{"$error":"#REF!"}},{"$f":"AND(#REF!,\"AAAAAHOy/3U=\")","v":{"$error":"#REF!"}},{"$f":"AND(#REF!,\"AAAAAHOy/3Y=\")","v":{"$error":"#REF!"}},{"$f":"AND(#REF!,\"AAAAAHOy/3c=\")","v":{"$error":"#REF!"}},{"$f":"AND(#REF!,\"AAAAAHOy/3g=\")","v":{"$error":"#REF!"}},{"$f":"AND(#REF!,\"AAAAAHOy/3k=\")","v":{"$error":"#REF!"}},{"$f":"AND(#REF!,\"AAAAAHOy/3o=\")","v":{"$error":"#REF!"}},{"$f":"AND(#REF!,\"AAAAAHOy/3s=\")","v":{"$error":"#REF!"}},{"$f":"AND(#REF!,\"AAAAAHOy/3w=\")","v":{"$error":"#REF!"}},{"$f":"AND(#REF!,\"AAAAAHOy/30=\")","v":{"$error":"#REF!"}},{"$f":"AND(#REF!,\"AAAAAHOy/34=\")","v":{"$error":"#REF!"}},{"$f":"AND(#REF!,\"AAAAAHOy/38=\")","v":{"$error":"#REF!"}},{"$f":"AND(#REF!,\"AAAAAHOy/4A=\")","v":{"$error":"#REF!"}},{"$f":"AND(#REF!,\"AAAAAHOy/4E=\")","v":{"$error":"#REF!"}},{"$f":"IF(#REF!,\"AAAAAHOy/4I=\",0)","v":{"$error":"#REF!"}},{"$f":"AND(#REF!,\"AAAAAHOy/4M=\")","v":{"$error":"#REF!"}},{"$f":"AND(#REF!,\"AAAAAHOy/4Q=\")","v":{"$error":"#REF!"}},{"$f":"AND(#REF!,\"AAAAAHOy/4U=\")","v":{"$error":"#REF!"}},{"$f":"AND(#REF!,\"AAAAAHOy/4Y=\")","v":{"$error":"#REF!"}},{"$f":"AND(#REF!,\"AAAAAHOy/4c=\")","v":{"$error":"#REF!"}},{"$f":"AND(#REF!,\"AAAAAHOy/4g=\")","v":{"$error":"#REF!"}},{"$f":"AND(#REF!,\"AAAAAHOy/4k=\")","v":{"$error":"#REF!"}},{"$f":"AND(#REF!,\"AAAAAHOy/4o=\")","v":{"$error":"#REF!"}},{"$f":"AND(#REF!,\"AAAAAHOy/4s=\")","v":{"$error":"#REF!"}},{"$f":"AND(#REF!,\"AAAAAHOy/4w=\")","v":{"$error":"#REF!"}},{"$f":"AND(#REF!,\"AAAAAHOy/40=\")","v":{"$error":"#REF!"}},{"$f":"AND(#REF!,\"AAAAAHOy/44=\")","v":{"$error":"#REF!"}},{"$f":"AND(#REF!,\"AAAAAHOy/48=\")","v":{"$error":"#REF!"}},{"$f":"AND(#REF!,\"AAAAAHOy/5A=\")","v":{"$error":"#REF!"}},{"$f":"AND(#REF!,\"AAAAAHOy/5E=\")","v":{"$error":"#REF!"}},{"$f":"AND(#REF!,\"AAAAAHOy/5I=\")","v":{"$error":"#REF!"}},{"$f":"AND(#REF!,\"AAAAAHOy/5M=\")","v":{"$error":"#REF!"}},{"$f":"AND(#REF!,\"AAAAAHOy/5Q=\")","v":{"$error":"#REF!"}},{"$f":"AND(#REF!,\"AAAAAHOy/5U=\")","v":{"$error":"#REF!"}},{"$f":"AND(#REF!,\"AAAAAHOy/5Y=\")","v":{"$error":"#REF!"}},{"$f":"AND(#REF!,\"AAAAAHOy/5c=\")","v":{"$error":"#REF!"}},{"$f":"AND(#REF!,\"AAAAAHOy/5g=\")","v":{"$error":"#REF!"}},{"$f":"AND(#REF!,\"AAAAAHOy/5k=\")","v":{"$error":"#REF!"}},{"$f":"AND(#REF!,\"AAAAAHOy/5o=\")","v":{"$error":"#REF!"}},{"$f":"AND(#REF!,\"AAAAAHOy/5s=\")","v":{"$error":"#REF!"}},{"$f":"AND(#REF!,\"AAAAAHOy/5w=\")","v":{"$error":"#REF!"}},{"$f":"AND(#REF!,\"AAAAAHOy/50=\")","v":{"$error":"#REF!"}},{"$f":"AND(#REF!,\"AAAAAHOy/54=\")","v":{"$error":"#REF!"}},{"$f":"AND(#REF!,\"AAAAAHOy/58=\")","v":{"$error":"#REF!"}},{"$f":"AND(#REF!,\"AAAAAHOy/6A=\")","v":{"$error":"#REF!"}},{"$f":"AND(#REF!,\"AAAAAHOy/6E=\")","v":{"$error":"#REF!"}},{"$f":"AND(#REF!,\"AAAAAHOy/6I=\")","v":{"$error":"#REF!"}},{"$f":"AND(#REF!,\"AAAAAHOy/6M=\")","v":{"$error":"#REF!"}},{"$f":"IF(#REF!,\"AAAAAHOy/6Q=\",0)","v":{"$error":"#REF!"}},{"$f":"AND(#REF!,\"AAAAAHOy/6U=\")","v":{"$error":"#REF!"}},{"$f":"AND(#REF!,\"AAAAAHOy/6Y=\")","v":{"$error":"#REF!"}},{"$f":"AND(#REF!,\"AAAAAHOy/6c=\")","v":{"$error":"#REF!"}},{"$f":"AND(#REF!,\"AAAAAHOy/6g=\")","v":{"$error":"#REF!"}},{"$f":"AND(#REF!,\"AAAAAHOy/6k=\")","v":{"$error":"#REF!"}},{"$f":"AND(#REF!,\"AAAAAHOy/6o=\")","v":{"$error":"#REF!"}},{"$f":"AND(#REF!,\"AAAAAHOy/6s=\")","v":{"$error":"#REF!"}},{"$f":"AND(#REF!,\"AAAAAHOy/6w=\")","v":{"$error":"#REF!"}},{"$f":"AND(#REF!,\"AAAAAHOy/60=\")","v":{"$error":"#REF!"}},{"$f":"AND(#REF!,\"AAAAAHOy/64=\")","v":{"$error":"#REF!"}},{"$f":"AND(#REF!,\"AAAAAHOy/68=\")","v":{"$error":"#REF!"}},{"$f":"AND(#REF!,\"AAAAAHOy/7A=\")","v":{"$error":"#REF!"}},{"$f":"AND(#REF!,\"AAAAAHOy/7E=\")","v":{"$error":"#REF!"}},{"$f":"AND(#REF!,\"AAAAAHOy/7I=\")","v":{"$error":"#REF!"}},{"$f":"AND(#REF!,\"AAAAAHOy/7M=\")","v":{"$error":"#REF!"}},{"$f":"AND(#REF!,\"AAAAAHOy/7Q=\")","v":{"$error":"#REF!"}},{"$f":"AND(#REF!,\"AAAAAHOy/7U=\")","v":{"$error":"#REF!"}},{"$f":"AND(#REF!,\"AAAAAHOy/7Y=\")","v":{"$error":"#REF!"}},{"$f":"AND(#REF!,\"AAAAAHOy/7c=\")","v":{"$error":"#REF!"}},{"$f":"AND(#REF!,\"AAAAAHOy/7g=\")","v":{"$error":"#REF!"}},{"$f":"AND(#REF!,\"AAAAAHOy/7k=\")","v":{"$error":"#REF!"}},{"$f":"AND(#REF!,\"AAAAAHOy/7o=\")","v":{"$error":"#REF!"}},{"$f":"AND(#REF!,\"AAAAAHOy/7s=\")","v":{"$error":"#REF!"}},{"$f":"AND(#REF!,\"AAAAAHOy/7w=\")","v":{"$error":"#REF!"}},{"$f":"AND(#REF!,\"AAAAAHOy/70=\")","v":{"$error":"#REF!"}},{"$f":"AND(#REF!,\"AAAAAHOy/74=\")","v":{"$error":"#REF!"}},{"$f":"AND(#REF!,\"AAAAAHOy/78=\")","v":{"$error":"#REF!"}},{"$f":"AND(#REF!,\"AAAAAHOy/8A=\")","v":{"$error":"#REF!"}},{"$f":"AND(#REF!,\"AAAAAHOy/8E=\")","v":{"$error":"#REF!"}},{"$f":"AND(#REF!,\"AAAAAHOy/8I=\")","v":{"$error":"#REF!"}},{"$f":"AND(#REF!,\"AAAAAHOy/8M=\")","v":{"$error":"#REF!"}},{"$f":"AND(#REF!,\"AAAAAHOy/8Q=\")","v":{"$error":"#REF!"}},{"$f":"AND(#REF!,\"AAAAAHOy/8U=\")","v":{"$error":"#REF!"}},{"$f":"IF(#REF!,\"AAAAAHOy/8Y=\",0)","v":{"$error":"#REF!"}},{"$f":"AND(#REF!,\"AAAAAHOy/8c=\")","v":{"$error":"#REF!"}},{"$f":"AND(#REF!,\"AAAAAHOy/8g=\")","v":{"$error":"#REF!"}},{"$f":"AND(#REF!,\"AAAAAHOy/8k=\")","v":{"$error":"#REF!"}},{"$f":"AND(#REF!,\"AAAAAHOy/8o=\")","v":{"$error":"#REF!"}},{"$f":"AND(#REF!,\"AAAAAHOy/8s=\")","v":{"$error":"#REF!"}},{"$f":"AND(#REF!,\"AAAAAHOy/8w=\")","v":{"$error":"#REF!"}},{"$f":"AND(#REF!,\"AAAAAHOy/80=\")","v":{"$error":"#REF!"}},{"$f":"AND(#REF!,\"AAAAAHOy/84=\")","v":{"$error":"#REF!"}},{"$f":"AND(#REF!,\"AAAAAHOy/88=\")","v":{"$error":"#REF!"}},{"$f":"AND(#REF!,\"AAAAAHOy/9A=\")","v":{"$error":"#REF!"}},{"$f":"AND(#REF!,\"AAAAAHOy/9E=\")","v":{"$error":"#REF!"}},{"$f":"AND(#REF!,\"AAAAAHOy/9I=\")","v":{"$error":"#REF!"}},{"$f":"AND(#REF!,\"AAAAAHOy/9M=\")","v":{"$error":"#REF!"}},{"$f":"AND(#REF!,\"AAAAAHOy/9Q=\")","v":{"$error":"#REF!"}},{"$f":"AND(#REF!,\"AAAAAHOy/9U=\")","v":{"$error":"#REF!"}},{"$f":"AND(#REF!,\"AAAAAHOy/9Y=\")","v":{"$error":"#REF!"}},{"$f":"AND(#REF!,\"AAAAAHOy/9c=\")","v":{"$error":"#REF!"}},{"$f":"AND(#REF!,\"AAAAAHOy/9g=\")","v":{"$error":"#REF!"}},{"$f":"AND(#REF!,\"AAAAAHOy/9k=\")","v":{"$error":"#REF!"}},{"$f":"AND(#REF!,\"AAAAAHOy/9o=\")","v":{"$error":"#REF!"}},{"$f":"AND(#REF!,\"AAAAAHOy/9s=\")","v":{"$error":"#REF!"}},{"$f":"AND(#REF!,\"AAAAAHOy/9w=\")","v":{"$error":"#REF!"}},{"$f":"AND(#REF!,\"AAAAAHOy/90=\")","v":{"$error":"#REF!"}},{"$f":"AND(#REF!,\"AAAAAHOy/94=\")","v":{"$error":"#REF!"}},{"$f":"AND(#REF!,\"AAAAAHOy/98=\")","v":{"$error":"#REF!"}},{"$f":"AND(#REF!,\"AAAAAHOy/+A=\")","v":{"$error":"#REF!"}},{"$f":"AND(#REF!,\"AAAAAHOy/+E=\")","v":{"$error":"#REF!"}},{"$f":"AND(#REF!,\"AAAAAHOy/+I=\")","v":{"$error":"#REF!"}},{"$f":"AND(#REF!,\"AAAAAHOy/+M=\")","v":{"$error":"#REF!"}},{"$f":"AND(#REF!,\"AAAAAHOy/+Q=\")","v":{"$error":"#REF!"}},{"$f":"AND(#REF!,\"AAAAAHOy/+U=\")","v":{"$error":"#REF!"}},{"$f":"AND(#REF!,\"AAAAAHOy/+Y=\")","v":{"$error":"#REF!"}},{"$f":"AND(#REF!,\"AAAAAHOy/+c=\")","v":{"$error":"#REF!"}},{"$f":"IF(#REF!,\"AAAAAHOy/+g=\",0)","v":{"$error":"#REF!"}},{"$f":"AND(#REF!,\"AAAAAHOy/+k=\")","v":{"$error":"#REF!"}},{"$f":"AND(#REF!,\"AAAAAHOy/+o=\")","v":{"$error":"#REF!"}},{"$f":"AND(#REF!,\"AAAAAHOy/+s=\")","v":{"$error":"#REF!"}},{"$f":"AND(#REF!,\"AAAAAHOy/+w=\")","v":{"$error":"#REF!"}},{"$f":"AND(#REF!,\"AAAAAHOy/+0=\")","v":{"$error":"#REF!"}},{"$f":"AND(#REF!,\"AAAAAHOy/+4=\")","v":{"$error":"#REF!"}},{"$f":"AND(#REF!,\"AAAAAHOy/+8=\")","v":{"$error":"#REF!"}},{"$f":"AND(#REF!,\"AAAAAHOy//A=\")","v":{"$error":"#REF!"}},{"$f":"AND(#REF!,\"AAAAAHOy//E=\")","v":{"$error":"#REF!"}},{"$f":"AND(#REF!,\"AAAAAHOy//I=\")","v":{"$error":"#REF!"}},{"$f":"AND(#REF!,\"AAAAAHOy//M=\")","v":{"$error":"#REF!"}},{"$f":"AND(#REF!,\"AAAAAHOy//Q=\")","v":{"$error":"#REF!"}},{"$f":"AND(#REF!,\"AAAAAHOy//U=\")","v":{"$error":"#REF!"}},{"$f":"AND(#REF!,\"AAAAAHOy//Y=\")","v":{"$error":"#REF!"}},{"$f":"AND(#REF!,\"AAAAAHOy//c=\")","v":{"$error":"#REF!"}},{"$f":"AND(#REF!,\"AAAAAHOy//g=\")","v":{"$error":"#REF!"}},{"$f":"AND(#REF!,\"AAAAAHOy//k=\")","v":{"$error":"#REF!"}},{"$f":"AND(#REF!,\"AAAAAHOy//o=\")","v":{"$error":"#REF!"}},{"$f":"AND(#REF!,\"AAAAAHOy//s=\")","v":{"$error":"#REF!"}},{"$f":"AND(#REF!,\"AAAAAHOy//w=\")","v":{"$error":"#REF!"}},{"$f":"AND(#REF!,\"AAAAAHOy//0=\")","v":{"$error":"#REF!"}},{"$f":"AND(#REF!,\"AAAAAHOy//4=\")","v":{"$error":"#REF!"}},{"$f":"AND(#REF!,\"AAAAAHOy//8=\")","v":{"$error":"#REF!"}}]
[{"$f":"AND(#REF!,\"AAAAAHLW3wA=\")","v":{"$error":"#REF!"}},{"$f":"AND(#REF!,\"AAAAAHLW3wE=\")","v":{"$error":"#REF!"}},{"$f":"AND(#REF!,\"AAAAAHLW3wI=\")","v":{"$error":"#REF!"}},{"$f":"AND(#REF!,\"AAAAAHLW3wM=\")","v":{"$error":"#REF!"}},{"$f":"AND(#REF!,\"AAAAAHLW3wQ=\")","v":{"$error":"#REF!"}},{"$f":"AND(#REF!,\"AAAAAHLW3wU=\")","v":{"$error":"#REF!"}},{"$f":"AND(#REF!,\"AAAAAHLW3wY=\")","v":{"$error":"#REF!"}},{"$f":"AND(#REF!,\"AAAAAHLW3wc=\")","v":{"$error":"#REF!"}},{"$f":"AND(#REF!,\"AAAAAHLW3wg=\")","v":{"$error":"#REF!"}},{"$f":"AND(#REF!,\"AAAAAHLW3wk=\")","v":{"$error":"#REF!"}},{"$f":"IF(#REF!,\"AAAAAHLW3wo=\",0)","v":{"$error":"#REF!"}},{"$f":"AND(#REF!,\"AAAAAHLW3ws=\")","v":{"$error":"#REF!"}},{"$f":"AND(#REF!,\"AAAAAHLW3ww=\")","v":{"$error":"#REF!"}},{"$f":"AND(#REF!,\"AAAAAHLW3w0=\")","v":{"$error":"#REF!"}},{"$f":"AND(#REF!,\"AAAAAHLW3w4=\")","v":{"$error":"#REF!"}},{"$f":"AND(#REF!,\"AAAAAHLW3w8=\")","v":{"$error":"#REF!"}},{"$f":"AND(#REF!,\"AAAAAHLW3xA=\")","v":{"$error":"#REF!"}},{"$f":"AND(#REF!,\"AAAAAHLW3xE=\")","v":{"$error":"#REF!"}},{"$f":"AND(#REF!,\"AAAAAHLW3xI=\")","v":{"$error":"#REF!"}},{"$f":"AND(#REF!,\"AAAAAHLW3xM=\")","v":{"$error":"#REF!"}},{"$f":"AND(#REF!,\"AAAAAHLW3xQ=\")","v":{"$error":"#REF!"}},{"$f":"AND(#REF!,\"AAAAAHLW3xU=\")","v":{"$error":"#REF!"}},{"$f":"AND(#REF!,\"AAAAAHLW3xY=\")","v":{"$error":"#REF!"}},{"$f":"AND(#REF!,\"AAAAAHLW3xc=\")","v":{"$error":"#REF!"}},{"$f":"AND(#REF!,\"AAAAAHLW3xg=\")","v":{"$error":"#REF!"}},{"$f":"AND(#REF!,\"AAAAAHLW3xk=\")","v":{"$error":"#REF!"}},{"$f":"AND(#REF!,\"AAAAAHLW3xo=\")","v":{"$error":"#REF!"}},{"$f":"AND(#REF!,\"AAAAAHLW3xs=\")","v":{"$error":"#REF!"}},{"$f":"AND(#REF!,\"AAAAAHLW3xw=\")","v":{"$error":"#REF!"}},{"$f":"AND(#REF!,\"AAAAAHLW3x0=\")","v":{"$error":"#REF!"}},{"$f":"AND(#REF!,\"AAAAAHLW3x4=\")","v":{"$error":"#REF!"}},{"$f":"AND(#REF!,\"AAAAAHLW3x8=\")","v":{"$error":"#REF!"}},{"$f":"AND(#REF!,\"AAAAAHLW3yA=\")","v":{"$error":"#REF!"}},{"$f":"AND(#REF!,\"AAAAAHLW3yE=\")","v":{"$error":"#REF!"}},{"$f":"AND(#REF!,\"AAAAAHLW3yI=\")","v":{"$error":"#REF!"}},{"$f":"AND(#REF!,\"AAAAAHLW3yM=\")","v":{"$error":"#REF!"}},{"$f":"AND(#REF!,\"AAAAAHLW3yQ=\")","v":{"$error":"#REF!"}},{"$f":"AND(#REF!,\"AAAAAHLW3yU=\")","v":{"$error":"#REF!"}},{"$f":"AND(#REF!,\"AAAAAHLW3yY=\")","v":{"$error":"#REF!"}},{"$f":"AND(#REF!,\"AAAAAHLW3yc=\")","v":{"$error":"#REF!"}},{"$f":"AND(#REF!,\"AAAAAHLW3yg=\")","v":{"$error":"#REF!"}},{"$f":"AND(#REF!,\"AAAAAHLW3yk=\")","v":{"$error":"#REF!"}},{"$f":"AND(#REF!,\"AAAAAHLW3yo=\")","v":{"$error":"#REF!"}},{"$f":"AND(#REF!,\"AAAAAHLW3ys=\")","v":{"$error":"#REF!"}},{"$f":"IF(#REF!,\"AAAAAHLW3yw=\",0)","v":{"$error":"#REF!"}},{"$f":"AND(#REF!,\"AAAAAHLW3y0=\")","v":{"$error":"#REF!"}},{"$f":"AND(#REF!,\"AAAAAHLW3y4=\")","v":{"$error":"#REF!"}},{"$f":"AND(#REF!,\"AAAAAHLW3y8=\")","v":{"$error":"#REF!"}},{"$f":"AND(#REF!,\"AAAAAHLW3zA=\")","v":{"$error":"#REF!"}},{"$f":"AND(#REF!,\"AAAAAHLW3zE=\")","v":{"$error":"#REF!"}},{"$f":"AND(#REF!,\"AAAAAHLW3zI=\")","v":{"$error":"#REF!"}},{"$f":"AND(#REF!,\"AAAAAHLW3zM=\")","v":{"$error":"#REF!"}},{"$f":"AND(#REF!,\"AAAAAHLW3zQ=\")","v":{"$error":"#REF!"}},{"$f":"AND(#REF!,\"AAAAAHLW3zU=\")","v":{"$error":"#REF!"}},{"$f":"AND(#REF!,\"AAAAAHLW3zY=\")","v":{"$error":"#REF!"}},{"$f":"AND(#REF!,\"AAAAAHLW3zc=\")","v":{"$error":"#REF!"}},{"$f":"AND(#REF!,\"AAAAAHLW3zg=\")","v":{"$error":"#REF!"}},{"$f":"AND(#REF!,\"AAAAAHLW3zk=\")","v":{"$error":"#REF!"}},{"$f":"AND(#REF!,\"AAAAAHLW3zo=\")","v":{"$error":"#REF!"}},{"$f":"AND(#REF!,\"AAAAAHLW3zs=\")","v":{"$error":"#REF!"}},{"$f":"AND(#REF!,\"AAAAAHLW3zw=\")","v":{"$error":"#REF!"}},{"$f":"AND(#REF!,\"AAAAAHLW3z0=\")","v":{"$error":"#REF!"}},{"$f":"AND(#REF!,\"AAAAAHLW3z4=\")","v":{"$error":"#REF!"}},{"$f":"AND(#REF!,\"AAAAAHLW3z8=\")","v":{"$error":"#REF!"}},{"$f":"AND(#REF!,\"AAAAAHLW30A=\")","v":{"$error":"#REF!"}},{"$f":"AND(#REF!,\"AAAAAHLW30E=\")","v":{"$error":"#REF!"}},{"$f":"AND(#REF!,\"AAAAAHLW30I=\")","v":{"$error":"#REF!"}},{"$f":"AND(#REF!,\"AAAAAHLW30M=\")","v":{"$error":"#REF!"}},{"$f":"AND(#REF!,\"AAAAAHLW30Q=\")","v":{"$error":"#REF!"}},{"$f":"AND(#REF!,\"AAAAAHLW30U=\")","v":{"$error":"#REF!"}},{"$f":"AND(#REF!,\"AAAAAHLW30Y=\")","v":{"$error":"#REF!"}},{"$f":"AND(#REF!,\"AAAAAHLW30c=\")","v":{"$error":"#REF!"}},{"$f":"AND(#REF!,\"AAAAAHLW30g=\")","v":{"$error":"#REF!"}},{"$f":"AND(#REF!,\"AAAAAHLW30k=\")","v":{"$error":"#REF!"}},{"$f":"AND(#REF!,\"AAAAAHLW30o=\")","v":{"$error":"#REF!"}},{"$f":"AND(#REF!,\"AAAAAHLW30s=\")","v":{"$error":"#REF!"}},{"$f":"AND(#REF!,\"AAAAAHLW30w=\")","v":{"$error":"#REF!"}},{"$f":"AND(#REF!,\"AAAAAHLW300=\")","v":{"$error":"#REF!"}},{"$f":"IF(#REF!,\"AAAAAHLW304=\",0)","v":{"$error":"#REF!"}},{"$f":"AND(#REF!,\"AAAAAHLW308=\")","v":{"$error":"#REF!"}},{"$f":"AND(#REF!,\"AAAAAHLW31A=\")","v":{"$error":"#REF!"}},{"$f":"AND(#REF!,\"AAAAAHLW31E=\")","v":{"$error":"#REF!"}},{"$f":"AND(#REF!,\"AAAAAHLW31I=\")","v":{"$error":"#REF!"}},{"$f":"AND(#REF!,\"AAAAAHLW31M=\")","v":{"$error":"#REF!"}},{"$f":"AND(#REF!,\"AAAAAHLW31Q=\")","v":{"$error":"#REF!"}},{"$f":"AND(#REF!,\"AAAAAHLW31U=\")","v":{"$error":"#REF!"}},{"$f":"AND(#REF!,\"AAAAAHLW31Y=\")","v":{"$error":"#REF!"}},{"$f":"AND(#REF!,\"AAAAAHLW31c=\")","v":{"$error":"#REF!"}},{"$f":"AND(#REF!,\"AAAAAHLW31g=\")","v":{"$error":"#REF!"}},{"$f":"AND(#REF!,\"AAAAAHLW31k=\")","v":{"$error":"#REF!"}},{"$f":"AND(#REF!,\"AAAAAHLW31o=\")","v":{"$error":"#REF!"}},{"$f":"AND(#REF!,\"AAAAAHLW31s=\")","v":{"$error":"#REF!"}},{"$f":"AND(#REF!,\"AAAAAHLW31w=\")","v":{"$error":"#REF!"}},{"$f":"AND(#REF!,\"AAAAAHLW310=\")","v":{"$error":"#REF!"}},{"$f":"AND(#REF!,\"AAAAAHLW314=\")","v":{"$error":"#REF!"}},{"$f":"AND(#REF!,\"AAAAAHLW318=\")","v":{"$error":"#REF!"}},{"$f":"AND(#REF!,\"AAAAAHLW32A=\")","v":{"$error":"#REF!"}},{"$f":"AND(#REF!,\"AAAAAHLW32E=\")","v":{"$error":"#REF!"}},{"$f":"AND(#REF!,\"AAAAAHLW32I=\")","v":{"$error":"#REF!"}},{"$f":"AND(#REF!,\"AAAAAHLW32M=\")","v":{"$error":"#REF!"}},{"$f":"AND(#REF!,\"AAAAAHLW32Q=\")","v":{"$error":"#REF!"}},{"$f":"AND(#REF!,\"AAAAAHLW32U=\")","v":{"$error":"#REF!"}},{"$f":"AND(#REF!,\"AAAAAHLW32Y=\")","v":{"$error":"#REF!"}},{"$f":"AND(#REF!,\"AAAAAHLW32c=\")","v":{"$error":"#REF!"}},{"$f":"AND(#REF!,\"AAAAAHLW32g=\")","v":{"$error":"#REF!"}},{"$f":"AND(#REF!,\"AAAAAHLW32k=\")","v":{"$error":"#REF!"}},{"$f":"AND(#REF!,\"AAAAAHLW32o=\")","v":{"$error":"#REF!"}},{"$f":"AND(#REF!,\"AAAAAHLW32s=\")","v":{"$error":"#REF!"}},{"$f":"AND(#REF!,\"AAAAAHLW32w=\")","v":{"$error":"#REF!"}},{"$f":"AND(#REF!,\"AAAAAHLW320=\")","v":{"$error":"#REF!"}},{"$f":"AND(#REF!,\"AAAAAHLW324=\")","v":{"$error":"#REF!"}},{"$f":"AND(#REF!,\"AAAAAHLW328=\")","v":{"$error":"#REF!"}},{"$f":"IF(#REF!,\"AAAAAHLW33A=\",0)","v":{"$error":"#REF!"}},{"$f":"AND(#REF!,\"AAAAAHLW33E=\")","v":{"$error":"#REF!"}},{"$f":"AND(#REF!,\"AAAAAHLW33I=\")","v":{"$error":"#REF!"}},{"$f":"AND(#REF!,\"AAAAAHLW33M=\")","v":{"$error":"#REF!"}},{"$f":"AND(#REF!,\"AAAAAHLW33Q=\")","v":{"$error":"#REF!"}},{"$f":"AND(#REF!,\"AAAAAHLW33U=\")","v":{"$error":"#REF!"}},{"$f":"AND(#REF!,\"AAAAAHLW33Y=\")","v":{"$error":"#REF!"}},{"$f":"AND(#REF!,\"AAAAAHLW33c=\")","v":{"$error":"#REF!"}},{"$f":"AND(#REF!,\"AAAAAHLW33g=\")","v":{"$error":"#REF!"}},{"$f":"AND(#REF!,\"AAAAAHLW33k=\")","v":{"$error":"#REF!"}},{"$f":"AND(#REF!,\"AAAAAHLW33o=\")","v":{"$error":"#REF!"}},{"$f":"AND(#REF!,\"AAAAAHLW33s=\")","v":{"$error":"#REF!"}},{"$f":"AND(#REF!,\"AAAAAHLW33w=\")","v":{"$error":"#REF!"}},{"$f":"AND(#REF!,\"AAAAAHLW330=\")","v":{"$error":"#REF!"}},{"$f":"AND(#REF!,\"AAAAAHLW334=\")","v":{"$error":"#REF!"}},{"$f":"AND(#REF!,\"AAAAAHLW338=\")","v":{"$error":"#REF!"}},{"$f":"AND(#REF!,\"AAAAAHLW34A=\")","v":{"$error":"#REF!"}},{"$f":"AND(#REF!,\"AAAAAHLW34E=\")","v":{"$error":"#REF!"}},{"$f":"AND(#REF!,\"AAAAAHLW34I=\")","v":{"$error":"#REF!"}},{"$f":"AND(#REF!,\"AAAAAHLW34M=\")","v":{"$error":"#REF!"}},{"$f":"AND(#REF!,\"AAAAAHLW34Q=\")","v":{"$error":"#REF!"}},{"$f":"AND(#REF!,\"AAAAAHLW34U=\")","v":{"$error":"#REF!"}},{"$f":"AND(#REF!,\"AAAAAHLW34Y=\")","v":{"$error":"#REF!"}},{"$f":"AND(#REF!,\"AAAAAHLW34c=\")","v":{"$error":"#REF!"}},{"$f":"AND(#REF!,\"AAAAAHLW34g=\")","v":{"$error":"#REF!"}},{"$f":"AND(#REF!,\"AAAAAHLW34k=\")","v":{"$error":"#REF!"}},{"$f":"AND(#REF!,\"AAAAAHLW34o=\")","v":{"$error":"#REF!"}},{"$f":"AND(#REF!,\"AAAAAHLW34s=\")","v":{"$error":"#REF!"}},{"$f":"AND(#REF!,\"AAAAAHLW34w=\")","v":{"$error":"#REF!"}},{"$f":"AND(#REF!,\"AAAAAHLW340=\")","v":{"$error":"#REF!"}},{"$f":"AND(#REF!,\"AAAAAHLW344=\")","v":{"$error":"#REF!"}},{"$f":"AND(#REF!,\"AAAAAHLW348=\")","v":{"$error":"#REF!"}},{"$f":"AND(#REF!,\"AAAAAHLW35A=\")","v":{"$error":"#REF!"}},{"$f":"AND(#REF!,\"AAAAAHLW35E=\")","v":{"$error":"#REF!"}},{"$f":"IF(#REF!,\"AAAAAHLW35I=\",0)","v":{"$error":"#REF!"}},{"$f":"AND(#REF!,\"AAAAAHLW35M=\")","v":{"$error":"#REF!"}},{"$f":"AND(#REF!,\"AAAAAHLW35Q=\")","v":{"$error":"#REF!"}},{"$f":"AND(#REF!,\"AAAAAHLW35U=\")","v":{"$error":"#REF!"}},{"$f":"AND(#REF!,\"AAAAAHLW35Y=\")","v":{"$error":"#REF!"}},{"$f":"AND(#REF!,\"AAAAAHLW35c=\")","v":{"$error":"#REF!"}},{"$f":"AND(#REF!,\"AAAAAHLW35g=\")","v":{"$error":"#REF!"}},{"$f":"AND(#REF!,\"AAAAAHLW35k=\")","v":{"$error":"#REF!"}},{"$f":"AND(#REF!,\"AAAAAHLW35o=\")","v":{"$error":"#REF!"}},{"$f":"AND(#REF!,\"AAAAAHLW35s=\")","v":{"$error":"#REF!"}},{"$f":"AND(#REF!,\"AAAAAHLW35w=\")","v":{"$error":"#REF!"}},{"$f":"AND(#REF!,\"AAAAAHLW350=\")","v":{"$error":"#REF!"}},{"$f":"AND(#REF!,\"AAAAAHLW354=\")","v":{"$error":"#REF!"}},{"$f":"AND(#REF!,\"AAAAAHLW358=\")","v":{"$error":"#REF!"}},{"$f":"AND(#REF!,\"AAAAAHLW36A=\")","v":{"$error":"#REF!"}},{"$f":"AND(#REF!,\"AAAAAHLW36E=\")","v":{"$error":"#REF!"}},{"$f":"AND(#REF!,\"AAAAAHLW36I=\")","v":{"$error":"#REF!"}},{"$f":"AND(#REF!,\"AAAAAHLW36M=\")","v":{"$error":"#REF!"}},{"$f":"AND(#REF!,\"AAAAAHLW36Q=\")","v":{"$error":"#REF!"}},{"$f":"AND(#REF!,\"AAAAAHLW36U=\")","v":{"$error":"#REF!"}},{"$f":"AND(#REF!,\"AAAAAHLW36Y=\")","v":{"$error":"#REF!"}},{"$f":"AND(#REF!,\"AAAAAHLW36c=\")","v":{"$error":"#REF!"}},{"$f":"AND(#REF!,\"AAAAAHLW36g=\")","v":{"$error":"#REF!"}},{"$f":"AND(#REF!,\"AAAAAHLW36k=\")","v":{"$error":"#REF!"}},{"$f":"AND(#REF!,\"AAAAAHLW36o=\")","v":{"$error":"#REF!"}},{"$f":"AND(#REF!,\"AAAAAHLW36s=\")","v":{"$error":"#REF!"}},{"$f":"AND(#REF!,\"AAAAAHLW36w=\")","v":{"$error":"#REF!"}},{"$f":"AND(#REF!,\"AAAAAHLW360=\")","v":{"$error":"#REF!"}},{"$f":"AND(#REF!,\"AAAAAHLW364=\")","v":{"$error":"#REF!"}},{"$f":"AND(#REF!,\"AAAAAHLW368=\")","v":{"$error":"#REF!"}},{"$f":"AND(#REF!,\"AAAAAHLW37A=\")","v":{"$error":"#REF!"}},{"$f":"AND(#REF!,\"AAAAAHLW37E=\")","v":{"$error":"#REF!"}},{"$f":"AND(#REF!,\"AAAAAHLW37I=\")","v":{"$error":"#REF!"}},{"$f":"AND(#REF!,\"AAAAAHLW37M=\")","v":{"$error":"#REF!"}},{"$f":"IF(#REF!,\"AAAAAHLW37Q=\",0)","v":{"$error":"#REF!"}},{"$f":"AND(#REF!,\"AAAAAHLW37U=\")","v":{"$error":"#REF!"}},{"$f":"AND(#REF!,\"AAAAAHLW37Y=\")","v":{"$error":"#REF!"}},{"$f":"AND(#REF!,\"AAAAAHLW37c=\")","v":{"$error":"#REF!"}},{"$f":"AND(#REF!,\"AAAAAHLW37g=\")","v":{"$error":"#REF!"}},{"$f":"AND(#REF!,\"AAAAAHLW37k=\")","v":{"$error":"#REF!"}},{"$f":"AND(#REF!,\"AAAAAHLW37o=\")","v":{"$error":"#REF!"}},{"$f":"AND(#REF!,\"AAAAAHLW37s=\")","v":{"$error":"#REF!"}},{"$f":"AND(#REF!,\"AAAAAHLW37w=\")","v":{"$error":"#REF!"}},{"$f":"AND(#REF!,\"AAAAAHLW370=\")","v":{"$error":"#REF!"}},{"$f":"AND(#REF!,\"AAAAAHLW374=\")","v":{"$error":"#REF!"}},{"$f":"AND(#REF!,\"AAAAAHLW378=\")","v":{"$error":"#REF!"}},{"$f":"AND(#REF!,\"AAAAAHLW38A=\")","v":{"$error":"#REF!"}},{"$f":"AND(#REF!,\"AAAAAHLW38E=\")","v":{"$error":"#REF!"}},{"$f":"AND(#REF!,\"AAAAAHLW38I=\")","v":{"$error":"#REF!"}},{"$f":"AND(#REF!,\"AAAAAHLW38M=\")","v":{"$error":"#REF!"}},{"$f":"AND(#REF!,\"AAAAAHLW38Q=\")","v":{"$error":"#REF!"}},{"$f":"AND(#REF!,\"AAAAAHLW38U=\")","v":{"$error":"#REF!"}},{"$f":"AND(#REF!,\"AAAAAHLW38Y=\")","v":{"$error":"#REF!"}},{"$f":"AND(#REF!,\"AAAAAHLW38c=\")","v":{"$error":"#REF!"}},{"$f":"AND(#REF!,\"AAAAAHLW38g=\")","v":{"$error":"#REF!"}},{"$f":"AND(#REF!,\"AAAAAHLW38k=\")","v":{"$error":"#REF!"}},{"$f":"AND(#REF!,\"AAAAAHLW38o=\")","v":{"$error":"#REF!"}},{"$f":"AND(#REF!,\"AAAAAHLW38s=\")","v":{"$error":"#REF!"}},{"$f":"AND(#REF!,\"AAAAAHLW38w=\")","v":{"$error":"#REF!"}},{"$f":"AND(#REF!,\"AAAAAHLW380=\")","v":{"$error":"#REF!"}},{"$f":"AND(#REF!,\"AAAAAHLW384=\")","v":{"$error":"#REF!"}},{"$f":"AND(#REF!,\"AAAAAHLW388=\")","v":{"$error":"#REF!"}},{"$f":"AND(#REF!,\"AAAAAHLW39A=\")","v":{"$error":"#REF!"}},{"$f":"AND(#REF!,\"AAAAAHLW39E=\")","v":{"$error":"#REF!"}},{"$f":"AND(#REF!,\"AAAAAHLW39I=\")","v":{"$error":"#REF!"}},{"$f":"AND(#REF!,\"AAAAAHLW39M=\")","v":{"$error":"#REF!"}},{"$f":"AND(#REF!,\"AAAAAHLW39Q=\")","v":{"$error":"#REF!"}},{"$f":"AND(#REF!,\"AAAAAHLW39U=\")","v":{"$error":"#REF!"}},{"$f":"IF(#REF!,\"AAAAAHLW39Y=\",0)","v":{"$error":"#REF!"}},{"$f":"AND(#REF!,\"AAAAAHLW39c=\")","v":{"$error":"#REF!"}},{"$f":"AND(#REF!,\"AAAAAHLW39g=\")","v":{"$error":"#REF!"}},{"$f":"AND(#REF!,\"AAAAAHLW39k=\")","v":{"$error":"#REF!"}},{"$f":"AND(#REF!,\"AAAAAHLW39o=\")","v":{"$error":"#REF!"}},{"$f":"AND(#REF!,\"AAAAAHLW39s=\")","v":{"$error":"#REF!"}},{"$f":"AND(#REF!,\"AAAAAHLW39w=\")","v":{"$error":"#REF!"}},{"$f":"AND(#REF!,\"AAAAAHLW390=\")","v":{"$error":"#REF!"}},{"$f":"AND(#REF!,\"AAAAAHLW394=\")","v":{"$error":"#REF!"}},{"$f":"AND(#REF!,\"AAAAAHLW398=\")","v":{"$error":"#REF!"}},{"$f":"AND(#REF!,\"AAAAAHLW3+A=\")","v":{"$error":"#REF!"}},{"$f":"AND(#REF!,\"AAAAAHLW3+E=\")","v":{"$error":"#REF!"}},{"$f":"AND(#REF!,\"AAAAAHLW3+I=\")","v":{"$error":"#REF!"}},{"$f":"AND(#REF!,\"AAAAAHLW3+M=\")","v":{"$error":"#REF!"}},{"$f":"AND(#REF!,\"AAAAAHLW3+Q=\")","v":{"$error":"#REF!"}},{"$f":"AND(#REF!,\"AAAAAHLW3+U=\")","v":{"$error":"#REF!"}},{"$f":"AND(#REF!,\"AAAAAHLW3+Y=\")","v":{"$error":"#REF!"}},{"$f":"AND(#REF!,\"AAAAAHLW3+c=\")","v":{"$error":"#REF!"}},{"$f":"AND(#REF!,\"AAAAAHLW3+g=\")","v":{"$error":"#REF!"}},{"$f":"AND(#REF!,\"AAAAAHLW3+k=\")","v":{"$error":"#REF!"}},{"$f":"AND(#REF!,\"AAAAAHLW3+o=\")","v":{"$error":"#REF!"}},{"$f":"AND(#REF!,\"AAAAAHLW3+s=\")","v":{"$error":"#REF!"}},{"$f":"AND(#REF!,\"AAAAAHLW3+w=\")","v":{"$error":"#REF!"}},{"$f":"AND(#REF!,\"AAAAAHLW3+0=\")","v":{"$error":"#REF!"}},{"$f":"AND(#REF!,\"AAAAAHLW3+4=\")","v":{"$error":"#REF!"}},{"$f":"AND(#REF!,\"AAAAAHLW3+8=\")","v":{"$error":"#REF!"}},{"$f":"AND(#REF!,\"AAAAAHLW3/A=\")","v":{"$error":"#REF!"}},{"$f":"AND(#REF!,\"AAAAAHLW3/E=\")","v":{"$error":"#REF!"}},{"$f":"AND(#REF!,\"AAAAAHLW3/I=\")","v":{"$error":"#REF!"}},{"$f":"AND(#REF!,\"AAAAAHLW3/M=\")","v":{"$error":"#REF!"}},{"$f":"AND(#REF!,\"AAAAAHLW3/Q=\")","v":{"$error":"#REF!"}},{"$f":"AND(#REF!,\"AAAAAHLW3/U=\")","v":{"$error":"#REF!"}},{"$f":"AND(#REF!,\"AAAAAHLW3/Y=\")","v":{"$error":"#REF!"}},{"$f":"AND(#REF!,\"AAAAAHLW3/c=\")","v":{"$error":"#REF!"}},{"$f":"IF(#REF!,\"AAAAAHLW3/g=\",0)","v":{"$error":"#REF!"}},{"$f":"AND(#REF!,\"AAAAAHLW3/k=\")","v":{"$error":"#REF!"}},{"$f":"AND(#REF!,\"AAAAAHLW3/o=\")","v":{"$error":"#REF!"}},{"$f":"AND(#REF!,\"AAAAAHLW3/s=\")","v":{"$error":"#REF!"}},{"$f":"AND(#REF!,\"AAAAAHLW3/w=\")","v":{"$error":"#REF!"}},{"$f":"AND(#REF!,\"AAAAAHLW3/0=\")","v":{"$error":"#REF!"}},{"$f":"AND(#REF!,\"AAAAAHLW3/4=\")","v":{"$error":"#REF!"}},{"$f":"AND(#REF!,\"AAAAAHLW3/8=\")","v":{"$error":"#REF!"}}]
[{"$f":"AND(#REF!,\"AAAAAH8++QA=\")","v":{"$error":"#REF!"}},{"$f":"AND(#REF!,\"AAAAAH8++QE=\")","v":{"$error":"#REF!"}},{"$f":"AND(#REF!,\"AAAAAH8++QI=\")","v":{"$error":"#REF!"}},{"$f":"AND(#REF!,\"AAAAAH8++QM=\")","v":{"$error":"#REF!"}},{"$f":"AND(#REF!,\"AAAAAH8++QQ=\")","v":{"$error":"#REF!"}},{"$f":"AND(#REF!,\"AAAAAH8++QU=\")","v":{"$error":"#REF!"}},{"$f":"AND(#REF!,\"AAAAAH8++QY=\")","v":{"$error":"#REF!"}},{"$f":"AND(#REF!,\"AAAAAH8++Qc=\")","v":{"$error":"#REF!"}},{"$f":"AND(#REF!,\"AAAAAH8++Qg=\")","v":{"$error":"#REF!"}},{"$f":"AND(#REF!,\"AAAAAH8++Qk=\")","v":{"$error":"#REF!"}},{"$f":"AND(#REF!,\"AAAAAH8++Qo=\")","v":{"$error":"#REF!"}},{"$f":"AND(#REF!,\"AAAAAH8++Qs=\")","v":{"$error":"#REF!"}},{"$f":"AND(#REF!,\"AAAAAH8++Qw=\")","v":{"$error":"#REF!"}},{"$f":"AND(#REF!,\"AAAAAH8++Q0=\")","v":{"$error":"#REF!"}},{"$f":"AND(#REF!,\"AAAAAH8++Q4=\")","v":{"$error":"#REF!"}},{"$f":"AND(#REF!,\"AAAAAH8++Q8=\")","v":{"$error":"#REF!"}},{"$f":"AND(#REF!,\"AAAAAH8++RA=\")","v":{"$error":"#REF!"}},{"$f":"AND(#REF!,\"AAAAAH8++RE=\")","v":{"$error":"#REF!"}},{"$f":"AND(#REF!,\"AAAAAH8++RI=\")","v":{"$error":"#REF!"}},{"$f":"AND(#REF!,\"AAAAAH8++RM=\")","v":{"$error":"#REF!"}},{"$f":"AND(#REF!,\"AAAAAH8++RQ=\")","v":{"$error":"#REF!"}},{"$f":"AND(#REF!,\"AAAAAH8++RU=\")","v":{"$error":"#REF!"}},{"$f":"AND(#REF!,\"AAAAAH8++RY=\")","v":{"$error":"#REF!"}},{"$f":"AND(#REF!,\"AAAAAH8++Rc=\")","v":{"$error":"#REF!"}},{"$f":"AND(#REF!,\"AAAAAH8++Rg=\")","v":{"$error":"#REF!"}},{"$f":"AND(#REF!,\"AAAAAH8++Rk=\")","v":{"$error":"#REF!"}},{"$f":"IF(#REF!,\"AAAAAH8++Ro=\",0)","v":{"$error":"#REF!"}},{"$f":"AND(#REF!,\"AAAAAH8++Rs=\")","v":{"$error":"#REF!"}},{"$f":"AND(#REF!,\"AAAAAH8++Rw=\")","v":{"$error":"#REF!"}},{"$f":"AND(#REF!,\"AAAAAH8++R0=\")","v":{"$error":"#REF!"}},{"$f":"AND(#REF!,\"AAAAAH8++R4=\")","v":{"$error":"#REF!"}},{"$f":"AND(#REF!,\"AAAAAH8++R8=\")","v":{"$error":"#REF!"}},{"$f":"AND(#REF!,\"AAAAAH8++SA=\")","v":{"$error":"#REF!"}},{"$f":"AND(#REF!,\"AAAAAH8++SE=\")","v":{"$error":"#REF!"}},{"$f":"AND(#REF!,\"AAAAAH8++SI=\")","v":{"$error":"#REF!"}},{"$f":"AND(#REF!,\"AAAAAH8++SM=\")","v":{"$error":"#REF!"}},{"$f":"AND(#REF!,\"AAAAAH8++SQ=\")","v":{"$error":"#REF!"}},{"$f":"AND(#REF!,\"AAAAAH8++SU=\")","v":{"$error":"#REF!"}},{"$f":"AND(#REF!,\"AAAAAH8++SY=\")","v":{"$error":"#REF!"}},{"$f":"AND(#REF!,\"AAAAAH8++Sc=\")","v":{"$error":"#REF!"}},{"$f":"AND(#REF!,\"AAAAAH8++Sg=\")","v":{"$error":"#REF!"}},{"$f":"AND(#REF!,\"AAAAAH8++Sk=\")","v":{"$error":"#REF!"}},{"$f":"AND(#REF!,\"AAAAAH8++So=\")","v":{"$error":"#REF!"}},{"$f":"AND(#REF!,\"AAAAAH8++Ss=\")","v":{"$error":"#REF!"}},{"$f":"AND(#REF!,\"AAAAAH8++Sw=\")","v":{"$error":"#REF!"}},{"$f":"AND(#REF!,\"AAAAAH8++S0=\")","v":{"$error":"#REF!"}},{"$f":"AND(#REF!,\"AAAAAH8++S4=\")","v":{"$error":"#REF!"}},{"$f":"AND(#REF!,\"AAAAAH8++S8=\")","v":{"$error":"#REF!"}},{"$f":"AND(#REF!,\"AAAAAH8++TA=\")","v":{"$error":"#REF!"}},{"$f":"AND(#REF!,\"AAAAAH8++TE=\")","v":{"$error":"#REF!"}},{"$f":"AND(#REF!,\"AAAAAH8++TI=\")","v":{"$error":"#REF!"}},{"$f":"AND(#REF!,\"AAAAAH8++TM=\")","v":{"$error":"#REF!"}},{"$f":"AND(#REF!,\"AAAAAH8++TQ=\")","v":{"$error":"#REF!"}},{"$f":"AND(#REF!,\"AAAAAH8++TU=\")","v":{"$error":"#REF!"}},{"$f":"AND(#REF!,\"AAAAAH8++TY=\")","v":{"$error":"#REF!"}},{"$f":"AND(#REF!,\"AAAAAH8++Tc=\")","v":{"$error":"#REF!"}},{"$f":"AND(#REF!,\"AAAAAH8++Tg=\")","v":{"$error":"#REF!"}},{"$f":"AND(#REF!,\"AAAAAH8++Tk=\")","v":{"$error":"#REF!"}},{"$f":"AND(#REF!,\"AAAAAH8++To=\")","v":{"$error":"#REF!"}},{"$f":"AND(#REF!,\"AAAAAH8++Ts=\")","v":{"$error":"#REF!"}},{"$f":"IF(#REF!,\"AAAAAH8++Tw=\",0)","v":{"$error":"#REF!"}},{"$f":"AND(#REF!,\"AAAAAH8++T0=\")","v":{"$error":"#REF!"}},{"$f":"AND(#REF!,\"AAAAAH8++T4=\")","v":{"$error":"#REF!"}},{"$f":"AND(#REF!,\"AAAAAH8++T8=\")","v":{"$error":"#REF!"}},{"$f":"AND(#REF!,\"AAAAAH8++UA=\")","v":{"$error":"#REF!"}},{"$f":"AND(#REF!,\"AAAAAH8++UE=\")","v":{"$error":"#REF!"}},{"$f":"AND(#REF!,\"AAAAAH8++UI=\")","v":{"$error":"#REF!"}},{"$f":"AND(#REF!,\"AAAAAH8++UM=\")","v":{"$error":"#REF!"}},{"$f":"AND(#REF!,\"AAAAAH8++UQ=\")","v":{"$error":"#REF!"}},{"$f":"AND(#REF!,\"AAAAAH8++UU=\")","v":{"$error":"#REF!"}},{"$f":"AND(#REF!,\"AAAAAH8++UY=\")","v":{"$error":"#REF!"}},{"$f":"AND(#REF!,\"AAAAAH8++Uc=\")","v":{"$error":"#REF!"}},{"$f":"AND(#REF!,\"AAAAAH8++Ug=\")","v":{"$error":"#REF!"}},{"$f":"AND(#REF!,\"AAAAAH8++Uk=\")","v":{"$error":"#REF!"}},{"$f":"AND(#REF!,\"AAAAAH8++Uo=\")","v":{"$error":"#REF!"}},{"$f":"AND(#REF!,\"AAAAAH8++Us=\")","v":{"$error":"#REF!"}},{"$f":"AND(#REF!,\"AAAAAH8++Uw=\")","v":{"$error":"#REF!"}},{"$f":"AND(#REF!,\"AAAAAH8++U0=\")","v":{"$error":"#REF!"}},{"$f":"AND(#REF!,\"AAAAAH8++U4=\")","v":{"$error":"#REF!"}},{"$f":"AND(#REF!,\"AAAAAH8++U8=\")","v":{"$error":"#REF!"}},{"$f":"AND(#REF!,\"AAAAAH8++VA=\")","v":{"$error":"#REF!"}},{"$f":"AND(#REF!,\"AAAAAH8++VE=\")","v":{"$error":"#REF!"}},{"$f":"AND(#REF!,\"AAAAAH8++VI=\")","v":{"$error":"#REF!"}},{"$f":"AND(#REF!,\"AAAAAH8++VM=\")","v":{"$error":"#REF!"}},{"$f":"AND(#REF!,\"AAAAAH8++VQ=\")","v":{"$error":"#REF!"}},{"$f":"AND(#REF!,\"AAAAAH8++VU=\")","v":{"$error":"#REF!"}},{"$f":"AND(#REF!,\"AAAAAH8++VY=\")","v":{"$error":"#REF!"}},{"$f":"AND(#REF!,\"AAAAAH8++Vc=\")","v":{"$error":"#REF!"}},{"$f":"AND(#REF!,\"AAAAAH8++Vg=\")","v":{"$error":"#REF!"}},{"$f":"AND(#REF!,\"AAAAAH8++Vk=\")","v":{"$error":"#REF!"}},{"$f":"AND(#REF!,\"AAAAAH8++Vo=\")","v":{"$error":"#REF!"}},{"$f":"AND(#REF!,\"AAAAAH8++Vs=\")","v":{"$error":"#REF!"}},{"$f":"AND(#REF!,\"AAAAAH8++Vw=\")","v":{"$error":"#REF!"}},{"$f":"AND(#REF!,\"AAAAAH8++V0=\")","v":{"$error":"#REF!"}},{"$f":"IF(#REF!,\"AAAAAH8++V4=\",0)","v":{"$error":"#REF!"}},{"$f":"AND(#REF!,\"AAAAAH8++V8=\")","v":{"$error":"#REF!"}},{"$f":"AND(#REF!,\"AAAAAH8++WA=\")","v":{"$error":"#REF!"}},{"$f":"AND(#REF!,\"AAAAAH8++WE=\")","v":{"$error":"#REF!"}},{"$f":"AND(#REF!,\"AAAAAH8++WI=\")","v":{"$error":"#REF!"}},{"$f":"AND(#REF!,\"AAAAAH8++WM=\")","v":{"$error":"#REF!"}},{"$f":"AND(#REF!,\"AAAAAH8++WQ=\")","v":{"$error":"#REF!"}},{"$f":"AND(#REF!,\"AAAAAH8++WU=\")","v":{"$error":"#REF!"}},{"$f":"AND(#REF!,\"AAAAAH8++WY=\")","v":{"$error":"#REF!"}},{"$f":"AND(#REF!,\"AAAAAH8++Wc=\")","v":{"$error":"#REF!"}},{"$f":"AND(#REF!,\"AAAAAH8++Wg=\")","v":{"$error":"#REF!"}},{"$f":"AND(#REF!,\"AAAAAH8++Wk=\")","v":{"$error":"#REF!"}},{"$f":"AND(#REF!,\"AAAAAH8++Wo=\")","v":{"$error":"#REF!"}},{"$f":"AND(#REF!,\"AAAAAH8++Ws=\")","v":{"$error":"#REF!"}},{"$f":"AND(#REF!,\"AAAAAH8++Ww=\")","v":{"$error":"#REF!"}},{"$f":"AND(#REF!,\"AAAAAH8++W0=\")","v":{"$error":"#REF!"}},{"$f":"AND(#REF!,\"AAAAAH8++W4=\")","v":{"$error":"#REF!"}},{"$f":"AND(#REF!,\"AAAAAH8++W8=\")","v":{"$error":"#REF!"}},{"$f":"AND(#REF!,\"AAAAAH8++XA=\")","v":{"$error":"#REF!"}},{"$f":"AND(#REF!,\"AAAAAH8++XE=\")","v":{"$error":"#REF!"}},{"$f":"AND(#REF!,\"AAAAAH8++XI=\")","v":{"$error":"#REF!"}},{"$f":"AND(#REF!,\"AAAAAH8++XM=\")","v":{"$error":"#REF!"}},{"$f":"AND(#REF!,\"AAAAAH8++XQ=\")","v":{"$error":"#REF!"}},{"$f":"AND(#REF!,\"AAAAAH8++XU=\")","v":{"$error":"#REF!"}},{"$f":"AND(#REF!,\"AAAAAH8++XY=\")","v":{"$error":"#REF!"}},{"$f":"AND(#REF!,\"AAAAAH8++Xc=\")","v":{"$error":"#REF!"}},{"$f":"AND(#REF!,\"AAAAAH8++Xg=\")","v":{"$error":"#REF!"}},{"$f":"AND(#REF!,\"AAAAAH8++Xk=\")","v":{"$error":"#REF!"}},{"$f":"AND(#REF!,\"AAAAAH8++Xo=\")","v":{"$error":"#REF!"}},{"$f":"AND(#REF!,\"AAAAAH8++Xs=\")","v":{"$error":"#REF!"}},{"$f":"AND(#REF!,\"AAAAAH8++Xw=\")","v":{"$error":"#REF!"}},{"$f":"AND(#REF!,\"AAAAAH8++X0=\")","v":{"$error":"#REF!"}},{"$f":"AND(#REF!,\"AAAAAH8++X4=\")","v":{"$error":"#REF!"}},{"$f":"AND(#REF!,\"AAAAAH8++X8=\")","v":{"$error":"#REF!"}},{"$f":"IF(#REF!,\"AAAAAH8++YA=\",0)","v":{"$error":"#REF!"}},{"$f":"AND(#REF!,\"AAAAAH8++YE=\")","v":{"$error":"#REF!"}},{"$f":"AND(#REF!,\"AAAAAH8++YI=\")","v":{"$error":"#REF!"}},{"$f":"AND(#REF!,\"AAAAAH8++YM=\")","v":{"$error":"#REF!"}},{"$f":"AND(#REF!,\"AAAAAH8++YQ=\")","v":{"$error":"#REF!"}},{"$f":"AND(#REF!,\"AAAAAH8++YU=\")","v":{"$error":"#REF!"}},{"$f":"AND(#REF!,\"AAAAAH8++YY=\")","v":{"$error":"#REF!"}},{"$f":"AND(#REF!,\"AAAAAH8++Yc=\")","v":{"$error":"#REF!"}},{"$f":"AND(#REF!,\"AAAAAH8++Yg=\")","v":{"$error":"#REF!"}},{"$f":"AND(#REF!,\"AAAAAH8++Yk=\")","v":{"$error":"#REF!"}},{"$f":"AND(#REF!,\"AAAAAH8++Yo=\")","v":{"$error":"#REF!"}},{"$f":"AND(#REF!,\"AAAAAH8++Ys=\")","v":{"$error":"#REF!"}},{"$f":"AND(#REF!,\"AAAAAH8++Yw=\")","v":{"$error":"#REF!"}},{"$f":"AND(#REF!,\"AAAAAH8++Y0=\")","v":{"$error":"#REF!"}},{"$f":"AND(#REF!,\"AAAAAH8++Y4=\")","v":{"$error":"#REF!"}},{"$f":"AND(#REF!,\"AAAAAH8++Y8=\")","v":{"$error":"#REF!"}},{"$f":"AND(#REF!,\"AAAAAH8++ZA=\")","v":{"$error":"#REF!"}},{"$f":"AND(#REF!,\"AAAAAH8++ZE=\")","v":{"$error":"#REF!"}},{"$f":"AND(#REF!,\"AAAAAH8++ZI=\")","v":{"$error":"#REF!"}},{"$f":"AND(#REF!,\"AAAAAH8++ZM=\")","v":{"$error":"#REF!"}},{"$f":"AND(#REF!,\"AAAAAH8++ZQ=\")","v":{"$error":"#REF!"}},{"$f":"AND(#REF!,\"AAAAAH8++ZU=\")","v":{"$error":"#REF!"}},{"$f":"AND(#REF!,\"AAAAAH8++ZY=\")","v":{"$error":"#REF!"}},{"$f":"AND(#REF!,\"AAAAAH8++Zc=\")","v":{"$error":"#REF!"}},{"$f":"AND(#REF!,\"AAAAAH8++Zg=\")","v":{"$error":"#REF!"}},{"$f":"AND(#REF!,\"AAAAAH8++Zk=\")","v":{"$error":"#REF!"}},{"$f":"AND(#REF!,\"AAAAAH8++Zo=\")","v":{"$error":"#REF!"}},{"$f":"AND(#REF!,\"AAAAAH8++Zs=\")","v":{"$error":"#REF!"}},{"$f":"AND(#REF!,\"AAAAAH8++Zw=\")","v":{"$error":"#REF!"}},{"$f":"AND(#REF!,\"AAAAAH8++Z0=\")","v":{"$error":"#REF!"}},{"$f":"AND(#REF!,\"AAAAAH8++Z4=\")","v":{"$error":"#REF!"}},{"$f":"AND(#REF!,\"AAAAAH8++Z8=\")","v":{"$error":"#REF!"}},{"$f":"AND(#REF!,\"AAAAAH8++aA=\")","v":{"$error":"#REF!"}},{"$f":"AND(#REF!,\"AAAAAH8++aE=\")","v":{"$error":"#REF!"}},{"$f":"IF(#REF!,\"AAAAAH8++aI=\",0)","v":{"$error":"#REF!"}},{"$f":"AND(#REF!,\"AAAAAH8++aM=\")","v":{"$error":"#REF!"}},{"$f":"AND(#REF!,\"AAAAAH8++aQ=\")","v":{"$error":"#REF!"}},{"$f":"AND(#REF!,\"AAAAAH8++aU=\")","v":{"$error":"#REF!"}},{"$f":"AND(#REF!,\"AAAAAH8++aY=\")","v":{"$error":"#REF!"}},{"$f":"AND(#REF!,\"AAAAAH8++ac=\")","v":{"$error":"#REF!"}},{"$f":"AND(#REF!,\"AAAAAH8++ag=\")","v":{"$error":"#REF!"}},{"$f":"AND(#REF!,\"AAAAAH8++ak=\")","v":{"$error":"#REF!"}},{"$f":"AND(#REF!,\"AAAAAH8++ao=\")","v":{"$error":"#REF!"}},{"$f":"AND(#REF!,\"AAAAAH8++as=\")","v":{"$error":"#REF!"}},{"$f":"AND(#REF!,\"AAAAAH8++aw=\")","v":{"$error":"#REF!"}},{"$f":"AND(#REF!,\"AAAAAH8++a0=\")","v":{"$error":"#REF!"}},{"$f":"AND(#REF!,\"AAAAAH8++a4=\")","v":{"$error":"#REF!"}},{"$f":"AND(#REF!,\"AAAAAH8++a8=\")","v":{"$error":"#REF!"}},{"$f":"AND(#REF!,\"AAAAAH8++bA=\")","v":{"$error":"#REF!"}},{"$f":"AND(#REF!,\"AAAAAH8++bE=\")","v":{"$error":"#REF!"}},{"$f":"AND(#REF!,\"AAAAAH8++bI=\")","v":{"$error":"#REF!"}},{"$f":"AND(#REF!,\"AAAAAH8++bM=\")","v":{"$error":"#REF!"}},{"$f":"AND(#REF!,\"AAAAAH8++bQ=\")","v":{"$error":"#REF!"}},{"$f":"AND(#REF!,\"AAAAAH8++bU=\")","v":{"$error":"#REF!"}},{"$f":"AND(#REF!,\"AAAAAH8++bY=\")","v":{"$error":"#REF!"}},{"$f":"AND(#REF!,\"AAAAAH8++bc=\")","v":{"$error":"#REF!"}},{"$f":"AND(#REF!,\"AAAAAH8++bg=\")","v":{"$error":"#REF!"}},{"$f":"AND(#REF!,\"AAAAAH8++bk=\")","v":{"$error":"#REF!"}},{"$f":"AND(#REF!,\"AAAAAH8++bo=\")","v":{"$error":"#REF!"}},{"$f":"AND(#REF!,\"AAAAAH8++bs=\")","v":{"$error":"#REF!"}},{"$f":"AND(#REF!,\"AAAAAH8++bw=\")","v":{"$error":"#REF!"}},{"$f":"AND(#REF!,\"AAAAAH8++b0=\")","v":{"$error":"#REF!"}},{"$f":"AND(#REF!,\"AAAAAH8++b4=\")","v":{"$error":"#REF!"}},{"$f":"AND(#REF!,\"AAAAAH8++b8=\")","v":{"$error":"#REF!"}},{"$f":"AND(#REF!,\"AAAAAH8++cA=\")","v":{"$error":"#REF!"}},{"$f":"AND(#REF!,\"AAAAAH8++cE=\")","v":{"$error":"#REF!"}},{"$f":"AND(#REF!,\"AAAAAH8++cI=\")","v":{"$error":"#REF!"}},{"$f":"AND(#REF!,\"AAAAAH8++cM=\")","v":{"$error":"#REF!"}},{"$f":"IF(#REF!,\"AAAAAH8++cQ=\",0)","v":{"$error":"#REF!"}},{"$f":"AND(#REF!,\"AAAAAH8++cU=\")","v":{"$error":"#REF!"}},{"$f":"AND(#REF!,\"AAAAAH8++cY=\")","v":{"$error":"#REF!"}},{"$f":"AND(#REF!,\"AAAAAH8++cc=\")","v":{"$error":"#REF!"}},{"$f":"AND(#REF!,\"AAAAAH8++cg=\")","v":{"$error":"#REF!"}},{"$f":"AND(#REF!,\"AAAAAH8++ck=\")","v":{"$error":"#REF!"}},{"$f":"AND(#REF!,\"AAAAAH8++co=\")","v":{"$error":"#REF!"}},{"$f":"AND(#REF!,\"AAAAAH8++cs=\")","v":{"$error":"#REF!"}},{"$f":"AND(#REF!,\"AAAAAH8++cw=\")","v":{"$error":"#REF!"}},{"$f":"AND(#REF!,\"AAAAAH8++c0=\")","v":{"$error":"#REF!"}},{"$f":"AND(#REF!,\"AAAAAH8++c4=\")","v":{"$error":"#REF!"}},{"$f":"AND(#REF!,\"AAAAAH8++c8=\")","v":{"$error":"#REF!"}},{"$f":"AND(#REF!,\"AAAAAH8++dA=\")","v":{"$error":"#REF!"}},{"$f":"AND(#REF!,\"AAAAAH8++dE=\")","v":{"$error":"#REF!"}},{"$f":"AND(#REF!,\"AAAAAH8++dI=\")","v":{"$error":"#REF!"}},{"$f":"AND(#REF!,\"AAAAAH8++dM=\")","v":{"$error":"#REF!"}},{"$f":"AND(#REF!,\"AAAAAH8++dQ=\")","v":{"$error":"#REF!"}},{"$f":"AND(#REF!,\"AAAAAH8++dU=\")","v":{"$error":"#REF!"}},{"$f":"AND(#REF!,\"AAAAAH8++dY=\")","v":{"$error":"#REF!"}},{"$f":"AND(#REF!,\"AAAAAH8++dc=\")","v":{"$error":"#REF!"}},{"$f":"AND(#REF!,\"AAAAAH8++dg=\")","v":{"$error":"#REF!"}},{"$f":"AND(#REF!,\"AAAAAH8++dk=\")","v":{"$error":"#REF!"}},{"$f":"AND(#REF!,\"AAAAAH8++do=\")","v":{"$error":"#REF!"}},{"$f":"AND(#REF!,\"AAAAAH8++ds=\")","v":{"$error":"#REF!"}},{"$f":"AND(#REF!,\"AAAAAH8++dw=\")","v":{"$error":"#REF!"}},{"$f":"AND(#REF!,\"AAAAAH8++d0=\")","v":{"$error":"#REF!"}},{"$f":"AND(#REF!,\"AAAAAH8++d4=\")","v":{"$error":"#REF!"}},{"$f":"AND(#REF!,\"AAAAAH8++d8=\")","v":{"$error":"#REF!"}},{"$f":"AND(#REF!,\"AAAAAH8++eA=\")","v":{"$error":"#REF!"}},{"$f":"AND(#REF!,\"AAAAAH8++eE=\")","v":{"$error":"#REF!"}},{"$f":"AND(#REF!,\"AAAAAH8++eI=\")","v":{"$error":"#REF!"}},{"$f":"AND(#REF!,\"AAAAAH8++eM=\")","v":{"$error":"#REF!"}},{"$f":"AND(#REF!,\"AAAAAH8++eQ=\")","v":{"$error":"#REF!"}},{"$f":"AND(#REF!,\"AAAAAH8++eU=\")","v":{"$error":"#REF!"}},{"$f":"IF(#REF!,\"AAAAAH8++eY=\",0)","v":{"$error":"#REF!"}},{"$f":"AND(#REF!,\"AAAAAH8++ec=\")","v":{"$error":"#REF!"}},{"$f":"AND(#REF!,\"AAAAAH8++eg=\")","v":{"$error":"#REF!"}},{"$f":"AND(#REF!,\"AAAAAH8++ek=\")","v":{"$error":"#REF!"}},{"$f":"AND(#REF!,\"AAAAAH8++eo=\")","v":{"$error":"#REF!"}},{"$f":"AND(#REF!,\"AAAAAH8++es=\")","v":{"$error":"#REF!"}},{"$f":"AND(#REF!,\"AAAAAH8++ew=\")","v":{"$error":"#REF!"}},{"$f":"AND(#REF!,\"AAAAAH8++e0=\")","v":{"$error":"#REF!"}},{"$f":"AND(#REF!,\"AAAAAH8++e4=\")","v":{"$error":"#REF!"}},{"$f":"AND(#REF!,\"AAAAAH8++e8=\")","v":{"$error":"#REF!"}},{"$f":"AND(#REF!,\"AAAAAH8++fA=\")","v":{"$error":"#REF!"}},{"$f":"AND(#REF!,\"AAAAAH8++fE=\")","v":{"$error":"#REF!"}},{"$f":"AND(#REF!,\"AAAAAH8++fI=\")","v":{"$error":"#REF!"}},{"$f":"AND(#REF!,\"AAAAAH8++fM=\")","v":{"$error":"#REF!"}},{"$f":"AND(#REF!,\"AAAAAH8++fQ=\")","v":{"$error":"#REF!"}},{"$f":"AND(#REF!,\"AAAAAH8++fU=\")","v":{"$error":"#REF!"}},{"$f":"AND(#REF!,\"AAAAAH8++fY=\")","v":{"$error":"#REF!"}},{"$f":"AND(#REF!,\"AAAAAH8++fc=\")","v":{"$error":"#REF!"}},{"$f":"AND(#REF!,\"AAAAAH8++fg=\")","v":{"$error":"#REF!"}},{"$f":"AND(#REF!,\"AAAAAH8++fk=\")","v":{"$error":"#REF!"}},{"$f":"AND(#REF!,\"AAAAAH8++fo=\")","v":{"$error":"#REF!"}},{"$f":"AND(#REF!,\"AAAAAH8++fs=\")","v":{"$error":"#REF!"}},{"$f":"AND(#REF!,\"AAAAAH8++fw=\")","v":{"$error":"#REF!"}},{"$f":"AND(#REF!,\"AAAAAH8++f0=\")","v":{"$error":"#REF!"}},{"$f":"AND(#REF!,\"AAAAAH8++f4=\")","v":{"$error":"#REF!"}},{"$f":"AND(#REF!,\"AAAAAH8++f8=\")","v":{"$error":"#REF!"}}]
[{"$f":"AND(#REF!,\"AAAAADp/NwA=\")","v":{"$error":"#REF!"}},{"$f":"AND(#REF!,\"AAAAADp/NwE=\")","v":{"$error":"#REF!"}},{"$f":"AND(#REF!,\"AAAAADp/NwI=\")","v":{"$error":"#REF!"}},{"$f":"AND(#REF!,\"AAAAADp/NwM=\")","v":{"$error":"#REF!"}},{"$f":"AND(#REF!,\"AAAAADp/NwQ=\")","v":{"$error":"#REF!"}},{"$f":"AND(#REF!,\"AAAAADp/NwU=\")","v":{"$error":"#REF!"}},{"$f":"AND(#REF!,\"AAAAADp/NwY=\")","v":{"$error":"#REF!"}},{"$f":"AND(#REF!,\"AAAAADp/Nwc=\")","v":{"$error":"#REF!"}},{"$f":"IF(#REF!,\"AAAAADp/Nwg=\",0)","v":{"$error":"#REF!"}},{"$f":"AND(#REF!,\"AAAAADp/Nwk=\")","v":{"$error":"#REF!"}},{"$f":"AND(#REF!,\"AAAAADp/Nwo=\")","v":{"$error":"#REF!"}},{"$f":"AND(#REF!,\"AAAAADp/Nws=\")","v":{"$error":"#REF!"}},{"$f":"AND(#REF!,\"AAAAADp/Nww=\")","v":{"$error":"#REF!"}},{"$f":"AND(#REF!,\"AAAAADp/Nw0=\")","v":{"$error":"#REF!"}},{"$f":"AND(#REF!,\"AAAAADp/Nw4=\")","v":{"$error":"#REF!"}},{"$f":"AND(#REF!,\"AAAAADp/Nw8=\")","v":{"$error":"#REF!"}},{"$f":"AND(#REF!,\"AAAAADp/NxA=\")","v":{"$error":"#REF!"}},{"$f":"AND(#REF!,\"AAAAADp/NxE=\")","v":{"$error":"#REF!"}},{"$f":"AND(#REF!,\"AAAAADp/NxI=\")","v":{"$error":"#REF!"}},{"$f":"AND(#REF!,\"AAAAADp/NxM=\")","v":{"$error":"#REF!"}},{"$f":"AND(#REF!,\"AAAAADp/NxQ=\")","v":{"$error":"#REF!"}},{"$f":"AND(#REF!,\"AAAAADp/NxU=\")","v":{"$error":"#REF!"}},{"$f":"AND(#REF!,\"AAAAADp/NxY=\")","v":{"$error":"#REF!"}},{"$f":"AND(#REF!,\"AAAAADp/Nxc=\")","v":{"$error":"#REF!"}},{"$f":"AND(#REF!,\"AAAAADp/Nxg=\")","v":{"$error":"#REF!"}},{"$f":"AND(#REF!,\"AAAAADp/Nxk=\")","v":{"$error":"#REF!"}},{"$f":"AND(#REF!,\"AAAAADp/Nxo=\")","v":{"$error":"#REF!"}},{"$f":"AND(#REF!,\"AAAAADp/Nxs=\")","v":{"$error":"#REF!"}},{"$f":"AND(#REF!,\"AAAAADp/Nxw=\")","v":{"$error":"#REF!"}},{"$f":"AND(#REF!,\"AAAAADp/Nx0=\")","v":{"$error":"#REF!"}},{"$f":"AND(#REF!,\"AAAAADp/Nx4=\")","v":{"$error":"#REF!"}},{"$f":"AND(#REF!,\"AAAAADp/Nx8=\")","v":{"$error":"#REF!"}},{"$f":"AND(#REF!,\"AAAAADp/NyA=\")","v":{"$error":"#REF!"}},{"$f":"AND(#REF!,\"AAAAADp/NyE=\")","v":{"$error":"#REF!"}},{"$f":"AND(#REF!,\"AAAAADp/NyI=\")","v":{"$error":"#REF!"}},{"$f":"AND(#REF!,\"AAAAADp/NyM=\")","v":{"$error":"#REF!"}},{"$f":"AND(#REF!,\"AAAAADp/NyQ=\")","v":{"$error":"#REF!"}},{"$f":"AND(#REF!,\"AAAAADp/NyU=\")","v":{"$error":"#REF!"}},{"$f":"AND(#REF!,\"AAAAADp/NyY=\")","v":{"$error":"#REF!"}},{"$f":"AND(#REF!,\"AAAAADp/Nyc=\")","v":{"$error":"#REF!"}},{"$f":"AND(#REF!,\"AAAAADp/Nyg=\")","v":{"$error":"#REF!"}},{"$f":"AND(#REF!,\"AAAAADp/Nyk=\")","v":{"$error":"#REF!"}},{"$f":"IF(#REF!,\"AAAAADp/Nyo=\",0)","v":{"$error":"#REF!"}},{"$f":"AND(#REF!,\"AAAAADp/Nys=\")","v":{"$error":"#REF!"}},{"$f":"AND(#REF!,\"AAAAADp/Nyw=\")","v":{"$error":"#REF!"}},{"$f":"AND(#REF!,\"AAAAADp/Ny0=\")","v":{"$error":"#REF!"}},{"$f":"AND(#REF!,\"AAAAADp/Ny4=\")","v":{"$error":"#REF!"}},{"$f":"AND(#REF!,\"AAAAADp/Ny8=\")","v":{"$error":"#REF!"}},{"$f":"AND(#REF!,\"AAAAADp/NzA=\")","v":{"$error":"#REF!"}},{"$f":"AND(#REF!,\"AAAAADp/NzE=\")","v":{"$error":"#REF!"}},{"$f":"AND(#REF!,\"AAAAADp/NzI=\")","v":{"$error":"#REF!"}},{"$f":"AND(#REF!,\"AAAAADp/NzM=\")","v":{"$error":"#REF!"}},{"$f":"AND(#REF!,\"AAAAADp/NzQ=\")","v":{"$error":"#REF!"}},{"$f":"AND(#REF!,\"AAAAADp/NzU=\")","v":{"$error":"#REF!"}},{"$f":"AND(#REF!,\"AAAAADp/NzY=\")","v":{"$error":"#REF!"}},{"$f":"AND(#REF!,\"AAAAADp/Nzc=\")","v":{"$error":"#REF!"}},{"$f":"AND(#REF!,\"AAAAADp/Nzg=\")","v":{"$error":"#REF!"}},{"$f":"AND(#REF!,\"AAAAADp/Nzk=\")","v":{"$error":"#REF!"}},{"$f":"AND(#REF!,\"AAAAADp/Nzo=\")","v":{"$error":"#REF!"}},{"$f":"AND(#REF!,\"AAAAADp/Nzs=\")","v":{"$error":"#REF!"}},{"$f":"AND(#REF!,\"AAAAADp/Nzw=\")","v":{"$error":"#REF!"}},{"$f":"AND(#REF!,\"AAAAADp/Nz0=\")","v":{"$error":"#REF!"}},{"$f":"AND(#REF!,\"AAAAADp/Nz4=\")","v":{"$error":"#REF!"}},{"$f":"AND(#REF!,\"AAAAADp/Nz8=\")","v":{"$error":"#REF!"}},{"$f":"AND(#REF!,\"AAAAADp/N0A=\")","v":{"$error":"#REF!"}},{"$f":"AND(#REF!,\"AAAAADp/N0E=\")","v":{"$error":"#REF!"}},{"$f":"AND(#REF!,\"AAAAADp/N0I=\")","v":{"$error":"#REF!"}},{"$f":"AND(#REF!,\"AAAAADp/N0M=\")","v":{"$error":"#REF!"}},{"$f":"AND(#REF!,\"AAAAADp/N0Q=\")","v":{"$error":"#REF!"}},{"$f":"AND(#REF!,\"AAAAADp/N0U=\")","v":{"$error":"#REF!"}},{"$f":"AND(#REF!,\"AAAAADp/N0Y=\")","v":{"$error":"#REF!"}},{"$f":"AND(#REF!,\"AAAAADp/N0c=\")","v":{"$error":"#REF!"}},{"$f":"AND(#REF!,\"AAAAADp/N0g=\")","v":{"$error":"#REF!"}},{"$f":"AND(#REF!,\"AAAAADp/N0k=\")","v":{"$error":"#REF!"}},{"$f":"AND(#REF!,\"AAAAADp/N0o=\")","v":{"$error":"#REF!"}},{"$f":"AND(#REF!,\"AAAAADp/N0s=\")","v":{"$error":"#REF!"}},{"$f":"IF(#REF!,\"AAAAADp/N0w=\",0)","v":{"$error":"#REF!"}},{"$f":"AND(#REF!,\"AAAAADp/N00=\")","v":{"$error":"#REF!"}},{"$f":"AND(#REF!,\"AAAAADp/N04=\")","v":{"$error":"#REF!"}},{"$f":"AND(#REF!,\"AAAAADp/N08=\")","v":{"$error":"#REF!"}},{"$f":"AND(#REF!,\"AAAAADp/N1A=\")","v":{"$error":"#REF!"}},{"$f":"AND(#REF!,\"AAAAADp/N1E=\")","v":{"$error":"#REF!"}},{"$f":"AND(#REF!,\"AAAAADp/N1I=\")","v":{"$error":"#REF!"}},{"$f":"AND(#REF!,\"AAAAADp/N1M=\")","v":{"$error":"#REF!"}},{"$f":"AND(#REF!,\"AAAAADp/N1Q=\")","v":{"$error":"#REF!"}},{"$f":"AND(#REF!,\"AAAAADp/N1U=\")","v":{"$error":"#REF!"}},{"$f":"AND(#REF!,\"AAAAADp/N1Y=\")","v":{"$error":"#REF!"}},{"$f":"AND(#REF!,\"AAAAADp/N1c=\")","v":{"$error":"#REF!"}},{"$f":"AND(#REF!,\"AAAAADp/N1g=\")","v":{"$error":"#REF!"}},{"$f":"AND(#REF!,\"AAAAADp/N1k=\")","v":{"$error":"#REF!"}},{"$f":"AND(#REF!,\"AAAAADp/N1o=\")","v":{"$error":"#REF!"}},{"$f":"AND(#REF!,\"AAAAADp/N1s=\")","v":{"$error":"#REF!"}},{"$f":"AND(#REF!,\"AAAAADp/N1w=\")","v":{"$error":"#REF!"}},{"$f":"AND(#REF!,\"AAAAADp/N10=\")","v":{"$error":"#REF!"}},{"$f":"AND(#REF!,\"AAAAADp/N14=\")","v":{"$error":"#REF!"}},{"$f":"AND(#REF!,\"AAAAADp/N18=\")","v":{"$error":"#REF!"}},{"$f":"AND(#REF!,\"AAAAADp/N2A=\")","v":{"$error":"#REF!"}},{"$f":"AND(#REF!,\"AAAAADp/N2E=\")","v":{"$error":"#REF!"}},{"$f":"AND(#REF!,\"AAAAADp/N2I=\")","v":{"$error":"#REF!"}},{"$f":"AND(#REF!,\"AAAAADp/N2M=\")","v":{"$error":"#REF!"}},{"$f":"AND(#REF!,\"AAAAADp/N2Q=\")","v":{"$error":"#REF!"}},{"$f":"AND(#REF!,\"AAAAADp/N2U=\")","v":{"$error":"#REF!"}},{"$f":"AND(#REF!,\"AAAAADp/N2Y=\")","v":{"$error":"#REF!"}},{"$f":"AND(#REF!,\"AAAAADp/N2c=\")","v":{"$error":"#REF!"}},{"$f":"AND(#REF!,\"AAAAADp/N2g=\")","v":{"$error":"#REF!"}},{"$f":"AND(#REF!,\"AAAAADp/N2k=\")","v":{"$error":"#REF!"}},{"$f":"AND(#REF!,\"AAAAADp/N2o=\")","v":{"$error":"#REF!"}},{"$f":"AND(#REF!,\"AAAAADp/N2s=\")","v":{"$error":"#REF!"}},{"$f":"AND(#REF!,\"AAAAADp/N2w=\")","v":{"$error":"#REF!"}},{"$f":"AND(#REF!,\"AAAAADp/N20=\")","v":{"$error":"#REF!"}},{"$f":"IF(#REF!,\"AAAAADp/N24=\",0)","v":{"$error":"#REF!"}},{"$f":"AND(#REF!,\"AAAAADp/N28=\")","v":{"$error":"#REF!"}},{"$f":"AND(#REF!,\"AAAAADp/N3A=\")","v":{"$error":"#REF!"}},{"$f":"AND(#REF!,\"AAAAADp/N3E=\")","v":{"$error":"#REF!"}},{"$f":"AND(#REF!,\"AAAAADp/N3I=\")","v":{"$error":"#REF!"}},{"$f":"AND(#REF!,\"AAAAADp/N3M=\")","v":{"$error":"#REF!"}},{"$f":"AND(#REF!,\"AAAAADp/N3Q=\")","v":{"$error":"#REF!"}},{"$f":"AND(#REF!,\"AAAAADp/N3U=\")","v":{"$error":"#REF!"}},{"$f":"AND(#REF!,\"AAAAADp/N3Y=\")","v":{"$error":"#REF!"}},{"$f":"AND(#REF!,\"AAAAADp/N3c=\")","v":{"$error":"#REF!"}},{"$f":"AND(#REF!,\"AAAAADp/N3g=\")","v":{"$error":"#REF!"}},{"$f":"AND(#REF!,\"AAAAADp/N3k=\")","v":{"$error":"#REF!"}},{"$f":"AND(#REF!,\"AAAAADp/N3o=\")","v":{"$error":"#REF!"}},{"$f":"AND(#REF!,\"AAAAADp/N3s=\")","v":{"$error":"#REF!"}},{"$f":"AND(#REF!,\"AAAAADp/N3w=\")","v":{"$error":"#REF!"}},{"$f":"AND(#REF!,\"AAAAADp/N30=\")","v":{"$error":"#REF!"}},{"$f":"AND(#REF!,\"AAAAADp/N34=\")","v":{"$error":"#REF!"}},{"$f":"AND(#REF!,\"AAAAADp/N38=\")","v":{"$error":"#REF!"}},{"$f":"AND(#REF!,\"AAAAADp/N4A=\")","v":{"$error":"#REF!"}},{"$f":"AND(#REF!,\"AAAAADp/N4E=\")","v":{"$error":"#REF!"}},{"$f":"AND(#REF!,\"AAAAADp/N4I=\")","v":{"$error":"#REF!"}},{"$f":"AND(#REF!,\"AAAAADp/N4M=\")","v":{"$error":"#REF!"}},{"$f":"AND(#REF!,\"AAAAADp/N4Q=\")","v":{"$error":"#REF!"}},{"$f":"AND(#REF!,\"AAAAADp/N4U=\")","v":{"$error":"#REF!"}},{"$f":"AND(#REF!,\"AAAAADp/N4Y=\")","v":{"$error":"#REF!"}},{"$f":"AND(#REF!,\"AAAAADp/N4c=\")","v":{"$error":"#REF!"}},{"$f":"AND(#REF!,\"AAAAADp/N4g=\")","v":{"$error":"#REF!"}},{"$f":"AND(#REF!,\"AAAAADp/N4k=\")","v":{"$error":"#REF!"}},{"$f":"AND(#REF!,\"AAAAADp/N4o=\")","v":{"$error":"#REF!"}},{"$f":"AND(#REF!,\"AAAAADp/N4s=\")","v":{"$error":"#REF!"}},{"$f":"AND(#REF!,\"AAAAADp/N4w=\")","v":{"$error":"#REF!"}},{"$f":"AND(#REF!,\"AAAAADp/N40=\")","v":{"$error":"#REF!"}},{"$f":"AND(#REF!,\"AAAAADp/N44=\")","v":{"$error":"#REF!"}},{"$f":"AND(#REF!,\"AAAAADp/N48=\")","v":{"$error":"#REF!"}},{"$f":"IF(#REF!,\"AAAAADp/N5A=\",0)","v":{"$error":"#REF!"}},{"$f":"AND(#REF!,\"AAAAADp/N5E=\")","v":{"$error":"#REF!"}},{"$f":"AND(#REF!,\"AAAAADp/N5I=\")","v":{"$error":"#REF!"}},{"$f":"AND(#REF!,\"AAAAADp/N5M=\")","v":{"$error":"#REF!"}},{"$f":"AND(#REF!,\"AAAAADp/N5Q=\")","v":{"$error":"#REF!"}},{"$f":"AND(#REF!,\"AAAAADp/N5U=\")","v":{"$error":"#REF!"}},{"$f":"AND(#REF!,\"AAAAADp/N5Y=\")","v":{"$error":"#REF!"}},{"$f":"AND(#REF!,\"AAAAADp/N5c=\")","v":{"$error":"#REF!"}},{"$f":"AND(#REF!,\"AAAAADp/N5g=\")","v":{"$error":"#REF!"}},{"$f":"AND(#REF!,\"AAAAADp/N5k=\")","v":{"$error":"#REF!"}},{"$f":"AND(#REF!,\"AAAAADp/N5o=\")","v":{"$error":"#REF!"}},{"$f":"AND(#REF!,\"AAAAADp/N5s=\")","v":{"$error":"#REF!"}},{"$f":"AND(#REF!,\"AAAAADp/N5w=\")","v":{"$error":"#REF!"}},{"$f":"AND(#REF!,\"AAAAADp/N50=\")","v":{"$error":"#REF!"}},{"$f":"AND(#REF!,\"AAAAADp/N54=\")","v":{"$error":"#REF!"}},{"$f":"AND(#REF!,\"AAAAADp/N58=\")","v":{"$error":"#REF!"}},{"$f":"AND(#REF!,\"AAAAADp/N6A=\")","v":{"$error":"#REF!"}},{"$f":"AND(#REF!,\"AAAAADp/N6E=\")","v":{"$error":"#REF!"}},{"$f":"AND(#REF!,\"AAAAADp/N6I=\")","v":{"$error":"#REF!"}},{"$f":"AND(#REF!,\"AAAAADp/N6M=\")","v":{"$error":"#REF!"}},{"$f":"AND(#REF!,\"AAAAADp/N6Q=\")","v":{"$error":"#REF!"}},{"$f":"AND(#REF!,\"AAAAADp/N6U=\")","v":{"$error":"#REF!"}},{"$f":"AND(#REF!,\"AAAAADp/N6Y=\")","v":{"$error":"#REF!"}},{"$f":"AND(#REF!,\"AAAAADp/N6c=\")","v":{"$error":"#REF!"}},{"$f":"AND(#REF!,\"AAAAADp/N6g=\")","v":{"$error":"#REF!"}},{"$f":"AND(#REF!,\"AAAAADp/N6k=\")","v":{"$error":"#REF!"}},{"$f":"AND(#REF!,\"AAAAADp/N6o=\")","v":{"$error":"#REF!"}},{"$f":"AND(#REF!,\"AAAAADp/N6s=\")","v":{"$error":"#REF!"}},{"$f":"AND(#REF!,\"AAAAADp/N6w=\")","v":{"$error":"#REF!"}},{"$f":"AND(#REF!,\"AAAAADp/N60=\")","v":{"$error":"#REF!"}},{"$f":"AND(#REF!,\"AAAAADp/N64=\")","v":{"$error":"#REF!"}},{"$f":"AND(#REF!,\"AAAAADp/N68=\")","v":{"$error":"#REF!"}},{"$f":"AND(#REF!,\"AAAAADp/N7A=\")","v":{"$error":"#REF!"}},{"$f":"AND(#REF!,\"AAAAADp/N7E=\")","v":{"$error":"#REF!"}},{"$f":"IF(#REF!,\"AAAAADp/N7I=\",0)","v":{"$error":"#REF!"}},{"$f":"AND(#REF!,\"AAAAADp/N7M=\")","v":{"$error":"#REF!"}},{"$f":"AND(#REF!,\"AAAAADp/N7Q=\")","v":{"$error":"#REF!"}},{"$f":"AND(#REF!,\"AAAAADp/N7U=\")","v":{"$error":"#REF!"}},{"$f":"AND(#REF!,\"AAAAADp/N7Y=\")","v":{"$error":"#REF!"}},{"$f":"AND(#REF!,\"AAAAADp/N7c=\")","v":{"$error":"#REF!"}},{"$f":"AND(#REF!,\"AAAAADp/N7g=\")","v":{"$error":"#REF!"}},{"$f":"AND(#REF!,\"AAAAADp/N7k=\")","v":{"$error":"#REF!"}},{"$f":"AND(#REF!,\"AAAAADp/N7o=\")","v":{"$error":"#REF!"}},{"$f":"AND(#REF!,\"AAAAADp/N7s=\")","v":{"$error":"#REF!"}},{"$f":"AND(#REF!,\"AAAAADp/N7w=\")","v":{"$error":"#REF!"}},{"$f":"AND(#REF!,\"AAAAADp/N70=\")","v":{"$error":"#REF!"}},{"$f":"AND(#REF!,\"AAAAADp/N74=\")","v":{"$error":"#REF!"}},{"$f":"AND(#REF!,\"AAAAADp/N78=\")","v":{"$error":"#REF!"}},{"$f":"AND(#REF!,\"AAAAADp/N8A=\")","v":{"$error":"#REF!"}},{"$f":"AND(#REF!,\"AAAAADp/N8E=\")","v":{"$error":"#REF!"}},{"$f":"AND(#REF!,\"AAAAADp/N8I=\")","v":{"$error":"#REF!"}},{"$f":"AND(#REF!,\"AAAAADp/N8M=\")","v":{"$error":"#REF!"}},{"$f":"AND(#REF!,\"AAAAADp/N8Q=\")","v":{"$error":"#REF!"}},{"$f":"AND(#REF!,\"AAAAADp/N8U=\")","v":{"$error":"#REF!"}},{"$f":"AND(#REF!,\"AAAAADp/N8Y=\")","v":{"$error":"#REF!"}},{"$f":"AND(#REF!,\"AAAAADp/N8c=\")","v":{"$error":"#REF!"}},{"$f":"AND(#REF!,\"AAAAADp/N8g=\")","v":{"$error":"#REF!"}},{"$f":"AND(#REF!,\"AAAAADp/N8k=\")","v":{"$error":"#REF!"}},{"$f":"AND(#REF!,\"AAAAADp/N8o=\")","v":{"$error":"#REF!"}},{"$f":"AND(#REF!,\"AAAAADp/N8s=\")","v":{"$error":"#REF!"}},{"$f":"AND(#REF!,\"AAAAADp/N8w=\")","v":{"$error":"#REF!"}},{"$f":"AND(#REF!,\"AAAAADp/N80=\")","v":{"$error":"#REF!"}},{"$f":"AND(#REF!,\"AAAAADp/N84=\")","v":{"$error":"#REF!"}},{"$f":"AND(#REF!,\"AAAAADp/N88=\")","v":{"$error":"#REF!"}},{"$f":"AND(#REF!,\"AAAAADp/N9A=\")","v":{"$error":"#REF!"}},{"$f":"AND(#REF!,\"AAAAADp/N9E=\")","v":{"$error":"#REF!"}},{"$f":"AND(#REF!,\"AAAAADp/N9I=\")","v":{"$error":"#REF!"}},{"$f":"AND(#REF!,\"AAAAADp/N9M=\")","v":{"$error":"#REF!"}},{"$f":"IF(#REF!,\"AAAAADp/N9Q=\",0)","v":{"$error":"#REF!"}},{"$f":"AND(#REF!,\"AAAAADp/N9U=\")","v":{"$error":"#REF!"}},{"$f":"AND(#REF!,\"AAAAADp/N9Y=\")","v":{"$error":"#REF!"}},{"$f":"AND(#REF!,\"AAAAADp/N9c=\")","v":{"$error":"#REF!"}},{"$f":"AND(#REF!,\"AAAAADp/N9g=\")","v":{"$error":"#REF!"}},{"$f":"AND(#REF!,\"AAAAADp/N9k=\")","v":{"$error":"#REF!"}},{"$f":"AND(#REF!,\"AAAAADp/N9o=\")","v":{"$error":"#REF!"}},{"$f":"AND(#REF!,\"AAAAADp/N9s=\")","v":{"$error":"#REF!"}},{"$f":"AND(#REF!,\"AAAAADp/N9w=\")","v":{"$error":"#REF!"}},{"$f":"AND(#REF!,\"AAAAADp/N90=\")","v":{"$error":"#REF!"}},{"$f":"AND(#REF!,\"AAAAADp/N94=\")","v":{"$error":"#REF!"}},{"$f":"AND(#REF!,\"AAAAADp/N98=\")","v":{"$error":"#REF!"}},{"$f":"AND(#REF!,\"AAAAADp/N+A=\")","v":{"$error":"#REF!"}},{"$f":"AND(#REF!,\"AAAAADp/N+E=\")","v":{"$error":"#REF!"}},{"$f":"AND(#REF!,\"AAAAADp/N+I=\")","v":{"$error":"#REF!"}},{"$f":"AND(#REF!,\"AAAAADp/N+M=\")","v":{"$error":"#REF!"}},{"$f":"AND(#REF!,\"AAAAADp/N+Q=\")","v":{"$error":"#REF!"}},{"$f":"AND(#REF!,\"AAAAADp/N+U=\")","v":{"$error":"#REF!"}},{"$f":"AND(#REF!,\"AAAAADp/N+Y=\")","v":{"$error":"#REF!"}},{"$f":"AND(#REF!,\"AAAAADp/N+c=\")","v":{"$error":"#REF!"}},{"$f":"AND(#REF!,\"AAAAADp/N+g=\")","v":{"$error":"#REF!"}},{"$f":"AND(#REF!,\"AAAAADp/N+k=\")","v":{"$error":"#REF!"}},{"$f":"AND(#REF!,\"AAAAADp/N+o=\")","v":{"$error":"#REF!"}},{"$f":"AND(#REF!,\"AAAAADp/N+s=\")","v":{"$error":"#REF!"}},{"$f":"AND(#REF!,\"AAAAADp/N+w=\")","v":{"$error":"#REF!"}},{"$f":"AND(#REF!,\"AAAAADp/N+0=\")","v":{"$error":"#REF!"}},{"$f":"AND(#REF!,\"AAAAADp/N+4=\")","v":{"$error":"#REF!"}},{"$f":"AND(#REF!,\"AAAAADp/N+8=\")","v":{"$error":"#REF!"}},{"$f":"AND(#REF!,\"AAAAADp/N/A=\")","v":{"$error":"#REF!"}},{"$f":"AND(#REF!,\"AAAAADp/N/E=\")","v":{"$error":"#REF!"}},{"$f":"AND(#REF!,\"AAAAADp/N/I=\")","v":{"$error":"#REF!"}},{"$f":"AND(#REF!,\"AAAAADp/N/M=\")","v":{"$error":"#REF!"}},{"$f":"AND(#REF!,\"AAAAADp/N/Q=\")","v":{"$error":"#REF!"}},{"$f":"AND(#REF!,\"AAAAADp/N/U=\")","v":{"$error":"#REF!"}},{"$f":"IF(#REF!,\"AAAAADp/N/Y=\",0)","v":{"$error":"#REF!"}},{"$f":"AND(#REF!,\"AAAAADp/N/c=\")","v":{"$error":"#REF!"}},{"$f":"AND(#REF!,\"AAAAADp/N/g=\")","v":{"$error":"#REF!"}},{"$f":"AND(#REF!,\"AAAAADp/N/k=\")","v":{"$error":"#REF!"}},{"$f":"AND(#REF!,\"AAAAADp/N/o=\")","v":{"$error":"#REF!"}},{"$f":"AND(#REF!,\"AAAAADp/N/s=\")","v":{"$error":"#REF!"}},{"$f":"AND(#REF!,\"AAAAADp/N/w=\")","v":{"$error":"#REF!"}},{"$f":"AND(#REF!,\"AAAAADp/N/0=\")","v":{"$error":"#REF!"}},{"$f":"AND(#REF!,\"AAAAADp/N/4=\")","v":{"$error":"#REF!"}},{"$f":"AND(#REF!,\"AAAAADp/N/8=\")","v":{"$error":"#REF!"}}]
[{"$f":"AND(#REF!,\"AAAAAG1jZwA=\")","v":{"$error":"#REF!"}},{"$f":"AND(#REF!,\"AAAAAG1jZwE=\")","v":{"$error":"#REF!"}},{"$f":"AND(#REF!,\"AAAAAG1jZwI=\")","v":{"$error":"#REF!"}},{"$f":"AND(#REF!,\"AAAAAG1jZwM=\")","v":{"$error":"#REF!"}},{"$f":"AND(#REF!,\"AAAAAG1jZwQ=\")","v":{"$error":"#REF!"}},{"$f":"AND(#REF!,\"AAAAAG1jZwU=\")","v":{"$error":"#REF!"}},{"$f":"AND(#REF!,\"AAAAAG1jZwY=\")","v":{"$error":"#REF!"}},{"$f":"AND(#REF!,\"AAAAAG1jZwc=\")","v":{"$error":"#REF!"}},{"$f":"AND(#REF!,\"AAAAAG1jZwg=\")","v":{"$error":"#REF!"}},{"$f":"AND(#REF!,\"AAAAAG1jZwk=\")","v":{"$error":"#REF!"}},{"$f":"AND(#REF!,\"AAAAAG1jZwo=\")","v":{"$error":"#REF!"}},{"$f":"AND(#REF!,\"AAAAAG1jZws=\")","v":{"$error":"#REF!"}},{"$f":"AND(#REF!,\"AAAAAG1jZww=\")","v":{"$error":"#REF!"}},{"$f":"AND(#REF!,\"AAAAAG1jZw0=\")","v":{"$error":"#REF!"}},{"$f":"AND(#REF!,\"AAAAAG1jZw4=\")","v":{"$error":"#REF!"}},{"$f":"AND(#REF!,\"AAAAAG1jZw8=\")","v":{"$error":"#REF!"}},{"$f":"AND(#REF!,\"AAAAAG1jZxA=\")","v":{"$error":"#REF!"}},{"$f":"AND(#REF!,\"AAAAAG1jZxE=\")","v":{"$error":"#REF!"}},{"$f":"AND(#REF!,\"AAAAAG1jZxI=\")","v":{"$error":"#REF!"}},{"$f":"AND(#REF!,\"AAAAAG1jZxM=\")","v":{"$error":"#REF!"}},{"$f":"AND(#REF!,\"AAAAAG1jZxQ=\")","v":{"$error":"#REF!"}},{"$f":"AND(#REF!,\"AAAAAG1jZxU=\")","v":{"$error":"#REF!"}},{"$f":"AND(#REF!,\"AAAAAG1jZxY=\")","v":{"$error":"#REF!"}},{"$f":"AND(#REF!,\"AAAAAG1jZxc=\")","v":{"$error":"#REF!"}},{"$f":"IF(#REF!,\"AAAAAG1jZxg=\",0)","v":{"$error":"#REF!"}},{"$f":"AND(#REF!,\"AAAAAG1jZxk=\")","v":{"$error":"#REF!"}},{"$f":"AND(#REF!,\"AAAAAG1jZxo=\")","v":{"$error":"#REF!"}},{"$f":"AND(#REF!,\"AAAAAG1jZxs=\")","v":{"$error":"#REF!"}},{"$f":"AND(#REF!,\"AAAAAG1jZxw=\")","v":{"$error":"#REF!"}},{"$f":"AND(#REF!,\"AAAAAG1jZx0=\")","v":{"$error":"#REF!"}},{"$f":"AND(#REF!,\"AAAAAG1jZx4=\")","v":{"$error":"#REF!"}},{"$f":"AND(#REF!,\"AAAAAG1jZx8=\")","v":{"$error":"#REF!"}},{"$f":"AND(#REF!,\"AAAAAG1jZyA=\")","v":{"$error":"#REF!"}},{"$f":"AND(#REF!,\"AAAAAG1jZyE=\")","v":{"$error":"#REF!"}},{"$f":"AND(#REF!,\"AAAAAG1jZyI=\")","v":{"$error":"#REF!"}},{"$f":"AND(#REF!,\"AAAAAG1jZyM=\")","v":{"$error":"#REF!"}},{"$f":"AND(#REF!,\"AAAAAG1jZyQ=\")","v":{"$error":"#REF!"}},{"$f":"AND(#REF!,\"AAAAAG1jZyU=\")","v":{"$error":"#REF!"}},{"$f":"AND(#REF!,\"AAAAAG1jZyY=\")","v":{"$error":"#REF!"}},{"$f":"AND(#REF!,\"AAAAAG1jZyc=\")","v":{"$error":"#REF!"}},{"$f":"AND(#REF!,\"AAAAAG1jZyg=\")","v":{"$error":"#REF!"}},{"$f":"AND(#REF!,\"AAAAAG1jZyk=\")","v":{"$error":"#REF!"}},{"$f":"AND(#REF!,\"AAAAAG1jZyo=\")","v":{"$error":"#REF!"}},{"$f":"AND(#REF!,\"AAAAAG1jZys=\")","v":{"$error":"#REF!"}},{"$f":"AND(#REF!,\"AAAAAG1jZyw=\")","v":{"$error":"#REF!"}},{"$f":"AND(#REF!,\"AAAAAG1jZy0=\")","v":{"$error":"#REF!"}},{"$f":"AND(#REF!,\"AAAAAG1jZy4=\")","v":{"$error":"#REF!"}},{"$f":"AND(#REF!,\"AAAAAG1jZy8=\")","v":{"$error":"#REF!"}},{"$f":"AND(#REF!,\"AAAAAG1jZzA=\")","v":{"$error":"#REF!"}},{"$f":"AND(#REF!,\"AAAAAG1jZzE=\")","v":{"$error":"#REF!"}},{"$f":"AND(#REF!,\"AAAAAG1jZzI=\")","v":{"$error":"#REF!"}},{"$f":"AND(#REF!,\"AAAAAG1jZzM=\")","v":{"$error":"#REF!"}},{"$f":"AND(#REF!,\"AAAAAG1jZzQ=\")","v":{"$error":"#REF!"}},{"$f":"AND(#REF!,\"AAAAAG1jZzU=\")","v":{"$error":"#REF!"}},{"$f":"AND(#REF!,\"AAAAAG1jZzY=\")","v":{"$error":"#REF!"}},{"$f":"AND(#REF!,\"AAAAAG1jZzc=\")","v":{"$error":"#REF!"}},{"$f":"AND(#REF!,\"AAAAAG1jZzg=\")","v":{"$error":"#REF!"}},{"$f":"AND(#REF!,\"AAAAAG1jZzk=\")","v":{"$error":"#REF!"}},{"$f":"IF(#REF!,\"AAAAAG1jZzo=\",0)","v":{"$error":"#REF!"}},{"$f":"AND(#REF!,\"AAAAAG1jZzs=\")","v":{"$error":"#REF!"}},{"$f":"AND(#REF!,\"AAAAAG1jZzw=\")","v":{"$error":"#REF!"}},{"$f":"AND(#REF!,\"AAAAAG1jZz0=\")","v":{"$error":"#REF!"}},{"$f":"AND(#REF!,\"AAAAAG1jZz4=\")","v":{"$error":"#REF!"}},{"$f":"AND(#REF!,\"AAAAAG1jZz8=\")","v":{"$error":"#REF!"}},{"$f":"AND(#REF!,\"AAAAAG1jZ0A=\")","v":{"$error":"#REF!"}},{"$f":"AND(#REF!,\"AAAAAG1jZ0E=\")","v":{"$error":"#REF!"}},{"$f":"AND(#REF!,\"AAAAAG1jZ0I=\")","v":{"$error":"#REF!"}},{"$f":"AND(#REF!,\"AAAAAG1jZ0M=\")","v":{"$error":"#REF!"}},{"$f":"AND(#REF!,\"AAAAAG1jZ0Q=\")","v":{"$error":"#REF!"}},{"$f":"AND(#REF!,\"AAAAAG1jZ0U=\")","v":{"$error":"#REF!"}},{"$f":"AND(#REF!,\"AAAAAG1jZ0Y=\")","v":{"$error":"#REF!"}},{"$f":"AND(#REF!,\"AAAAAG1jZ0c=\")","v":{"$error":"#REF!"}},{"$f":"AND(#REF!,\"AAAAAG1jZ0g=\")","v":{"$error":"#REF!"}},{"$f":"AND(#REF!,\"AAAAAG1jZ0k=\")","v":{"$error":"#REF!"}},{"$f":"AND(#REF!,\"AAAAAG1jZ0o=\")","v":{"$error":"#REF!"}},{"$f":"AND(#REF!,\"AAAAAG1jZ0s=\")","v":{"$error":"#REF!"}},{"$f":"AND(#REF!,\"AAAAAG1jZ0w=\")","v":{"$error":"#REF!"}},{"$f":"AND(#REF!,\"AAAAAG1jZ00=\")","v":{"$error":"#REF!"}},{"$f":"AND(#REF!,\"AAAAAG1jZ04=\")","v":{"$error":"#REF!"}},{"$f":"AND(#REF!,\"AAAAAG1jZ08=\")","v":{"$error":"#REF!"}},{"$f":"AND(#REF!,\"AAAAAG1jZ1A=\")","v":{"$error":"#REF!"}},{"$f":"AND(#REF!,\"AAAAAG1jZ1E=\")","v":{"$error":"#REF!"}},{"$f":"AND(#REF!,\"AAAAAG1jZ1I=\")","v":{"$error":"#REF!"}},{"$f":"AND(#REF!,\"AAAAAG1jZ1M=\")","v":{"$error":"#REF!"}},{"$f":"AND(#REF!,\"AAAAAG1jZ1Q=\")","v":{"$error":"#REF!"}},{"$f":"AND(#REF!,\"AAAAAG1jZ1U=\")","v":{"$error":"#REF!"}},{"$f":"AND(#REF!,\"AAAAAG1jZ1Y=\")","v":{"$error":"#REF!"}},{"$f":"AND(#REF!,\"AAAAAG1jZ1c=\")","v":{"$error":"#REF!"}},{"$f":"AND(#REF!,\"AAAAAG1jZ1g=\")","v":{"$error":"#REF!"}},{"$f":"AND(#REF!,\"AAAAAG1jZ1k=\")","v":{"$error":"#REF!"}},{"$f":"AND(#REF!,\"AAAAAG1jZ1o=\")","v":{"$error":"#REF!"}},{"$f":"AND(#REF!,\"AAAAAG1jZ1s=\")","v":{"$error":"#REF!"}},{"$f":"IF(#REF!,\"AAAAAG1jZ1w=\",0)","v":{"$error":"#REF!"}},{"$f":"AND(#REF!,\"AAAAAG1jZ10=\")","v":{"$error":"#REF!"}},{"$f":"AND(#REF!,\"AAAAAG1jZ14=\")","v":{"$error":"#REF!"}},{"$f":"AND(#REF!,\"AAAAAG1jZ18=\")","v":{"$error":"#REF!"}},{"$f":"AND(#REF!,\"AAAAAG1jZ2A=\")","v":{"$error":"#REF!"}},{"$f":"AND(#REF!,\"AAAAAG1jZ2E=\")","v":{"$error":"#REF!"}},{"$f":"AND(#REF!,\"AAAAAG1jZ2I=\")","v":{"$error":"#REF!"}},{"$f":"AND(#REF!,\"AAAAAG1jZ2M=\")","v":{"$error":"#REF!"}},{"$f":"AND(#REF!,\"AAAAAG1jZ2Q=\")","v":{"$error":"#REF!"}},{"$f":"AND(#REF!,\"AAAAAG1jZ2U=\")","v":{"$error":"#REF!"}},{"$f":"AND(#REF!,\"AAAAAG1jZ2Y=\")","v":{"$error":"#REF!"}},{"$f":"AND(#REF!,\"AAAAAG1jZ2c=\")","v":{"$error":"#REF!"}},{"$f":"AND(#REF!,\"AAAAAG1jZ2g=\")","v":{"$error":"#REF!"}},{"$f":"AND(#REF!,\"AAAAAG1jZ2k=\")","v":{"$error":"#REF!"}},{"$f":"AND(#REF!,\"AAAAAG1jZ2o=\")","v":{"$error":"#REF!"}},{"$f":"AND(#REF!,\"AAAAAG1jZ2s=\")","v":{"$error":"#REF!"}},{"$f":"AND(#REF!,\"AAAAAG1jZ2w=\")","v":{"$error":"#REF!"}},{"$f":"AND(#REF!,\"AAAAAG1jZ20=\")","v":{"$error":"#REF!"}},{"$f":"AND(#REF!,\"AAAAAG1jZ24=\")","v":{"$error":"#REF!"}},{"$f":"AND(#REF!,\"AAAAAG1jZ28=\")","v":{"$error":"#REF!"}},{"$f":"AND(#REF!,\"AAAAAG1jZ3A=\")","v":{"$error":"#REF!"}},{"$f":"AND(#REF!,\"AAAAAG1jZ3E=\")","v":{"$error":"#REF!"}},{"$f":"AND(#REF!,\"AAAAAG1jZ3I=\")","v":{"$error":"#REF!"}},{"$f":"AND(#REF!,\"AAAAAG1jZ3M=\")","v":{"$error":"#REF!"}},{"$f":"AND(#REF!,\"AAAAAG1jZ3Q=\")","v":{"$error":"#REF!"}},{"$f":"AND(#REF!,\"AAAAAG1jZ3U=\")","v":{"$error":"#REF!"}},{"$f":"AND(#REF!,\"AAAAAG1jZ3Y=\")","v":{"$error":"#REF!"}},{"$f":"AND(#REF!,\"AAAAAG1jZ3c=\")","v":{"$error":"#REF!"}},{"$f":"AND(#REF!,\"AAAAAG1jZ3g=\")","v":{"$error":"#REF!"}},{"$f":"AND(#REF!,\"AAAAAG1jZ3k=\")","v":{"$error":"#REF!"}},{"$f":"AND(#REF!,\"AAAAAG1jZ3o=\")","v":{"$error":"#REF!"}},{"$f":"AND(#REF!,\"AAAAAG1jZ3s=\")","v":{"$error":"#REF!"}},{"$f":"AND(#REF!,\"AAAAAG1jZ3w=\")","v":{"$error":"#REF!"}},{"$f":"AND(#REF!,\"AAAAAG1jZ30=\")","v":{"$error":"#REF!"}},{"$f":"IF(#REF!,\"AAAAAG1jZ34=\",0)","v":{"$error":"#REF!"}},{"$f":"AND(#REF!,\"AAAAAG1jZ38=\")","v":{"$error":"#REF!"}},{"$f":"AND(#REF!,\"AAAAAG1jZ4A=\")","v":{"$error":"#REF!"}},{"$f":"AND(#REF!,\"AAAAAG1jZ4E=\")","v":{"$error":"#REF!"}},{"$f":"AND(#REF!,\"AAAAAG1jZ4I=\")","v":{"$error":"#REF!"}},{"$f":"AND(#REF!,\"AAAAAG1jZ4M=\")","v":{"$error":"#REF!"}},{"$f":"AND(#REF!,\"AAAAAG1jZ4Q=\")","v":{"$error":"#REF!"}},{"$f":"AND(#REF!,\"AAAAAG1jZ4U=\")","v":{"$error":"#REF!"}},{"$f":"AND(#REF!,\"AAAAAG1jZ4Y=\")","v":{"$error":"#REF!"}},{"$f":"AND(#REF!,\"AAAAAG1jZ4c=\")","v":{"$error":"#REF!"}},{"$f":"AND(#REF!,\"AAAAAG1jZ4g=\")","v":{"$error":"#REF!"}},{"$f":"AND(#REF!,\"AAAAAG1jZ4k=\")","v":{"$error":"#REF!"}},{"$f":"AND(#REF!,\"AAAAAG1jZ4o=\")","v":{"$error":"#REF!"}},{"$f":"AND(#REF!,\"AAAAAG1jZ4s=\")","v":{"$error":"#REF!"}},{"$f":"AND(#REF!,\"AAAAAG1jZ4w=\")","v":{"$error":"#REF!"}},{"$f":"AND(#REF!,\"AAAAAG1jZ40=\")","v":{"$error":"#REF!"}},{"$f":"AND(#REF!,\"AAAAAG1jZ44=\")","v":{"$error":"#REF!"}},{"$f":"AND(#REF!,\"AAAAAG1jZ48=\")","v":{"$error":"#REF!"}},{"$f":"AND(#REF!,\"AAAAAG1jZ5A=\")","v":{"$error":"#REF!"}},{"$f":"AND(#REF!,\"AAAAAG1jZ5E=\")","v":{"$error":"#REF!"}},{"$f":"AND(#REF!,\"AAAAAG1jZ5I=\")","v":{"$error":"#REF!"}},{"$f":"AND(#REF!,\"AAAAAG1jZ5M=\")","v":{"$error":"#REF!"}},{"$f":"AND(#REF!,\"AAAAAG1jZ5Q=\")","v":{"$error":"#REF!"}},{"$f":"AND(#REF!,\"AAAAAG1jZ5U=\")","v":{"$error":"#REF!"}},{"$f":"AND(#REF!,\"AAAAAG1jZ5Y=\")","v":{"$error":"#REF!"}},{"$f":"AND(#REF!,\"AAAAAG1jZ5c=\")","v":{"$error":"#REF!"}},{"$f":"AND(#REF!,\"AAAAAG1jZ5g=\")","v":{"$error":"#REF!"}},{"$f":"AND(#REF!,\"AAAAAG1jZ5k=\")","v":{"$error":"#REF!"}},{"$f":"AND(#REF!,\"AAAAAG1jZ5o=\")","v":{"$error":"#REF!"}},{"$f":"AND(#REF!,\"AAAAAG1jZ5s=\")","v":{"$error":"#REF!"}},{"$f":"AND(#REF!,\"AAAAAG1jZ5w=\")","v":{"$error":"#REF!"}},{"$f":"AND(#REF!,\"AAAAAG1jZ50=\")","v":{"$error":"#REF!"}},{"$f":"AND(#REF!,\"AAAAAG1jZ54=\")","v":{"$error":"#REF!"}},{"$f":"AND(#REF!,\"AAAAAG1jZ58=\")","v":{"$error":"#REF!"}},{"$f":"IF(#REF!,\"AAAAAG1jZ6A=\",0)","v":{"$error":"#REF!"}},{"$f":"AND(#REF!,\"AAAAAG1jZ6E=\")","v":{"$error":"#REF!"}},{"$f":"AND(#REF!,\"AAAAAG1jZ6I=\")","v":{"$error":"#REF!"}},{"$f":"AND(#REF!,\"AAAAAG1jZ6M=\")","v":{"$error":"#REF!"}},{"$f":"AND(#REF!,\"AAAAAG1jZ6Q=\")","v":{"$error":"#REF!"}},{"$f":"AND(#REF!,\"AAAAAG1jZ6U=\")","v":{"$error":"#REF!"}},{"$f":"AND(#REF!,\"AAAAAG1jZ6Y=\")","v":{"$error":"#REF!"}},{"$f":"AND(#REF!,\"AAAAAG1jZ6c=\")","v":{"$error":"#REF!"}},{"$f":"AND(#REF!,\"AAAAAG1jZ6g=\")","v":{"$error":"#REF!"}},{"$f":"AND(#REF!,\"AAAAAG1jZ6k=\")","v":{"$error":"#REF!"}},{"$f":"AND(#REF!,\"AAAAAG1jZ6o=\")","v":{"$error":"#REF!"}},{"$f":"AND(#REF!,\"AAAAAG1jZ6s=\")","v":{"$error":"#REF!"}},{"$f":"AND(#REF!,\"AAAAAG1jZ6w=\")","v":{"$error":"#REF!"}},{"$f":"AND(#REF!,\"AAAAAG1jZ60=\")","v":{"$error":"#REF!"}},{"$f":"AND(#REF!,\"AAAAAG1jZ64=\")","v":{"$error":"#REF!"}},{"$f":"AND(#REF!,\"AAAAAG1jZ68=\")","v":{"$error":"#REF!"}},{"$f":"AND(#REF!,\"AAAAAG1jZ7A=\")","v":{"$error":"#REF!"}},{"$f":"AND(#REF!,\"AAAAAG1jZ7E=\")","v":{"$error":"#REF!"}},{"$f":"AND(#REF!,\"AAAAAG1jZ7I=\")","v":{"$error":"#REF!"}},{"$f":"AND(#REF!,\"AAAAAG1jZ7M=\")","v":{"$error":"#REF!"}},{"$f":"AND(#REF!,\"AAAAAG1jZ7Q=\")","v":{"$error":"#REF!"}},{"$f":"AND(#REF!,\"AAAAAG1jZ7U=\")","v":{"$error":"#REF!"}},{"$f":"AND(#REF!,\"AAAAAG1jZ7Y=\")","v":{"$error":"#REF!"}},{"$f":"AND(#REF!,\"AAAAAG1jZ7c=\")","v":{"$error":"#REF!"}},{"$f":"AND(#REF!,\"AAAAAG1jZ7g=\")","v":{"$error":"#REF!"}},{"$f":"AND(#REF!,\"AAAAAG1jZ7k=\")","v":{"$error":"#REF!"}},{"$f":"AND(#REF!,\"AAAAAG1jZ7o=\")","v":{"$error":"#REF!"}},{"$f":"AND(#REF!,\"AAAAAG1jZ7s=\")","v":{"$error":"#REF!"}},{"$f":"AND(#REF!,\"AAAAAG1jZ7w=\")","v":{"$error":"#REF!"}},{"$f":"AND(#REF!,\"AAAAAG1jZ70=\")","v":{"$error":"#REF!"}},{"$f":"AND(#REF!,\"AAAAAG1jZ74=\")","v":{"$error":"#REF!"}},{"$f":"AND(#REF!,\"AAAAAG1jZ78=\")","v":{"$error":"#REF!"}},{"$f":"AND(#REF!,\"AAAAAG1jZ8A=\")","v":{"$error":"#REF!"}},{"$f":"AND(#REF!,\"AAAAAG1jZ8E=\")","v":{"$error":"#REF!"}},{"$f":"IF(#REF!,\"AAAAAG1jZ8I=\",0)","v":{"$error":"#REF!"}},{"$f":"AND(#REF!,\"AAAAAG1jZ8M=\")","v":{"$error":"#REF!"}},{"$f":"AND(#REF!,\"AAAAAG1jZ8Q=\")","v":{"$error":"#REF!"}},{"$f":"AND(#REF!,\"AAAAAG1jZ8U=\")","v":{"$error":"#REF!"}},{"$f":"AND(#REF!,\"AAAAAG1jZ8Y=\")","v":{"$error":"#REF!"}},{"$f":"AND(#REF!,\"AAAAAG1jZ8c=\")","v":{"$error":"#REF!"}},{"$f":"AND(#REF!,\"AAAAAG1jZ8g=\")","v":{"$error":"#REF!"}},{"$f":"AND(#REF!,\"AAAAAG1jZ8k=\")","v":{"$error":"#REF!"}},{"$f":"AND(#REF!,\"AAAAAG1jZ8o=\")","v":{"$error":"#REF!"}},{"$f":"AND(#REF!,\"AAAAAG1jZ8s=\")","v":{"$error":"#REF!"}},{"$f":"AND(#REF!,\"AAAAAG1jZ8w=\")","v":{"$error":"#REF!"}},{"$f":"AND(#REF!,\"AAAAAG1jZ80=\")","v":{"$error":"#REF!"}},{"$f":"AND(#REF!,\"AAAAAG1jZ84=\")","v":{"$error":"#REF!"}},{"$f":"AND(#REF!,\"AAAAAG1jZ88=\")","v":{"$error":"#REF!"}},{"$f":"AND(#REF!,\"AAAAAG1jZ9A=\")","v":{"$error":"#REF!"}},{"$f":"AND(#REF!,\"AAAAAG1jZ9E=\")","v":{"$error":"#REF!"}},{"$f":"AND(#REF!,\"AAAAAG1jZ9I=\")","v":{"$error":"#REF!"}},{"$f":"AND(#REF!,\"AAAAAG1jZ9M=\")","v":{"$error":"#REF!"}},{"$f":"AND(#REF!,\"AAAAAG1jZ9Q=\")","v":{"$error":"#REF!"}},{"$f":"AND(#REF!,\"AAAAAG1jZ9U=\")","v":{"$error":"#REF!"}},{"$f":"AND(#REF!,\"AAAAAG1jZ9Y=\")","v":{"$error":"#REF!"}},{"$f":"AND(#REF!,\"AAAAAG1jZ9c=\")","v":{"$error":"#REF!"}},{"$f":"AND(#REF!,\"AAAAAG1jZ9g=\")","v":{"$error":"#REF!"}},{"$f":"AND(#REF!,\"AAAAAG1jZ9k=\")","v":{"$error":"#REF!"}},{"$f":"AND(#REF!,\"AAAAAG1jZ9o=\")","v":{"$error":"#REF!"}},{"$f":"AND(#REF!,\"AAAAAG1jZ9s=\")","v":{"$error":"#REF!"}},{"$f":"AND(#REF!,\"AAAAAG1jZ9w=\")","v":{"$error":"#REF!"}},{"$f":"AND(#REF!,\"AAAAAG1jZ90=\")","v":{"$error":"#REF!"}},{"$f":"AND(#REF!,\"AAAAAG1jZ94=\")","v":{"$error":"#REF!"}},{"$f":"AND(#REF!,\"AAAAAG1jZ98=\")","v":{"$error":"#REF!"}},{"$f":"AND(#REF!,\"AAAAAG1jZ+A=\")","v":{"$error":"#REF!"}},{"$f":"AND(#REF!,\"AAAAAG1jZ+E=\")","v":{"$error":"#REF!"}},{"$f":"AND(#REF!,\"AAAAAG1jZ+I=\")","v":{"$error":"#REF!"}},{"$f":"AND(#REF!,\"AAAAAG1jZ+M=\")","v":{"$error":"#REF!"}},{"$f":"IF(#REF!,\"AAAAAG1jZ+Q=\",0)","v":{"$error":"#REF!"}},{"$f":"AND(#REF!,\"AAAAAG1jZ+U=\")","v":{"$error":"#REF!"}},{"$f":"AND(#REF!,\"AAAAAG1jZ+Y=\")","v":{"$error":"#REF!"}},{"$f":"AND(#REF!,\"AAAAAG1jZ+c=\")","v":{"$error":"#REF!"}},{"$f":"AND(#REF!,\"AAAAAG1jZ+g=\")","v":{"$error":"#REF!"}},{"$f":"AND(#REF!,\"AAAAAG1jZ+k=\")","v":{"$error":"#REF!"}},{"$f":"AND(#REF!,\"AAAAAG1jZ+o=\")","v":{"$error":"#REF!"}},{"$f":"AND(#REF!,\"AAAAAG1jZ+s=\")","v":{"$error":"#REF!"}},{"$f":"AND(#REF!,\"AAAAAG1jZ+w=\")","v":{"$error":"#REF!"}},{"$f":"AND(#REF!,\"AAAAAG1jZ+0=\")","v":{"$error":"#REF!"}},{"$f":"AND(#REF!,\"AAAAAG1jZ+4=\")","v":{"$error":"#REF!"}},{"$f":"AND(#REF!,\"AAAAAG1jZ+8=\")","v":{"$error":"#REF!"}},{"$f":"AND(#REF!,\"AAAAAG1jZ/A=\")","v":{"$error":"#REF!"}},{"$f":"AND(#REF!,\"AAAAAG1jZ/E=\")","v":{"$error":"#REF!"}},{"$f":"AND(#REF!,\"AAAAAG1jZ/I=\")","v":{"$error":"#REF!"}},{"$f":"AND(#REF!,\"AAAAAG1jZ/M=\")","v":{"$error":"#REF!"}},{"$f":"AND(#REF!,\"AAAAAG1jZ/Q=\")","v":{"$error":"#REF!"}},{"$f":"AND(#REF!,\"AAAAAG1jZ/U=\")","v":{"$error":"#REF!"}},{"$f":"AND(#REF!,\"AAAAAG1jZ/Y=\")","v":{"$error":"#REF!"}},{"$f":"AND(#REF!,\"AAAAAG1jZ/c=\")","v":{"$error":"#REF!"}},{"$f":"AND(#REF!,\"AAAAAG1jZ/g=\")","v":{"$error":"#REF!"}},{"$f":"AND(#REF!,\"AAAAAG1jZ/k=\")","v":{"$error":"#REF!"}},{"$f":"AND(#REF!,\"AAAAAG1jZ/o=\")","v":{"$error":"#REF!"}},{"$f":"AND(#REF!,\"AAAAAG1jZ/s=\")","v":{"$error":"#REF!"}},{"$f":"AND(#REF!,\"AAAAAG1jZ/w=\")","v":{"$error":"#REF!"}},{"$f":"AND(#REF!,\"AAAAAG1jZ/0=\")","v":{"$error":"#REF!"}},{"$f":"AND(#REF!,\"AAAAAG1jZ/4=\")","v":{"$error":"#REF!"}},{"$f":"AND(#REF!,\"AAAAAG1jZ/8=\")","v":{"$error":"#REF!"}}]
[{"$f":"AND(#REF!,\"AAAAAHfzcgA=\")","v":{"$error":"#REF!"}},{"$f":"AND(#REF!,\"AAAAAHfzcgE=\")","v":{"$error":"#REF!"}},{"$f":"AND(#REF!,\"AAAAAHfzcgI=\")","v":{"$error":"#REF!"}},{"$f":"AND(#REF!,\"AAAAAHfzcgM=\")","v":{"$error":"#REF!"}},{"$f":"AND(#REF!,\"AAAAAHfzcgQ=\")","v":{"$error":"#REF!"}},{"$f":"AND(#REF!,\"AAAAAHfzcgU=\")","v":{"$error":"#REF!"}},{"$f":"IF(#REF!,\"AAAAAHfzcgY=\",0)","v":{"$error":"#REF!"}},{"$f":"AND(#REF!,\"AAAAAHfzcgc=\")","v":{"$error":"#REF!"}},{"$f":"AND(#REF!,\"AAAAAHfzcgg=\")","v":{"$error":"#REF!"}},{"$f":"AND(#REF!,\"AAAAAHfzcgk=\")","v":{"$error":"#REF!"}},{"$f":"AND(#REF!,\"AAAAAHfzcgo=\")","v":{"$error":"#REF!"}},{"$f":"AND(#REF!,\"AAAAAHfzcgs=\")","v":{"$error":"#REF!"}},{"$f":"AND(#REF!,\"AAAAAHfzcgw=\")","v":{"$error":"#REF!"}},{"$f":"AND(#REF!,\"AAAAAHfzcg0=\")","v":{"$error":"#REF!"}},{"$f":"AND(#REF!,\"AAAAAHfzcg4=\")","v":{"$error":"#REF!"}},{"$f":"AND(#REF!,\"AAAAAHfzcg8=\")","v":{"$error":"#REF!"}},{"$f":"AND(#REF!,\"AAAAAHfzchA=\")","v":{"$error":"#REF!"}},{"$f":"AND(#REF!,\"AAAAAHfzchE=\")","v":{"$error":"#REF!"}},{"$f":"AND(#REF!,\"AAAAAHfzchI=\")","v":{"$error":"#REF!"}},{"$f":"AND(#REF!,\"AAAAAHfzchM=\")","v":{"$error":"#REF!"}},{"$f":"AND(#REF!,\"AAAAAHfzchQ=\")","v":{"$error":"#REF!"}},{"$f":"AND(#REF!,\"AAAAAHfzchU=\")","v":{"$error":"#REF!"}},{"$f":"AND(#REF!,\"AAAAAHfzchY=\")","v":{"$error":"#REF!"}},{"$f":"AND(#REF!,\"AAAAAHfzchc=\")","v":{"$error":"#REF!"}},{"$f":"AND(#REF!,\"AAAAAHfzchg=\")","v":{"$error":"#REF!"}},{"$f":"AND(#REF!,\"AAAAAHfzchk=\")","v":{"$error":"#REF!"}},{"$f":"AND(#REF!,\"AAAAAHfzcho=\")","v":{"$error":"#REF!"}},{"$f":"AND(#REF!,\"AAAAAHfzchs=\")","v":{"$error":"#REF!"}},{"$f":"AND(#REF!,\"AAAAAHfzchw=\")","v":{"$error":"#REF!"}},{"$f":"AND(#REF!,\"AAAAAHfzch0=\")","v":{"$error":"#REF!"}},{"$f":"AND(#REF!,\"AAAAAHfzch4=\")","v":{"$error":"#REF!"}},{"$f":"AND(#REF!,\"AAAAAHfzch8=\")","v":{"$error":"#REF!"}},{"$f":"AND(#REF!,\"AAAAAHfzciA=\")","v":{"$error":"#REF!"}},{"$f":"AND(#REF!,\"AAAAAHfzciE=\")","v":{"$error":"#REF!"}},{"$f":"AND(#REF!,\"AAAAAHfzciI=\")","v":{"$error":"#REF!"}},{"$f":"AND(#REF!,\"AAAAAHfzciM=\")","v":{"$error":"#REF!"}},{"$f":"AND(#REF!,\"AAAAAHfzciQ=\")","v":{"$error":"#REF!"}},{"$f":"AND(#REF!,\"AAAAAHfzciU=\")","v":{"$error":"#REF!"}},{"$f":"AND(#REF!,\"AAAAAHfzciY=\")","v":{"$error":"#REF!"}},{"$f":"AND(#REF!,\"AAAAAHfzcic=\")","v":{"$error":"#REF!"}},{"$f":"IF(#REF!,\"AAAAAHfzcig=\",0)","v":{"$error":"#REF!"}},{"$f":"AND(#REF!,\"AAAAAHfzcik=\")","v":{"$error":"#REF!"}},{"$f":"AND(#REF!,\"AAAAAHfzcio=\")","v":{"$error":"#REF!"}},{"$f":"AND(#REF!,\"AAAAAHfzcis=\")","v":{"$error":"#REF!"}},{"$f":"AND(#REF!,\"AAAAAHfzciw=\")","v":{"$error":"#REF!"}},{"$f":"AND(#REF!,\"AAAAAHfzci0=\")","v":{"$error":"#REF!"}},{"$f":"AND(#REF!,\"AAAAAHfzci4=\")","v":{"$error":"#REF!"}},{"$f":"AND(#REF!,\"AAAAAHfzci8=\")","v":{"$error":"#REF!"}},{"$f":"AND(#REF!,\"AAAAAHfzcjA=\")","v":{"$error":"#REF!"}},{"$f":"AND(#REF!,\"AAAAAHfzcjE=\")","v":{"$error":"#REF!"}},{"$f":"AND(#REF!,\"AAAAAHfzcjI=\")","v":{"$error":"#REF!"}},{"$f":"AND(#REF!,\"AAAAAHfzcjM=\")","v":{"$error":"#REF!"}},{"$f":"AND(#REF!,\"AAAAAHfzcjQ=\")","v":{"$error":"#REF!"}},{"$f":"AND(#REF!,\"AAAAAHfzcjU=\")","v":{"$error":"#REF!"}},{"$f":"AND(#REF!,\"AAAAAHfzcjY=\")","v":{"$error":"#REF!"}},{"$f":"AND(#REF!,\"AAAAAHfzcjc=\")","v":{"$error":"#REF!"}},{"$f":"AND(#REF!,\"AAAAAHfzcjg=\")","v":{"$error":"#REF!"}},{"$f":"AND(#REF!,\"AAAAAHfzcjk=\")","v":{"$error":"#REF!"}},{"$f":"AND(#REF!,\"AAAAAHfzcjo=\")","v":{"$error":"#REF!"}},{"$f":"AND(#REF!,\"AAAAAHfzcjs=\")","v":{"$error":"#REF!"}},{"$f":"AND(#REF!,\"AAAAAHfzcjw=\")","v":{"$error":"#REF!"}},{"$f":"AND(#REF!,\"AAAAAHfzcj0=\")","v":{"$error":"#REF!"}},{"$f":"AND(#REF!,\"AAAAAHfzcj4=\")","v":{"$error":"#REF!"}},{"$f":"AND(#REF!,\"AAAAAHfzcj8=\")","v":{"$error":"#REF!"}},{"$f":"AND(#REF!,\"AAAAAHfzckA=\")","v":{"$error":"#REF!"}},{"$f":"AND(#REF!,\"AAAAAHfzckE=\")","v":{"$error":"#REF!"}},{"$f":"AND(#REF!,\"AAAAAHfzckI=\")","v":{"$error":"#REF!"}},{"$f":"AND(#REF!,\"AAAAAHfzckM=\")","v":{"$error":"#REF!"}},{"$f":"AND(#REF!,\"AAAAAHfzckQ=\")","v":{"$error":"#REF!"}},{"$f":"AND(#REF!,\"AAAAAHfzckU=\")","v":{"$error":"#REF!"}},{"$f":"AND(#REF!,\"AAAAAHfzckY=\")","v":{"$error":"#REF!"}},{"$f":"AND(#REF!,\"AAAAAHfzckc=\")","v":{"$error":"#REF!"}},{"$f":"AND(#REF!,\"AAAAAHfzckg=\")","v":{"$error":"#REF!"}},{"$f":"AND(#REF!,\"AAAAAHfzckk=\")","v":{"$error":"#REF!"}},{"$f":"IF(#REF!,\"AAAAAHfzcko=\",0)","v":{"$error":"#REF!"}},{"$f":"AND(#REF!,\"AAAAAHfzcks=\")","v":{"$error":"#REF!"}},{"$f":"AND(#REF!,\"AAAAAHfzckw=\")","v":{"$error":"#REF!"}},{"$f":"AND(#REF!,\"AAAAAHfzck0=\")","v":{"$error":"#REF!"}},{"$f":"AND(#REF!,\"AAAAAHfzck4=\")","v":{"$error":"#REF!"}},{"$f":"AND(#REF!,\"AAAAAHfzck8=\")","v":{"$error":"#REF!"}},{"$f":"AND(#REF!,\"AAAAAHfzclA=\")","v":{"$error":"#REF!"}},{"$f":"AND(#REF!,\"AAAAAHfzclE=\")","v":{"$error":"#REF!"}},{"$f":"AND(#REF!,\"AAAAAHfzclI=\")","v":{"$error":"#REF!"}},{"$f":"AND(#REF!,\"AAAAAHfzclM=\")","v":{"$error":"#REF!"}},{"$f":"AND(#REF!,\"AAAAAHfzclQ=\")","v":{"$error":"#REF!"}},{"$f":"AND(#REF!,\"AAAAAHfzclU=\")","v":{"$error":"#REF!"}},{"$f":"AND(#REF!,\"AAAAAHfzclY=\")","v":{"$error":"#REF!"}},{"$f":"AND(#REF!,\"AAAAAHfzclc=\")","v":{"$error":"#REF!"}},{"$f":"AND(#REF!,\"AAAAAHfzclg=\")","v":{"$error":"#REF!"}},{"$f":"AND(#REF!,\"AAAAAHfzclk=\")","v":{"$error":"#REF!"}},{"$f":"AND(#REF!,\"AAAAAHfzclo=\")","v":{"$error":"#REF!"}},{"$f":"AND(#REF!,\"AAAAAHfzcls=\")","v":{"$error":"#REF!"}},{"$f":"AND(#REF!,\"AAAAAHfzclw=\")","v":{"$error":"#REF!"}},{"$f":"AND(#REF!,\"AAAAAHfzcl0=\")","v":{"$error":"#REF!"}},{"$f":"AND(#REF!,\"AAAAAHfzcl4=\")","v":{"$error":"#REF!"}},{"$f":"AND(#REF!,\"AAAAAHfzcl8=\")","v":{"$error":"#REF!"}},{"$f":"AND(#REF!,\"AAAAAHfzcmA=\")","v":{"$error":"#REF!"}},{"$f":"AND(#REF!,\"AAAAAHfzcmE=\")","v":{"$error":"#REF!"}},{"$f":"AND(#REF!,\"AAAAAHfzcmI=\")","v":{"$error":"#REF!"}},{"$f":"AND(#REF!,\"AAAAAHfzcmM=\")","v":{"$error":"#REF!"}},{"$f":"AND(#REF!,\"AAAAAHfzcmQ=\")","v":{"$error":"#REF!"}},{"$f":"AND(#REF!,\"AAAAAHfzcmU=\")","v":{"$error":"#REF!"}},{"$f":"AND(#REF!,\"AAAAAHfzcmY=\")","v":{"$error":"#REF!"}},{"$f":"AND(#REF!,\"AAAAAHfzcmc=\")","v":{"$error":"#REF!"}},{"$f":"AND(#REF!,\"AAAAAHfzcmg=\")","v":{"$error":"#REF!"}},{"$f":"AND(#REF!,\"AAAAAHfzcmk=\")","v":{"$error":"#REF!"}},{"$f":"AND(#REF!,\"AAAAAHfzcmo=\")","v":{"$error":"#REF!"}},{"$f":"AND(#REF!,\"AAAAAHfzcms=\")","v":{"$error":"#REF!"}},{"$f":"IF(#REF!,\"AAAAAHfzcmw=\",0)","v":{"$error":"#REF!"}},{"$f":"AND(#REF!,\"AAAAAHfzcm0=\")","v":{"$error":"#REF!"}},{"$f":"AND(#REF!,\"AAAAAHfzcm4=\")","v":{"$error":"#REF!"}},{"$f":"AND(#REF!,\"AAAAAHfzcm8=\")","v":{"$error":"#REF!"}},{"$f":"AND(#REF!,\"AAAAAHfzcnA=\")","v":{"$error":"#REF!"}},{"$f":"AND(#REF!,\"AAAAAHfzcnE=\")","v":{"$error":"#REF!"}},{"$f":"AND(#REF!,\"AAAAAHfzcnI=\")","v":{"$error":"#REF!"}},{"$f":"AND(#REF!,\"AAAAAHfzcnM=\")","v":{"$error":"#REF!"}},{"$f":"AND(#REF!,\"AAAAAHfzcnQ=\")","v":{"$error":"#REF!"}},{"$f":"AND(#REF!,\"AAAAAHfzcnU=\")","v":{"$error":"#REF!"}},{"$f":"AND(#REF!,\"AAAAAHfzcnY=\")","v":{"$error":"#REF!"}},{"$f":"AND(#REF!,\"AAAAAHfzcnc=\")","v":{"$error":"#REF!"}},{"$f":"AND(#REF!,\"AAAAAHfzcng=\")","v":{"$error":"#REF!"}},{"$f":"AND(#REF!,\"AAAAAHfzcnk=\")","v":{"$error":"#REF!"}},{"$f":"AND(#REF!,\"AAAAAHfzcno=\")","v":{"$error":"#REF!"}},{"$f":"AND(#REF!,\"AAAAAHfzcns=\")","v":{"$error":"#REF!"}},{"$f":"AND(#REF!,\"AAAAAHfzcnw=\")","v":{"$error":"#REF!"}},{"$f":"AND(#REF!,\"AAAAAHfzcn0=\")","v":{"$error":"#REF!"}},{"$f":"AND(#REF!,\"AAAAAHfzcn4=\")","v":{"$error":"#REF!"}},{"$f":"AND(#REF!,\"AAAAAHfzcn8=\")","v":{"$error":"#REF!"}},{"$f":"AND(#REF!,\"AAAAAHfzcoA=\")","v":{"$error":"#REF!"}},{"$f":"AND(#REF!,\"AAAAAHfzcoE=\")","v":{"$error":"#REF!"}},{"$f":"AND(#REF!,\"AAAAAHfzcoI=\")","v":{"$error":"#REF!"}},{"$f":"AND(#REF!,\"AAAAAHfzcoM=\")","v":{"$error":"#REF!"}},{"$f":"AND(#REF!,\"AAAAAHfzcoQ=\")","v":{"$error":"#REF!"}},{"$f":"AND(#REF!,\"AAAAAHfzcoU=\")","v":{"$error":"#REF!"}},{"$f":"AND(#REF!,\"AAAAAHfzcoY=\")","v":{"$error":"#REF!"}},{"$f":"AND(#REF!,\"AAAAAHfzcoc=\")","v":{"$error":"#REF!"}},{"$f":"AND(#REF!,\"AAAAAHfzcog=\")","v":{"$error":"#REF!"}},{"$f":"AND(#REF!,\"AAAAAHfzcok=\")","v":{"$error":"#REF!"}},{"$f":"AND(#REF!,\"AAAAAHfzcoo=\")","v":{"$error":"#REF!"}},{"$f":"AND(#REF!,\"AAAAAHfzcos=\")","v":{"$error":"#REF!"}},{"$f":"AND(#REF!,\"AAAAAHfzcow=\")","v":{"$error":"#REF!"}},{"$f":"AND(#REF!,\"AAAAAHfzco0=\")","v":{"$error":"#REF!"}},{"$f":"IF(#REF!,\"AAAAAHfzco4=\",0)","v":{"$error":"#REF!"}},{"$f":"AND(#REF!,\"AAAAAHfzco8=\")","v":{"$error":"#REF!"}},{"$f":"AND(#REF!,\"AAAAAHfzcpA=\")","v":{"$error":"#REF!"}},{"$f":"AND(#REF!,\"AAAAAHfzcpE=\")","v":{"$error":"#REF!"}},{"$f":"AND(#REF!,\"AAAAAHfzcpI=\")","v":{"$error":"#REF!"}},{"$f":"AND(#REF!,\"AAAAAHfzcpM=\")","v":{"$error":"#REF!"}},{"$f":"AND(#REF!,\"AAAAAHfzcpQ=\")","v":{"$error":"#REF!"}},{"$f":"AND(#REF!,\"AAAAAHfzcpU=\")","v":{"$error":"#REF!"}},{"$f":"AND(#REF!,\"AAAAAHfzcpY=\")","v":{"$error":"#REF!"}},{"$f":"AND(#REF!,\"AAAAAHfzcpc=\")","v":{"$error":"#REF!"}},{"$f":"AND(#REF!,\"AAAAAHfzcpg=\")","v":{"$error":"#REF!"}},{"$f":"AND(#REF!,\"AAAAAHfzcpk=\")","v":{"$error":"#REF!"}},{"$f":"AND(#REF!,\"AAAAAHfzcpo=\")","v":{"$error":"#REF!"}},{"$f":"AND(#REF!,\"AAAAAHfzcps=\")","v":{"$error":"#REF!"}},{"$f":"AND(#REF!,\"AAAAAHfzcpw=\")","v":{"$error":"#REF!"}},{"$f":"AND(#REF!,\"AAAAAHfzcp0=\")","v":{"$error":"#REF!"}},{"$f":"AND(#REF!,\"AAAAAHfzcp4=\")","v":{"$error":"#REF!"}},{"$f":"AND(#REF!,\"AAAAAHfzcp8=\")","v":{"$error":"#REF!"}},{"$f":"AND(#REF!,\"AAAAAHfzcqA=\")","v":{"$error":"#REF!"}},{"$f":"AND(#REF!,\"AAAAAHfzcqE=\")","v":{"$error":"#REF!"}},{"$f":"AND(#REF!,\"AAAAAHfzcqI=\")","v":{"$error":"#REF!"}},{"$f":"AND(#REF!,\"AAAAAHfzcqM=\")","v":{"$error":"#REF!"}},{"$f":"AND(#REF!,\"AAAAAHfzcqQ=\")","v":{"$error":"#REF!"}},{"$f":"AND(#REF!,\"AAAAAHfzcqU=\")","v":{"$error":"#REF!"}},{"$f":"AND(#REF!,\"AAAAAHfzcqY=\")","v":{"$error":"#REF!"}},{"$f":"AND(#REF!,\"AAAAAHfzcqc=\")","v":{"$error":"#REF!"}},{"$f":"AND(#REF!,\"AAAAAHfzcqg=\")","v":{"$error":"#REF!"}},{"$f":"AND(#REF!,\"AAAAAHfzcqk=\")","v":{"$error":"#REF!"}},{"$f":"AND(#REF!,\"AAAAAHfzcqo=\")","v":{"$error":"#REF!"}},{"$f":"AND(#REF!,\"AAAAAHfzcqs=\")","v":{"$error":"#REF!"}},{"$f":"AND(#REF!,\"AAAAAHfzcqw=\")","v":{"$error":"#REF!"}},{"$f":"AND(#REF!,\"AAAAAHfzcq0=\")","v":{"$error":"#REF!"}},{"$f":"AND(#REF!,\"AAAAAHfzcq4=\")","v":{"$error":"#REF!"}},{"$f":"AND(#REF!,\"AAAAAHfzcq8=\")","v":{"$error":"#REF!"}},{"$f":"IF(#REF!,\"AAAAAHfzcrA=\",0)","v":{"$error":"#REF!"}},{"$f":"AND(#REF!,\"AAAAAHfzcrE=\")","v":{"$error":"#REF!"}},{"$f":"AND(#REF!,\"AAAAAHfzcrI=\")","v":{"$error":"#REF!"}},{"$f":"AND(#REF!,\"AAAAAHfzcrM=\")","v":{"$error":"#REF!"}},{"$f":"AND(#REF!,\"AAAAAHfzcrQ=\")","v":{"$error":"#REF!"}},{"$f":"AND(#REF!,\"AAAAAHfzcrU=\")","v":{"$error":"#REF!"}},{"$f":"AND(#REF!,\"AAAAAHfzcrY=\")","v":{"$error":"#REF!"}},{"$f":"AND(#REF!,\"AAAAAHfzcrc=\")","v":{"$error":"#REF!"}},{"$f":"AND(#REF!,\"AAAAAHfzcrg=\")","v":{"$error":"#REF!"}},{"$f":"AND(#REF!,\"AAAAAHfzcrk=\")","v":{"$error":"#REF!"}},{"$f":"AND(#REF!,\"AAAAAHfzcro=\")","v":{"$error":"#REF!"}},{"$f":"AND(#REF!,\"AAAAAHfzcrs=\")","v":{"$error":"#REF!"}},{"$f":"AND(#REF!,\"AAAAAHfzcrw=\")","v":{"$error":"#REF!"}},{"$f":"AND(#REF!,\"AAAAAHfzcr0=\")","v":{"$error":"#REF!"}},{"$f":"AND(#REF!,\"AAAAAHfzcr4=\")","v":{"$error":"#REF!"}},{"$f":"AND(#REF!,\"AAAAAHfzcr8=\")","v":{"$error":"#REF!"}},{"$f":"AND(#REF!,\"AAAAAHfzcsA=\")","v":{"$error":"#REF!"}},{"$f":"AND(#REF!,\"AAAAAHfzcsE=\")","v":{"$error":"#REF!"}},{"$f":"AND(#REF!,\"AAAAAHfzcsI=\")","v":{"$error":"#REF!"}},{"$f":"AND(#REF!,\"AAAAAHfzcsM=\")","v":{"$error":"#REF!"}},{"$f":"AND(#REF!,\"AAAAAHfzcsQ=\")","v":{"$error":"#REF!"}},{"$f":"AND(#REF!,\"AAAAAHfzcsU=\")","v":{"$error":"#REF!"}},{"$f":"AND(#REF!,\"AAAAAHfzcsY=\")","v":{"$error":"#REF!"}},{"$f":"AND(#REF!,\"AAAAAHfzcsc=\")","v":{"$error":"#REF!"}},{"$f":"AND(#REF!,\"AAAAAHfzcsg=\")","v":{"$error":"#REF!"}},{"$f":"AND(#REF!,\"AAAAAHfzcsk=\")","v":{"$error":"#REF!"}},{"$f":"AND(#REF!,\"AAAAAHfzcso=\")","v":{"$error":"#REF!"}},{"$f":"AND(#REF!,\"AAAAAHfzcss=\")","v":{"$error":"#REF!"}},{"$f":"AND(#REF!,\"AAAAAHfzcsw=\")","v":{"$error":"#REF!"}},{"$f":"AND(#REF!,\"AAAAAHfzcs0=\")","v":{"$error":"#REF!"}},{"$f":"AND(#REF!,\"AAAAAHfzcs4=\")","v":{"$error":"#REF!"}},{"$f":"AND(#REF!,\"AAAAAHfzcs8=\")","v":{"$error":"#REF!"}},{"$f":"AND(#REF!,\"AAAAAHfzctA=\")","v":{"$error":"#REF!"}},{"$f":"AND(#REF!,\"AAAAAHfzctE=\")","v":{"$error":"#REF!"}},{"$f":"IF(#REF!,\"AAAAAHfzctI=\",0)","v":{"$error":"#REF!"}},{"$f":"AND(#REF!,\"AAAAAHfzctM=\")","v":{"$error":"#REF!"}},{"$f":"AND(#REF!,\"AAAAAHfzctQ=\")","v":{"$error":"#REF!"}},{"$f":"AND(#REF!,\"AAAAAHfzctU=\")","v":{"$error":"#REF!"}},{"$f":"AND(#REF!,\"AAAAAHfzctY=\")","v":{"$error":"#REF!"}},{"$f":"AND(#REF!,\"AAAAAHfzctc=\")","v":{"$error":"#REF!"}},{"$f":"AND(#REF!,\"AAAAAHfzctg=\")","v":{"$error":"#REF!"}},{"$f":"AND(#REF!,\"AAAAAHfzctk=\")","v":{"$error":"#REF!"}},{"$f":"AND(#REF!,\"AAAAAHfzcto=\")","v":{"$error":"#REF!"}},{"$f":"AND(#REF!,\"AAAAAHfzcts=\")","v":{"$error":"#REF!"}},{"$f":"AND(#REF!,\"AAAAAHfzctw=\")","v":{"$error":"#REF!"}},{"$f":"AND(#REF!,\"AAAAAHfzct0=\")","v":{"$error":"#REF!"}},{"$f":"AND(#REF!,\"AAAAAHfzct4=\")","v":{"$error":"#REF!"}},{"$f":"AND(#REF!,\"AAAAAHfzct8=\")","v":{"$error":"#REF!"}},{"$f":"AND(#REF!,\"AAAAAHfzcuA=\")","v":{"$error":"#REF!"}},{"$f":"AND(#REF!,\"AAAAAHfzcuE=\")","v":{"$error":"#REF!"}},{"$f":"AND(#REF!,\"AAAAAHfzcuI=\")","v":{"$error":"#REF!"}},{"$f":"AND(#REF!,\"AAAAAHfzcuM=\")","v":{"$error":"#REF!"}},{"$f":"AND(#REF!,\"AAAAAHfzcuQ=\")","v":{"$error":"#REF!"}},{"$f":"AND(#REF!,\"AAAAAHfzcuU=\")","v":{"$error":"#REF!"}},{"$f":"AND(#REF!,\"AAAAAHfzcuY=\")","v":{"$error":"#REF!"}},{"$f":"AND(#REF!,\"AAAAAHfzcuc=\")","v":{"$error":"#REF!"}},{"$f":"AND(#REF!,\"AAAAAHfzcug=\")","v":{"$error":"#REF!"}},{"$f":"AND(#REF!,\"AAAAAHfzcuk=\")","v":{"$error":"#REF!"}},{"$f":"AND(#REF!,\"AAAAAHfzcuo=\")","v":{"$error":"#REF!"}},{"$f":"AND(#REF!,\"AAAAAHfzcus=\")","v":{"$error":"#REF!"}},{"$f":"AND(#REF!,\"AAAAAHfzcuw=\")","v":{"$error":"#REF!"}},{"$f":"AND(#REF!,\"AAAAAHfzcu0=\")","v":{"$error":"#REF!"}},{"$f":"AND(#REF!,\"AAAAAHfzcu4=\")","v":{"$error":"#REF!"}},{"$f":"AND(#REF!,\"AAAAAHfzcu8=\")","v":{"$error":"#REF!"}},{"$f":"AND(#REF!,\"AAAAAHfzcvA=\")","v":{"$error":"#REF!"}},{"$f":"AND(#REF!,\"AAAAAHfzcvE=\")","v":{"$error":"#REF!"}},{"$f":"AND(#REF!,\"AAAAAHfzcvI=\")","v":{"$error":"#REF!"}},{"$f":"AND(#REF!,\"AAAAAHfzcvM=\")","v":{"$error":"#REF!"}},{"$f":"IF(#REF!,\"AAAAAHfzcvQ=\",0)","v":{"$error":"#REF!"}},{"$f":"AND(#REF!,\"AAAAAHfzcvU=\")","v":{"$error":"#REF!"}},{"$f":"AND(#REF!,\"AAAAAHfzcvY=\")","v":{"$error":"#REF!"}},{"$f":"AND(#REF!,\"AAAAAHfzcvc=\")","v":{"$error":"#REF!"}},{"$f":"AND(#REF!,\"AAAAAHfzcvg=\")","v":{"$error":"#REF!"}},{"$f":"AND(#REF!,\"AAAAAHfzcvk=\")","v":{"$error":"#REF!"}},{"$f":"AND(#REF!,\"AAAAAHfzcvo=\")","v":{"$error":"#REF!"}},{"$f":"AND(#REF!,\"AAAAAHfzcvs=\")","v":{"$error":"#REF!"}},{"$f":"AND(#REF!,\"AAAAAHfzcvw=\")","v":{"$error":"#REF!"}},{"$f":"AND(#REF!,\"AAAAAHfzcv0=\")","v":{"$error":"#REF!"}},{"$f":"AND(#REF!,\"AAAAAHfzcv4=\")","v":{"$error":"#REF!"}},{"$f":"AND(#REF!,\"AAAAAHfzcv8=\")","v":{"$error":"#REF!"}}]
[{"$f":"AND(#REF!,\"AAAAAH/t9QA=\")","v":{"$error":"#REF!"}},{"$f":"AND(#REF!,\"AAAAAH/t9QE=\")","v":{"$error":"#REF!"}},{"$f":"AND(#REF!,\"AAAAAH/t9QI=\")","v":{"$error":"#REF!"}},{"$f":"AND(#REF!,\"AAAAAH/t9QM=\")","v":{"$error":"#REF!"}},{"$f":"AND(#REF!,\"AAAAAH/t9QQ=\")","v":{"$error":"#REF!"}},{"$f":"AND(#REF!,\"AAAAAH/t9QU=\")","v":{"$error":"#REF!"}},{"$f":"AND(#REF!,\"AAAAAH/t9QY=\")","v":{"$error":"#REF!"}},{"$f":"AND(#REF!,\"AAAAAH/t9Qc=\")","v":{"$error":"#REF!"}},{"$f":"AND(#REF!,\"AAAAAH/t9Qg=\")","v":{"$error":"#REF!"}},{"$f":"AND(#REF!,\"AAAAAH/t9Qk=\")","v":{"$error":"#REF!"}},{"$f":"AND(#REF!,\"AAAAAH/t9Qo=\")","v":{"$error":"#REF!"}},{"$f":"AND(#REF!,\"AAAAAH/t9Qs=\")","v":{"$error":"#REF!"}},{"$f":"AND(#REF!,\"AAAAAH/t9Qw=\")","v":{"$error":"#REF!"}},{"$f":"AND(#REF!,\"AAAAAH/t9Q0=\")","v":{"$error":"#REF!"}},{"$f":"AND(#REF!,\"AAAAAH/t9Q4=\")","v":{"$error":"#REF!"}},{"$f":"AND(#REF!,\"AAAAAH/t9Q8=\")","v":{"$error":"#REF!"}},{"$f":"AND(#REF!,\"AAAAAH/t9RA=\")","v":{"$error":"#REF!"}},{"$f":"AND(#REF!,\"AAAAAH/t9RE=\")","v":{"$error":"#REF!"}},{"$f":"AND(#REF!,\"AAAAAH/t9RI=\")","v":{"$error":"#REF!"}},{"$f":"AND(#REF!,\"AAAAAH/t9RM=\")","v":{"$error":"#REF!"}},{"$f":"AND(#REF!,\"AAAAAH/t9RQ=\")","v":{"$error":"#REF!"}},{"$f":"AND(#REF!,\"AAAAAH/t9RU=\")","v":{"$error":"#REF!"}},{"$f":"IF(#REF!,\"AAAAAH/t9RY=\",0)","v":{"$error":"#REF!"}},{"$f":"AND(#REF!,\"AAAAAH/t9Rc=\")","v":{"$error":"#REF!"}},{"$f":"AND(#REF!,\"AAAAAH/t9Rg=\")","v":{"$error":"#REF!"}},{"$f":"AND(#REF!,\"AAAAAH/t9Rk=\")","v":{"$error":"#REF!"}},{"$f":"AND(#REF!,\"AAAAAH/t9Ro=\")","v":{"$error":"#REF!"}},{"$f":"AND(#REF!,\"AAAAAH/t9Rs=\")","v":{"$error":"#REF!"}},{"$f":"AND(#REF!,\"AAAAAH/t9Rw=\")","v":{"$error":"#REF!"}},{"$f":"AND(#REF!,\"AAAAAH/t9R0=\")","v":{"$error":"#REF!"}},{"$f":"AND(#REF!,\"AAAAAH/t9R4=\")","v":{"$error":"#REF!"}},{"$f":"AND(#REF!,\"AAAAAH/t9R8=\")","v":{"$error":"#REF!"}},{"$f":"AND(#REF!,\"AAAAAH/t9SA=\")","v":{"$error":"#REF!"}},{"$f":"AND(#REF!,\"AAAAAH/t9SE=\")","v":{"$error":"#REF!"}},{"$f":"AND(#REF!,\"AAAAAH/t9SI=\")","v":{"$error":"#REF!"}},{"$f":"AND(#REF!,\"AAAAAH/t9SM=\")","v":{"$error":"#REF!"}},{"$f":"AND(#REF!,\"AAAAAH/t9SQ=\")","v":{"$error":"#REF!"}},{"$f":"AND(#REF!,\"AAAAAH/t9SU=\")","v":{"$error":"#REF!"}},{"$f":"AND(#REF!,\"AAAAAH/t9SY=\")","v":{"$error":"#REF!"}},{"$f":"AND(#REF!,\"AAAAAH/t9Sc=\")","v":{"$error":"#REF!"}},{"$f":"AND(#REF!,\"AAAAAH/t9Sg=\")","v":{"$error":"#REF!"}},{"$f":"AND(#REF!,\"AAAAAH/t9Sk=\")","v":{"$error":"#REF!"}},{"$f":"AND(#REF!,\"AAAAAH/t9So=\")","v":{"$error":"#REF!"}},{"$f":"AND(#REF!,\"AAAAAH/t9Ss=\")","v":{"$error":"#REF!"}},{"$f":"AND(#REF!,\"AAAAAH/t9Sw=\")","v":{"$error":"#REF!"}},{"$f":"AND(#REF!,\"AAAAAH/t9S0=\")","v":{"$error":"#REF!"}},{"$f":"AND(#REF!,\"AAAAAH/t9S4=\")","v":{"$error":"#REF!"}},{"$f":"AND(#REF!,\"AAAAAH/t9S8=\")","v":{"$error":"#REF!"}},{"$f":"AND(#REF!,\"AAAAAH/t9TA=\")","v":{"$error":"#REF!"}},{"$f":"AND(#REF!,\"AAAAAH/t9TE=\")","v":{"$error":"#REF!"}},{"$f":"AND(#REF!,\"AAAAAH/t9TI=\")","v":{"$error":"#REF!"}},{"$f":"AND(#REF!,\"AAAAAH/t9TM=\")","v":{"$error":"#REF!"}},{"$f":"AND(#REF!,\"AAAAAH/t9TQ=\")","v":{"$error":"#REF!"}},{"$f":"AND(#REF!,\"AAAAAH/t9TU=\")","v":{"$error":"#REF!"}},{"$f":"AND(#REF!,\"AAAAAH/t9TY=\")","v":{"$error":"#REF!"}},{"$f":"AND(#REF!,\"AAAAAH/t9Tc=\")","v":{"$error":"#REF!"}},{"$f":"IF(#REF!,\"AAAAAH/t9Tg=\",0)","v":{"$error":"#REF!"}},{"$f":"AND(#REF!,\"AAAAAH/t9Tk=\")","v":{"$error":"#REF!"}},{"$f":"AND(#REF!,\"AAAAAH/t9To=\")","v":{"$error":"#REF!"}},{"$f":"AND(#REF!,\"AAAAAH/t9Ts=\")","v":{"$error":"#REF!"}},{"$f":"AND(#REF!,\"AAAAAH/t9Tw=\")","v":{"$error":"#REF!"}},{"$f":"AND(#REF!,\"AAAAAH/t9T0=\")","v":{"$error":"#REF!"}},{"$f":"AND(#REF!,\"AAAAAH/t9T4=\")","v":{"$error":"#REF!"}},{"$f":"AND(#REF!,\"AAAAAH/t9T8=\")","v":{"$error":"#REF!"}},{"$f":"AND(#REF!,\"AAAAAH/t9UA=\")","v":{"$error":"#REF!"}},{"$f":"AND(#REF!,\"AAAAAH/t9UE=\")","v":{"$error":"#REF!"}},{"$f":"AND(#REF!,\"AAAAAH/t9UI=\")","v":{"$error":"#REF!"}},{"$f":"AND(#REF!,\"AAAAAH/t9UM=\")","v":{"$error":"#REF!"}},{"$f":"AND(#REF!,\"AAAAAH/t9UQ=\")","v":{"$error":"#REF!"}},{"$f":"AND(#REF!,\"AAAAAH/t9UU=\")","v":{"$error":"#REF!"}},{"$f":"AND(#REF!,\"AAAAAH/t9UY=\")","v":{"$error":"#REF!"}},{"$f":"AND(#REF!,\"AAAAAH/t9Uc=\")","v":{"$error":"#REF!"}},{"$f":"AND(#REF!,\"AAAAAH/t9Ug=\")","v":{"$error":"#REF!"}},{"$f":"AND(#REF!,\"AAAAAH/t9Uk=\")","v":{"$error":"#REF!"}},{"$f":"AND(#REF!,\"AAAAAH/t9Uo=\")","v":{"$error":"#REF!"}},{"$f":"AND(#REF!,\"AAAAAH/t9Us=\")","v":{"$error":"#REF!"}},{"$f":"AND(#REF!,\"AAAAAH/t9Uw=\")","v":{"$error":"#REF!"}},{"$f":"AND(#REF!,\"AAAAAH/t9U0=\")","v":{"$error":"#REF!"}},{"$f":"AND(#REF!,\"AAAAAH/t9U4=\")","v":{"$error":"#REF!"}},{"$f":"AND(#REF!,\"AAAAAH/t9U8=\")","v":{"$error":"#REF!"}},{"$f":"AND(#REF!,\"AAAAAH/t9VA=\")","v":{"$error":"#REF!"}},{"$f":"AND(#REF!,\"AAAAAH/t9VE=\")","v":{"$error":"#REF!"}},{"$f":"AND(#REF!,\"AAAAAH/t9VI=\")","v":{"$error":"#REF!"}},{"$f":"AND(#REF!,\"AAAAAH/t9VM=\")","v":{"$error":"#REF!"}},{"$f":"AND(#REF!,\"AAAAAH/t9VQ=\")","v":{"$error":"#REF!"}},{"$f":"AND(#REF!,\"AAAAAH/t9VU=\")","v":{"$error":"#REF!"}},{"$f":"AND(#REF!,\"AAAAAH/t9VY=\")","v":{"$error":"#REF!"}},{"$f":"AND(#REF!,\"AAAAAH/t9Vc=\")","v":{"$error":"#REF!"}},{"$f":"AND(#REF!,\"AAAAAH/t9Vg=\")","v":{"$error":"#REF!"}},{"$f":"AND(#REF!,\"AAAAAH/t9Vk=\")","v":{"$error":"#REF!"}},{"$f":"IF(#REF!,\"AAAAAH/t9Vo=\",0)","v":{"$error":"#REF!"}},{"$f":"AND(#REF!,\"AAAAAH/t9Vs=\")","v":{"$error":"#REF!"}},{"$f":"AND(#REF!,\"AAAAAH/t9Vw=\")","v":{"$error":"#REF!"}},{"$f":"AND(#REF!,\"AAAAAH/t9V0=\")","v":{"$error":"#REF!"}},{"$f":"AND(#REF!,\"AAAAAH/t9V4=\")","v":{"$error":"#REF!"}},{"$f":"AND(#REF!,\"AAAAAH/t9V8=\")","v":{"$error":"#REF!"}},{"$f":"AND(#REF!,\"AAAAAH/t9WA=\")","v":{"$error":"#REF!"}},{"$f":"AND(#REF!,\"AAAAAH/t9WE=\")","v":{"$error":"#REF!"}},{"$f":"AND(#REF!,\"AAAAAH/t9WI=\")","v":{"$error":"#REF!"}},{"$f":"AND(#REF!,\"AAAAAH/t9WM=\")","v":{"$error":"#REF!"}},{"$f":"AND(#REF!,\"AAAAAH/t9WQ=\")","v":{"$error":"#REF!"}},{"$f":"AND(#REF!,\"AAAAAH/t9WU=\")","v":{"$error":"#REF!"}},{"$f":"AND(#REF!,\"AAAAAH/t9WY=\")","v":{"$error":"#REF!"}},{"$f":"AND(#REF!,\"AAAAAH/t9Wc=\")","v":{"$error":"#REF!"}},{"$f":"AND(#REF!,\"AAAAAH/t9Wg=\")","v":{"$error":"#REF!"}},{"$f":"AND(#REF!,\"AAAAAH/t9Wk=\")","v":{"$error":"#REF!"}},{"$f":"AND(#REF!,\"AAAAAH/t9Wo=\")","v":{"$error":"#REF!"}},{"$f":"AND(#REF!,\"AAAAAH/t9Ws=\")","v":{"$error":"#REF!"}},{"$f":"AND(#REF!,\"AAAAAH/t9Ww=\")","v":{"$error":"#REF!"}},{"$f":"AND(#REF!,\"AAAAAH/t9W0=\")","v":{"$error":"#REF!"}},{"$f":"AND(#REF!,\"AAAAAH/t9W4=\")","v":{"$error":"#REF!"}},{"$f":"AND(#REF!,\"AAAAAH/t9W8=\")","v":{"$error":"#REF!"}},{"$f":"AND(#REF!,\"AAAAAH/t9XA=\")","v":{"$error":"#REF!"}},{"$f":"AND(#REF!,\"AAAAAH/t9XE=\")","v":{"$error":"#REF!"}},{"$f":"AND(#REF!,\"AAAAAH/t9XI=\")","v":{"$error":"#REF!"}},{"$f":"AND(#REF!,\"AAAAAH/t9XM=\")","v":{"$error":"#REF!"}},{"$f":"AND(#REF!,\"AAAAAH/t9XQ=\")","v":{"$error":"#REF!"}},{"$f":"AND(#REF!,\"AAAAAH/t9XU=\")","v":{"$error":"#REF!"}},{"$f":"AND(#REF!,\"AAAAAH/t9XY=\")","v":{"$error":"#REF!"}},{"$f":"AND(#REF!,\"AAAAAH/t9Xc=\")","v":{"$error":"#REF!"}},{"$f":"AND(#REF!,\"AAAAAH/t9Xg=\")","v":{"$error":"#REF!"}},{"$f":"AND(#REF!,\"AAAAAH/t9Xk=\")","v":{"$error":"#REF!"}},{"$f":"AND(#REF!,\"AAAAAH/t9Xo=\")","v":{"$error":"#REF!"}},{"$f":"AND(#REF!,\"AAAAAH/t9Xs=\")","v":{"$error":"#REF!"}},{"$f":"IF(#REF!,\"AAAAAH/t9Xw=\",0)","v":{"$error":"#REF!"}},{"$f":"AND(#REF!,\"AAAAAH/t9X0=\")","v":{"$error":"#REF!"}},{"$f":"AND(#REF!,\"AAAAAH/t9X4=\")","v":{"$error":"#REF!"}},{"$f":"AND(#REF!,\"AAAAAH/t9X8=\")","v":{"$error":"#REF!"}},{"$f":"AND(#REF!,\"AAAAAH/t9YA=\")","v":{"$error":"#REF!"}},{"$f":"AND(#REF!,\"AAAAAH/t9YE=\")","v":{"$error":"#REF!"}},{"$f":"AND(#REF!,\"AAAAAH/t9YI=\")","v":{"$error":"#REF!"}},{"$f":"AND(#REF!,\"AAAAAH/t9YM=\")","v":{"$error":"#REF!"}},{"$f":"AND(#REF!,\"AAAAAH/t9YQ=\")","v":{"$error":"#REF!"}},{"$f":"AND(#REF!,\"AAAAAH/t9YU=\")","v":{"$error":"#REF!"}},{"$f":"AND(#REF!,\"AAAAAH/t9YY=\")","v":{"$error":"#REF!"}},{"$f":"AND(#REF!,\"AAAAAH/t9Yc=\")","v":{"$error":"#REF!"}},{"$f":"AND(#REF!,\"AAAAAH/t9Yg=\")","v":{"$error":"#REF!"}},{"$f":"AND(#REF!,\"AAAAAH/t9Yk=\")","v":{"$error":"#REF!"}},{"$f":"AND(#REF!,\"AAAAAH/t9Yo=\")","v":{"$error":"#REF!"}},{"$f":"AND(#REF!,\"AAAAAH/t9Ys=\")","v":{"$error":"#REF!"}},{"$f":"AND(#REF!,\"AAAAAH/t9Yw=\")","v":{"$error":"#REF!"}},{"$f":"AND(#REF!,\"AAAAAH/t9Y0=\")","v":{"$error":"#REF!"}},{"$f":"AND(#REF!,\"AAAAAH/t9Y4=\")","v":{"$error":"#REF!"}},{"$f":"AND(#REF!,\"AAAAAH/t9Y8=\")","v":{"$error":"#REF!"}},{"$f":"AND(#REF!,\"AAAAAH/t9ZA=\")","v":{"$error":"#REF!"}},{"$f":"AND(#REF!,\"AAAAAH/t9ZE=\")","v":{"$error":"#REF!"}},{"$f":"AND(#REF!,\"AAAAAH/t9ZI=\")","v":{"$error":"#REF!"}},{"$f":"AND(#REF!,\"AAAAAH/t9ZM=\")","v":{"$error":"#REF!"}},{"$f":"AND(#REF!,\"AAAAAH/t9ZQ=\")","v":{"$error":"#REF!"}},{"$f":"AND(#REF!,\"AAAAAH/t9ZU=\")","v":{"$error":"#REF!"}},{"$f":"AND(#REF!,\"AAAAAH/t9ZY=\")","v":{"$error":"#REF!"}},{"$f":"AND(#REF!,\"AAAAAH/t9Zc=\")","v":{"$error":"#REF!"}},{"$f":"AND(#REF!,\"AAAAAH/t9Zg=\")","v":{"$error":"#REF!"}},{"$f":"AND(#REF!,\"AAAAAH/t9Zk=\")","v":{"$error":"#REF!"}},{"$f":"AND(#REF!,\"AAAAAH/t9Zo=\")","v":{"$error":"#REF!"}},{"$f":"AND(#REF!,\"AAAAAH/t9Zs=\")","v":{"$error":"#REF!"}},{"$f":"AND(#REF!,\"AAAAAH/t9Zw=\")","v":{"$error":"#REF!"}},{"$f":"AND(#REF!,\"AAAAAH/t9Z0=\")","v":{"$error":"#REF!"}},{"$f":"IF(#REF!,\"AAAAAH/t9Z4=\",0)","v":{"$error":"#REF!"}},{"$f":"AND(#REF!,\"AAAAAH/t9Z8=\")","v":{"$error":"#REF!"}},{"$f":"AND(#REF!,\"AAAAAH/t9aA=\")","v":{"$error":"#REF!"}},{"$f":"AND(#REF!,\"AAAAAH/t9aE=\")","v":{"$error":"#REF!"}},{"$f":"AND(#REF!,\"AAAAAH/t9aI=\")","v":{"$error":"#REF!"}},{"$f":"AND(#REF!,\"AAAAAH/t9aM=\")","v":{"$error":"#REF!"}},{"$f":"AND(#REF!,\"AAAAAH/t9aQ=\")","v":{"$error":"#REF!"}},{"$f":"AND(#REF!,\"AAAAAH/t9aU=\")","v":{"$error":"#REF!"}},{"$f":"AND(#REF!,\"AAAAAH/t9aY=\")","v":{"$error":"#REF!"}},{"$f":"AND(#REF!,\"AAAAAH/t9ac=\")","v":{"$error":"#REF!"}},{"$f":"AND(#REF!,\"AAAAAH/t9ag=\")","v":{"$error":"#REF!"}},{"$f":"AND(#REF!,\"AAAAAH/t9ak=\")","v":{"$error":"#REF!"}},{"$f":"AND(#REF!,\"AAAAAH/t9ao=\")","v":{"$error":"#REF!"}},{"$f":"AND(#REF!,\"AAAAAH/t9as=\")","v":{"$error":"#REF!"}},{"$f":"AND(#REF!,\"AAAAAH/t9aw=\")","v":{"$error":"#REF!"}},{"$f":"AND(#REF!,\"AAAAAH/t9a0=\")","v":{"$error":"#REF!"}},{"$f":"AND(#REF!,\"AAAAAH/t9a4=\")","v":{"$error":"#REF!"}},{"$f":"AND(#REF!,\"AAAAAH/t9a8=\")","v":{"$error":"#REF!"}},{"$f":"AND(#REF!,\"AAAAAH/t9bA=\")","v":{"$error":"#REF!"}},{"$f":"AND(#REF!,\"AAAAAH/t9bE=\")","v":{"$error":"#REF!"}},{"$f":"AND(#REF!,\"AAAAAH/t9bI=\")","v":{"$error":"#REF!"}},{"$f":"AND(#REF!,\"AAAAAH/t9bM=\")","v":{"$error":"#REF!"}},{"$f":"AND(#REF!,\"AAAAAH/t9bQ=\")","v":{"$error":"#REF!"}},{"$f":"AND(#REF!,\"AAAAAH/t9bU=\")","v":{"$error":"#REF!"}},{"$f":"AND(#REF!,\"AAAAAH/t9bY=\")","v":{"$error":"#REF!"}},{"$f":"AND(#REF!,\"AAAAAH/t9bc=\")","v":{"$error":"#REF!"}},{"$f":"AND(#REF!,\"AAAAAH/t9bg=\")","v":{"$error":"#REF!"}},{"$f":"AND(#REF!,\"AAAAAH/t9bk=\")","v":{"$error":"#REF!"}},{"$f":"AND(#REF!,\"AAAAAH/t9bo=\")","v":{"$error":"#REF!"}},{"$f":"AND(#REF!,\"AAAAAH/t9bs=\")","v":{"$error":"#REF!"}},{"$f":"AND(#REF!,\"AAAAAH/t9bw=\")","v":{"$error":"#REF!"}},{"$f":"AND(#REF!,\"AAAAAH/t9b0=\")","v":{"$error":"#REF!"}},{"$f":"AND(#REF!,\"AAAAAH/t9b4=\")","v":{"$error":"#REF!"}},{"$f":"AND(#REF!,\"AAAAAH/t9b8=\")","v":{"$error":"#REF!"}},{"$f":"IF(#REF!,\"AAAAAH/t9cA=\",0)","v":{"$error":"#REF!"}},{"$f":"AND(#REF!,\"AAAAAH/t9cE=\")","v":{"$error":"#REF!"}},{"$f":"AND(#REF!,\"AAAAAH/t9cI=\")","v":{"$error":"#REF!"}},{"$f":"AND(#REF!,\"AAAAAH/t9cM=\")","v":{"$error":"#REF!"}},{"$f":"AND(#REF!,\"AAAAAH/t9cQ=\")","v":{"$error":"#REF!"}},{"$f":"AND(#REF!,\"AAAAAH/t9cU=\")","v":{"$error":"#REF!"}},{"$f":"AND(#REF!,\"AAAAAH/t9cY=\")","v":{"$error":"#REF!"}},{"$f":"AND(#REF!,\"AAAAAH/t9cc=\")","v":{"$error":"#REF!"}},{"$f":"AND(#REF!,\"AAAAAH/t9cg=\")","v":{"$error":"#REF!"}},{"$f":"AND(#REF!,\"AAAAAH/t9ck=\")","v":{"$error":"#REF!"}},{"$f":"AND(#REF!,\"AAAAAH/t9co=\")","v":{"$error":"#REF!"}},{"$f":"AND(#REF!,\"AAAAAH/t9cs=\")","v":{"$error":"#REF!"}},{"$f":"AND(#REF!,\"AAAAAH/t9cw=\")","v":{"$error":"#REF!"}},{"$f":"AND(#REF!,\"AAAAAH/t9c0=\")","v":{"$error":"#REF!"}},{"$f":"AND(#REF!,\"AAAAAH/t9c4=\")","v":{"$error":"#REF!"}},{"$f":"AND(#REF!,\"AAAAAH/t9c8=\")","v":{"$error":"#REF!"}},{"$f":"AND(#REF!,\"AAAAAH/t9dA=\")","v":{"$error":"#REF!"}},{"$f":"AND(#REF!,\"AAAAAH/t9dE=\")","v":{"$error":"#REF!"}},{"$f":"AND(#REF!,\"AAAAAH/t9dI=\")","v":{"$error":"#REF!"}},{"$f":"AND(#REF!,\"AAAAAH/t9dM=\")","v":{"$error":"#REF!"}},{"$f":"AND(#REF!,\"AAAAAH/t9dQ=\")","v":{"$error":"#REF!"}},{"$f":"AND(#REF!,\"AAAAAH/t9dU=\")","v":{"$error":"#REF!"}},{"$f":"AND(#REF!,\"AAAAAH/t9dY=\")","v":{"$error":"#REF!"}},{"$f":"AND(#REF!,\"AAAAAH/t9dc=\")","v":{"$error":"#REF!"}},{"$f":"AND(#REF!,\"AAAAAH/t9dg=\")","v":{"$error":"#REF!"}},{"$f":"AND(#REF!,\"AAAAAH/t9dk=\")","v":{"$error":"#REF!"}},{"$f":"AND(#REF!,\"AAAAAH/t9do=\")","v":{"$error":"#REF!"}},{"$f":"AND(#REF!,\"AAAAAH/t9ds=\")","v":{"$error":"#REF!"}},{"$f":"AND(#REF!,\"AAAAAH/t9dw=\")","v":{"$error":"#REF!"}},{"$f":"AND(#REF!,\"AAAAAH/t9d0=\")","v":{"$error":"#REF!"}},{"$f":"AND(#REF!,\"AAAAAH/t9d4=\")","v":{"$error":"#REF!"}},{"$f":"AND(#REF!,\"AAAAAH/t9d8=\")","v":{"$error":"#REF!"}},{"$f":"AND(#REF!,\"AAAAAH/t9eA=\")","v":{"$error":"#REF!"}},{"$f":"AND(#REF!,\"AAAAAH/t9eE=\")","v":{"$error":"#REF!"}},{"$f":"IF(#REF!,\"AAAAAH/t9eI=\",0)","v":{"$error":"#REF!"}},{"$f":"AND(#REF!,\"AAAAAH/t9eM=\")","v":{"$error":"#REF!"}},{"$f":"AND(#REF!,\"AAAAAH/t9eQ=\")","v":{"$error":"#REF!"}},{"$f":"AND(#REF!,\"AAAAAH/t9eU=\")","v":{"$error":"#REF!"}},{"$f":"AND(#REF!,\"AAAAAH/t9eY=\")","v":{"$error":"#REF!"}},{"$f":"AND(#REF!,\"AAAAAH/t9ec=\")","v":{"$error":"#REF!"}},{"$f":"AND(#REF!,\"AAAAAH/t9eg=\")","v":{"$error":"#REF!"}},{"$f":"AND(#REF!,\"AAAAAH/t9ek=\")","v":{"$error":"#REF!"}},{"$f":"AND(#REF!,\"AAAAAH/t9eo=\")","v":{"$error":"#REF!"}},{"$f":"AND(#REF!,\"AAAAAH/t9es=\")","v":{"$error":"#REF!"}},{"$f":"AND(#REF!,\"AAAAAH/t9ew=\")","v":{"$error":"#REF!"}},{"$f":"AND(#REF!,\"AAAAAH/t9e0=\")","v":{"$error":"#REF!"}},{"$f":"AND(#REF!,\"AAAAAH/t9e4=\")","v":{"$error":"#REF!"}},{"$f":"AND(#REF!,\"AAAAAH/t9e8=\")","v":{"$error":"#REF!"}},{"$f":"AND(#REF!,\"AAAAAH/t9fA=\")","v":{"$error":"#REF!"}},{"$f":"AND(#REF!,\"AAAAAH/t9fE=\")","v":{"$error":"#REF!"}},{"$f":"AND(#REF!,\"AAAAAH/t9fI=\")","v":{"$error":"#REF!"}},{"$f":"AND(#REF!,\"AAAAAH/t9fM=\")","v":{"$error":"#REF!"}},{"$f":"AND(#REF!,\"AAAAAH/t9fQ=\")","v":{"$error":"#REF!"}},{"$f":"AND(#REF!,\"AAAAAH/t9fU=\")","v":{"$error":"#REF!"}},{"$f":"AND(#REF!,\"AAAAAH/t9fY=\")","v":{"$error":"#REF!"}},{"$f":"AND(#REF!,\"AAAAAH/t9fc=\")","v":{"$error":"#REF!"}},{"$f":"AND(#REF!,\"AAAAAH/t9fg=\")","v":{"$error":"#REF!"}},{"$f":"AND(#REF!,\"AAAAAH/t9fk=\")","v":{"$error":"#REF!"}},{"$f":"AND(#REF!,\"AAAAAH/t9fo=\")","v":{"$error":"#REF!"}},{"$f":"AND(#REF!,\"AAAAAH/t9fs=\")","v":{"$error":"#REF!"}},{"$f":"AND(#REF!,\"AAAAAH/t9fw=\")","v":{"$error":"#REF!"}},{"$f":"AND(#REF!,\"AAAAAH/t9f0=\")","v":{"$error":"#REF!"}},{"$f":"AND(#REF!,\"AAAAAH/t9f4=\")","v":{"$error":"#REF!"}},{"$f":"AND(#REF!,\"AAAAAH/t9f8=\")","v":{"$error":"#REF!"}}]
[{"$f":"AND(#REF!,\"AAAAAGXP+wA=\")","v":{"$error":"#REF!"}},{"$f":"AND(#REF!,\"AAAAAGXP+wE=\")","v":{"$error":"#REF!"}},{"$f":"AND(#REF!,\"AAAAAGXP+wI=\")","v":{"$error":"#REF!"}},{"$f":"AND(#REF!,\"AAAAAGXP+wM=\")","v":{"$error":"#REF!"}},{"$f":"IF(#REF!,\"AAAAAGXP+wQ=\",0)","v":{"$error":"#REF!"}},{"$f":"AND(#REF!,\"AAAAAGXP+wU=\")","v":{"$error":"#REF!"}},{"$f":"AND(#REF!,\"AAAAAGXP+wY=\")","v":{"$error":"#REF!"}},{"$f":"AND(#REF!,\"AAAAAGXP+wc=\")","v":{"$error":"#REF!"}},{"$f":"AND(#REF!,\"AAAAAGXP+wg=\")","v":{"$error":"#REF!"}},{"$f":"AND(#REF!,\"AAAAAGXP+wk=\")","v":{"$error":"#REF!"}},{"$f":"AND(#REF!,\"AAAAAGXP+wo=\")","v":{"$error":"#REF!"}},{"$f":"AND(#REF!,\"AAAAAGXP+ws=\")","v":{"$error":"#REF!"}},{"$f":"AND(#REF!,\"AAAAAGXP+ww=\")","v":{"$error":"#REF!"}},{"$f":"AND(#REF!,\"AAAAAGXP+w0=\")","v":{"$error":"#REF!"}},{"$f":"AND(#REF!,\"AAAAAGXP+w4=\")","v":{"$error":"#REF!"}},{"$f":"AND(#REF!,\"AAAAAGXP+w8=\")","v":{"$error":"#REF!"}},{"$f":"AND(#REF!,\"AAAAAGXP+xA=\")","v":{"$error":"#REF!"}},{"$f":"AND(#REF!,\"AAAAAGXP+xE=\")","v":{"$error":"#REF!"}},{"$f":"AND(#REF!,\"AAAAAGXP+xI=\")","v":{"$error":"#REF!"}},{"$f":"AND(#REF!,\"AAAAAGXP+xM=\")","v":{"$error":"#REF!"}},{"$f":"AND(#REF!,\"AAAAAGXP+xQ=\")","v":{"$error":"#REF!"}},{"$f":"AND(#REF!,\"AAAAAGXP+xU=\")","v":{"$error":"#REF!"}},{"$f":"AND(#REF!,\"AAAAAGXP+xY=\")","v":{"$error":"#REF!"}},{"$f":"AND(#REF!,\"AAAAAGXP+xc=\")","v":{"$error":"#REF!"}},{"$f":"AND(#REF!,\"AAAAAGXP+xg=\")","v":{"$error":"#REF!"}},{"$f":"AND(#REF!,\"AAAAAGXP+xk=\")","v":{"$error":"#REF!"}},{"$f":"AND(#REF!,\"AAAAAGXP+xo=\")","v":{"$error":"#REF!"}},{"$f":"AND(#REF!,\"AAAAAGXP+xs=\")","v":{"$error":"#REF!"}},{"$f":"AND(#REF!,\"AAAAAGXP+xw=\")","v":{"$error":"#REF!"}},{"$f":"AND(#REF!,\"AAAAAGXP+x0=\")","v":{"$error":"#REF!"}},{"$f":"AND(#REF!,\"AAAAAGXP+x4=\")","v":{"$error":"#REF!"}},{"$f":"AND(#REF!,\"AAAAAGXP+x8=\")","v":{"$error":"#REF!"}},{"$f":"AND(#REF!,\"AAAAAGXP+yA=\")","v":{"$error":"#REF!"}},{"$f":"AND(#REF!,\"AAAAAGXP+yE=\")","v":{"$error":"#REF!"}},{"$f":"AND(#REF!,\"AAAAAGXP+yI=\")","v":{"$error":"#REF!"}},{"$f":"AND(#REF!,\"AAAAAGXP+yM=\")","v":{"$error":"#REF!"}},{"$f":"AND(#REF!,\"AAAAAGXP+yQ=\")","v":{"$error":"#REF!"}},{"$f":"AND(#REF!,\"AAAAAGXP+yU=\")","v":{"$error":"#REF!"}},{"$f":"IF(#REF!,\"AAAAAGXP+yY=\",0)","v":{"$error":"#REF!"}},{"$f":"AND(#REF!,\"AAAAAGXP+yc=\")","v":{"$error":"#REF!"}},{"$f":"AND(#REF!,\"AAAAAGXP+yg=\")","v":{"$error":"#REF!"}},{"$f":"AND(#REF!,\"AAAAAGXP+yk=\")","v":{"$error":"#REF!"}},{"$f":"AND(#REF!,\"AAAAAGXP+yo=\")","v":{"$error":"#REF!"}},{"$f":"AND(#REF!,\"AAAAAGXP+ys=\")","v":{"$error":"#REF!"}},{"$f":"AND(#REF!,\"AAAAAGXP+yw=\")","v":{"$error":"#REF!"}},{"$f":"AND(#REF!,\"AAAAAGXP+y0=\")","v":{"$error":"#REF!"}},{"$f":"AND(#REF!,\"AAAAAGXP+y4=\")","v":{"$error":"#REF!"}},{"$f":"AND(#REF!,\"AAAAAGXP+y8=\")","v":{"$error":"#REF!"}},{"$f":"AND(#REF!,\"AAAAAGXP+zA=\")","v":{"$error":"#REF!"}},{"$f":"AND(#REF!,\"AAAAAGXP+zE=\")","v":{"$error":"#REF!"}},{"$f":"AND(#REF!,\"AAAAAGXP+zI=\")","v":{"$error":"#REF!"}},{"$f":"AND(#REF!,\"AAAAAGXP+zM=\")","v":{"$error":"#REF!"}},{"$f":"AND(#REF!,\"AAAAAGXP+zQ=\")","v":{"$error":"#REF!"}},{"$f":"AND(#REF!,\"AAAAAGXP+zU=\")","v":{"$error":"#REF!"}},{"$f":"AND(#REF!,\"AAAAAGXP+zY=\")","v":{"$error":"#REF!"}},{"$f":"AND(#REF!,\"AAAAAGXP+zc=\")","v":{"$error":"#REF!"}},{"$f":"AND(#REF!,\"AAAAAGXP+zg=\")","v":{"$error":"#REF!"}},{"$f":"AND(#REF!,\"AAAAAGXP+zk=\")","v":{"$error":"#REF!"}},{"$f":"AND(#REF!,\"AAAAAGXP+zo=\")","v":{"$error":"#REF!"}},{"$f":"AND(#REF!,\"AAAAAGXP+zs=\")","v":{"$error":"#REF!"}},{"$f":"AND(#REF!,\"AAAAAGXP+zw=\")","v":{"$error":"#REF!"}},{"$f":"AND(#REF!,\"AAAAAGXP+z0=\")","v":{"$error":"#REF!"}},{"$f":"AND(#REF!,\"AAAAAGXP+z4=\")","v":{"$error":"#REF!"}},{"$f":"AND(#REF!,\"AAAAAGXP+z8=\")","v":{"$error":"#REF!"}},{"$f":"AND(#REF!,\"AAAAAGXP+0A=\")","v":{"$error":"#REF!"}},{"$f":"AND(#REF!,\"AAAAAGXP+0E=\")","v":{"$error":"#REF!"}},{"$f":"AND(#REF!,\"AAAAAGXP+0I=\")","v":{"$error":"#REF!"}},{"$f":"AND(#REF!,\"AAAAAGXP+0M=\")","v":{"$error":"#REF!"}},{"$f":"AND(#REF!,\"AAAAAGXP+0Q=\")","v":{"$error":"#REF!"}},{"$f":"AND(#REF!,\"AAAAAGXP+0U=\")","v":{"$error":"#REF!"}},{"$f":"AND(#REF!,\"AAAAAGXP+0Y=\")","v":{"$error":"#REF!"}},{"$f":"AND(#REF!,\"AAAAAGXP+0c=\")","v":{"$error":"#REF!"}},{"$f":"IF(#REF!,\"AAAAAGXP+0g=\",0)","v":{"$error":"#REF!"}},{"$f":"AND(#REF!,\"AAAAAGXP+0k=\")","v":{"$error":"#REF!"}},{"$f":"AND(#REF!,\"AAAAAGXP+0o=\")","v":{"$error":"#REF!"}},{"$f":"AND(#REF!,\"AAAAAGXP+0s=\")","v":{"$error":"#REF!"}},{"$f":"AND(#REF!,\"AAAAAGXP+0w=\")","v":{"$error":"#REF!"}},{"$f":"AND(#REF!,\"AAAAAGXP+00=\")","v":{"$error":"#REF!"}},{"$f":"AND(#REF!,\"AAAAAGXP+04=\")","v":{"$error":"#REF!"}},{"$f":"AND(#REF!,\"AAAAAGXP+08=\")","v":{"$error":"#REF!"}},{"$f":"AND(#REF!,\"AAAAAGXP+1A=\")","v":{"$error":"#REF!"}},{"$f":"AND(#REF!,\"AAAAAGXP+1E=\")","v":{"$error":"#REF!"}},{"$f":"AND(#REF!,\"AAAAAGXP+1I=\")","v":{"$error":"#REF!"}},{"$f":"AND(#REF!,\"AAAAAGXP+1M=\")","v":{"$error":"#REF!"}},{"$f":"AND(#REF!,\"AAAAAGXP+1Q=\")","v":{"$error":"#REF!"}},{"$f":"AND(#REF!,\"AAAAAGXP+1U=\")","v":{"$error":"#REF!"}},{"$f":"AND(#REF!,\"AAAAAGXP+1Y=\")","v":{"$error":"#REF!"}},{"$f":"AND(#REF!,\"AAAAAGXP+1c=\")","v":{"$error":"#REF!"}},{"$f":"AND(#REF!,\"AAAAAGXP+1g=\")","v":{"$error":"#REF!"}},{"$f":"AND(#REF!,\"AAAAAGXP+1k=\")","v":{"$error":"#REF!"}},{"$f":"AND(#REF!,\"AAAAAGXP+1o=\")","v":{"$error":"#REF!"}},{"$f":"AND(#REF!,\"AAAAAGXP+1s=\")","v":{"$error":"#REF!"}},{"$f":"AND(#REF!,\"AAAAAGXP+1w=\")","v":{"$error":"#REF!"}},{"$f":"AND(#REF!,\"AAAAAGXP+10=\")","v":{"$error":"#REF!"}},{"$f":"AND(#REF!,\"AAAAAGXP+14=\")","v":{"$error":"#REF!"}},{"$f":"AND(#REF!,\"AAAAAGXP+18=\")","v":{"$error":"#REF!"}},{"$f":"AND(#REF!,\"AAAAAGXP+2A=\")","v":{"$error":"#REF!"}},{"$f":"AND(#REF!,\"AAAAAGXP+2E=\")","v":{"$error":"#REF!"}},{"$f":"AND(#REF!,\"AAAAAGXP+2I=\")","v":{"$error":"#REF!"}},{"$f":"AND(#REF!,\"AAAAAGXP+2M=\")","v":{"$error":"#REF!"}},{"$f":"AND(#REF!,\"AAAAAGXP+2Q=\")","v":{"$error":"#REF!"}},{"$f":"AND(#REF!,\"AAAAAGXP+2U=\")","v":{"$error":"#REF!"}},{"$f":"AND(#REF!,\"AAAAAGXP+2Y=\")","v":{"$error":"#REF!"}},{"$f":"AND(#REF!,\"AAAAAGXP+2c=\")","v":{"$error":"#REF!"}},{"$f":"AND(#REF!,\"AAAAAGXP+2g=\")","v":{"$error":"#REF!"}},{"$f":"AND(#REF!,\"AAAAAGXP+2k=\")","v":{"$error":"#REF!"}},{"$f":"IF(#REF!,\"AAAAAGXP+2o=\",0)","v":{"$error":"#REF!"}},{"$f":"AND(#REF!,\"AAAAAGXP+2s=\")","v":{"$error":"#REF!"}},{"$f":"AND(#REF!,\"AAAAAGXP+2w=\")","v":{"$error":"#REF!"}},{"$f":"AND(#REF!,\"AAAAAGXP+20=\")","v":{"$error":"#REF!"}},{"$f":"AND(#REF!,\"AAAAAGXP+24=\")","v":{"$error":"#REF!"}},{"$f":"AND(#REF!,\"AAAAAGXP+28=\")","v":{"$error":"#REF!"}},{"$f":"AND(#REF!,\"AAAAAGXP+3A=\")","v":{"$error":"#REF!"}},{"$f":"AND(#REF!,\"AAAAAGXP+3E=\")","v":{"$error":"#REF!"}},{"$f":"AND(#REF!,\"AAAAAGXP+3I=\")","v":{"$error":"#REF!"}},{"$f":"AND(#REF!,\"AAAAAGXP+3M=\")","v":{"$error":"#REF!"}},{"$f":"AND(#REF!,\"AAAAAGXP+3Q=\")","v":{"$error":"#REF!"}},{"$f":"AND(#REF!,\"AAAAAGXP+3U=\")","v":{"$error":"#REF!"}},{"$f":"AND(#REF!,\"AAAAAGXP+3Y=\")","v":{"$error":"#REF!"}},{"$f":"AND(#REF!,\"AAAAAGXP+3c=\")","v":{"$error":"#REF!"}},{"$f":"AND(#REF!,\"AAAAAGXP+3g=\")","v":{"$error":"#REF!"}},{"$f":"AND(#REF!,\"AAAAAGXP+3k=\")","v":{"$error":"#REF!"}},{"$f":"AND(#REF!,\"AAAAAGXP+3o=\")","v":{"$error":"#REF!"}},{"$f":"AND(#REF!,\"AAAAAGXP+3s=\")","v":{"$error":"#REF!"}},{"$f":"AND(#REF!,\"AAAAAGXP+3w=\")","v":{"$error":"#REF!"}},{"$f":"AND(#REF!,\"AAAAAGXP+30=\")","v":{"$error":"#REF!"}},{"$f":"AND(#REF!,\"AAAAAGXP+34=\")","v":{"$error":"#REF!"}},{"$f":"AND(#REF!,\"AAAAAGXP+38=\")","v":{"$error":"#REF!"}},{"$f":"AND(#REF!,\"AAAAAGXP+4A=\")","v":{"$error":"#REF!"}},{"$f":"AND(#REF!,\"AAAAAGXP+4E=\")","v":{"$error":"#REF!"}},{"$f":"AND(#REF!,\"AAAAAGXP+4I=\")","v":{"$error":"#REF!"}},{"$f":"AND(#REF!,\"AAAAAGXP+4M=\")","v":{"$error":"#REF!"}},{"$f":"AND(#REF!,\"AAAAAGXP+4Q=\")","v":{"$error":"#REF!"}},{"$f":"AND(#REF!,\"AAAAAGXP+4U=\")","v":{"$error":"#REF!"}},{"$f":"AND(#REF!,\"AAAAAGXP+4Y=\")","v":{"$error":"#REF!"}},{"$f":"AND(#REF!,\"AAAAAGXP+4c=\")","v":{"$error":"#REF!"}},{"$f":"AND(#REF!,\"AAAAAGXP+4g=\")","v":{"$error":"#REF!"}},{"$f":"AND(#REF!,\"AAAAAGXP+4k=\")","v":{"$error":"#REF!"}},{"$f":"AND(#REF!,\"AAAAAGXP+4o=\")","v":{"$error":"#REF!"}},{"$f":"AND(#REF!,\"AAAAAGXP+4s=\")","v":{"$error":"#REF!"}},{"$f":"IF(#REF!,\"AAAAAGXP+4w=\",0)","v":{"$error":"#REF!"}},{"$f":"AND(#REF!,\"AAAAAGXP+40=\")","v":{"$error":"#REF!"}},{"$f":"AND(#REF!,\"AAAAAGXP+44=\")","v":{"$error":"#REF!"}},{"$f":"AND(#REF!,\"AAAAAGXP+48=\")","v":{"$error":"#REF!"}},{"$f":"AND(#REF!,\"AAAAAGXP+5A=\")","v":{"$error":"#REF!"}},{"$f":"AND(#REF!,\"AAAAAGXP+5E=\")","v":{"$error":"#REF!"}},{"$f":"AND(#REF!,\"AAAAAGXP+5I=\")","v":{"$error":"#REF!"}},{"$f":"AND(#REF!,\"AAAAAGXP+5M=\")","v":{"$error":"#REF!"}},{"$f":"AND(#REF!,\"AAAAAGXP+5Q=\")","v":{"$error":"#REF!"}},{"$f":"AND(#REF!,\"AAAAAGXP+5U=\")","v":{"$error":"#REF!"}},{"$f":"AND(#REF!,\"AAAAAGXP+5Y=\")","v":{"$error":"#REF!"}},{"$f":"AND(#REF!,\"AAAAAGXP+5c=\")","v":{"$error":"#REF!"}},{"$f":"AND(#REF!,\"AAAAAGXP+5g=\")","v":{"$error":"#REF!"}},{"$f":"AND(#REF!,\"AAAAAGXP+5k=\")","v":{"$error":"#REF!"}},{"$f":"AND(#REF!,\"AAAAAGXP+5o=\")","v":{"$error":"#REF!"}},{"$f":"AND(#REF!,\"AAAAAGXP+5s=\")","v":{"$error":"#REF!"}},{"$f":"AND(#REF!,\"AAAAAGXP+5w=\")","v":{"$error":"#REF!"}},{"$f":"AND(#REF!,\"AAAAAGXP+50=\")","v":{"$error":"#REF!"}},{"$f":"AND(#REF!,\"AAAAAGXP+54=\")","v":{"$error":"#REF!"}},{"$f":"AND(#REF!,\"AAAAAGXP+58=\")","v":{"$error":"#REF!"}},{"$f":"AND(#REF!,\"AAAAAGXP+6A=\")","v":{"$error":"#REF!"}},{"$f":"AND(#REF!,\"AAAAAGXP+6E=\")","v":{"$error":"#REF!"}},{"$f":"AND(#REF!,\"AAAAAGXP+6I=\")","v":{"$error":"#REF!"}},{"$f":"AND(#REF!,\"AAAAAGXP+6M=\")","v":{"$error":"#REF!"}},{"$f":"AND(#REF!,\"AAAAAGXP+6Q=\")","v":{"$error":"#REF!"}},{"$f":"AND(#REF!,\"AAAAAGXP+6U=\")","v":{"$error":"#REF!"}},{"$f":"AND(#REF!,\"AAAAAGXP+6Y=\")","v":{"$error":"#REF!"}},{"$f":"AND(#REF!,\"AAAAAGXP+6c=\")","v":{"$error":"#REF!"}},{"$f":"AND(#REF!,\"AAAAAGXP+6g=\")","v":{"$error":"#REF!"}},{"$f":"AND(#REF!,\"AAAAAGXP+6k=\")","v":{"$error":"#REF!"}},{"$f":"AND(#REF!,\"AAAAAGXP+6o=\")","v":{"$error":"#REF!"}},{"$f":"AND(#REF!,\"AAAAAGXP+6s=\")","v":{"$error":"#REF!"}},{"$f":"AND(#REF!,\"AAAAAGXP+6w=\")","v":{"$error":"#REF!"}},{"$f":"AND(#REF!,\"AAAAAGXP+60=\")","v":{"$error":"#REF!"}},{"$f":"IF(#REF!,\"AAAAAGXP+64=\",0)","v":{"$error":"#REF!"}},{"$f":"AND(#REF!,\"AAAAAGXP+68=\")","v":{"$error":"#REF!"}},{"$f":"AND(#REF!,\"AAAAAGXP+7A=\")","v":{"$error":"#REF!"}},{"$f":"AND(#REF!,\"AAAAAGXP+7E=\")","v":{"$error":"#REF!"}},{"$f":"AND(#REF!,\"AAAAAGXP+7I=\")","v":{"$error":"#REF!"}},{"$f":"AND(#REF!,\"AAAAAGXP+7M=\")","v":{"$error":"#REF!"}},{"$f":"AND(#REF!,\"AAAAAGXP+7Q=\")","v":{"$error":"#REF!"}},{"$f":"AND(#REF!,\"AAAAAGXP+7U=\")","v":{"$error":"#REF!"}},{"$f":"AND(#REF!,\"AAAAAGXP+7Y=\")","v":{"$error":"#REF!"}},{"$f":"AND(#REF!,\"AAAAAGXP+7c=\")","v":{"$error":"#REF!"}},{"$f":"AND(#REF!,\"AAAAAGXP+7g=\")","v":{"$error":"#REF!"}},{"$f":"AND(#REF!,\"AAAAAGXP+7k=\")","v":{"$error":"#REF!"}},{"$f":"AND(#REF!,\"AAAAAGXP+7o=\")","v":{"$error":"#REF!"}},{"$f":"AND(#REF!,\"AAAAAGXP+7s=\")","v":{"$error":"#REF!"}},{"$f":"AND(#REF!,\"AAAAAGXP+7w=\")","v":{"$error":"#REF!"}},{"$f":"AND(#REF!,\"AAAAAGXP+70=\")","v":{"$error":"#REF!"}},{"$f":"AND(#REF!,\"AAAAAGXP+74=\")","v":{"$error":"#REF!"}},{"$f":"AND(#REF!,\"AAAAAGXP+78=\")","v":{"$error":"#REF!"}},{"$f":"AND(#REF!,\"AAAAAGXP+8A=\")","v":{"$error":"#REF!"}},{"$f":"AND(#REF!,\"AAAAAGXP+8E=\")","v":{"$error":"#REF!"}},{"$f":"AND(#REF!,\"AAAAAGXP+8I=\")","v":{"$error":"#REF!"}},{"$f":"AND(#REF!,\"AAAAAGXP+8M=\")","v":{"$error":"#REF!"}},{"$f":"AND(#REF!,\"AAAAAGXP+8Q=\")","v":{"$error":"#REF!"}},{"$f":"AND(#REF!,\"AAAAAGXP+8U=\")","v":{"$error":"#REF!"}},{"$f":"AND(#REF!,\"AAAAAGXP+8Y=\")","v":{"$error":"#REF!"}},{"$f":"AND(#REF!,\"AAAAAGXP+8c=\")","v":{"$error":"#REF!"}},{"$f":"AND(#REF!,\"AAAAAGXP+8g=\")","v":{"$error":"#REF!"}},{"$f":"AND(#REF!,\"AAAAAGXP+8k=\")","v":{"$error":"#REF!"}},{"$f":"AND(#REF!,\"AAAAAGXP+8o=\")","v":{"$error":"#REF!"}},{"$f":"AND(#REF!,\"AAAAAGXP+8s=\")","v":{"$error":"#REF!"}},{"$f":"AND(#REF!,\"AAAAAGXP+8w=\")","v":{"$error":"#REF!"}},{"$f":"AND(#REF!,\"AAAAAGXP+80=\")","v":{"$error":"#REF!"}},{"$f":"AND(#REF!,\"AAAAAGXP+84=\")","v":{"$error":"#REF!"}},{"$f":"AND(#REF!,\"AAAAAGXP+88=\")","v":{"$error":"#REF!"}},{"$f":"IF(#REF!,\"AAAAAGXP+9A=\",0)","v":{"$error":"#REF!"}},{"$f":"AND(#REF!,\"AAAAAGXP+9E=\")","v":{"$error":"#REF!"}},{"$f":"AND(#REF!,\"AAAAAGXP+9I=\")","v":{"$error":"#REF!"}},{"$f":"AND(#REF!,\"AAAAAGXP+9M=\")","v":{"$error":"#REF!"}},{"$f":"AND(#REF!,\"AAAAAGXP+9Q=\")","v":{"$error":"#REF!"}},{"$f":"AND(#REF!,\"AAAAAGXP+9U=\")","v":{"$error":"#REF!"}},{"$f":"AND(#REF!,\"AAAAAGXP+9Y=\")","v":{"$error":"#REF!"}},{"$f":"AND(#REF!,\"AAAAAGXP+9c=\")","v":{"$error":"#REF!"}},{"$f":"AND(#REF!,\"AAAAAGXP+9g=\")","v":{"$error":"#REF!"}},{"$f":"AND(#REF!,\"AAAAAGXP+9k=\")","v":{"$error":"#REF!"}},{"$f":"AND(#REF!,\"AAAAAGXP+9o=\")","v":{"$error":"#REF!"}},{"$f":"AND(#REF!,\"AAAAAGXP+9s=\")","v":{"$error":"#REF!"}},{"$f":"AND(#REF!,\"AAAAAGXP+9w=\")","v":{"$error":"#REF!"}},{"$f":"AND(#REF!,\"AAAAAGXP+90=\")","v":{"$error":"#REF!"}},{"$f":"AND(#REF!,\"AAAAAGXP+94=\")","v":{"$error":"#REF!"}},{"$f":"AND(#REF!,\"AAAAAGXP+98=\")","v":{"$error":"#REF!"}},{"$f":"AND(#REF!,\"AAAAAGXP++A=\")","v":{"$error":"#REF!"}},{"$f":"AND(#REF!,\"AAAAAGXP++E=\")","v":{"$error":"#REF!"}},{"$f":"AND(#REF!,\"AAAAAGXP++I=\")","v":{"$error":"#REF!"}},{"$f":"AND(#REF!,\"AAAAAGXP++M=\")","v":{"$error":"#REF!"}},{"$f":"AND(#REF!,\"AAAAAGXP++Q=\")","v":{"$error":"#REF!"}},{"$f":"AND(#REF!,\"AAAAAGXP++U=\")","v":{"$error":"#REF!"}},{"$f":"AND(#REF!,\"AAAAAGXP++Y=\")","v":{"$error":"#REF!"}},{"$f":"AND(#REF!,\"AAAAAGXP++c=\")","v":{"$error":"#REF!"}},{"$f":"AND(#REF!,\"AAAAAGXP++g=\")","v":{"$error":"#REF!"}},{"$f":"AND(#REF!,\"AAAAAGXP++k=\")","v":{"$error":"#REF!"}},{"$f":"AND(#REF!,\"AAAAAGXP++o=\")","v":{"$error":"#REF!"}},{"$f":"AND(#REF!,\"AAAAAGXP++s=\")","v":{"$error":"#REF!"}},{"$f":"AND(#REF!,\"AAAAAGXP++w=\")","v":{"$error":"#REF!"}},{"$f":"AND(#REF!,\"AAAAAGXP++0=\")","v":{"$error":"#REF!"}},{"$f":"AND(#REF!,\"AAAAAGXP++4=\")","v":{"$error":"#REF!"}},{"$f":"AND(#REF!,\"AAAAAGXP++8=\")","v":{"$error":"#REF!"}},{"$f":"AND(#REF!,\"AAAAAGXP+/A=\")","v":{"$error":"#REF!"}},{"$f":"AND(#REF!,\"AAAAAGXP+/E=\")","v":{"$error":"#REF!"}},{"$f":"IF(#REF!,\"AAAAAGXP+/I=\",0)","v":{"$error":"#REF!"}},{"$f":"IF(#REF!,\"AAAAAGXP+/M=\",0)","v":{"$error":"#REF!"}},{"$f":"IF(#REF!,\"AAAAAGXP+/Q=\",0)","v":{"$error":"#REF!"}},{"$f":"IF(#REF!,\"AAAAAGXP+/U=\",0)","v":{"$error":"#REF!"}},{"$f":"IF(#REF!,\"AAAAAGXP+/Y=\",0)","v":{"$error":"#REF!"}},{"$f":"IF(#REF!,\"AAAAAGXP+/c=\",0)","v":{"$error":"#REF!"}},{"$f":"IF(#REF!,\"AAAAAGXP+/g=\",0)","v":{"$error":"#REF!"}},{"$f":"IF(#REF!,\"AAAAAGXP+/k=\",0)","v":{"$error":"#REF!"}},{"$f":"IF(#REF!,\"AAAAAGXP+/o=\",0)","v":{"$error":"#REF!"}},{"$f":"IF(#REF!,\"AAAAAGXP+/s=\",0)","v":{"$error":"#REF!"}},{"$f":"IF(#REF!,\"AAAAAGXP+/w=\",0)","v":{"$error":"#REF!"}},{"$f":"IF(#REF!,\"AAAAAGXP+/0=\",0)","v":{"$error":"#REF!"}},{"$f":"IF(#REF!,\"AAAAAGXP+/4=\",0)","v":{"$error":"#REF!"}},{"$f":"IF(#REF!,\"AAAAAGXP+/8=\",0)","v":{"$error":"#REF!"}}]
[{"$f":"IF(#REF!,\"AAAAAHmvlgA=\",0)","v":{"$error":"#REF!"}},{"$f":"IF(#REF!,\"AAAAAHmvlgE=\",0)","v":{"$error":"#REF!"}},{"$f":"IF(#REF!,\"AAAAAHmvlgI=\",0)","v":{"$error":"#REF!"}},{"$f":"IF(#REF!,\"AAAAAHmvlgM=\",0)","v":{"$error":"#REF!"}},{"$f":"IF(#REF!,\"AAAAAHmvlgQ=\",0)","v":{"$error":"#REF!"}},{"$f":"IF(#REF!,\"AAAAAHmvlgU=\",0)","v":{"$error":"#REF!"}},{"$f":"IF(#REF!,\"AAAAAHmvlgY=\",0)","v":{"$error":"#REF!"}},{"$f":"IF(#REF!,\"AAAAAHmvlgc=\",0)","v":{"$error":"#REF!"}},{"$f":"IF(#REF!,\"AAAAAHmvlgg=\",0)","v":{"$error":"#REF!"}},{"$f":"IF(#REF!,\"AAAAAHmvlgk=\",0)","v":{"$error":"#REF!"}},{"$f":"IF(#REF!,\"AAAAAHmvlgo=\",0)","v":{"$error":"#REF!"}},{"$f":"IF(#REF!,\"AAAAAHmvlgs=\",0)","v":{"$error":"#REF!"}},{"$f":"IF(#REF!,\"AAAAAHmvlgw=\",0)","v":{"$error":"#REF!"}},{"$f":"IF(#REF!,\"AAAAAHmvlg0=\",0)","v":{"$error":"#REF!"}},{"$f":"IF(#REF!,\"AAAAAHmvlg4=\",0)","v":{"$error":"#REF!"}},{"$f":"IF(#REF!,\"AAAAAHmvlg8=\",0)","v":{"$error":"#REF!"}},{"$f":"IF(#REF!,\"AAAAAHmvlhA=\",0)","v":{"$error":"#REF!"}},{"$f":"IF(#REF!,\"AAAAAHmvlhE=\",0)","v":{"$error":"#REF!"}},{"$f":"IF(#REF!,\"AAAAAHmvlhI=\",0)","v":{"$error":"#REF!"}},{"$f":"IF(#REF!,\"AAAAAHmvlhM=\",0)","v":{"$error":"#REF!"}},{"$f":"IF(#REF!,\"AAAAAHmvlhQ=\",0)","v":{"$error":"#REF!"}},{"$f":"IF(#REF!,\"AAAAAHmvlhU=\",0)","v":{"$error":"#REF!"}},{"$f":"IF(#REF!,\"AAAAAHmvlhY=\",0)","v":{"$error":"#REF!"}},{"$f":"AND(#REF!,\"AAAAAHmvlhc=\")","v":{"$error":"#REF!"}},{"$f":"AND(#REF!,\"AAAAAHmvlhg=\")","v":{"$error":"#REF!"}},{"$f":"AND(#REF!,\"AAAAAHmvlhk=\")","v":{"$error":"#REF!"}},{"$f":"AND(#REF!,\"AAAAAHmvlho=\")","v":{"$error":"#REF!"}},{"$f":"AND(#REF!,\"AAAAAHmvlhs=\")","v":{"$error":"#REF!"}},{"$f":"AND(#REF!,\"AAAAAHmvlhw=\")","v":{"$error":"#REF!"}},{"$f":"AND(#REF!,\"AAAAAHmvlh0=\")","v":{"$error":"#REF!"}},{"$f":"AND(#REF!,\"AAAAAHmvlh4=\")","v":{"$error":"#REF!"}},{"$f":"AND(#REF!,\"AAAAAHmvlh8=\")","v":{"$error":"#REF!"}},{"$f":"AND(#REF!,\"AAAAAHmvliA=\")","v":{"$error":"#REF!"}},{"$f":"AND(#REF!,\"AAAAAHmvliE=\")","v":{"$error":"#REF!"}},{"$f":"AND(#REF!,\"AAAAAHmvliI=\")","v":{"$error":"#REF!"}},{"$f":"AND(#REF!,\"AAAAAHmvliM=\")","v":{"$error":"#REF!"}},{"$f":"AND(#REF!,\"AAAAAHmvliQ=\")","v":{"$error":"#REF!"}},{"$f":"AND(#REF!,\"AAAAAHmvliU=\")","v":{"$error":"#REF!"}},{"$f":"AND(#REF!,\"AAAAAHmvliY=\")","v":{"$error":"#REF!"}},{"$f":"AND(#REF!,\"AAAAAHmvlic=\")","v":{"$error":"#REF!"}},{"$f":"AND(#REF!,\"AAAAAHmvlig=\")","v":{"$error":"#REF!"}},{"$f":"AND(#REF!,\"AAAAAHmvlik=\")","v":{"$error":"#REF!"}},{"$f":"AND(#REF!,\"AAAAAHmvlio=\")","v":{"$error":"#REF!"}},{"$f":"AND(#REF!,\"AAAAAHmvlis=\")","v":{"$error":"#REF!"}},{"$f":"AND(#REF!,\"AAAAAHmvliw=\")","v":{"$error":"#REF!"}},{"$f":"AND(#REF!,\"AAAAAHmvli0=\")","v":{"$error":"#REF!"}},{"$f":"AND(#REF!,\"AAAAAHmvli4=\")","v":{"$error":"#REF!"}},{"$f":"AND(#REF!,\"AAAAAHmvli8=\")","v":{"$error":"#REF!"}},{"$f":"AND(#REF!,\"AAAAAHmvljA=\")","v":{"$error":"#REF!"}},{"$f":"AND(#REF!,\"AAAAAHmvljE=\")","v":{"$error":"#REF!"}},{"$f":"AND(#REF!,\"AAAAAHmvljI=\")","v":{"$error":"#REF!"}},{"$f":"AND(#REF!,\"AAAAAHmvljM=\")","v":{"$error":"#REF!"}},{"$f":"AND(#REF!,\"AAAAAHmvljQ=\")","v":{"$error":"#REF!"}},{"$f":"AND(#REF!,\"AAAAAHmvljU=\")","v":{"$error":"#REF!"}},{"$f":"AND(#REF!,\"AAAAAHmvljY=\")","v":{"$error":"#REF!"}},{"$f":"AND(#REF!,\"AAAAAHmvljc=\")","v":{"$error":"#REF!"}},{"$f":"IF(#REF!,\"AAAAAHmvljg=\",0)","v":{"$error":"#REF!"}},{"$f":"AND(#REF!,\"AAAAAHmvljk=\")","v":{"$error":"#REF!"}},{"$f":"AND(#REF!,\"AAAAAHmvljo=\")","v":{"$error":"#REF!"}},{"$f":"AND(#REF!,\"AAAAAHmvljs=\")","v":{"$error":"#REF!"}},{"$f":"AND(#REF!,\"AAAAAHmvljw=\")","v":{"$error":"#REF!"}},{"$f":"AND(#REF!,\"AAAAAHmvlj0=\")","v":{"$error":"#REF!"}},{"$f":"AND(#REF!,\"AAAAAHmvlj4=\")","v":{"$error":"#REF!"}},{"$f":"AND(#REF!,\"AAAAAHmvlj8=\")","v":{"$error":"#REF!"}},{"$f":"AND(#REF!,\"AAAAAHmvlkA=\")","v":{"$error":"#REF!"}},{"$f":"AND(#REF!,\"AAAAAHmvlkE=\")","v":{"$error":"#REF!"}},{"$f":"AND(#REF!,\"AAAAAHmvlkI=\")","v":{"$error":"#REF!"}},{"$f":"AND(#REF!,\"AAAAAHmvlkM=\")","v":{"$error":"#REF!"}},{"$f":"AND(#REF!,\"AAAAAHmvlkQ=\")","v":{"$error":"#REF!"}},{"$f":"AND(#REF!,\"AAAAAHmvlkU=\")","v":{"$error":"#REF!"}},{"$f":"AND(#REF!,\"AAAAAHmvlkY=\")","v":{"$error":"#REF!"}},{"$f":"AND(#REF!,\"AAAAAHmvlkc=\")","v":{"$error":"#REF!"}},{"$f":"AND(#REF!,\"AAAAAHmvlkg=\")","v":{"$error":"#REF!"}},{"$f":"AND(#REF!,\"AAAAAHmvlkk=\")","v":{"$error":"#REF!"}},{"$f":"AND(#REF!,\"AAAAAHmvlko=\")","v":{"$error":"#REF!"}},{"$f":"AND(#REF!,\"AAAAAHmvlks=\")","v":{"$error":"#REF!"}},{"$f":"AND(#REF!,\"AAAAAHmvlkw=\")","v":{"$error":"#REF!"}},{"$f":"AND(#REF!,\"AAAAAHmvlk0=\")","v":{"$error":"#REF!"}},{"$f":"AND(#REF!,\"AAAAAHmvlk4=\")","v":{"$error":"#REF!"}},{"$f":"AND(#REF!,\"AAAAAHmvlk8=\")","v":{"$error":"#REF!"}},{"$f":"AND(#REF!,\"AAAAAHmvllA=\")","v":{"$error":"#REF!"}},{"$f":"AND(#REF!,\"AAAAAHmvllE=\")","v":{"$error":"#REF!"}},{"$f":"AND(#REF!,\"AAAAAHmvllI=\")","v":{"$error":"#REF!"}},{"$f":"AND(#REF!,\"AAAAAHmvllM=\")","v":{"$error":"#REF!"}},{"$f":"AND(#REF!,\"AAAAAHmvllQ=\")","v":{"$error":"#REF!"}},{"$f":"AND(#REF!,\"AAAAAHmvllU=\")","v":{"$error":"#REF!"}},{"$f":"AND(#REF!,\"AAAAAHmvllY=\")","v":{"$error":"#REF!"}},{"$f":"AND(#REF!,\"AAAAAHmvllc=\")","v":{"$error":"#REF!"}},{"$f":"AND(#REF!,\"AAAAAHmvllg=\")","v":{"$error":"#REF!"}},{"$f":"AND(#REF!,\"AAAAAHmvllk=\")","v":{"$error":"#REF!"}},{"$f":"IF(#REF!,\"AAAAAHmvllo=\",0)","v":{"$error":"#REF!"}},{"$f":"AND(#REF!,\"AAAAAHmvlls=\")","v":{"$error":"#REF!"}},{"$f":"AND(#REF!,\"AAAAAHmvllw=\")","v":{"$error":"#REF!"}},{"$f":"AND(#REF!,\"AAAAAHmvll0=\")","v":{"$error":"#REF!"}},{"$f":"AND(#REF!,\"AAAAAHmvll4=\")","v":{"$error":"#REF!"}},{"$f":"AND(#REF!,\"AAAAAHmvll8=\")","v":{"$error":"#REF!"}},{"$f":"AND(#REF!,\"AAAAAHmvlmA=\")","v":{"$error":"#REF!"}},{"$f":"AND(#REF!,\"AAAAAHmvlmE=\")","v":{"$error":"#REF!"}},{"$f":"AND(#REF!,\"AAAAAHmvlmI=\")","v":{"$error":"#REF!"}},{"$f":"AND(#REF!,\"AAAAAHmvlmM=\")","v":{"$error":"#REF!"}},{"$f":"AND(#REF!,\"AAAAAHmvlmQ=\")","v":{"$error":"#REF!"}},{"$f":"AND(#REF!,\"AAAAAHmvlmU=\")","v":{"$error":"#REF!"}},{"$f":"AND(#REF!,\"AAAAAHmvlmY=\")","v":{"$error":"#REF!"}},{"$f":"AND(#REF!,\"AAAAAHmvlmc=\")","v":{"$error":"#REF!"}},{"$f":"AND(#REF!,\"AAAAAHmvlmg=\")","v":{"$error":"#REF!"}},{"$f":"AND(#REF!,\"AAAAAHmvlmk=\")","v":{"$error":"#REF!"}},{"$f":"AND(#REF!,\"AAAAAHmvlmo=\")","v":{"$error":"#REF!"}},{"$f":"AND(#REF!,\"AAAAAHmvlms=\")","v":{"$error":"#REF!"}},{"$f":"AND(#REF!,\"AAAAAHmvlmw=\")","v":{"$error":"#REF!"}},{"$f":"AND(#REF!,\"AAAAAHmvlm0=\")","v":{"$error":"#REF!"}},{"$f":"AND(#REF!,\"AAAAAHmvlm4=\")","v":{"$error":"#REF!"}},{"$f":"AND(#REF!,\"AAAAAHmvlm8=\")","v":{"$error":"#REF!"}},{"$f":"AND(#REF!,\"AAAAAHmvlnA=\")","v":{"$error":"#REF!"}},{"$f":"AND(#REF!,\"AAAAAHmvlnE=\")","v":{"$error":"#REF!"}},{"$f":"AND(#REF!,\"AAAAAHmvlnI=\")","v":{"$error":"#REF!"}},{"$f":"AND(#REF!,\"AAAAAHmvlnM=\")","v":{"$error":"#REF!"}},{"$f":"AND(#REF!,\"AAAAAHmvlnQ=\")","v":{"$error":"#REF!"}},{"$f":"AND(#REF!,\"AAAAAHmvlnU=\")","v":{"$error":"#REF!"}},{"$f":"AND(#REF!,\"AAAAAHmvlnY=\")","v":{"$error":"#REF!"}},{"$f":"AND(#REF!,\"AAAAAHmvlnc=\")","v":{"$error":"#REF!"}},{"$f":"AND(#REF!,\"AAAAAHmvlng=\")","v":{"$error":"#REF!"}},{"$f":"AND(#REF!,\"AAAAAHmvlnk=\")","v":{"$error":"#REF!"}},{"$f":"AND(#REF!,\"AAAAAHmvlno=\")","v":{"$error":"#REF!"}},{"$f":"AND(#REF!,\"AAAAAHmvlns=\")","v":{"$error":"#REF!"}},{"$f":"IF(#REF!,\"AAAAAHmvlnw=\",0)","v":{"$error":"#REF!"}},{"$f":"AND(#REF!,\"AAAAAHmvln0=\")","v":{"$error":"#REF!"}},{"$f":"AND(#REF!,\"AAAAAHmvln4=\")","v":{"$error":"#REF!"}},{"$f":"AND(#REF!,\"AAAAAHmvln8=\")","v":{"$error":"#REF!"}},{"$f":"AND(#REF!,\"AAAAAHmvloA=\")","v":{"$error":"#REF!"}},{"$f":"AND(#REF!,\"AAAAAHmvloE=\")","v":{"$error":"#REF!"}},{"$f":"AND(#REF!,\"AAAAAHmvloI=\")","v":{"$error":"#REF!"}},{"$f":"AND(#REF!,\"AAAAAHmvloM=\")","v":{"$error":"#REF!"}},{"$f":"AND(#REF!,\"AAAAAHmvloQ=\")","v":{"$error":"#REF!"}},{"$f":"AND(#REF!,\"AAAAAHmvloU=\")","v":{"$error":"#REF!"}},{"$f":"AND(#REF!,\"AAAAAHmvloY=\")","v":{"$error":"#REF!"}},{"$f":"AND(#REF!,\"AAAAAHmvloc=\")","v":{"$error":"#REF!"}},{"$f":"AND(#REF!,\"AAAAAHmvlog=\")","v":{"$error":"#REF!"}},{"$f":"AND(#REF!,\"AAAAAHmvlok=\")","v":{"$error":"#REF!"}},{"$f":"AND(#REF!,\"AAAAAHmvloo=\")","v":{"$error":"#REF!"}},{"$f":"AND(#REF!,\"AAAAAHmvlos=\")","v":{"$error":"#REF!"}},{"$f":"AND(#REF!,\"AAAAAHmvlow=\")","v":{"$error":"#REF!"}},{"$f":"AND(#REF!,\"AAAAAHmvlo0=\")","v":{"$error":"#REF!"}},{"$f":"AND(#REF!,\"AAAAAHmvlo4=\")","v":{"$error":"#REF!"}},{"$f":"AND(#REF!,\"AAAAAHmvlo8=\")","v":{"$error":"#REF!"}},{"$f":"AND(#REF!,\"AAAAAHmvlpA=\")","v":{"$error":"#REF!"}},{"$f":"AND(#REF!,\"AAAAAHmvlpE=\")","v":{"$error":"#REF!"}},{"$f":"AND(#REF!,\"AAAAAHmvlpI=\")","v":{"$error":"#REF!"}},{"$f":"AND(#REF!,\"AAAAAHmvlpM=\")","v":{"$error":"#REF!"}},{"$f":"AND(#REF!,\"AAAAAHmvlpQ=\")","v":{"$error":"#REF!"}},{"$f":"AND(#REF!,\"AAAAAHmvlpU=\")","v":{"$error":"#REF!"}},{"$f":"AND(#REF!,\"AAAAAHmvlpY=\")","v":{"$error":"#REF!"}},{"$f":"AND(#REF!,\"AAAAAHmvlpc=\")","v":{"$error":"#REF!"}},{"$f":"AND(#REF!,\"AAAAAHmvlpg=\")","v":{"$error":"#REF!"}},{"$f":"AND(#REF!,\"AAAAAHmvlpk=\")","v":{"$error":"#REF!"}},{"$f":"AND(#REF!,\"AAAAAHmvlpo=\")","v":{"$error":"#REF!"}},{"$f":"AND(#REF!,\"AAAAAHmvlps=\")","v":{"$error":"#REF!"}},{"$f":"AND(#REF!,\"AAAAAHmvlpw=\")","v":{"$error":"#REF!"}},{"$f":"AND(#REF!,\"AAAAAHmvlp0=\")","v":{"$error":"#REF!"}},{"$f":"IF(#REF!,\"AAAAAHmvlp4=\",0)","v":{"$error":"#REF!"}},{"$f":"AND(#REF!,\"AAAAAHmvlp8=\")","v":{"$error":"#REF!"}},{"$f":"AND(#REF!,\"AAAAAHmvlqA=\")","v":{"$error":"#REF!"}},{"$f":"AND(#REF!,\"AAAAAHmvlqE=\")","v":{"$error":"#REF!"}},{"$f":"AND(#REF!,\"AAAAAHmvlqI=\")","v":{"$error":"#REF!"}},{"$f":"AND(#REF!,\"AAAAAHmvlqM=\")","v":{"$error":"#REF!"}},{"$f":"AND(#REF!,\"AAAAAHmvlqQ=\")","v":{"$error":"#REF!"}},{"$f":"AND(#REF!,\"AAAAAHmvlqU=\")","v":{"$error":"#REF!"}},{"$f":"AND(#REF!,\"AAAAAHmvlqY=\")","v":{"$error":"#REF!"}},{"$f":"AND(#REF!,\"AAAAAHmvlqc=\")","v":{"$error":"#REF!"}},{"$f":"AND(#REF!,\"AAAAAHmvlqg=\")","v":{"$error":"#REF!"}},{"$f":"AND(#REF!,\"AAAAAHmvlqk=\")","v":{"$error":"#REF!"}},{"$f":"AND(#REF!,\"AAAAAHmvlqo=\")","v":{"$error":"#REF!"}},{"$f":"AND(#REF!,\"AAAAAHmvlqs=\")","v":{"$error":"#REF!"}},{"$f":"AND(#REF!,\"AAAAAHmvlqw=\")","v":{"$error":"#REF!"}},{"$f":"AND(#REF!,\"AAAAAHmvlq0=\")","v":{"$error":"#REF!"}},{"$f":"AND(#REF!,\"AAAAAHmvlq4=\")","v":{"$error":"#REF!"}},{"$f":"AND(#REF!,\"AAAAAHmvlq8=\")","v":{"$error":"#REF!"}},{"$f":"AND(#REF!,\"AAAAAHmvlrA=\")","v":{"$error":"#REF!"}},{"$f":"AND(#REF!,\"AAAAAHmvlrE=\")","v":{"$error":"#REF!"}},{"$f":"AND(#REF!,\"AAAAAHmvlrI=\")","v":{"$error":"#REF!"}},{"$f":"AND(#REF!,\"AAAAAHmvlrM=\")","v":{"$error":"#REF!"}},{"$f":"AND(#REF!,\"AAAAAHmvlrQ=\")","v":{"$error":"#REF!"}},{"$f":"AND(#REF!,\"AAAAAHmvlrU=\")","v":{"$error":"#REF!"}},{"$f":"AND(#REF!,\"AAAAAHmvlrY=\")","v":{"$error":"#REF!"}},{"$f":"AND(#REF!,\"AAAAAHmvlrc=\")","v":{"$error":"#REF!"}},{"$f":"AND(#REF!,\"AAAAAHmvlrg=\")","v":{"$error":"#REF!"}},{"$f":"AND(#REF!,\"AAAAAHmvlrk=\")","v":{"$error":"#REF!"}},{"$f":"AND(#REF!,\"AAAAAHmvlro=\")","v":{"$error":"#REF!"}},{"$f":"AND(#REF!,\"AAAAAHmvlrs=\")","v":{"$error":"#REF!"}},{"$f":"AND(#REF!,\"AAAAAHmvlrw=\")","v":{"$error":"#REF!"}},{"$f":"AND(#REF!,\"AAAAAHmvlr0=\")","v":{"$error":"#REF!"}},{"$f":"AND(#REF!,\"AAAAAHmvlr4=\")","v":{"$error":"#REF!"}},{"$f":"AND(#REF!,\"AAAAAHmvlr8=\")","v":{"$error":"#REF!"}},{"$f":"IF(#REF!,\"AAAAAHmvlsA=\",0)","v":{"$error":"#REF!"}},{"$f":"AND(#REF!,\"AAAAAHmvlsE=\")","v":{"$error":"#REF!"}},{"$f":"AND(#REF!,\"AAAAAHmvlsI=\")","v":{"$error":"#REF!"}},{"$f":"AND(#REF!,\"AAAAAHmvlsM=\")","v":{"$error":"#REF!"}},{"$f":"AND(#REF!,\"AAAAAHmvlsQ=\")","v":{"$error":"#REF!"}},{"$f":"AND(#REF!,\"AAAAAHmvlsU=\")","v":{"$error":"#REF!"}},{"$f":"AND(#REF!,\"AAAAAHmvlsY=\")","v":{"$error":"#REF!"}},{"$f":"AND(#REF!,\"AAAAAHmvlsc=\")","v":{"$error":"#REF!"}},{"$f":"AND(#REF!,\"AAAAAHmvlsg=\")","v":{"$error":"#REF!"}},{"$f":"AND(#REF!,\"AAAAAHmvlsk=\")","v":{"$error":"#REF!"}},{"$f":"AND(#REF!,\"AAAAAHmvlso=\")","v":{"$error":"#REF!"}},{"$f":"AND(#REF!,\"AAAAAHmvlss=\")","v":{"$error":"#REF!"}},{"$f":"AND(#REF!,\"AAAAAHmvlsw=\")","v":{"$error":"#REF!"}},{"$f":"AND(#REF!,\"AAAAAHmvls0=\")","v":{"$error":"#REF!"}},{"$f":"AND(#REF!,\"AAAAAHmvls4=\")","v":{"$error":"#REF!"}},{"$f":"AND(#REF!,\"AAAAAHmvls8=\")","v":{"$error":"#REF!"}},{"$f":"AND(#REF!,\"AAAAAHmvltA=\")","v":{"$error":"#REF!"}},{"$f":"AND(#REF!,\"AAAAAHmvltE=\")","v":{"$error":"#REF!"}},{"$f":"AND(#REF!,\"AAAAAHmvltI=\")","v":{"$error":"#REF!"}},{"$f":"AND(#REF!,\"AAAAAHmvltM=\")","v":{"$error":"#REF!"}},{"$f":"AND(#REF!,\"AAAAAHmvltQ=\")","v":{"$error":"#REF!"}},{"$f":"AND(#REF!,\"AAAAAHmvltU=\")","v":{"$error":"#REF!"}},{"$f":"AND(#REF!,\"AAAAAHmvltY=\")","v":{"$error":"#REF!"}},{"$f":"AND(#REF!,\"AAAAAHmvltc=\")","v":{"$error":"#REF!"}},{"$f":"AND(#REF!,\"AAAAAHmvltg=\")","v":{"$error":"#REF!"}},{"$f":"AND(#REF!,\"AAAAAHmvltk=\")","v":{"$error":"#REF!"}},{"$f":"AND(#REF!,\"AAAAAHmvlto=\")","v":{"$error":"#REF!"}},{"$f":"AND(#REF!,\"AAAAAHmvlts=\")","v":{"$error":"#REF!"}},{"$f":"AND(#REF!,\"AAAAAHmvltw=\")","v":{"$error":"#REF!"}},{"$f":"AND(#REF!,\"AAAAAHmvlt0=\")","v":{"$error":"#REF!"}},{"$f":"AND(#REF!,\"AAAAAHmvlt4=\")","v":{"$error":"#REF!"}},{"$f":"AND(#REF!,\"AAAAAHmvlt8=\")","v":{"$error":"#REF!"}},{"$f":"AND(#REF!,\"AAAAAHmvluA=\")","v":{"$error":"#REF!"}},{"$f":"AND(#REF!,\"AAAAAHmvluE=\")","v":{"$error":"#REF!"}},{"$f":"IF(#REF!,\"AAAAAHmvluI=\",0)","v":{"$error":"#REF!"}},{"$f":"AND(#REF!,\"AAAAAHmvluM=\")","v":{"$error":"#REF!"}},{"$f":"AND(#REF!,\"AAAAAHmvluQ=\")","v":{"$error":"#REF!"}},{"$f":"AND(#REF!,\"AAAAAHmvluU=\")","v":{"$error":"#REF!"}},{"$f":"AND(#REF!,\"AAAAAHmvluY=\")","v":{"$error":"#REF!"}},{"$f":"AND(#REF!,\"AAAAAHmvluc=\")","v":{"$error":"#REF!"}},{"$f":"AND(#REF!,\"AAAAAHmvlug=\")","v":{"$error":"#REF!"}},{"$f":"AND(#REF!,\"AAAAAHmvluk=\")","v":{"$error":"#REF!"}},{"$f":"AND(#REF!,\"AAAAAHmvluo=\")","v":{"$error":"#REF!"}},{"$f":"AND(#REF!,\"AAAAAHmvlus=\")","v":{"$error":"#REF!"}},{"$f":"AND(#REF!,\"AAAAAHmvluw=\")","v":{"$error":"#REF!"}},{"$f":"AND(#REF!,\"AAAAAHmvlu0=\")","v":{"$error":"#REF!"}},{"$f":"AND(#REF!,\"AAAAAHmvlu4=\")","v":{"$error":"#REF!"}},{"$f":"AND(#REF!,\"AAAAAHmvlu8=\")","v":{"$error":"#REF!"}},{"$f":"AND(#REF!,\"AAAAAHmvlvA=\")","v":{"$error":"#REF!"}},{"$f":"AND(#REF!,\"AAAAAHmvlvE=\")","v":{"$error":"#REF!"}},{"$f":"AND(#REF!,\"AAAAAHmvlvI=\")","v":{"$error":"#REF!"}},{"$f":"AND(#REF!,\"AAAAAHmvlvM=\")","v":{"$error":"#REF!"}},{"$f":"AND(#REF!,\"AAAAAHmvlvQ=\")","v":{"$error":"#REF!"}},{"$f":"AND(#REF!,\"AAAAAHmvlvU=\")","v":{"$error":"#REF!"}},{"$f":"AND(#REF!,\"AAAAAHmvlvY=\")","v":{"$error":"#REF!"}},{"$f":"AND(#REF!,\"AAAAAHmvlvc=\")","v":{"$error":"#REF!"}},{"$f":"AND(#REF!,\"AAAAAHmvlvg=\")","v":{"$error":"#REF!"}},{"$f":"AND(#REF!,\"AAAAAHmvlvk=\")","v":{"$error":"#REF!"}},{"$f":"AND(#REF!,\"AAAAAHmvlvo=\")","v":{"$error":"#REF!"}},{"$f":"AND(#REF!,\"AAAAAHmvlvs=\")","v":{"$error":"#REF!"}},{"$f":"AND(#REF!,\"AAAAAHmvlvw=\")","v":{"$error":"#REF!"}},{"$f":"AND(#REF!,\"AAAAAHmvlv0=\")","v":{"$error":"#REF!"}},{"$f":"AND(#REF!,\"AAAAAHmvlv4=\")","v":{"$error":"#REF!"}},{"$f":"AND(#REF!,\"AAAAAHmvlv8=\")","v":{"$error":"#REF!"}}]
[{"$f":"AND(#REF!,\"AAAAAD+b9gA=\")","v":{"$error":"#REF!"}},{"$f":"AND(#REF!,\"AAAAAD+b9gE=\")","v":{"$error":"#REF!"}},{"$f":"AND(#REF!,\"AAAAAD+b9gI=\")","v":{"$error":"#REF!"}},{"$f":"AND(#REF!,\"AAAAAD+b9gM=\")","v":{"$error":"#REF!"}},{"$f":"IF(#REF!,\"AAAAAD+b9gQ=\",0)","v":{"$error":"#REF!"}},{"$f":"AND(#REF!,\"AAAAAD+b9gU=\")","v":{"$error":"#REF!"}},{"$f":"AND(#REF!,\"AAAAAD+b9gY=\")","v":{"$error":"#REF!"}},{"$f":"AND(#REF!,\"AAAAAD+b9gc=\")","v":{"$error":"#REF!"}},{"$f":"AND(#REF!,\"AAAAAD+b9gg=\")","v":{"$error":"#REF!"}},{"$f":"AND(#REF!,\"AAAAAD+b9gk=\")","v":{"$error":"#REF!"}},{"$f":"AND(#REF!,\"AAAAAD+b9go=\")","v":{"$error":"#REF!"}},{"$f":"AND(#REF!,\"AAAAAD+b9gs=\")","v":{"$error":"#REF!"}},{"$f":"AND(#REF!,\"AAAAAD+b9gw=\")","v":{"$error":"#REF!"}},{"$f":"AND(#REF!,\"AAAAAD+b9g0=\")","v":{"$error":"#REF!"}},{"$f":"AND(#REF!,\"AAAAAD+b9g4=\")","v":{"$error":"#REF!"}},{"$f":"AND(#REF!,\"AAAAAD+b9g8=\")","v":{"$error":"#REF!"}},{"$f":"AND(#REF!,\"AAAAAD+b9hA=\")","v":{"$error":"#REF!"}},{"$f":"AND(#REF!,\"AAAAAD+b9hE=\")","v":{"$error":"#REF!"}},{"$f":"AND(#REF!,\"AAAAAD+b9hI=\")","v":{"$error":"#REF!"}},{"$f":"AND(#REF!,\"AAAAAD+b9hM=\")","v":{"$error":"#REF!"}},{"$f":"AND(#REF!,\"AAAAAD+b9hQ=\")","v":{"$error":"#REF!"}},{"$f":"AND(#REF!,\"AAAAAD+b9hU=\")","v":{"$error":"#REF!"}},{"$f":"AND(#REF!,\"AAAAAD+b9hY=\")","v":{"$error":"#REF!"}},{"$f":"AND(#REF!,\"AAAAAD+b9hc=\")","v":{"$error":"#REF!"}},{"$f":"AND(#REF!,\"AAAAAD+b9hg=\")","v":{"$error":"#REF!"}},{"$f":"AND(#REF!,\"AAAAAD+b9hk=\")","v":{"$error":"#REF!"}},{"$f":"AND(#REF!,\"AAAAAD+b9ho=\")","v":{"$error":"#REF!"}},{"$f":"AND(#REF!,\"AAAAAD+b9hs=\")","v":{"$error":"#REF!"}},{"$f":"AND(#REF!,\"AAAAAD+b9hw=\")","v":{"$error":"#REF!"}},{"$f":"AND(#REF!,\"AAAAAD+b9h0=\")","v":{"$error":"#REF!"}},{"$f":"AND(#REF!,\"AAAAAD+b9h4=\")","v":{"$error":"#REF!"}},{"$f":"AND(#REF!,\"AAAAAD+b9h8=\")","v":{"$error":"#REF!"}},{"$f":"AND(#REF!,\"AAAAAD+b9iA=\")","v":{"$error":"#REF!"}},{"$f":"AND(#REF!,\"AAAAAD+b9iE=\")","v":{"$error":"#REF!"}},{"$f":"AND(#REF!,\"AAAAAD+b9iI=\")","v":{"$error":"#REF!"}},{"$f":"AND(#REF!,\"AAAAAD+b9iM=\")","v":{"$error":"#REF!"}},{"$f":"AND(#REF!,\"AAAAAD+b9iQ=\")","v":{"$error":"#REF!"}},{"$f":"AND(#REF!,\"AAAAAD+b9iU=\")","v":{"$error":"#REF!"}},{"$f":"IF(#REF!,\"AAAAAD+b9iY=\",0)","v":{"$error":"#REF!"}},{"$f":"AND(#REF!,\"AAAAAD+b9ic=\")","v":{"$error":"#REF!"}},{"$f":"AND(#REF!,\"AAAAAD+b9ig=\")","v":{"$error":"#REF!"}},{"$f":"AND(#REF!,\"AAAAAD+b9ik=\")","v":{"$error":"#REF!"}},{"$f":"AND(#REF!,\"AAAAAD+b9io=\")","v":{"$error":"#REF!"}},{"$f":"AND(#REF!,\"AAAAAD+b9is=\")","v":{"$error":"#REF!"}},{"$f":"AND(#REF!,\"AAAAAD+b9iw=\")","v":{"$error":"#REF!"}},{"$f":"AND(#REF!,\"AAAAAD+b9i0=\")","v":{"$error":"#REF!"}},{"$f":"AND(#REF!,\"AAAAAD+b9i4=\")","v":{"$error":"#REF!"}},{"$f":"AND(#REF!,\"AAAAAD+b9i8=\")","v":{"$error":"#REF!"}},{"$f":"AND(#REF!,\"AAAAAD+b9jA=\")","v":{"$error":"#REF!"}},{"$f":"AND(#REF!,\"AAAAAD+b9jE=\")","v":{"$error":"#REF!"}},{"$f":"AND(#REF!,\"AAAAAD+b9jI=\")","v":{"$error":"#REF!"}},{"$f":"AND(#REF!,\"AAAAAD+b9jM=\")","v":{"$error":"#REF!"}},{"$f":"AND(#REF!,\"AAAAAD+b9jQ=\")","v":{"$error":"#REF!"}},{"$f":"AND(#REF!,\"AAAAAD+b9jU=\")","v":{"$error":"#REF!"}},{"$f":"AND(#REF!,\"AAAAAD+b9jY=\")","v":{"$error":"#REF!"}},{"$f":"AND(#REF!,\"AAAAAD+b9jc=\")","v":{"$error":"#REF!"}},{"$f":"AND(#REF!,\"AAAAAD+b9jg=\")","v":{"$error":"#REF!"}},{"$f":"AND(#REF!,\"AAAAAD+b9jk=\")","v":{"$error":"#REF!"}},{"$f":"AND(#REF!,\"AAAAAD+b9jo=\")","v":{"$error":"#REF!"}},{"$f":"AND(#REF!,\"AAAAAD+b9js=\")","v":{"$error":"#REF!"}},{"$f":"AND(#REF!,\"AAAAAD+b9jw=\")","v":{"$error":"#REF!"}},{"$f":"AND(#REF!,\"AAAAAD+b9j0=\")","v":{"$error":"#REF!"}},{"$f":"AND(#REF!,\"AAAAAD+b9j4=\")","v":{"$error":"#REF!"}},{"$f":"AND(#REF!,\"AAAAAD+b9j8=\")","v":{"$error":"#REF!"}},{"$f":"AND(#REF!,\"AAAAAD+b9kA=\")","v":{"$error":"#REF!"}},{"$f":"AND(#REF!,\"AAAAAD+b9kE=\")","v":{"$error":"#REF!"}},{"$f":"AND(#REF!,\"AAAAAD+b9kI=\")","v":{"$error":"#REF!"}},{"$f":"AND(#REF!,\"AAAAAD+b9kM=\")","v":{"$error":"#REF!"}},{"$f":"AND(#REF!,\"AAAAAD+b9kQ=\")","v":{"$error":"#REF!"}},{"$f":"AND(#REF!,\"AAAAAD+b9kU=\")","v":{"$error":"#REF!"}},{"$f":"AND(#REF!,\"AAAAAD+b9kY=\")","v":{"$error":"#REF!"}},{"$f":"AND(#REF!,\"AAAAAD+b9kc=\")","v":{"$error":"#REF!"}},{"$f":"IF(#REF!,\"AAAAAD+b9kg=\",0)","v":{"$error":"#REF!"}},{"$f":"AND(#REF!,\"AAAAAD+b9kk=\")","v":{"$error":"#REF!"}},{"$f":"AND(#REF!,\"AAAAAD+b9ko=\")","v":{"$error":"#REF!"}},{"$f":"AND(#REF!,\"AAAAAD+b9ks=\")","v":{"$error":"#REF!"}},{"$f":"AND(#REF!,\"AAAAAD+b9kw=\")","v":{"$error":"#REF!"}},{"$f":"AND(#REF!,\"AAAAAD+b9k0=\")","v":{"$error":"#REF!"}},{"$f":"AND(#REF!,\"AAAAAD+b9k4=\")","v":{"$error":"#REF!"}},{"$f":"AND(#REF!,\"AAAAAD+b9k8=\")","v":{"$error":"#REF!"}},{"$f":"AND(#REF!,\"AAAAAD+b9lA=\")","v":{"$error":"#REF!"}},{"$f":"AND(#REF!,\"AAAAAD+b9lE=\")","v":{"$error":"#REF!"}},{"$f":"AND(#REF!,\"AAAAAD+b9lI=\")","v":{"$error":"#REF!"}},{"$f":"AND(#REF!,\"AAAAAD+b9lM=\")","v":{"$error":"#REF!"}},{"$f":"AND(#REF!,\"AAAAAD+b9lQ=\")","v":{"$error":"#REF!"}},{"$f":"AND(#REF!,\"AAAAAD+b9lU=\")","v":{"$error":"#REF!"}},{"$f":"AND(#REF!,\"AAAAAD+b9lY=\")","v":{"$error":"#REF!"}},{"$f":"AND(#REF!,\"AAAAAD+b9lc=\")","v":{"$error":"#REF!"}},{"$f":"AND(#REF!,\"AAAAAD+b9lg=\")","v":{"$error":"#REF!"}},{"$f":"AND(#REF!,\"AAAAAD+b9lk=\")","v":{"$error":"#REF!"}},{"$f":"AND(#REF!,\"AAAAAD+b9lo=\")","v":{"$error":"#REF!"}},{"$f":"AND(#REF!,\"AAAAAD+b9ls=\")","v":{"$error":"#REF!"}},{"$f":"AND(#REF!,\"AAAAAD+b9lw=\")","v":{"$error":"#REF!"}},{"$f":"AND(#REF!,\"AAAAAD+b9l0=\")","v":{"$error":"#REF!"}},{"$f":"AND(#REF!,\"AAAAAD+b9l4=\")","v":{"$error":"#REF!"}},{"$f":"AND(#REF!,\"AAAAAD+b9l8=\")","v":{"$error":"#REF!"}},{"$f":"AND(#REF!,\"AAAAAD+b9mA=\")","v":{"$error":"#REF!"}},{"$f":"AND(#REF!,\"AAAAAD+b9mE=\")","v":{"$error":"#REF!"}},{"$f":"AND(#REF!,\"AAAAAD+b9mI=\")","v":{"$error":"#REF!"}},{"$f":"AND(#REF!,\"AAAAAD+b9mM=\")","v":{"$error":"#REF!"}},{"$f":"AND(#REF!,\"AAAAAD+b9mQ=\")","v":{"$error":"#REF!"}},{"$f":"AND(#REF!,\"AAAAAD+b9mU=\")","v":{"$error":"#REF!"}},{"$f":"AND(#REF!,\"AAAAAD+b9mY=\")","v":{"$error":"#REF!"}},{"$f":"AND(#REF!,\"AAAAAD+b9mc=\")","v":{"$error":"#REF!"}},{"$f":"AND(#REF!,\"AAAAAD+b9mg=\")","v":{"$error":"#REF!"}},{"$f":"AND(#REF!,\"AAAAAD+b9mk=\")","v":{"$error":"#REF!"}},{"$f":"IF(#REF!,\"AAAAAD+b9mo=\",0)","v":{"$error":"#REF!"}},{"$f":"AND(#REF!,\"AAAAAD+b9ms=\")","v":{"$error":"#REF!"}},{"$f":"AND(#REF!,\"AAAAAD+b9mw=\")","v":{"$error":"#REF!"}},{"$f":"AND(#REF!,\"AAAAAD+b9m0=\")","v":{"$error":"#REF!"}},{"$f":"AND(#REF!,\"AAAAAD+b9m4=\")","v":{"$error":"#REF!"}},{"$f":"AND(#REF!,\"AAAAAD+b9m8=\")","v":{"$error":"#REF!"}},{"$f":"AND(#REF!,\"AAAAAD+b9nA=\")","v":{"$error":"#REF!"}},{"$f":"AND(#REF!,\"AAAAAD+b9nE=\")","v":{"$error":"#REF!"}},{"$f":"AND(#REF!,\"AAAAAD+b9nI=\")","v":{"$error":"#REF!"}},{"$f":"AND(#REF!,\"AAAAAD+b9nM=\")","v":{"$error":"#REF!"}},{"$f":"AND(#REF!,\"AAAAAD+b9nQ=\")","v":{"$error":"#REF!"}},{"$f":"AND(#REF!,\"AAAAAD+b9nU=\")","v":{"$error":"#REF!"}},{"$f":"AND(#REF!,\"AAAAAD+b9nY=\")","v":{"$error":"#REF!"}},{"$f":"AND(#REF!,\"AAAAAD+b9nc=\")","v":{"$error":"#REF!"}},{"$f":"AND(#REF!,\"AAAAAD+b9ng=\")","v":{"$error":"#REF!"}},{"$f":"AND(#REF!,\"AAAAAD+b9nk=\")","v":{"$error":"#REF!"}},{"$f":"AND(#REF!,\"AAAAAD+b9no=\")","v":{"$error":"#REF!"}},{"$f":"AND(#REF!,\"AAAAAD+b9ns=\")","v":{"$error":"#REF!"}},{"$f":"AND(#REF!,\"AAAAAD+b9nw=\")","v":{"$error":"#REF!"}},{"$f":"AND(#REF!,\"AAAAAD+b9n0=\")","v":{"$error":"#REF!"}},{"$f":"AND(#REF!,\"AAAAAD+b9n4=\")","v":{"$error":"#REF!"}},{"$f":"AND(#REF!,\"AAAAAD+b9n8=\")","v":{"$error":"#REF!"}},{"$f":"AND(#REF!,\"AAAAAD+b9oA=\")","v":{"$error":"#REF!"}},{"$f":"AND(#REF!,\"AAAAAD+b9oE=\")","v":{"$error":"#REF!"}},{"$f":"AND(#REF!,\"AAAAAD+b9oI=\")","v":{"$error":"#REF!"}},{"$f":"AND(#REF!,\"AAAAAD+b9oM=\")","v":{"$error":"#REF!"}},{"$f":"AND(#REF!,\"AAAAAD+b9oQ=\")","v":{"$error":"#REF!"}},{"$f":"AND(#REF!,\"AAAAAD+b9oU=\")","v":{"$error":"#REF!"}},{"$f":"AND(#REF!,\"AAAAAD+b9oY=\")","v":{"$error":"#REF!"}},{"$f":"AND(#REF!,\"AAAAAD+b9oc=\")","v":{"$error":"#REF!"}},{"$f":"AND(#REF!,\"AAAAAD+b9og=\")","v":{"$error":"#REF!"}},{"$f":"AND(#REF!,\"AAAAAD+b9ok=\")","v":{"$error":"#REF!"}},{"$f":"AND(#REF!,\"AAAAAD+b9oo=\")","v":{"$error":"#REF!"}},{"$f":"AND(#REF!,\"AAAAAD+b9os=\")","v":{"$error":"#REF!"}},{"$f":"IF(#REF!,\"AAAAAD+b9ow=\",0)","v":{"$error":"#REF!"}},{"$f":"AND(#REF!,\"AAAAAD+b9o0=\")","v":{"$error":"#REF!"}},{"$f":"AND(#REF!,\"AAAAAD+b9o4=\")","v":{"$error":"#REF!"}},{"$f":"AND(#REF!,\"AAAAAD+b9o8=\")","v":{"$error":"#REF!"}},{"$f":"AND(#REF!,\"AAAAAD+b9pA=\")","v":{"$error":"#REF!"}},{"$f":"AND(#REF!,\"AAAAAD+b9pE=\")","v":{"$error":"#REF!"}},{"$f":"AND(#REF!,\"AAAAAD+b9pI=\")","v":{"$error":"#REF!"}},{"$f":"AND(#REF!,\"AAAAAD+b9pM=\")","v":{"$error":"#REF!"}},{"$f":"AND(#REF!,\"AAAAAD+b9pQ=\")","v":{"$error":"#REF!"}},{"$f":"AND(#REF!,\"AAAAAD+b9pU=\")","v":{"$error":"#REF!"}},{"$f":"AND(#REF!,\"AAAAAD+b9pY=\")","v":{"$error":"#REF!"}},{"$f":"AND(#REF!,\"AAAAAD+b9pc=\")","v":{"$error":"#REF!"}},{"$f":"AND(#REF!,\"AAAAAD+b9pg=\")","v":{"$error":"#REF!"}},{"$f":"AND(#REF!,\"AAAAAD+b9pk=\")","v":{"$error":"#REF!"}},{"$f":"AND(#REF!,\"AAAAAD+b9po=\")","v":{"$error":"#REF!"}},{"$f":"AND(#REF!,\"AAAAAD+b9ps=\")","v":{"$error":"#REF!"}},{"$f":"AND(#REF!,\"AAAAAD+b9pw=\")","v":{"$error":"#REF!"}},{"$f":"AND(#REF!,\"AAAAAD+b9p0=\")","v":{"$error":"#REF!"}},{"$f":"AND(#REF!,\"AAAAAD+b9p4=\")","v":{"$error":"#REF!"}},{"$f":"AND(#REF!,\"AAAAAD+b9p8=\")","v":{"$error":"#REF!"}},{"$f":"AND(#REF!,\"AAAAAD+b9qA=\")","v":{"$error":"#REF!"}},{"$f":"AND(#REF!,\"AAAAAD+b9qE=\")","v":{"$error":"#REF!"}},{"$f":"AND(#REF!,\"AAAAAD+b9qI=\")","v":{"$error":"#REF!"}},{"$f":"AND(#REF!,\"AAAAAD+b9qM=\")","v":{"$error":"#REF!"}},{"$f":"AND(#REF!,\"AAAAAD+b9qQ=\")","v":{"$error":"#REF!"}},{"$f":"AND(#REF!,\"AAAAAD+b9qU=\")","v":{"$error":"#REF!"}},{"$f":"AND(#REF!,\"AAAAAD+b9qY=\")","v":{"$error":"#REF!"}},{"$f":"AND(#REF!,\"AAAAAD+b9qc=\")","v":{"$error":"#REF!"}},{"$f":"AND(#REF!,\"AAAAAD+b9qg=\")","v":{"$error":"#REF!"}},{"$f":"AND(#REF!,\"AAAAAD+b9qk=\")","v":{"$error":"#REF!"}},{"$f":"AND(#REF!,\"AAAAAD+b9qo=\")","v":{"$error":"#REF!"}},{"$f":"AND(#REF!,\"AAAAAD+b9qs=\")","v":{"$error":"#REF!"}},{"$f":"AND(#REF!,\"AAAAAD+b9qw=\")","v":{"$error":"#REF!"}},{"$f":"AND(#REF!,\"AAAAAD+b9q0=\")","v":{"$error":"#REF!"}},{"$f":"IF(#REF!,\"AAAAAD+b9q4=\",0)","v":{"$error":"#REF!"}},{"$f":"AND(#REF!,\"AAAAAD+b9q8=\")","v":{"$error":"#REF!"}},{"$f":"AND(#REF!,\"AAAAAD+b9rA=\")","v":{"$error":"#REF!"}},{"$f":"AND(#REF!,\"AAAAAD+b9rE=\")","v":{"$error":"#REF!"}},{"$f":"AND(#REF!,\"AAAAAD+b9rI=\")","v":{"$error":"#REF!"}},{"$f":"AND(#REF!,\"AAAAAD+b9rM=\")","v":{"$error":"#REF!"}},{"$f":"AND(#REF!,\"AAAAAD+b9rQ=\")","v":{"$error":"#REF!"}},{"$f":"AND(#REF!,\"AAAAAD+b9rU=\")","v":{"$error":"#REF!"}},{"$f":"AND(#REF!,\"AAAAAD+b9rY=\")","v":{"$error":"#REF!"}},{"$f":"AND(#REF!,\"AAAAAD+b9rc=\")","v":{"$error":"#REF!"}},{"$f":"AND(#REF!,\"AAAAAD+b9rg=\")","v":{"$error":"#REF!"}},{"$f":"AND(#REF!,\"AAAAAD+b9rk=\")","v":{"$error":"#REF!"}},{"$f":"AND(#REF!,\"AAAAAD+b9ro=\")","v":{"$error":"#REF!"}},{"$f":"AND(#REF!,\"AAAAAD+b9rs=\")","v":{"$error":"#REF!"}},{"$f":"AND(#REF!,\"AAAAAD+b9rw=\")","v":{"$error":"#REF!"}},{"$f":"AND(#REF!,\"AAAAAD+b9r0=\")","v":{"$error":"#REF!"}},{"$f":"AND(#REF!,\"AAAAAD+b9r4=\")","v":{"$error":"#REF!"}},{"$f":"AND(#REF!,\"AAAAAD+b9r8=\")","v":{"$error":"#REF!"}},{"$f":"AND(#REF!,\"AAAAAD+b9sA=\")","v":{"$error":"#REF!"}},{"$f":"AND(#REF!,\"AAAAAD+b9sE=\")","v":{"$error":"#REF!"}},{"$f":"AND(#REF!,\"AAAAAD+b9sI=\")","v":{"$error":"#REF!"}},{"$f":"AND(#REF!,\"AAAAAD+b9sM=\")","v":{"$error":"#REF!"}},{"$f":"AND(#REF!,\"AAAAAD+b9sQ=\")","v":{"$error":"#REF!"}},{"$f":"AND(#REF!,\"AAAAAD+b9sU=\")","v":{"$error":"#REF!"}},{"$f":"AND(#REF!,\"AAAAAD+b9sY=\")","v":{"$error":"#REF!"}},{"$f":"AND(#REF!,\"AAAAAD+b9sc=\")","v":{"$error":"#REF!"}},{"$f":"AND(#REF!,\"AAAAAD+b9sg=\")","v":{"$error":"#REF!"}},{"$f":"AND(#REF!,\"AAAAAD+b9sk=\")","v":{"$error":"#REF!"}},{"$f":"AND(#REF!,\"AAAAAD+b9so=\")","v":{"$error":"#REF!"}},{"$f":"AND(#REF!,\"AAAAAD+b9ss=\")","v":{"$error":"#REF!"}},{"$f":"AND(#REF!,\"AAAAAD+b9sw=\")","v":{"$error":"#REF!"}},{"$f":"AND(#REF!,\"AAAAAD+b9s0=\")","v":{"$error":"#REF!"}},{"$f":"AND(#REF!,\"AAAAAD+b9s4=\")","v":{"$error":"#REF!"}},{"$f":"AND(#REF!,\"AAAAAD+b9s8=\")","v":{"$error":"#REF!"}},{"$f":"IF(#REF!,\"AAAAAD+b9tA=\",0)","v":{"$error":"#REF!"}},{"$f":"AND(#REF!,\"AAAAAD+b9tE=\")","v":{"$error":"#REF!"}},{"$f":"AND(#REF!,\"AAAAAD+b9tI=\")","v":{"$error":"#REF!"}},{"$f":"AND(#REF!,\"AAAAAD+b9tM=\")","v":{"$error":"#REF!"}},{"$f":"AND(#REF!,\"AAAAAD+b9tQ=\")","v":{"$error":"#REF!"}},{"$f":"AND(#REF!,\"AAAAAD+b9tU=\")","v":{"$error":"#REF!"}},{"$f":"AND(#REF!,\"AAAAAD+b9tY=\")","v":{"$error":"#REF!"}},{"$f":"AND(#REF!,\"AAAAAD+b9tc=\")","v":{"$error":"#REF!"}},{"$f":"AND(#REF!,\"AAAAAD+b9tg=\")","v":{"$error":"#REF!"}},{"$f":"AND(#REF!,\"AAAAAD+b9tk=\")","v":{"$error":"#REF!"}},{"$f":"AND(#REF!,\"AAAAAD+b9to=\")","v":{"$error":"#REF!"}},{"$f":"AND(#REF!,\"AAAAAD+b9ts=\")","v":{"$error":"#REF!"}},{"$f":"AND(#REF!,\"AAAAAD+b9tw=\")","v":{"$error":"#REF!"}},{"$f":"AND(#REF!,\"AAAAAD+b9t0=\")","v":{"$error":"#REF!"}},{"$f":"AND(#REF!,\"AAAAAD+b9t4=\")","v":{"$error":"#REF!"}},{"$f":"AND(#REF!,\"AAAAAD+b9t8=\")","v":{"$error":"#REF!"}},{"$f":"AND(#REF!,\"AAAAAD+b9uA=\")","v":{"$error":"#REF!"}},{"$f":"AND(#REF!,\"AAAAAD+b9uE=\")","v":{"$error":"#REF!"}},{"$f":"AND(#REF!,\"AAAAAD+b9uI=\")","v":{"$error":"#REF!"}},{"$f":"AND(#REF!,\"AAAAAD+b9uM=\")","v":{"$error":"#REF!"}},{"$f":"AND(#REF!,\"AAAAAD+b9uQ=\")","v":{"$error":"#REF!"}},{"$f":"AND(#REF!,\"AAAAAD+b9uU=\")","v":{"$error":"#REF!"}},{"$f":"AND(#REF!,\"AAAAAD+b9uY=\")","v":{"$error":"#REF!"}},{"$f":"AND(#REF!,\"AAAAAD+b9uc=\")","v":{"$error":"#REF!"}},{"$f":"AND(#REF!,\"AAAAAD+b9ug=\")","v":{"$error":"#REF!"}},{"$f":"AND(#REF!,\"AAAAAD+b9uk=\")","v":{"$error":"#REF!"}},{"$f":"AND(#REF!,\"AAAAAD+b9uo=\")","v":{"$error":"#REF!"}},{"$f":"AND(#REF!,\"AAAAAD+b9us=\")","v":{"$error":"#REF!"}},{"$f":"AND(#REF!,\"AAAAAD+b9uw=\")","v":{"$error":"#REF!"}},{"$f":"AND(#REF!,\"AAAAAD+b9u0=\")","v":{"$error":"#REF!"}},{"$f":"AND(#REF!,\"AAAAAD+b9u4=\")","v":{"$error":"#REF!"}},{"$f":"AND(#REF!,\"AAAAAD+b9u8=\")","v":{"$error":"#REF!"}},{"$f":"AND(#REF!,\"AAAAAD+b9vA=\")","v":{"$error":"#REF!"}},{"$f":"AND(#REF!,\"AAAAAD+b9vE=\")","v":{"$error":"#REF!"}},{"$f":"IF(#REF!,\"AAAAAD+b9vI=\",0)","v":{"$error":"#REF!"}},{"$f":"AND(#REF!,\"AAAAAD+b9vM=\")","v":{"$error":"#REF!"}},{"$f":"AND(#REF!,\"AAAAAD+b9vQ=\")","v":{"$error":"#REF!"}},{"$f":"AND(#REF!,\"AAAAAD+b9vU=\")","v":{"$error":"#REF!"}},{"$f":"AND(#REF!,\"AAAAAD+b9vY=\")","v":{"$error":"#REF!"}},{"$f":"AND(#REF!,\"AAAAAD+b9vc=\")","v":{"$error":"#REF!"}},{"$f":"AND(#REF!,\"AAAAAD+b9vg=\")","v":{"$error":"#REF!"}},{"$f":"AND(#REF!,\"AAAAAD+b9vk=\")","v":{"$error":"#REF!"}},{"$f":"AND(#REF!,\"AAAAAD+b9vo=\")","v":{"$error":"#REF!"}},{"$f":"AND(#REF!,\"AAAAAD+b9vs=\")","v":{"$error":"#REF!"}},{"$f":"AND(#REF!,\"AAAAAD+b9vw=\")","v":{"$error":"#REF!"}},{"$f":"AND(#REF!,\"AAAAAD+b9v0=\")","v":{"$error":"#REF!"}},{"$f":"AND(#REF!,\"AAAAAD+b9v4=\")","v":{"$error":"#REF!"}},{"$f":"AND(#REF!,\"AAAAAD+b9v8=\")","v":{"$error":"#REF!"}}]
[{"$f":"AND(#REF!,\"AAAAAHZv/wA=\")","v":{"$error":"#REF!"}},{"$f":"AND(#REF!,\"AAAAAHZv/wE=\")","v":{"$error":"#REF!"}},{"$f":"AND(#REF!,\"AAAAAHZv/wI=\")","v":{"$error":"#REF!"}},{"$f":"AND(#REF!,\"AAAAAHZv/wM=\")","v":{"$error":"#REF!"}},{"$f":"AND(#REF!,\"AAAAAHZv/wQ=\")","v":{"$error":"#REF!"}},{"$f":"AND(#REF!,\"AAAAAHZv/wU=\")","v":{"$error":"#REF!"}},{"$f":"AND(#REF!,\"AAAAAHZv/wY=\")","v":{"$error":"#REF!"}},{"$f":"AND(#REF!,\"AAAAAHZv/wc=\")","v":{"$error":"#REF!"}},{"$f":"AND(#REF!,\"AAAAAHZv/wg=\")","v":{"$error":"#REF!"}},{"$f":"AND(#REF!,\"AAAAAHZv/wk=\")","v":{"$error":"#REF!"}},{"$f":"AND(#REF!,\"AAAAAHZv/wo=\")","v":{"$error":"#REF!"}},{"$f":"AND(#REF!,\"AAAAAHZv/ws=\")","v":{"$error":"#REF!"}},{"$f":"AND(#REF!,\"AAAAAHZv/ww=\")","v":{"$error":"#REF!"}},{"$f":"AND(#REF!,\"AAAAAHZv/w0=\")","v":{"$error":"#REF!"}},{"$f":"AND(#REF!,\"AAAAAHZv/w4=\")","v":{"$error":"#REF!"}},{"$f":"AND(#REF!,\"AAAAAHZv/w8=\")","v":{"$error":"#REF!"}},{"$f":"AND(#REF!,\"AAAAAHZv/xA=\")","v":{"$error":"#REF!"}},{"$f":"AND(#REF!,\"AAAAAHZv/xE=\")","v":{"$error":"#REF!"}},{"$f":"AND(#REF!,\"AAAAAHZv/xI=\")","v":{"$error":"#REF!"}},{"$f":"AND(#REF!,\"AAAAAHZv/xM=\")","v":{"$error":"#REF!"}},{"$f":"IF(#REF!,\"AAAAAHZv/xQ=\",0)","v":{"$error":"#REF!"}},{"$f":"AND(#REF!,\"AAAAAHZv/xU=\")","v":{"$error":"#REF!"}},{"$f":"AND(#REF!,\"AAAAAHZv/xY=\")","v":{"$error":"#REF!"}},{"$f":"AND(#REF!,\"AAAAAHZv/xc=\")","v":{"$error":"#REF!"}},{"$f":"AND(#REF!,\"AAAAAHZv/xg=\")","v":{"$error":"#REF!"}},{"$f":"AND(#REF!,\"AAAAAHZv/xk=\")","v":{"$error":"#REF!"}},{"$f":"AND(#REF!,\"AAAAAHZv/xo=\")","v":{"$error":"#REF!"}},{"$f":"AND(#REF!,\"AAAAAHZv/xs=\")","v":{"$error":"#REF!"}},{"$f":"AND(#REF!,\"AAAAAHZv/xw=\")","v":{"$error":"#REF!"}},{"$f":"AND(#REF!,\"AAAAAHZv/x0=\")","v":{"$error":"#REF!"}},{"$f":"AND(#REF!,\"AAAAAHZv/x4=\")","v":{"$error":"#REF!"}},{"$f":"AND(#REF!,\"AAAAAHZv/x8=\")","v":{"$error":"#REF!"}},{"$f":"AND(#REF!,\"AAAAAHZv/yA=\")","v":{"$error":"#REF!"}},{"$f":"AND(#REF!,\"AAAAAHZv/yE=\")","v":{"$error":"#REF!"}},{"$f":"AND(#REF!,\"AAAAAHZv/yI=\")","v":{"$error":"#REF!"}},{"$f":"AND(#REF!,\"AAAAAHZv/yM=\")","v":{"$error":"#REF!"}},{"$f":"AND(#REF!,\"AAAAAHZv/yQ=\")","v":{"$error":"#REF!"}},{"$f":"AND(#REF!,\"AAAAAHZv/yU=\")","v":{"$error":"#REF!"}},{"$f":"AND(#REF!,\"AAAAAHZv/yY=\")","v":{"$error":"#REF!"}},{"$f":"AND(#REF!,\"AAAAAHZv/yc=\")","v":{"$error":"#REF!"}},{"$f":"AND(#REF!,\"AAAAAHZv/yg=\")","v":{"$error":"#REF!"}},{"$f":"AND(#REF!,\"AAAAAHZv/yk=\")","v":{"$error":"#REF!"}},{"$f":"AND(#REF!,\"AAAAAHZv/yo=\")","v":{"$error":"#REF!"}},{"$f":"AND(#REF!,\"AAAAAHZv/ys=\")","v":{"$error":"#REF!"}},{"$f":"AND(#REF!,\"AAAAAHZv/yw=\")","v":{"$error":"#REF!"}},{"$f":"AND(#REF!,\"AAAAAHZv/y0=\")","v":{"$error":"#REF!"}},{"$f":"AND(#REF!,\"AAAAAHZv/y4=\")","v":{"$error":"#REF!"}},{"$f":"AND(#REF!,\"AAAAAHZv/y8=\")","v":{"$error":"#REF!"}},{"$f":"AND(#REF!,\"AAAAAHZv/zA=\")","v":{"$error":"#REF!"}},{"$f":"AND(#REF!,\"AAAAAHZv/zE=\")","v":{"$error":"#REF!"}},{"$f":"AND(#REF!,\"AAAAAHZv/zI=\")","v":{"$error":"#REF!"}},{"$f":"AND(#REF!,\"AAAAAHZv/zM=\")","v":{"$error":"#REF!"}},{"$f":"AND(#REF!,\"AAAAAHZv/zQ=\")","v":{"$error":"#REF!"}},{"$f":"AND(#REF!,\"AAAAAHZv/zU=\")","v":{"$error":"#REF!"}},{"$f":"IF(#REF!,\"AAAAAHZv/zY=\",0)","v":{"$error":"#REF!"}},{"$f":"AND(#REF!,\"AAAAAHZv/zc=\")","v":{"$error":"#REF!"}},{"$f":"AND(#REF!,\"AAAAAHZv/zg=\")","v":{"$error":"#REF!"}},{"$f":"AND(#REF!,\"AAAAAHZv/zk=\")","v":{"$error":"#REF!"}},{"$f":"AND(#REF!,\"AAAAAHZv/zo=\")","v":{"$error":"#REF!"}},{"$f":"AND(#REF!,\"AAAAAHZv/zs=\")","v":{"$error":"#REF!"}},{"$f":"AND(#REF!,\"AAAAAHZv/zw=\")","v":{"$error":"#REF!"}},{"$f":"AND(#REF!,\"AAAAAHZv/z0=\")","v":{"$error":"#REF!"}},{"$f":"AND(#REF!,\"AAAAAHZv/z4=\")","v":{"$error":"#REF!"}},{"$f":"AND(#REF!,\"AAAAAHZv/z8=\")","v":{"$error":"#REF!"}},{"$f":"AND(#REF!,\"AAAAAHZv/0A=\")","v":{"$error":"#REF!"}},{"$f":"AND(#REF!,\"AAAAAHZv/0E=\")","v":{"$error":"#REF!"}},{"$f":"AND(#REF!,\"AAAAAHZv/0I=\")","v":{"$error":"#REF!"}},{"$f":"AND(#REF!,\"AAAAAHZv/0M=\")","v":{"$error":"#REF!"}},{"$f":"AND(#REF!,\"AAAAAHZv/0Q=\")","v":{"$error":"#REF!"}},{"$f":"AND(#REF!,\"AAAAAHZv/0U=\")","v":{"$error":"#REF!"}},{"$f":"AND(#REF!,\"AAAAAHZv/0Y=\")","v":{"$error":"#REF!"}},{"$f":"AND(#REF!,\"AAAAAHZv/0c=\")","v":{"$error":"#REF!"}},{"$f":"AND(#REF!,\"AAAAAHZv/0g=\")","v":{"$error":"#REF!"}},{"$f":"AND(#REF!,\"AAAAAHZv/0k=\")","v":{"$error":"#REF!"}},{"$f":"AND(#REF!,\"AAAAAHZv/0o=\")","v":{"$error":"#REF!"}},{"$f":"AND(#REF!,\"AAAAAHZv/0s=\")","v":{"$error":"#REF!"}},{"$f":"AND(#REF!,\"AAAAAHZv/0w=\")","v":{"$error":"#REF!"}},{"$f":"AND(#REF!,\"AAAAAHZv/00=\")","v":{"$error":"#REF!"}},{"$f":"AND(#REF!,\"AAAAAHZv/04=\")","v":{"$error":"#REF!"}},{"$f":"AND(#REF!,\"AAAAAHZv/08=\")","v":{"$error":"#REF!"}},{"$f":"AND(#REF!,\"AAAAAHZv/1A=\")","v":{"$error":"#REF!"}},{"$f":"AND(#REF!,\"AAAAAHZv/1E=\")","v":{"$error":"#REF!"}},{"$f":"AND(#REF!,\"AAAAAHZv/1I=\")","v":{"$error":"#REF!"}},{"$f":"AND(#REF!,\"AAAAAHZv/1M=\")","v":{"$error":"#REF!"}},{"$f":"AND(#REF!,\"AAAAAHZv/1Q=\")","v":{"$error":"#REF!"}},{"$f":"AND(#REF!,\"AAAAAHZv/1U=\")","v":{"$error":"#REF!"}},{"$f":"AND(#REF!,\"AAAAAHZv/1Y=\")","v":{"$error":"#REF!"}},{"$f":"AND(#REF!,\"AAAAAHZv/1c=\")","v":{"$error":"#REF!"}},{"$f":"IF(#REF!,\"AAAAAHZv/1g=\",0)","v":{"$error":"#REF!"}},{"$f":"AND(#REF!,\"AAAAAHZv/1k=\")","v":{"$error":"#REF!"}},{"$f":"AND(#REF!,\"AAAAAHZv/1o=\")","v":{"$error":"#REF!"}},{"$f":"AND(#REF!,\"AAAAAHZv/1s=\")","v":{"$error":"#REF!"}},{"$f":"AND(#REF!,\"AAAAAHZv/1w=\")","v":{"$error":"#REF!"}},{"$f":"AND(#REF!,\"AAAAAHZv/10=\")","v":{"$error":"#REF!"}},{"$f":"AND(#REF!,\"AAAAAHZv/14=\")","v":{"$error":"#REF!"}},{"$f":"AND(#REF!,\"AAAAAHZv/18=\")","v":{"$error":"#REF!"}},{"$f":"AND(#REF!,\"AAAAAHZv/2A=\")","v":{"$error":"#REF!"}},{"$f":"AND(#REF!,\"AAAAAHZv/2E=\")","v":{"$error":"#REF!"}},{"$f":"AND(#REF!,\"AAAAAHZv/2I=\")","v":{"$error":"#REF!"}},{"$f":"AND(#REF!,\"AAAAAHZv/2M=\")","v":{"$error":"#REF!"}},{"$f":"AND(#REF!,\"AAAAAHZv/2Q=\")","v":{"$error":"#REF!"}},{"$f":"AND(#REF!,\"AAAAAHZv/2U=\")","v":{"$error":"#REF!"}},{"$f":"AND(#REF!,\"AAAAAHZv/2Y=\")","v":{"$error":"#REF!"}},{"$f":"AND(#REF!,\"AAAAAHZv/2c=\")","v":{"$error":"#REF!"}},{"$f":"AND(#REF!,\"AAAAAHZv/2g=\")","v":{"$error":"#REF!"}},{"$f":"AND(#REF!,\"AAAAAHZv/2k=\")","v":{"$error":"#REF!"}},{"$f":"AND(#REF!,\"AAAAAHZv/2o=\")","v":{"$error":"#REF!"}},{"$f":"AND(#REF!,\"AAAAAHZv/2s=\")","v":{"$error":"#REF!"}},{"$f":"AND(#REF!,\"AAAAAHZv/2w=\")","v":{"$error":"#REF!"}},{"$f":"AND(#REF!,\"AAAAAHZv/20=\")","v":{"$error":"#REF!"}},{"$f":"AND(#REF!,\"AAAAAHZv/24=\")","v":{"$error":"#REF!"}},{"$f":"AND(#REF!,\"AAAAAHZv/28=\")","v":{"$error":"#REF!"}},{"$f":"AND(#REF!,\"AAAAAHZv/3A=\")","v":{"$error":"#REF!"}},{"$f":"AND(#REF!,\"AAAAAHZv/3E=\")","v":{"$error":"#REF!"}},{"$f":"AND(#REF!,\"AAAAAHZv/3I=\")","v":{"$error":"#REF!"}},{"$f":"AND(#REF!,\"AAAAAHZv/3M=\")","v":{"$error":"#REF!"}},{"$f":"AND(#REF!,\"AAAAAHZv/3Q=\")","v":{"$error":"#REF!"}},{"$f":"AND(#REF!,\"AAAAAHZv/3U=\")","v":{"$error":"#REF!"}},{"$f":"AND(#REF!,\"AAAAAHZv/3Y=\")","v":{"$error":"#REF!"}},{"$f":"AND(#REF!,\"AAAAAHZv/3c=\")","v":{"$error":"#REF!"}},{"$f":"AND(#REF!,\"AAAAAHZv/3g=\")","v":{"$error":"#REF!"}},{"$f":"AND(#REF!,\"AAAAAHZv/3k=\")","v":{"$error":"#REF!"}},{"$f":"IF(#REF!,\"AAAAAHZv/3o=\",0)","v":{"$error":"#REF!"}},{"$f":"AND(#REF!,\"AAAAAHZv/3s=\")","v":{"$error":"#REF!"}},{"$f":"AND(#REF!,\"AAAAAHZv/3w=\")","v":{"$error":"#REF!"}},{"$f":"AND(#REF!,\"AAAAAHZv/30=\")","v":{"$error":"#REF!"}},{"$f":"AND(#REF!,\"AAAAAHZv/34=\")","v":{"$error":"#REF!"}},{"$f":"AND(#REF!,\"AAAAAHZv/38=\")","v":{"$error":"#REF!"}},{"$f":"AND(#REF!,\"AAAAAHZv/4A=\")","v":{"$error":"#REF!"}},{"$f":"AND(#REF!,\"AAAAAHZv/4E=\")","v":{"$error":"#REF!"}},{"$f":"AND(#REF!,\"AAAAAHZv/4I=\")","v":{"$error":"#REF!"}},{"$f":"AND(#REF!,\"AAAAAHZv/4M=\")","v":{"$error":"#REF!"}},{"$f":"AND(#REF!,\"AAAAAHZv/4Q=\")","v":{"$error":"#REF!"}},{"$f":"AND(#REF!,\"AAAAAHZv/4U=\")","v":{"$error":"#REF!"}},{"$f":"AND(#REF!,\"AAAAAHZv/4Y=\")","v":{"$error":"#REF!"}},{"$f":"AND(#REF!,\"AAAAAHZv/4c=\")","v":{"$error":"#REF!"}},{"$f":"AND(#REF!,\"AAAAAHZv/4g=\")","v":{"$error":"#REF!"}},{"$f":"AND(#REF!,\"AAAAAHZv/4k=\")","v":{"$error":"#REF!"}},{"$f":"AND(#REF!,\"AAAAAHZv/4o=\")","v":{"$error":"#REF!"}},{"$f":"AND(#REF!,\"AAAAAHZv/4s=\")","v":{"$error":"#REF!"}},{"$f":"AND(#REF!,\"AAAAAHZv/4w=\")","v":{"$error":"#REF!"}},{"$f":"AND(#REF!,\"AAAAAHZv/40=\")","v":{"$error":"#REF!"}},{"$f":"AND(#REF!,\"AAAAAHZv/44=\")","v":{"$error":"#REF!"}},{"$f":"AND(#REF!,\"AAAAAHZv/48=\")","v":{"$error":"#REF!"}},{"$f":"AND(#REF!,\"AAAAAHZv/5A=\")","v":{"$error":"#REF!"}},{"$f":"AND(#REF!,\"AAAAAHZv/5E=\")","v":{"$error":"#REF!"}},{"$f":"AND(#REF!,\"AAAAAHZv/5I=\")","v":{"$error":"#REF!"}},{"$f":"AND(#REF!,\"AAAAAHZv/5M=\")","v":{"$error":"#REF!"}},{"$f":"AND(#REF!,\"AAAAAHZv/5Q=\")","v":{"$error":"#REF!"}},{"$f":"AND(#REF!,\"AAAAAHZv/5U=\")","v":{"$error":"#REF!"}},{"$f":"AND(#REF!,\"AAAAAHZv/5Y=\")","v":{"$error":"#REF!"}},{"$f":"AND(#REF!,\"AAAAAHZv/5c=\")","v":{"$error":"#REF!"}},{"$f":"AND(#REF!,\"AAAAAHZv/5g=\")","v":{"$error":"#REF!"}},{"$f":"AND(#REF!,\"AAAAAHZv/5k=\")","v":{"$error":"#REF!"}},{"$f":"AND(#REF!,\"AAAAAHZv/5o=\")","v":{"$error":"#REF!"}},{"$f":"AND(#REF!,\"AAAAAHZv/5s=\")","v":{"$error":"#REF!"}},{"$f":"IF(#REF!,\"AAAAAHZv/5w=\",0)","v":{"$error":"#REF!"}},{"$f":"AND(#REF!,\"AAAAAHZv/50=\")","v":{"$error":"#REF!"}},{"$f":"AND(#REF!,\"AAAAAHZv/54=\")","v":{"$error":"#REF!"}},{"$f":"AND(#REF!,\"AAAAAHZv/58=\")","v":{"$error":"#REF!"}},{"$f":"AND(#REF!,\"AAAAAHZv/6A=\")","v":{"$error":"#REF!"}},{"$f":"AND(#REF!,\"AAAAAHZv/6E=\")","v":{"$error":"#REF!"}},{"$f":"AND(#REF!,\"AAAAAHZv/6I=\")","v":{"$error":"#REF!"}},{"$f":"AND(#REF!,\"AAAAAHZv/6M=\")","v":{"$error":"#REF!"}},{"$f":"AND(#REF!,\"AAAAAHZv/6Q=\")","v":{"$error":"#REF!"}},{"$f":"AND(#REF!,\"AAAAAHZv/6U=\")","v":{"$error":"#REF!"}},{"$f":"AND(#REF!,\"AAAAAHZv/6Y=\")","v":{"$error":"#REF!"}},{"$f":"AND(#REF!,\"AAAAAHZv/6c=\")","v":{"$error":"#REF!"}},{"$f":"AND(#REF!,\"AAAAAHZv/6g=\")","v":{"$error":"#REF!"}},{"$f":"AND(#REF!,\"AAAAAHZv/6k=\")","v":{"$error":"#REF!"}},{"$f":"AND(#REF!,\"AAAAAHZv/6o=\")","v":{"$error":"#REF!"}},{"$f":"AND(#REF!,\"AAAAAHZv/6s=\")","v":{"$error":"#REF!"}},{"$f":"AND(#REF!,\"AAAAAHZv/6w=\")","v":{"$error":"#REF!"}},{"$f":"AND(#REF!,\"AAAAAHZv/60=\")","v":{"$error":"#REF!"}},{"$f":"AND(#REF!,\"AAAAAHZv/64=\")","v":{"$error":"#REF!"}},{"$f":"AND(#REF!,\"AAAAAHZv/68=\")","v":{"$error":"#REF!"}},{"$f":"AND(#REF!,\"AAAAAHZv/7A=\")","v":{"$error":"#REF!"}},{"$f":"AND(#REF!,\"AAAAAHZv/7E=\")","v":{"$error":"#REF!"}},{"$f":"AND(#REF!,\"AAAAAHZv/7I=\")","v":{"$error":"#REF!"}},{"$f":"AND(#REF!,\"AAAAAHZv/7M=\")","v":{"$error":"#REF!"}},{"$f":"AND(#REF!,\"AAAAAHZv/7Q=\")","v":{"$error":"#REF!"}},{"$f":"AND(#REF!,\"AAAAAHZv/7U=\")","v":{"$error":"#REF!"}},{"$f":"AND(#REF!,\"AAAAAHZv/7Y=\")","v":{"$error":"#REF!"}},{"$f":"AND(#REF!,\"AAAAAHZv/7c=\")","v":{"$error":"#REF!"}},{"$f":"AND(#REF!,\"AAAAAHZv/7g=\")","v":{"$error":"#REF!"}},{"$f":"AND(#REF!,\"AAAAAHZv/7k=\")","v":{"$error":"#REF!"}},{"$f":"AND(#REF!,\"AAAAAHZv/7o=\")","v":{"$error":"#REF!"}},{"$f":"AND(#REF!,\"AAAAAHZv/7s=\")","v":{"$error":"#REF!"}},{"$f":"AND(#REF!,\"AAAAAHZv/7w=\")","v":{"$error":"#REF!"}},{"$f":"AND(#REF!,\"AAAAAHZv/70=\")","v":{"$error":"#REF!"}},{"$f":"IF(#REF!,\"AAAAAHZv/74=\",0)","v":{"$error":"#REF!"}},{"$f":"AND(#REF!,\"AAAAAHZv/78=\")","v":{"$error":"#REF!"}},{"$f":"AND(#REF!,\"AAAAAHZv/8A=\")","v":{"$error":"#REF!"}},{"$f":"AND(#REF!,\"AAAAAHZv/8E=\")","v":{"$error":"#REF!"}},{"$f":"AND(#REF!,\"AAAAAHZv/8I=\")","v":{"$error":"#REF!"}},{"$f":"AND(#REF!,\"AAAAAHZv/8M=\")","v":{"$error":"#REF!"}},{"$f":"AND(#REF!,\"AAAAAHZv/8Q=\")","v":{"$error":"#REF!"}},{"$f":"AND(#REF!,\"AAAAAHZv/8U=\")","v":{"$error":"#REF!"}},{"$f":"AND(#REF!,\"AAAAAHZv/8Y=\")","v":{"$error":"#REF!"}},{"$f":"AND(#REF!,\"AAAAAHZv/8c=\")","v":{"$error":"#REF!"}},{"$f":"AND(#REF!,\"AAAAAHZv/8g=\")","v":{"$error":"#REF!"}},{"$f":"AND(#REF!,\"AAAAAHZv/8k=\")","v":{"$error":"#REF!"}},{"$f":"AND(#REF!,\"AAAAAHZv/8o=\")","v":{"$error":"#REF!"}},{"$f":"AND(#REF!,\"AAAAAHZv/8s=\")","v":{"$error":"#REF!"}},{"$f":"AND(#REF!,\"AAAAAHZv/8w=\")","v":{"$error":"#REF!"}},{"$f":"AND(#REF!,\"AAAAAHZv/80=\")","v":{"$error":"#REF!"}},{"$f":"AND(#REF!,\"AAAAAHZv/84=\")","v":{"$error":"#REF!"}},{"$f":"AND(#REF!,\"AAAAAHZv/88=\")","v":{"$error":"#REF!"}},{"$f":"AND(#REF!,\"AAAAAHZv/9A=\")","v":{"$error":"#REF!"}},{"$f":"AND(#REF!,\"AAAAAHZv/9E=\")","v":{"$error":"#REF!"}},{"$f":"AND(#REF!,\"AAAAAHZv/9I=\")","v":{"$error":"#REF!"}},{"$f":"AND(#REF!,\"AAAAAHZv/9M=\")","v":{"$error":"#REF!"}},{"$f":"AND(#REF!,\"AAAAAHZv/9Q=\")","v":{"$error":"#REF!"}},{"$f":"AND(#REF!,\"AAAAAHZv/9U=\")","v":{"$error":"#REF!"}},{"$f":"AND(#REF!,\"AAAAAHZv/9Y=\")","v":{"$error":"#REF!"}},{"$f":"AND(#REF!,\"AAAAAHZv/9c=\")","v":{"$error":"#REF!"}},{"$f":"AND(#REF!,\"AAAAAHZv/9g=\")","v":{"$error":"#REF!"}},{"$f":"AND(#REF!,\"AAAAAHZv/9k=\")","v":{"$error":"#REF!"}},{"$f":"AND(#REF!,\"AAAAAHZv/9o=\")","v":{"$error":"#REF!"}},{"$f":"AND(#REF!,\"AAAAAHZv/9s=\")","v":{"$error":"#REF!"}},{"$f":"AND(#REF!,\"AAAAAHZv/9w=\")","v":{"$error":"#REF!"}},{"$f":"AND(#REF!,\"AAAAAHZv/90=\")","v":{"$error":"#REF!"}},{"$f":"AND(#REF!,\"AAAAAHZv/94=\")","v":{"$error":"#REF!"}},{"$f":"AND(#REF!,\"AAAAAHZv/98=\")","v":{"$error":"#REF!"}},{"$f":"IF(#REF!,\"AAAAAHZv/+A=\",0)","v":{"$error":"#REF!"}},{"$f":"AND(#REF!,\"AAAAAHZv/+E=\")","v":{"$error":"#REF!"}},{"$f":"AND(#REF!,\"AAAAAHZv/+I=\")","v":{"$error":"#REF!"}},{"$f":"AND(#REF!,\"AAAAAHZv/+M=\")","v":{"$error":"#REF!"}},{"$f":"AND(#REF!,\"AAAAAHZv/+Q=\")","v":{"$error":"#REF!"}},{"$f":"AND(#REF!,\"AAAAAHZv/+U=\")","v":{"$error":"#REF!"}},{"$f":"AND(#REF!,\"AAAAAHZv/+Y=\")","v":{"$error":"#REF!"}},{"$f":"AND(#REF!,\"AAAAAHZv/+c=\")","v":{"$error":"#REF!"}},{"$f":"AND(#REF!,\"AAAAAHZv/+g=\")","v":{"$error":"#REF!"}},{"$f":"AND(#REF!,\"AAAAAHZv/+k=\")","v":{"$error":"#REF!"}},{"$f":"AND(#REF!,\"AAAAAHZv/+o=\")","v":{"$error":"#REF!"}},{"$f":"AND(#REF!,\"AAAAAHZv/+s=\")","v":{"$error":"#REF!"}},{"$f":"AND(#REF!,\"AAAAAHZv/+w=\")","v":{"$error":"#REF!"}},{"$f":"AND(#REF!,\"AAAAAHZv/+0=\")","v":{"$error":"#REF!"}},{"$f":"AND(#REF!,\"AAAAAHZv/+4=\")","v":{"$error":"#REF!"}},{"$f":"AND(#REF!,\"AAAAAHZv/+8=\")","v":{"$error":"#REF!"}},{"$f":"AND(#REF!,\"AAAAAHZv//A=\")","v":{"$error":"#REF!"}},{"$f":"AND(#REF!,\"AAAAAHZv//E=\")","v":{"$error":"#REF!"}},{"$f":"AND(#REF!,\"AAAAAHZv//I=\")","v":{"$error":"#REF!"}},{"$f":"AND(#REF!,\"AAAAAHZv//M=\")","v":{"$error":"#REF!"}},{"$f":"AND(#REF!,\"AAAAAHZv//Q=\")","v":{"$error":"#REF!"}},{"$f":"AND(#REF!,\"AAAAAHZv//U=\")","v":{"$error":"#REF!"}},{"$f":"AND(#REF!,\"AAAAAHZv//Y=\")","v":{"$error":"#REF!"}},{"$f":"AND(#REF!,\"AAAAAHZv//c=\")","v":{"$error":"#REF!"}},{"$f":"AND(#REF!,\"AAAAAHZv//g=\")","v":{"$error":"#REF!"}},{"$f":"AND(#REF!,\"AAAAAHZv//k=\")","v":{"$error":"#REF!"}},{"$f":"AND(#REF!,\"AAAAAHZv//o=\")","v":{"$error":"#REF!"}},{"$f":"AND(#REF!,\"AAAAAHZv//s=\")","v":{"$error":"#REF!"}},{"$f":"AND(#REF!,\"AAAAAHZv//w=\")","v":{"$error":"#REF!"}},{"$f":"AND(#REF!,\"AAAAAHZv//0=\")","v":{"$error":"#REF!"}},{"$f":"AND(#REF!,\"AAAAAHZv//4=\")","v":{"$error":"#REF!"}},{"$f":"AND(#REF!,\"AAAAAHZv//8=\")","v":{"$error":"#REF!"}}]
[{"$f":"AND(#REF!,\"AAAAAH8N+wA=\")","v":{"$error":"#REF!"}},{"$f":"AND(#REF!,\"AAAAAH8N+wE=\")","v":{"$error":"#REF!"}},{"$f":"IF(#REF!,\"AAAAAH8N+wI=\",0)","v":{"$error":"#REF!"}},{"$f":"AND(#REF!,\"AAAAAH8N+wM=\")","v":{"$error":"#REF!"}},{"$f":"AND(#REF!,\"AAAAAH8N+wQ=\")","v":{"$error":"#REF!"}},{"$f":"AND(#REF!,\"AAAAAH8N+wU=\")","v":{"$error":"#REF!"}},{"$f":"AND(#REF!,\"AAAAAH8N+wY=\")","v":{"$error":"#REF!"}},{"$f":"AND(#REF!,\"AAAAAH8N+wc=\")","v":{"$error":"#REF!"}},{"$f":"AND(#REF!,\"AAAAAH8N+wg=\")","v":{"$error":"#REF!"}},{"$f":"AND(#REF!,\"AAAAAH8N+wk=\")","v":{"$error":"#REF!"}},{"$f":"AND(#REF!,\"AAAAAH8N+wo=\")","v":{"$error":"#REF!"}},{"$f":"AND(#REF!,\"AAAAAH8N+ws=\")","v":{"$error":"#REF!"}},{"$f":"AND(#REF!,\"AAAAAH8N+ww=\")","v":{"$error":"#REF!"}},{"$f":"AND(#REF!,\"AAAAAH8N+w0=\")","v":{"$error":"#REF!"}},{"$f":"AND(#REF!,\"AAAAAH8N+w4=\")","v":{"$error":"#REF!"}},{"$f":"AND(#REF!,\"AAAAAH8N+w8=\")","v":{"$error":"#REF!"}},{"$f":"AND(#REF!,\"AAAAAH8N+xA=\")","v":{"$error":"#REF!"}},{"$f":"AND(#REF!,\"AAAAAH8N+xE=\")","v":{"$error":"#REF!"}},{"$f":"AND(#REF!,\"AAAAAH8N+xI=\")","v":{"$error":"#REF!"}},{"$f":"AND(#REF!,\"AAAAAH8N+xM=\")","v":{"$error":"#REF!"}},{"$f":"AND(#REF!,\"AAAAAH8N+xQ=\")","v":{"$error":"#REF!"}},{"$f":"AND(#REF!,\"AAAAAH8N+xU=\")","v":{"$error":"#REF!"}},{"$f":"AND(#REF!,\"AAAAAH8N+xY=\")","v":{"$error":"#REF!"}},{"$f":"AND(#REF!,\"AAAAAH8N+xc=\")","v":{"$error":"#REF!"}},{"$f":"AND(#REF!,\"AAAAAH8N+xg=\")","v":{"$error":"#REF!"}},{"$f":"AND(#REF!,\"AAAAAH8N+xk=\")","v":{"$error":"#REF!"}},{"$f":"AND(#REF!,\"AAAAAH8N+xo=\")","v":{"$error":"#REF!"}},{"$f":"AND(#REF!,\"AAAAAH8N+xs=\")","v":{"$error":"#REF!"}},{"$f":"AND(#REF!,\"AAAAAH8N+xw=\")","v":{"$error":"#REF!"}},{"$f":"AND(#REF!,\"AAAAAH8N+x0=\")","v":{"$error":"#REF!"}},{"$f":"AND(#REF!,\"AAAAAH8N+x4=\")","v":{"$error":"#REF!"}},{"$f":"AND(#REF!,\"AAAAAH8N+x8=\")","v":{"$error":"#REF!"}},{"$f":"AND(#REF!,\"AAAAAH8N+yA=\")","v":{"$error":"#REF!"}},{"$f":"AND(#REF!,\"AAAAAH8N+yE=\")","v":{"$error":"#REF!"}},{"$f":"AND(#REF!,\"AAAAAH8N+yI=\")","v":{"$error":"#REF!"}},{"$f":"AND(#REF!,\"AAAAAH8N+yM=\")","v":{"$error":"#REF!"}},{"$f":"IF(#REF!,\"AAAAAH8N+yQ=\",0)","v":{"$error":"#REF!"}},{"$f":"AND(#REF!,\"AAAAAH8N+yU=\")","v":{"$error":"#REF!"}},{"$f":"AND(#REF!,\"AAAAAH8N+yY=\")","v":{"$error":"#REF!"}},{"$f":"AND(#REF!,\"AAAAAH8N+yc=\")","v":{"$error":"#REF!"}},{"$f":"AND(#REF!,\"AAAAAH8N+yg=\")","v":{"$error":"#REF!"}},{"$f":"AND(#REF!,\"AAAAAH8N+yk=\")","v":{"$error":"#REF!"}},{"$f":"AND(#REF!,\"AAAAAH8N+yo=\")","v":{"$error":"#REF!"}},{"$f":"AND(#REF!,\"AAAAAH8N+ys=\")","v":{"$error":"#REF!"}},{"$f":"AND(#REF!,\"AAAAAH8N+yw=\")","v":{"$error":"#REF!"}},{"$f":"AND(#REF!,\"AAAAAH8N+y0=\")","v":{"$error":"#REF!"}},{"$f":"AND(#REF!,\"AAAAAH8N+y4=\")","v":{"$error":"#REF!"}},{"$f":"AND(#REF!,\"AAAAAH8N+y8=\")","v":{"$error":"#REF!"}},{"$f":"AND(#REF!,\"AAAAAH8N+zA=\")","v":{"$error":"#REF!"}},{"$f":"AND(#REF!,\"AAAAAH8N+zE=\")","v":{"$error":"#REF!"}},{"$f":"AND(#REF!,\"AAAAAH8N+zI=\")","v":{"$error":"#REF!"}},{"$f":"AND(#REF!,\"AAAAAH8N+zM=\")","v":{"$error":"#REF!"}},{"$f":"AND(#REF!,\"AAAAAH8N+zQ=\")","v":{"$error":"#REF!"}},{"$f":"AND(#REF!,\"AAAAAH8N+zU=\")","v":{"$error":"#REF!"}},{"$f":"AND(#REF!,\"AAAAAH8N+zY=\")","v":{"$error":"#REF!"}},{"$f":"AND(#REF!,\"AAAAAH8N+zc=\")","v":{"$error":"#REF!"}},{"$f":"AND(#REF!,\"AAAAAH8N+zg=\")","v":{"$error":"#REF!"}},{"$f":"AND(#REF!,\"AAAAAH8N+zk=\")","v":{"$error":"#REF!"}},{"$f":"AND(#REF!,\"AAAAAH8N+zo=\")","v":{"$error":"#REF!"}},{"$f":"AND(#REF!,\"AAAAAH8N+zs=\")","v":{"$error":"#REF!"}},{"$f":"AND(#REF!,\"AAAAAH8N+zw=\")","v":{"$error":"#REF!"}},{"$f":"AND(#REF!,\"AAAAAH8N+z0=\")","v":{"$error":"#REF!"}},{"$f":"AND(#REF!,\"AAAAAH8N+z4=\")","v":{"$error":"#REF!"}},{"$f":"AND(#REF!,\"AAAAAH8N+z8=\")","v":{"$error":"#REF!"}},{"$f":"AND(#REF!,\"AAAAAH8N+0A=\")","v":{"$error":"#REF!"}},{"$f":"AND(#REF!,\"AAAAAH8N+0E=\")","v":{"$error":"#REF!"}},{"$f":"AND(#REF!,\"AAAAAH8N+0I=\")","v":{"$error":"#REF!"}},{"$f":"AND(#REF!,\"AAAAAH8N+0M=\")","v":{"$error":"#REF!"}},{"$f":"AND(#REF!,\"AAAAAH8N+0Q=\")","v":{"$error":"#REF!"}},{"$f":"AND(#REF!,\"AAAAAH8N+0U=\")","v":{"$error":"#REF!"}},{"$f":"IF(#REF!,\"AAAAAH8N+0Y=\",0)","v":{"$error":"#REF!"}},{"$f":"AND(#REF!,\"AAAAAH8N+0c=\")","v":{"$error":"#REF!"}},{"$f":"AND(#REF!,\"AAAAAH8N+0g=\")","v":{"$error":"#REF!"}},{"$f":"AND(#REF!,\"AAAAAH8N+0k=\")","v":{"$error":"#REF!"}},{"$f":"AND(#REF!,\"AAAAAH8N+0o=\")","v":{"$error":"#REF!"}},{"$f":"AND(#REF!,\"AAAAAH8N+0s=\")","v":{"$error":"#REF!"}},{"$f":"AND(#REF!,\"AAAAAH8N+0w=\")","v":{"$error":"#REF!"}},{"$f":"AND(#REF!,\"AAAAAH8N+00=\")","v":{"$error":"#REF!"}},{"$f":"AND(#REF!,\"AAAAAH8N+04=\")","v":{"$error":"#REF!"}},{"$f":"AND(#REF!,\"AAAAAH8N+08=\")","v":{"$error":"#REF!"}},{"$f":"AND(#REF!,\"AAAAAH8N+1A=\")","v":{"$error":"#REF!"}},{"$f":"AND(#REF!,\"AAAAAH8N+1E=\")","v":{"$error":"#REF!"}},{"$f":"AND(#REF!,\"AAAAAH8N+1I=\")","v":{"$error":"#REF!"}},{"$f":"AND(#REF!,\"AAAAAH8N+1M=\")","v":{"$error":"#REF!"}},{"$f":"AND(#REF!,\"AAAAAH8N+1Q=\")","v":{"$error":"#REF!"}},{"$f":"AND(#REF!,\"AAAAAH8N+1U=\")","v":{"$error":"#REF!"}},{"$f":"AND(#REF!,\"AAAAAH8N+1Y=\")","v":{"$error":"#REF!"}},{"$f":"AND(#REF!,\"AAAAAH8N+1c=\")","v":{"$error":"#REF!"}},{"$f":"AND(#REF!,\"AAAAAH8N+1g=\")","v":{"$error":"#REF!"}},{"$f":"AND(#REF!,\"AAAAAH8N+1k=\")","v":{"$error":"#REF!"}},{"$f":"AND(#REF!,\"AAAAAH8N+1o=\")","v":{"$error":"#REF!"}},{"$f":"AND(#REF!,\"AAAAAH8N+1s=\")","v":{"$error":"#REF!"}},{"$f":"AND(#REF!,\"AAAAAH8N+1w=\")","v":{"$error":"#REF!"}},{"$f":"AND(#REF!,\"AAAAAH8N+10=\")","v":{"$error":"#REF!"}},{"$f":"AND(#REF!,\"AAAAAH8N+14=\")","v":{"$error":"#REF!"}},{"$f":"AND(#REF!,\"AAAAAH8N+18=\")","v":{"$error":"#REF!"}},{"$f":"AND(#REF!,\"AAAAAH8N+2A=\")","v":{"$error":"#REF!"}},{"$f":"AND(#REF!,\"AAAAAH8N+2E=\")","v":{"$error":"#REF!"}},{"$f":"AND(#REF!,\"AAAAAH8N+2I=\")","v":{"$error":"#REF!"}},{"$f":"AND(#REF!,\"AAAAAH8N+2M=\")","v":{"$error":"#REF!"}},{"$f":"AND(#REF!,\"AAAAAH8N+2Q=\")","v":{"$error":"#REF!"}},{"$f":"AND(#REF!,\"AAAAAH8N+2U=\")","v":{"$error":"#REF!"}},{"$f":"AND(#REF!,\"AAAAAH8N+2Y=\")","v":{"$error":"#REF!"}},{"$f":"AND(#REF!,\"AAAAAH8N+2c=\")","v":{"$error":"#REF!"}},{"$f":"IF(#REF!,\"AAAAAH8N+2g=\",0)","v":{"$error":"#REF!"}},{"$f":"AND(#REF!,\"AAAAAH8N+2k=\")","v":{"$error":"#REF!"}},{"$f":"AND(#REF!,\"AAAAAH8N+2o=\")","v":{"$error":"#REF!"}},{"$f":"AND(#REF!,\"AAAAAH8N+2s=\")","v":{"$error":"#REF!"}},{"$f":"AND(#REF!,\"AAAAAH8N+2w=\")","v":{"$error":"#REF!"}},{"$f":"AND(#REF!,\"AAAAAH8N+20=\")","v":{"$error":"#REF!"}},{"$f":"AND(#REF!,\"AAAAAH8N+24=\")","v":{"$error":"#REF!"}},{"$f":"AND(#REF!,\"AAAAAH8N+28=\")","v":{"$error":"#REF!"}},{"$f":"AND(#REF!,\"AAAAAH8N+3A=\")","v":{"$error":"#REF!"}},{"$f":"AND(#REF!,\"AAAAAH8N+3E=\")","v":{"$error":"#REF!"}},{"$f":"AND(#REF!,\"AAAAAH8N+3I=\")","v":{"$error":"#REF!"}},{"$f":"AND(#REF!,\"AAAAAH8N+3M=\")","v":{"$error":"#REF!"}},{"$f":"AND(#REF!,\"AAAAAH8N+3Q=\")","v":{"$error":"#REF!"}},{"$f":"AND(#REF!,\"AAAAAH8N+3U=\")","v":{"$error":"#REF!"}},{"$f":"AND(#REF!,\"AAAAAH8N+3Y=\")","v":{"$error":"#REF!"}},{"$f":"AND(#REF!,\"AAAAAH8N+3c=\")","v":{"$error":"#REF!"}},{"$f":"AND(#REF!,\"AAAAAH8N+3g=\")","v":{"$error":"#REF!"}},{"$f":"AND(#REF!,\"AAAAAH8N+3k=\")","v":{"$error":"#REF!"}},{"$f":"AND(#REF!,\"AAAAAH8N+3o=\")","v":{"$error":"#REF!"}},{"$f":"AND(#REF!,\"AAAAAH8N+3s=\")","v":{"$error":"#REF!"}},{"$f":"AND(#REF!,\"AAAAAH8N+3w=\")","v":{"$error":"#REF!"}},{"$f":"AND(#REF!,\"AAAAAH8N+30=\")","v":{"$error":"#REF!"}},{"$f":"AND(#REF!,\"AAAAAH8N+34=\")","v":{"$error":"#REF!"}},{"$f":"AND(#REF!,\"AAAAAH8N+38=\")","v":{"$error":"#REF!"}},{"$f":"AND(#REF!,\"AAAAAH8N+4A=\")","v":{"$error":"#REF!"}},{"$f":"AND(#REF!,\"AAAAAH8N+4E=\")","v":{"$error":"#REF!"}},{"$f":"AND(#REF!,\"AAAAAH8N+4I=\")","v":{"$error":"#REF!"}},{"$f":"AND(#REF!,\"AAAAAH8N+4M=\")","v":{"$error":"#REF!"}},{"$f":"AND(#REF!,\"AAAAAH8N+4Q=\")","v":{"$error":"#REF!"}},{"$f":"AND(#REF!,\"AAAAAH8N+4U=\")","v":{"$error":"#REF!"}},{"$f":"AND(#REF!,\"AAAAAH8N+4Y=\")","v":{"$error":"#REF!"}},{"$f":"AND(#REF!,\"AAAAAH8N+4c=\")","v":{"$error":"#REF!"}},{"$f":"AND(#REF!,\"AAAAAH8N+4g=\")","v":{"$error":"#REF!"}},{"$f":"AND(#REF!,\"AAAAAH8N+4k=\")","v":{"$error":"#REF!"}},{"$f":"IF(#REF!,\"AAAAAH8N+4o=\",0)","v":{"$error":"#REF!"}},{"$f":"AND(#REF!,\"AAAAAH8N+4s=\")","v":{"$error":"#REF!"}},{"$f":"AND(#REF!,\"AAAAAH8N+4w=\")","v":{"$error":"#REF!"}},{"$f":"AND(#REF!,\"AAAAAH8N+40=\")","v":{"$error":"#REF!"}},{"$f":"AND(#REF!,\"AAAAAH8N+44=\")","v":{"$error":"#REF!"}},{"$f":"AND(#REF!,\"AAAAAH8N+48=\")","v":{"$error":"#REF!"}},{"$f":"AND(#REF!,\"AAAAAH8N+5A=\")","v":{"$error":"#REF!"}},{"$f":"AND(#REF!,\"AAAAAH8N+5E=\")","v":{"$error":"#REF!"}},{"$f":"AND(#REF!,\"AAAAAH8N+5I=\")","v":{"$error":"#REF!"}},{"$f":"AND(#REF!,\"AAAAAH8N+5M=\")","v":{"$error":"#REF!"}},{"$f":"AND(#REF!,\"AAAAAH8N+5Q=\")","v":{"$error":"#REF!"}},{"$f":"AND(#REF!,\"AAAAAH8N+5U=\")","v":{"$error":"#REF!"}},{"$f":"AND(#REF!,\"AAAAAH8N+5Y=\")","v":{"$error":"#REF!"}},{"$f":"AND(#REF!,\"AAAAAH8N+5c=\")","v":{"$error":"#REF!"}},{"$f":"AND(#REF!,\"AAAAAH8N+5g=\")","v":{"$error":"#REF!"}},{"$f":"AND(#REF!,\"AAAAAH8N+5k=\")","v":{"$error":"#REF!"}},{"$f":"AND(#REF!,\"AAAAAH8N+5o=\")","v":{"$error":"#REF!"}},{"$f":"AND(#REF!,\"AAAAAH8N+5s=\")","v":{"$error":"#REF!"}},{"$f":"AND(#REF!,\"AAAAAH8N+5w=\")","v":{"$error":"#REF!"}},{"$f":"AND(#REF!,\"AAAAAH8N+50=\")","v":{"$error":"#REF!"}},{"$f":"AND(#REF!,\"AAAAAH8N+54=\")","v":{"$error":"#REF!"}},{"$f":"AND(#REF!,\"AAAAAH8N+58=\")","v":{"$error":"#REF!"}},{"$f":"AND(#REF!,\"AAAAAH8N+6A=\")","v":{"$error":"#REF!"}},{"$f":"AND(#REF!,\"AAAAAH8N+6E=\")","v":{"$error":"#REF!"}},{"$f":"AND(#REF!,\"AAAAAH8N+6I=\")","v":{"$error":"#REF!"}},{"$f":"AND(#REF!,\"AAAAAH8N+6M=\")","v":{"$error":"#REF!"}},{"$f":"AND(#REF!,\"AAAAAH8N+6Q=\")","v":{"$error":"#REF!"}},{"$f":"AND(#REF!,\"AAAAAH8N+6U=\")","v":{"$error":"#REF!"}},{"$f":"AND(#REF!,\"AAAAAH8N+6Y=\")","v":{"$error":"#REF!"}},{"$f":"AND(#REF!,\"AAAAAH8N+6c=\")","v":{"$error":"#REF!"}},{"$f":"AND(#REF!,\"AAAAAH8N+6g=\")","v":{"$error":"#REF!"}},{"$f":"AND(#REF!,\"AAAAAH8N+6k=\")","v":{"$error":"#REF!"}},{"$f":"AND(#REF!,\"AAAAAH8N+6o=\")","v":{"$error":"#REF!"}},{"$f":"AND(#REF!,\"AAAAAH8N+6s=\")","v":{"$error":"#REF!"}},{"$f":"IF(#REF!,\"AAAAAH8N+6w=\",0)","v":{"$error":"#REF!"}},{"$f":"AND(#REF!,\"AAAAAH8N+60=\")","v":{"$error":"#REF!"}},{"$f":"AND(#REF!,\"AAAAAH8N+64=\")","v":{"$error":"#REF!"}},{"$f":"AND(#REF!,\"AAAAAH8N+68=\")","v":{"$error":"#REF!"}},{"$f":"AND(#REF!,\"AAAAAH8N+7A=\")","v":{"$error":"#REF!"}},{"$f":"AND(#REF!,\"AAAAAH8N+7E=\")","v":{"$error":"#REF!"}},{"$f":"AND(#REF!,\"AAAAAH8N+7I=\")","v":{"$error":"#REF!"}},{"$f":"AND(#REF!,\"AAAAAH8N+7M=\")","v":{"$error":"#REF!"}},{"$f":"AND(#REF!,\"AAAAAH8N+7Q=\")","v":{"$error":"#REF!"}},{"$f":"AND(#REF!,\"AAAAAH8N+7U=\")","v":{"$error":"#REF!"}},{"$f":"AND(#REF!,\"AAAAAH8N+7Y=\")","v":{"$error":"#REF!"}},{"$f":"AND(#REF!,\"AAAAAH8N+7c=\")","v":{"$error":"#REF!"}},{"$f":"AND(#REF!,\"AAAAAH8N+7g=\")","v":{"$error":"#REF!"}},{"$f":"AND(#REF!,\"AAAAAH8N+7k=\")","v":{"$error":"#REF!"}},{"$f":"AND(#REF!,\"AAAAAH8N+7o=\")","v":{"$error":"#REF!"}},{"$f":"AND(#REF!,\"AAAAAH8N+7s=\")","v":{"$error":"#REF!"}},{"$f":"AND(#REF!,\"AAAAAH8N+7w=\")","v":{"$error":"#REF!"}},{"$f":"AND(#REF!,\"AAAAAH8N+70=\")","v":{"$error":"#REF!"}},{"$f":"AND(#REF!,\"AAAAAH8N+74=\")","v":{"$error":"#REF!"}},{"$f":"AND(#REF!,\"AAAAAH8N+78=\")","v":{"$error":"#REF!"}},{"$f":"AND(#REF!,\"AAAAAH8N+8A=\")","v":{"$error":"#REF!"}},{"$f":"AND(#REF!,\"AAAAAH8N+8E=\")","v":{"$error":"#REF!"}},{"$f":"AND(#REF!,\"AAAAAH8N+8I=\")","v":{"$error":"#REF!"}},{"$f":"AND(#REF!,\"AAAAAH8N+8M=\")","v":{"$error":"#REF!"}},{"$f":"AND(#REF!,\"AAAAAH8N+8Q=\")","v":{"$error":"#REF!"}},{"$f":"AND(#REF!,\"AAAAAH8N+8U=\")","v":{"$error":"#REF!"}},{"$f":"AND(#REF!,\"AAAAAH8N+8Y=\")","v":{"$error":"#REF!"}},{"$f":"AND(#REF!,\"AAAAAH8N+8c=\")","v":{"$error":"#REF!"}},{"$f":"AND(#REF!,\"AAAAAH8N+8g=\")","v":{"$error":"#REF!"}},{"$f":"AND(#REF!,\"AAAAAH8N+8k=\")","v":{"$error":"#REF!"}},{"$f":"AND(#REF!,\"AAAAAH8N+8o=\")","v":{"$error":"#REF!"}},{"$f":"AND(#REF!,\"AAAAAH8N+8s=\")","v":{"$error":"#REF!"}},{"$f":"AND(#REF!,\"AAAAAH8N+8w=\")","v":{"$error":"#REF!"}},{"$f":"AND(#REF!,\"AAAAAH8N+80=\")","v":{"$error":"#REF!"}},{"$f":"IF(#REF!,\"AAAAAH8N+84=\",0)","v":{"$error":"#REF!"}},{"$f":"AND(#REF!,\"AAAAAH8N+88=\")","v":{"$error":"#REF!"}},{"$f":"AND(#REF!,\"AAAAAH8N+9A=\")","v":{"$error":"#REF!"}},{"$f":"AND(#REF!,\"AAAAAH8N+9E=\")","v":{"$error":"#REF!"}},{"$f":"AND(#REF!,\"AAAAAH8N+9I=\")","v":{"$error":"#REF!"}},{"$f":"AND(#REF!,\"AAAAAH8N+9M=\")","v":{"$error":"#REF!"}},{"$f":"AND(#REF!,\"AAAAAH8N+9Q=\")","v":{"$error":"#REF!"}},{"$f":"AND(#REF!,\"AAAAAH8N+9U=\")","v":{"$error":"#REF!"}},{"$f":"AND(#REF!,\"AAAAAH8N+9Y=\")","v":{"$error":"#REF!"}},{"$f":"AND(#REF!,\"AAAAAH8N+9c=\")","v":{"$error":"#REF!"}},{"$f":"AND(#REF!,\"AAAAAH8N+9g=\")","v":{"$error":"#REF!"}},{"$f":"AND(#REF!,\"AAAAAH8N+9k=\")","v":{"$error":"#REF!"}},{"$f":"AND(#REF!,\"AAAAAH8N+9o=\")","v":{"$error":"#REF!"}},{"$f":"AND(#REF!,\"AAAAAH8N+9s=\")","v":{"$error":"#REF!"}},{"$f":"AND(#REF!,\"AAAAAH8N+9w=\")","v":{"$error":"#REF!"}},{"$f":"AND(#REF!,\"AAAAAH8N+90=\")","v":{"$error":"#REF!"}},{"$f":"AND(#REF!,\"AAAAAH8N+94=\")","v":{"$error":"#REF!"}},{"$f":"AND(#REF!,\"AAAAAH8N+98=\")","v":{"$error":"#REF!"}},{"$f":"AND(#REF!,\"AAAAAH8N++A=\")","v":{"$error":"#REF!"}},{"$f":"AND(#REF!,\"AAAAAH8N++E=\")","v":{"$error":"#REF!"}},{"$f":"AND(#REF!,\"AAAAAH8N++I=\")","v":{"$error":"#REF!"}},{"$f":"AND(#REF!,\"AAAAAH8N++M=\")","v":{"$error":"#REF!"}},{"$f":"AND(#REF!,\"AAAAAH8N++Q=\")","v":{"$error":"#REF!"}},{"$f":"AND(#REF!,\"AAAAAH8N++U=\")","v":{"$error":"#REF!"}},{"$f":"AND(#REF!,\"AAAAAH8N++Y=\")","v":{"$error":"#REF!"}},{"$f":"AND(#REF!,\"AAAAAH8N++c=\")","v":{"$error":"#REF!"}},{"$f":"AND(#REF!,\"AAAAAH8N++g=\")","v":{"$error":"#REF!"}},{"$f":"AND(#REF!,\"AAAAAH8N++k=\")","v":{"$error":"#REF!"}},{"$f":"AND(#REF!,\"AAAAAH8N++o=\")","v":{"$error":"#REF!"}},{"$f":"AND(#REF!,\"AAAAAH8N++s=\")","v":{"$error":"#REF!"}},{"$f":"AND(#REF!,\"AAAAAH8N++w=\")","v":{"$error":"#REF!"}},{"$f":"AND(#REF!,\"AAAAAH8N++0=\")","v":{"$error":"#REF!"}},{"$f":"AND(#REF!,\"AAAAAH8N++4=\")","v":{"$error":"#REF!"}},{"$f":"AND(#REF!,\"AAAAAH8N++8=\")","v":{"$error":"#REF!"}},{"$f":"IF(#REF!,\"AAAAAH8N+/A=\",0)","v":{"$error":"#REF!"}},{"$f":"AND(#REF!,\"AAAAAH8N+/E=\")","v":{"$error":"#REF!"}},{"$f":"AND(#REF!,\"AAAAAH8N+/I=\")","v":{"$error":"#REF!"}},{"$f":"AND(#REF!,\"AAAAAH8N+/M=\")","v":{"$error":"#REF!"}},{"$f":"AND(#REF!,\"AAAAAH8N+/Q=\")","v":{"$error":"#REF!"}},{"$f":"AND(#REF!,\"AAAAAH8N+/U=\")","v":{"$error":"#REF!"}},{"$f":"AND(#REF!,\"AAAAAH8N+/Y=\")","v":{"$error":"#REF!"}},{"$f":"AND(#REF!,\"AAAAAH8N+/c=\")","v":{"$error":"#REF!"}},{"$f":"AND(#REF!,\"AAAAAH8N+/g=\")","v":{"$error":"#REF!"}},{"$f":"AND(#REF!,\"AAAAAH8N+/k=\")","v":{"$error":"#REF!"}},{"$f":"AND(#REF!,\"AAAAAH8N+/o=\")","v":{"$error":"#REF!"}},{"$f":"AND(#REF!,\"AAAAAH8N+/s=\")","v":{"$error":"#REF!"}},{"$f":"AND(#REF!,\"AAAAAH8N+/w=\")","v":{"$error":"#REF!"}},{"$f":"AND(#REF!,\"AAAAAH8N+/0=\")","v":{"$error":"#REF!"}},{"$f":"AND(#REF!,\"AAAAAH8N+/4=\")","v":{"$error":"#REF!"}},{"$f":"AND(#REF!,\"AAAAAH8N+/8=\")","v":{"$error":"#REF!"}}]
[{"$f":"AND(#REF!,\"AAAAAH7RngA=\")","v":{"$error":"#REF!"}},{"$f":"AND(#REF!,\"AAAAAH7RngE=\")","v":{"$error":"#REF!"}},{"$f":"AND(#REF!,\"AAAAAH7RngI=\")","v":{"$error":"#REF!"}},{"$f":"AND(#REF!,\"AAAAAH7RngM=\")","v":{"$error":"#REF!"}},{"$f":"AND(#REF!,\"AAAAAH7RngQ=\")","v":{"$error":"#REF!"}},{"$f":"AND(#REF!,\"AAAAAH7RngU=\")","v":{"$error":"#REF!"}},{"$f":"AND(#REF!,\"AAAAAH7RngY=\")","v":{"$error":"#REF!"}},{"$f":"AND(#REF!,\"AAAAAH7Rngc=\")","v":{"$error":"#REF!"}},{"$f":"AND(#REF!,\"AAAAAH7Rngg=\")","v":{"$error":"#REF!"}},{"$f":"AND(#REF!,\"AAAAAH7Rngk=\")","v":{"$error":"#REF!"}},{"$f":"AND(#REF!,\"AAAAAH7Rngo=\")","v":{"$error":"#REF!"}},{"$f":"AND(#REF!,\"AAAAAH7Rngs=\")","v":{"$error":"#REF!"}},{"$f":"AND(#REF!,\"AAAAAH7Rngw=\")","v":{"$error":"#REF!"}},{"$f":"AND(#REF!,\"AAAAAH7Rng0=\")","v":{"$error":"#REF!"}},{"$f":"AND(#REF!,\"AAAAAH7Rng4=\")","v":{"$error":"#REF!"}},{"$f":"AND(#REF!,\"AAAAAH7Rng8=\")","v":{"$error":"#REF!"}},{"$f":"AND(#REF!,\"AAAAAH7RnhA=\")","v":{"$error":"#REF!"}},{"$f":"AND(#REF!,\"AAAAAH7RnhE=\")","v":{"$error":"#REF!"}},{"$f":"IF(#REF!,\"AAAAAH7RnhI=\",0)","v":{"$error":"#REF!"}},{"$f":"AND(#REF!,\"AAAAAH7RnhM=\")","v":{"$error":"#REF!"}},{"$f":"AND(#REF!,\"AAAAAH7RnhQ=\")","v":{"$error":"#REF!"}},{"$f":"AND(#REF!,\"AAAAAH7RnhU=\")","v":{"$error":"#REF!"}},{"$f":"AND(#REF!,\"AAAAAH7RnhY=\")","v":{"$error":"#REF!"}},{"$f":"AND(#REF!,\"AAAAAH7Rnhc=\")","v":{"$error":"#REF!"}},{"$f":"AND(#REF!,\"AAAAAH7Rnhg=\")","v":{"$error":"#REF!"}},{"$f":"AND(#REF!,\"AAAAAH7Rnhk=\")","v":{"$error":"#REF!"}},{"$f":"AND(#REF!,\"AAAAAH7Rnho=\")","v":{"$error":"#REF!"}},{"$f":"AND(#REF!,\"AAAAAH7Rnhs=\")","v":{"$error":"#REF!"}},{"$f":"AND(#REF!,\"AAAAAH7Rnhw=\")","v":{"$error":"#REF!"}},{"$f":"AND(#REF!,\"AAAAAH7Rnh0=\")","v":{"$error":"#REF!"}},{"$f":"AND(#REF!,\"AAAAAH7Rnh4=\")","v":{"$error":"#REF!"}},{"$f":"AND(#REF!,\"AAAAAH7Rnh8=\")","v":{"$error":"#REF!"}},{"$f":"AND(#REF!,\"AAAAAH7RniA=\")","v":{"$error":"#REF!"}},{"$f":"AND(#REF!,\"AAAAAH7RniE=\")","v":{"$error":"#REF!"}},{"$f":"AND(#REF!,\"AAAAAH7RniI=\")","v":{"$error":"#REF!"}},{"$f":"AND(#REF!,\"AAAAAH7RniM=\")","v":{"$error":"#REF!"}},{"$f":"AND(#REF!,\"AAAAAH7RniQ=\")","v":{"$error":"#REF!"}},{"$f":"AND(#REF!,\"AAAAAH7RniU=\")","v":{"$error":"#REF!"}},{"$f":"AND(#REF!,\"AAAAAH7RniY=\")","v":{"$error":"#REF!"}},{"$f":"AND(#REF!,\"AAAAAH7Rnic=\")","v":{"$error":"#REF!"}},{"$f":"AND(#REF!,\"AAAAAH7Rnig=\")","v":{"$error":"#REF!"}},{"$f":"AND(#REF!,\"AAAAAH7Rnik=\")","v":{"$error":"#REF!"}},{"$f":"AND(#REF!,\"AAAAAH7Rnio=\")","v":{"$error":"#REF!"}},{"$f":"AND(#REF!,\"AAAAAH7Rnis=\")","v":{"$error":"#REF!"}},{"$f":"AND(#REF!,\"AAAAAH7Rniw=\")","v":{"$error":"#REF!"}},{"$f":"AND(#REF!,\"AAAAAH7Rni0=\")","v":{"$error":"#REF!"}},{"$f":"AND(#REF!,\"AAAAAH7Rni4=\")","v":{"$error":"#REF!"}},{"$f":"AND(#REF!,\"AAAAAH7Rni8=\")","v":{"$error":"#REF!"}},{"$f":"AND(#REF!,\"AAAAAH7RnjA=\")","v":{"$error":"#REF!"}},{"$f":"AND(#REF!,\"AAAAAH7RnjE=\")","v":{"$error":"#REF!"}},{"$f":"AND(#REF!,\"AAAAAH7RnjI=\")","v":{"$error":"#REF!"}},{"$f":"AND(#REF!,\"AAAAAH7RnjM=\")","v":{"$error":"#REF!"}},{"$f":"IF(#REF!,\"AAAAAH7RnjQ=\",0)","v":{"$error":"#REF!"}},{"$f":"AND(#REF!,\"AAAAAH7RnjU=\")","v":{"$error":"#REF!"}},{"$f":"AND(#REF!,\"AAAAAH7RnjY=\")","v":{"$error":"#REF!"}},{"$f":"AND(#REF!,\"AAAAAH7Rnjc=\")","v":{"$error":"#REF!"}},{"$f":"AND(#REF!,\"AAAAAH7Rnjg=\")","v":{"$error":"#REF!"}},{"$f":"AND(#REF!,\"AAAAAH7Rnjk=\")","v":{"$error":"#REF!"}},{"$f":"AND(#REF!,\"AAAAAH7Rnjo=\")","v":{"$error":"#REF!"}},{"$f":"AND(#REF!,\"AAAAAH7Rnjs=\")","v":{"$error":"#REF!"}},{"$f":"AND(#REF!,\"AAAAAH7Rnjw=\")","v":{"$error":"#REF!"}},{"$f":"AND(#REF!,\"AAAAAH7Rnj0=\")","v":{"$error":"#REF!"}},{"$f":"AND(#REF!,\"AAAAAH7Rnj4=\")","v":{"$error":"#REF!"}},{"$f":"AND(#REF!,\"AAAAAH7Rnj8=\")","v":{"$error":"#REF!"}},{"$f":"AND(#REF!,\"AAAAAH7RnkA=\")","v":{"$error":"#REF!"}},{"$f":"AND(#REF!,\"AAAAAH7RnkE=\")","v":{"$error":"#REF!"}},{"$f":"AND(#REF!,\"AAAAAH7RnkI=\")","v":{"$error":"#REF!"}},{"$f":"AND(#REF!,\"AAAAAH7RnkM=\")","v":{"$error":"#REF!"}},{"$f":"AND(#REF!,\"AAAAAH7RnkQ=\")","v":{"$error":"#REF!"}},{"$f":"AND(#REF!,\"AAAAAH7RnkU=\")","v":{"$error":"#REF!"}},{"$f":"AND(#REF!,\"AAAAAH7RnkY=\")","v":{"$error":"#REF!"}},{"$f":"AND(#REF!,\"AAAAAH7Rnkc=\")","v":{"$error":"#REF!"}},{"$f":"AND(#REF!,\"AAAAAH7Rnkg=\")","v":{"$error":"#REF!"}},{"$f":"AND(#REF!,\"AAAAAH7Rnkk=\")","v":{"$error":"#REF!"}},{"$f":"AND(#REF!,\"AAAAAH7Rnko=\")","v":{"$error":"#REF!"}},{"$f":"AND(#REF!,\"AAAAAH7Rnks=\")","v":{"$error":"#REF!"}},{"$f":"AND(#REF!,\"AAAAAH7Rnkw=\")","v":{"$error":"#REF!"}},{"$f":"AND(#REF!,\"AAAAAH7Rnk0=\")","v":{"$error":"#REF!"}},{"$f":"AND(#REF!,\"AAAAAH7Rnk4=\")","v":{"$error":"#REF!"}},{"$f":"AND(#REF!,\"AAAAAH7Rnk8=\")","v":{"$error":"#REF!"}},{"$f":"AND(#REF!,\"AAAAAH7RnlA=\")","v":{"$error":"#REF!"}},{"$f":"AND(#REF!,\"AAAAAH7RnlE=\")","v":{"$error":"#REF!"}},{"$f":"AND(#REF!,\"AAAAAH7RnlI=\")","v":{"$error":"#REF!"}},{"$f":"AND(#REF!,\"AAAAAH7RnlM=\")","v":{"$error":"#REF!"}},{"$f":"AND(#REF!,\"AAAAAH7RnlQ=\")","v":{"$error":"#REF!"}},{"$f":"AND(#REF!,\"AAAAAH7RnlU=\")","v":{"$error":"#REF!"}},{"$f":"IF(#REF!,\"AAAAAH7RnlY=\",0)","v":{"$error":"#REF!"}},{"$f":"AND(#REF!,\"AAAAAH7Rnlc=\")","v":{"$error":"#REF!"}},{"$f":"AND(#REF!,\"AAAAAH7Rnlg=\")","v":{"$error":"#REF!"}},{"$f":"AND(#REF!,\"AAAAAH7Rnlk=\")","v":{"$error":"#REF!"}},{"$f":"AND(#REF!,\"AAAAAH7Rnlo=\")","v":{"$error":"#REF!"}},{"$f":"AND(#REF!,\"AAAAAH7Rnls=\")","v":{"$error":"#REF!"}},{"$f":"AND(#REF!,\"AAAAAH7Rnlw=\")","v":{"$error":"#REF!"}},{"$f":"AND(#REF!,\"AAAAAH7Rnl0=\")","v":{"$error":"#REF!"}},{"$f":"AND(#REF!,\"AAAAAH7Rnl4=\")","v":{"$error":"#REF!"}},{"$f":"AND(#REF!,\"AAAAAH7Rnl8=\")","v":{"$error":"#REF!"}},{"$f":"AND(#REF!,\"AAAAAH7RnmA=\")","v":{"$error":"#REF!"}},{"$f":"AND(#REF!,\"AAAAAH7RnmE=\")","v":{"$error":"#REF!"}},{"$f":"AND(#REF!,\"AAAAAH7RnmI=\")","v":{"$error":"#REF!"}},{"$f":"AND(#REF!,\"AAAAAH7RnmM=\")","v":{"$error":"#REF!"}},{"$f":"AND(#REF!,\"AAAAAH7RnmQ=\")","v":{"$error":"#REF!"}},{"$f":"AND(#REF!,\"AAAAAH7RnmU=\")","v":{"$error":"#REF!"}},{"$f":"AND(#REF!,\"AAAAAH7RnmY=\")","v":{"$error":"#REF!"}},{"$f":"AND(#REF!,\"AAAAAH7Rnmc=\")","v":{"$error":"#REF!"}},{"$f":"AND(#REF!,\"AAAAAH7Rnmg=\")","v":{"$error":"#REF!"}},{"$f":"AND(#REF!,\"AAAAAH7Rnmk=\")","v":{"$error":"#REF!"}},{"$f":"AND(#REF!,\"AAAAAH7Rnmo=\")","v":{"$error":"#REF!"}},{"$f":"AND(#REF!,\"AAAAAH7Rnms=\")","v":{"$error":"#REF!"}},{"$f":"AND(#REF!,\"AAAAAH7Rnmw=\")","v":{"$error":"#REF!"}},{"$f":"AND(#REF!,\"AAAAAH7Rnm0=\")","v":{"$error":"#REF!"}},{"$f":"AND(#REF!,\"AAAAAH7Rnm4=\")","v":{"$error":"#REF!"}},{"$f":"AND(#REF!,\"AAAAAH7Rnm8=\")","v":{"$error":"#REF!"}},{"$f":"AND(#REF!,\"AAAAAH7RnnA=\")","v":{"$error":"#REF!"}},{"$f":"AND(#REF!,\"AAAAAH7RnnE=\")","v":{"$error":"#REF!"}},{"$f":"AND(#REF!,\"AAAAAH7RnnI=\")","v":{"$error":"#REF!"}},{"$f":"AND(#REF!,\"AAAAAH7RnnM=\")","v":{"$error":"#REF!"}},{"$f":"AND(#REF!,\"AAAAAH7RnnQ=\")","v":{"$error":"#REF!"}},{"$f":"AND(#REF!,\"AAAAAH7RnnU=\")","v":{"$error":"#REF!"}},{"$f":"AND(#REF!,\"AAAAAH7RnnY=\")","v":{"$error":"#REF!"}},{"$f":"AND(#REF!,\"AAAAAH7Rnnc=\")","v":{"$error":"#REF!"}},{"$f":"IF(#REF!,\"AAAAAH7Rnng=\",0)","v":{"$error":"#REF!"}},{"$f":"AND(#REF!,\"AAAAAH7Rnnk=\")","v":{"$error":"#REF!"}},{"$f":"AND(#REF!,\"AAAAAH7Rnno=\")","v":{"$error":"#REF!"}},{"$f":"AND(#REF!,\"AAAAAH7Rnns=\")","v":{"$error":"#REF!"}},{"$f":"AND(#REF!,\"AAAAAH7Rnnw=\")","v":{"$error":"#REF!"}},{"$f":"AND(#REF!,\"AAAAAH7Rnn0=\")","v":{"$error":"#REF!"}},{"$f":"AND(#REF!,\"AAAAAH7Rnn4=\")","v":{"$error":"#REF!"}},{"$f":"AND(#REF!,\"AAAAAH7Rnn8=\")","v":{"$error":"#REF!"}},{"$f":"AND(#REF!,\"AAAAAH7RnoA=\")","v":{"$error":"#REF!"}},{"$f":"AND(#REF!,\"AAAAAH7RnoE=\")","v":{"$error":"#REF!"}},{"$f":"AND(#REF!,\"AAAAAH7RnoI=\")","v":{"$error":"#REF!"}},{"$f":"AND(#REF!,\"AAAAAH7RnoM=\")","v":{"$error":"#REF!"}},{"$f":"AND(#REF!,\"AAAAAH7RnoQ=\")","v":{"$error":"#REF!"}},{"$f":"AND(#REF!,\"AAAAAH7RnoU=\")","v":{"$error":"#REF!"}},{"$f":"AND(#REF!,\"AAAAAH7RnoY=\")","v":{"$error":"#REF!"}},{"$f":"AND(#REF!,\"AAAAAH7Rnoc=\")","v":{"$error":"#REF!"}},{"$f":"AND(#REF!,\"AAAAAH7Rnog=\")","v":{"$error":"#REF!"}},{"$f":"AND(#REF!,\"AAAAAH7Rnok=\")","v":{"$error":"#REF!"}},{"$f":"AND(#REF!,\"AAAAAH7Rnoo=\")","v":{"$error":"#REF!"}},{"$f":"AND(#REF!,\"AAAAAH7Rnos=\")","v":{"$error":"#REF!"}},{"$f":"AND(#REF!,\"AAAAAH7Rnow=\")","v":{"$error":"#REF!"}},{"$f":"AND(#REF!,\"AAAAAH7Rno0=\")","v":{"$error":"#REF!"}},{"$f":"AND(#REF!,\"AAAAAH7Rno4=\")","v":{"$error":"#REF!"}},{"$f":"AND(#REF!,\"AAAAAH7Rno8=\")","v":{"$error":"#REF!"}},{"$f":"AND(#REF!,\"AAAAAH7RnpA=\")","v":{"$error":"#REF!"}},{"$f":"AND(#REF!,\"AAAAAH7RnpE=\")","v":{"$error":"#REF!"}},{"$f":"AND(#REF!,\"AAAAAH7RnpI=\")","v":{"$error":"#REF!"}},{"$f":"AND(#REF!,\"AAAAAH7RnpM=\")","v":{"$error":"#REF!"}},{"$f":"AND(#REF!,\"AAAAAH7RnpQ=\")","v":{"$error":"#REF!"}},{"$f":"AND(#REF!,\"AAAAAH7RnpU=\")","v":{"$error":"#REF!"}},{"$f":"AND(#REF!,\"AAAAAH7RnpY=\")","v":{"$error":"#REF!"}},{"$f":"AND(#REF!,\"AAAAAH7Rnpc=\")","v":{"$error":"#REF!"}},{"$f":"AND(#REF!,\"AAAAAH7Rnpg=\")","v":{"$error":"#REF!"}},{"$f":"AND(#REF!,\"AAAAAH7Rnpk=\")","v":{"$error":"#REF!"}},{"$f":"IF(#REF!,\"AAAAAH7Rnpo=\",0)","v":{"$error":"#REF!"}},{"$f":"AND(#REF!,\"AAAAAH7Rnps=\")","v":{"$error":"#REF!"}},{"$f":"AND(#REF!,\"AAAAAH7Rnpw=\")","v":{"$error":"#REF!"}},{"$f":"AND(#REF!,\"AAAAAH7Rnp0=\")","v":{"$error":"#REF!"}},{"$f":"AND(#REF!,\"AAAAAH7Rnp4=\")","v":{"$error":"#REF!"}},{"$f":"AND(#REF!,\"AAAAAH7Rnp8=\")","v":{"$error":"#REF!"}},{"$f":"AND(#REF!,\"AAAAAH7RnqA=\")","v":{"$error":"#REF!"}},{"$f":"AND(#REF!,\"AAAAAH7RnqE=\")","v":{"$error":"#REF!"}},{"$f":"AND(#REF!,\"AAAAAH7RnqI=\")","v":{"$error":"#REF!"}},{"$f":"AND(#REF!,\"AAAAAH7RnqM=\")","v":{"$error":"#REF!"}},{"$f":"AND(#REF!,\"AAAAAH7RnqQ=\")","v":{"$error":"#REF!"}},{"$f":"AND(#REF!,\"AAAAAH7RnqU=\")","v":{"$error":"#REF!"}},{"$f":"AND(#REF!,\"AAAAAH7RnqY=\")","v":{"$error":"#REF!"}},{"$f":"AND(#REF!,\"AAAAAH7Rnqc=\")","v":{"$error":"#REF!"}},{"$f":"AND(#REF!,\"AAAAAH7Rnqg=\")","v":{"$error":"#REF!"}},{"$f":"AND(#REF!,\"AAAAAH7Rnqk=\")","v":{"$error":"#REF!"}},{"$f":"AND(#REF!,\"AAAAAH7Rnqo=\")","v":{"$error":"#REF!"}},{"$f":"AND(#REF!,\"AAAAAH7Rnqs=\")","v":{"$error":"#REF!"}},{"$f":"AND(#REF!,\"AAAAAH7Rnqw=\")","v":{"$error":"#REF!"}},{"$f":"AND(#REF!,\"AAAAAH7Rnq0=\")","v":{"$error":"#REF!"}},{"$f":"AND(#REF!,\"AAAAAH7Rnq4=\")","v":{"$error":"#REF!"}},{"$f":"AND(#REF!,\"AAAAAH7Rnq8=\")","v":{"$error":"#REF!"}},{"$f":"AND(#REF!,\"AAAAAH7RnrA=\")","v":{"$error":"#REF!"}},{"$f":"AND(#REF!,\"AAAAAH7RnrE=\")","v":{"$error":"#REF!"}},{"$f":"AND(#REF!,\"AAAAAH7RnrI=\")","v":{"$error":"#REF!"}},{"$f":"AND(#REF!,\"AAAAAH7RnrM=\")","v":{"$error":"#REF!"}},{"$f":"AND(#REF!,\"AAAAAH7RnrQ=\")","v":{"$error":"#REF!"}},{"$f":"AND(#REF!,\"AAAAAH7RnrU=\")","v":{"$error":"#REF!"}},{"$f":"AND(#REF!,\"AAAAAH7RnrY=\")","v":{"$error":"#REF!"}},{"$f":"AND(#REF!,\"AAAAAH7Rnrc=\")","v":{"$error":"#REF!"}},{"$f":"AND(#REF!,\"AAAAAH7Rnrg=\")","v":{"$error":"#REF!"}},{"$f":"AND(#REF!,\"AAAAAH7Rnrk=\")","v":{"$error":"#REF!"}},{"$f":"AND(#REF!,\"AAAAAH7Rnro=\")","v":{"$error":"#REF!"}},{"$f":"AND(#REF!,\"AAAAAH7Rnrs=\")","v":{"$error":"#REF!"}},{"$f":"IF(#REF!,\"AAAAAH7Rnrw=\",0)","v":{"$error":"#REF!"}},{"$f":"AND(#REF!,\"AAAAAH7Rnr0=\")","v":{"$error":"#REF!"}},{"$f":"AND(#REF!,\"AAAAAH7Rnr4=\")","v":{"$error":"#REF!"}},{"$f":"AND(#REF!,\"AAAAAH7Rnr8=\")","v":{"$error":"#REF!"}},{"$f":"AND(#REF!,\"AAAAAH7RnsA=\")","v":{"$error":"#REF!"}},{"$f":"AND(#REF!,\"AAAAAH7RnsE=\")","v":{"$error":"#REF!"}},{"$f":"AND(#REF!,\"AAAAAH7RnsI=\")","v":{"$error":"#REF!"}},{"$f":"AND(#REF!,\"AAAAAH7RnsM=\")","v":{"$error":"#REF!"}},{"$f":"AND(#REF!,\"AAAAAH7RnsQ=\")","v":{"$error":"#REF!"}},{"$f":"AND(#REF!,\"AAAAAH7RnsU=\")","v":{"$error":"#REF!"}},{"$f":"AND(#REF!,\"AAAAAH7RnsY=\")","v":{"$error":"#REF!"}},{"$f":"AND(#REF!,\"AAAAAH7Rnsc=\")","v":{"$error":"#REF!"}},{"$f":"AND(#REF!,\"AAAAAH7Rnsg=\")","v":{"$error":"#REF!"}},{"$f":"AND(#REF!,\"AAAAAH7Rnsk=\")","v":{"$error":"#REF!"}},{"$f":"AND(#REF!,\"AAAAAH7Rnso=\")","v":{"$error":"#REF!"}},{"$f":"AND(#REF!,\"AAAAAH7Rnss=\")","v":{"$error":"#REF!"}},{"$f":"AND(#REF!,\"AAAAAH7Rnsw=\")","v":{"$error":"#REF!"}},{"$f":"AND(#REF!,\"AAAAAH7Rns0=\")","v":{"$error":"#REF!"}},{"$f":"AND(#REF!,\"AAAAAH7Rns4=\")","v":{"$error":"#REF!"}},{"$f":"AND(#REF!,\"AAAAAH7Rns8=\")","v":{"$error":"#REF!"}},{"$f":"AND(#REF!,\"AAAAAH7RntA=\")","v":{"$error":"#REF!"}},{"$f":"AND(#REF!,\"AAAAAH7RntE=\")","v":{"$error":"#REF!"}},{"$f":"AND(#REF!,\"AAAAAH7RntI=\")","v":{"$error":"#REF!"}},{"$f":"AND(#REF!,\"AAAAAH7RntM=\")","v":{"$error":"#REF!"}},{"$f":"AND(#REF!,\"AAAAAH7RntQ=\")","v":{"$error":"#REF!"}},{"$f":"AND(#REF!,\"AAAAAH7RntU=\")","v":{"$error":"#REF!"}},{"$f":"AND(#REF!,\"AAAAAH7RntY=\")","v":{"$error":"#REF!"}},{"$f":"AND(#REF!,\"AAAAAH7Rntc=\")","v":{"$error":"#REF!"}},{"$f":"AND(#REF!,\"AAAAAH7Rntg=\")","v":{"$error":"#REF!"}},{"$f":"AND(#REF!,\"AAAAAH7Rntk=\")","v":{"$error":"#REF!"}},{"$f":"AND(#REF!,\"AAAAAH7Rnto=\")","v":{"$error":"#REF!"}},{"$f":"AND(#REF!,\"AAAAAH7Rnts=\")","v":{"$error":"#REF!"}},{"$f":"AND(#REF!,\"AAAAAH7Rntw=\")","v":{"$error":"#REF!"}},{"$f":"AND(#REF!,\"AAAAAH7Rnt0=\")","v":{"$error":"#REF!"}},{"$f":"IF(#REF!,\"AAAAAH7Rnt4=\",0)","v":{"$error":"#REF!"}},{"$f":"AND(#REF!,\"AAAAAH7Rnt8=\")","v":{"$error":"#REF!"}},{"$f":"AND(#REF!,\"AAAAAH7RnuA=\")","v":{"$error":"#REF!"}},{"$f":"AND(#REF!,\"AAAAAH7RnuE=\")","v":{"$error":"#REF!"}},{"$f":"AND(#REF!,\"AAAAAH7RnuI=\")","v":{"$error":"#REF!"}},{"$f":"AND(#REF!,\"AAAAAH7RnuM=\")","v":{"$error":"#REF!"}},{"$f":"AND(#REF!,\"AAAAAH7RnuQ=\")","v":{"$error":"#REF!"}},{"$f":"AND(#REF!,\"AAAAAH7RnuU=\")","v":{"$error":"#REF!"}},{"$f":"AND(#REF!,\"AAAAAH7RnuY=\")","v":{"$error":"#REF!"}},{"$f":"AND(#REF!,\"AAAAAH7Rnuc=\")","v":{"$error":"#REF!"}},{"$f":"AND(#REF!,\"AAAAAH7Rnug=\")","v":{"$error":"#REF!"}},{"$f":"AND(#REF!,\"AAAAAH7Rnuk=\")","v":{"$error":"#REF!"}},{"$f":"AND(#REF!,\"AAAAAH7Rnuo=\")","v":{"$error":"#REF!"}},{"$f":"AND(#REF!,\"AAAAAH7Rnus=\")","v":{"$error":"#REF!"}},{"$f":"AND(#REF!,\"AAAAAH7Rnuw=\")","v":{"$error":"#REF!"}},{"$f":"AND(#REF!,\"AAAAAH7Rnu0=\")","v":{"$error":"#REF!"}},{"$f":"AND(#REF!,\"AAAAAH7Rnu4=\")","v":{"$error":"#REF!"}},{"$f":"AND(#REF!,\"AAAAAH7Rnu8=\")","v":{"$error":"#REF!"}},{"$f":"AND(#REF!,\"AAAAAH7RnvA=\")","v":{"$error":"#REF!"}},{"$f":"AND(#REF!,\"AAAAAH7RnvE=\")","v":{"$error":"#REF!"}},{"$f":"AND(#REF!,\"AAAAAH7RnvI=\")","v":{"$error":"#REF!"}},{"$f":"AND(#REF!,\"AAAAAH7RnvM=\")","v":{"$error":"#REF!"}},{"$f":"AND(#REF!,\"AAAAAH7RnvQ=\")","v":{"$error":"#REF!"}},{"$f":"AND(#REF!,\"AAAAAH7RnvU=\")","v":{"$error":"#REF!"}},{"$f":"AND(#REF!,\"AAAAAH7RnvY=\")","v":{"$error":"#REF!"}},{"$f":"AND(#REF!,\"AAAAAH7Rnvc=\")","v":{"$error":"#REF!"}},{"$f":"AND(#REF!,\"AAAAAH7Rnvg=\")","v":{"$error":"#REF!"}},{"$f":"AND(#REF!,\"AAAAAH7Rnvk=\")","v":{"$error":"#REF!"}},{"$f":"AND(#REF!,\"AAAAAH7Rnvo=\")","v":{"$error":"#REF!"}},{"$f":"AND(#REF!,\"AAAAAH7Rnvs=\")","v":{"$error":"#REF!"}},{"$f":"AND(#REF!,\"AAAAAH7Rnvw=\")","v":{"$error":"#REF!"}},{"$f":"AND(#REF!,\"AAAAAH7Rnv0=\")","v":{"$error":"#REF!"}},{"$f":"AND(#REF!,\"AAAAAH7Rnv4=\")","v":{"$error":"#REF!"}},{"$f":"AND(#REF!,\"AAAAAH7Rnv8=\")","v":{"$error":"#REF!"}}]
[{"$f":"IF(#REF!,\"AAAAAH+vdwA=\",0)","v":{"$error":"#REF!"}},{"$f":"AND(#REF!,\"AAAAAH+vdwE=\")","v":{"$error":"#REF!"}},{"$f":"AND(#REF!,\"AAAAAH+vdwI=\")","v":{"$error":"#REF!"}},{"$f":"AND(#REF!,\"AAAAAH+vdwM=\")","v":{"$error":"#REF!"}},{"$f":"AND(#REF!,\"AAAAAH+vdwQ=\")","v":{"$error":"#REF!"}},{"$f":"AND(#REF!,\"AAAAAH+vdwU=\")","v":{"$error":"#REF!"}},{"$f":"AND(#REF!,\"AAAAAH+vdwY=\")","v":{"$error":"#REF!"}},{"$f":"AND(#REF!,\"AAAAAH+vdwc=\")","v":{"$error":"#REF!"}},{"$f":"AND(#REF!,\"AAAAAH+vdwg=\")","v":{"$error":"#REF!"}},{"$f":"AND(#REF!,\"AAAAAH+vdwk=\")","v":{"$error":"#REF!"}},{"$f":"AND(#REF!,\"AAAAAH+vdwo=\")","v":{"$error":"#REF!"}},{"$f":"AND(#REF!,\"AAAAAH+vdws=\")","v":{"$error":"#REF!"}},{"$f":"AND(#REF!,\"AAAAAH+vdww=\")","v":{"$error":"#REF!"}},{"$f":"AND(#REF!,\"AAAAAH+vdw0=\")","v":{"$error":"#REF!"}},{"$f":"AND(#REF!,\"AAAAAH+vdw4=\")","v":{"$error":"#REF!"}},{"$f":"AND(#REF!,\"AAAAAH+vdw8=\")","v":{"$error":"#REF!"}},{"$f":"AND(#REF!,\"AAAAAH+vdxA=\")","v":{"$error":"#REF!"}},{"$f":"AND(#REF!,\"AAAAAH+vdxE=\")","v":{"$error":"#REF!"}},{"$f":"AND(#REF!,\"AAAAAH+vdxI=\")","v":{"$error":"#REF!"}},{"$f":"AND(#REF!,\"AAAAAH+vdxM=\")","v":{"$error":"#REF!"}},{"$f":"AND(#REF!,\"AAAAAH+vdxQ=\")","v":{"$error":"#REF!"}},{"$f":"AND(#REF!,\"AAAAAH+vdxU=\")","v":{"$error":"#REF!"}},{"$f":"AND(#REF!,\"AAAAAH+vdxY=\")","v":{"$error":"#REF!"}},{"$f":"AND(#REF!,\"AAAAAH+vdxc=\")","v":{"$error":"#REF!"}},{"$f":"AND(#REF!,\"AAAAAH+vdxg=\")","v":{"$error":"#REF!"}},{"$f":"AND(#REF!,\"AAAAAH+vdxk=\")","v":{"$error":"#REF!"}},{"$f":"AND(#REF!,\"AAAAAH+vdxo=\")","v":{"$error":"#REF!"}},{"$f":"AND(#REF!,\"AAAAAH+vdxs=\")","v":{"$error":"#REF!"}},{"$f":"AND(#REF!,\"AAAAAH+vdxw=\")","v":{"$error":"#REF!"}},{"$f":"AND(#REF!,\"AAAAAH+vdx0=\")","v":{"$error":"#REF!"}},{"$f":"AND(#REF!,\"AAAAAH+vdx4=\")","v":{"$error":"#REF!"}},{"$f":"AND(#REF!,\"AAAAAH+vdx8=\")","v":{"$error":"#REF!"}},{"$f":"AND(#REF!,\"AAAAAH+vdyA=\")","v":{"$error":"#REF!"}},{"$f":"AND(#REF!,\"AAAAAH+vdyE=\")","v":{"$error":"#REF!"}},{"$f":"IF(#REF!,\"AAAAAH+vdyI=\",0)","v":{"$error":"#REF!"}},{"$f":"AND(#REF!,\"AAAAAH+vdyM=\")","v":{"$error":"#REF!"}},{"$f":"AND(#REF!,\"AAAAAH+vdyQ=\")","v":{"$error":"#REF!"}},{"$f":"AND(#REF!,\"AAAAAH+vdyU=\")","v":{"$error":"#REF!"}},{"$f":"AND(#REF!,\"AAAAAH+vdyY=\")","v":{"$error":"#REF!"}},{"$f":"AND(#REF!,\"AAAAAH+vdyc=\")","v":{"$error":"#REF!"}},{"$f":"AND(#REF!,\"AAAAAH+vdyg=\")","v":{"$error":"#REF!"}},{"$f":"AND(#REF!,\"AAAAAH+vdyk=\")","v":{"$error":"#REF!"}},{"$f":"AND(#REF!,\"AAAAAH+vdyo=\")","v":{"$error":"#REF!"}},{"$f":"AND(#REF!,\"AAAAAH+vdys=\")","v":{"$error":"#REF!"}},{"$f":"AND(#REF!,\"AAAAAH+vdyw=\")","v":{"$error":"#REF!"}},{"$f":"AND(#REF!,\"AAAAAH+vdy0=\")","v":{"$error":"#REF!"}},{"$f":"AND(#REF!,\"AAAAAH+vdy4=\")","v":{"$error":"#REF!"}},{"$f":"AND(#REF!,\"AAAAAH+vdy8=\")","v":{"$error":"#REF!"}},{"$f":"AND(#REF!,\"AAAAAH+vdzA=\")","v":{"$error":"#REF!"}},{"$f":"AND(#REF!,\"AAAAAH+vdzE=\")","v":{"$error":"#REF!"}},{"$f":"AND(#REF!,\"AAAAAH+vdzI=\")","v":{"$error":"#REF!"}},{"$f":"AND(#REF!,\"AAAAAH+vdzM=\")","v":{"$error":"#REF!"}},{"$f":"AND(#REF!,\"AAAAAH+vdzQ=\")","v":{"$error":"#REF!"}},{"$f":"AND(#REF!,\"AAAAAH+vdzU=\")","v":{"$error":"#REF!"}},{"$f":"AND(#REF!,\"AAAAAH+vdzY=\")","v":{"$error":"#REF!"}},{"$f":"AND(#REF!,\"AAAAAH+vdzc=\")","v":{"$error":"#REF!"}},{"$f":"AND(#REF!,\"AAAAAH+vdzg=\")","v":{"$error":"#REF!"}},{"$f":"AND(#REF!,\"AAAAAH+vdzk=\")","v":{"$error":"#REF!"}},{"$f":"AND(#REF!,\"AAAAAH+vdzo=\")","v":{"$error":"#REF!"}},{"$f":"AND(#REF!,\"AAAAAH+vdzs=\")","v":{"$error":"#REF!"}},{"$f":"AND(#REF!,\"AAAAAH+vdzw=\")","v":{"$error":"#REF!"}},{"$f":"AND(#REF!,\"AAAAAH+vdz0=\")","v":{"$error":"#REF!"}},{"$f":"AND(#REF!,\"AAAAAH+vdz4=\")","v":{"$error":"#REF!"}},{"$f":"AND(#REF!,\"AAAAAH+vdz8=\")","v":{"$error":"#REF!"}},{"$f":"AND(#REF!,\"AAAAAH+vd0A=\")","v":{"$error":"#REF!"}},{"$f":"AND(#REF!,\"AAAAAH+vd0E=\")","v":{"$error":"#REF!"}},{"$f":"AND(#REF!,\"AAAAAH+vd0I=\")","v":{"$error":"#REF!"}},{"$f":"AND(#REF!,\"AAAAAH+vd0M=\")","v":{"$error":"#REF!"}},{"$f":"IF(#REF!,\"AAAAAH+vd0Q=\",0)","v":{"$error":"#REF!"}},{"$f":"AND(#REF!,\"AAAAAH+vd0U=\")","v":{"$error":"#REF!"}},{"$f":"AND(#REF!,\"AAAAAH+vd0Y=\")","v":{"$error":"#REF!"}},{"$f":"AND(#REF!,\"AAAAAH+vd0c=\")","v":{"$error":"#REF!"}},{"$f":"AND(#REF!,\"AAAAAH+vd0g=\")","v":{"$error":"#REF!"}},{"$f":"AND(#REF!,\"AAAAAH+vd0k=\")","v":{"$error":"#REF!"}},{"$f":"AND(#REF!,\"AAAAAH+vd0o=\")","v":{"$error":"#REF!"}},{"$f":"AND(#REF!,\"AAAAAH+vd0s=\")","v":{"$error":"#REF!"}},{"$f":"AND(#REF!,\"AAAAAH+vd0w=\")","v":{"$error":"#REF!"}},{"$f":"AND(#REF!,\"AAAAAH+vd00=\")","v":{"$error":"#REF!"}},{"$f":"AND(#REF!,\"AAAAAH+vd04=\")","v":{"$error":"#REF!"}},{"$f":"AND(#REF!,\"AAAAAH+vd08=\")","v":{"$error":"#REF!"}},{"$f":"AND(#REF!,\"AAAAAH+vd1A=\")","v":{"$error":"#REF!"}},{"$f":"AND(#REF!,\"AAAAAH+vd1E=\")","v":{"$error":"#REF!"}},{"$f":"AND(#REF!,\"AAAAAH+vd1I=\")","v":{"$error":"#REF!"}},{"$f":"AND(#REF!,\"AAAAAH+vd1M=\")","v":{"$error":"#REF!"}},{"$f":"AND(#REF!,\"AAAAAH+vd1Q=\")","v":{"$error":"#REF!"}},{"$f":"AND(#REF!,\"AAAAAH+vd1U=\")","v":{"$error":"#REF!"}},{"$f":"AND(#REF!,\"AAAAAH+vd1Y=\")","v":{"$error":"#REF!"}},{"$f":"AND(#REF!,\"AAAAAH+vd1c=\")","v":{"$error":"#REF!"}},{"$f":"AND(#REF!,\"AAAAAH+vd1g=\")","v":{"$error":"#REF!"}},{"$f":"AND(#REF!,\"AAAAAH+vd1k=\")","v":{"$error":"#REF!"}},{"$f":"AND(#REF!,\"AAAAAH+vd1o=\")","v":{"$error":"#REF!"}},{"$f":"AND(#REF!,\"AAAAAH+vd1s=\")","v":{"$error":"#REF!"}},{"$f":"AND(#REF!,\"AAAAAH+vd1w=\")","v":{"$error":"#REF!"}},{"$f":"AND(#REF!,\"AAAAAH+vd10=\")","v":{"$error":"#REF!"}},{"$f":"AND(#REF!,\"AAAAAH+vd14=\")","v":{"$error":"#REF!"}},{"$f":"AND(#REF!,\"AAAAAH+vd18=\")","v":{"$error":"#REF!"}},{"$f":"AND(#REF!,\"AAAAAH+vd2A=\")","v":{"$error":"#REF!"}},{"$f":"AND(#REF!,\"AAAAAH+vd2E=\")","v":{"$error":"#REF!"}},{"$f":"AND(#REF!,\"AAAAAH+vd2I=\")","v":{"$error":"#REF!"}},{"$f":"AND(#REF!,\"AAAAAH+vd2M=\")","v":{"$error":"#REF!"}},{"$f":"AND(#REF!,\"AAAAAH+vd2Q=\")","v":{"$error":"#REF!"}},{"$f":"AND(#REF!,\"AAAAAH+vd2U=\")","v":{"$error":"#REF!"}},{"$f":"IF(#REF!,\"AAAAAH+vd2Y=\",0)","v":{"$error":"#REF!"}},{"$f":"AND(#REF!,\"AAAAAH+vd2c=\")","v":{"$error":"#REF!"}},{"$f":"AND(#REF!,\"AAAAAH+vd2g=\")","v":{"$error":"#REF!"}},{"$f":"AND(#REF!,\"AAAAAH+vd2k=\")","v":{"$error":"#REF!"}},{"$f":"AND(#REF!,\"AAAAAH+vd2o=\")","v":{"$error":"#REF!"}},{"$f":"AND(#REF!,\"AAAAAH+vd2s=\")","v":{"$error":"#REF!"}},{"$f":"AND(#REF!,\"AAAAAH+vd2w=\")","v":{"$error":"#REF!"}},{"$f":"AND(#REF!,\"AAAAAH+vd20=\")","v":{"$error":"#REF!"}},{"$f":"AND(#REF!,\"AAAAAH+vd24=\")","v":{"$error":"#REF!"}},{"$f":"AND(#REF!,\"AAAAAH+vd28=\")","v":{"$error":"#REF!"}},{"$f":"AND(#REF!,\"AAAAAH+vd3A=\")","v":{"$error":"#REF!"}},{"$f":"AND(#REF!,\"AAAAAH+vd3E=\")","v":{"$error":"#REF!"}},{"$f":"AND(#REF!,\"AAAAAH+vd3I=\")","v":{"$error":"#REF!"}},{"$f":"AND(#REF!,\"AAAAAH+vd3M=\")","v":{"$error":"#REF!"}},{"$f":"AND(#REF!,\"AAAAAH+vd3Q=\")","v":{"$error":"#REF!"}},{"$f":"AND(#REF!,\"AAAAAH+vd3U=\")","v":{"$error":"#REF!"}},{"$f":"AND(#REF!,\"AAAAAH+vd3Y=\")","v":{"$error":"#REF!"}},{"$f":"AND(#REF!,\"AAAAAH+vd3c=\")","v":{"$error":"#REF!"}},{"$f":"AND(#REF!,\"AAAAAH+vd3g=\")","v":{"$error":"#REF!"}},{"$f":"AND(#REF!,\"AAAAAH+vd3k=\")","v":{"$error":"#REF!"}},{"$f":"AND(#REF!,\"AAAAAH+vd3o=\")","v":{"$error":"#REF!"}},{"$f":"AND(#REF!,\"AAAAAH+vd3s=\")","v":{"$error":"#REF!"}},{"$f":"AND(#REF!,\"AAAAAH+vd3w=\")","v":{"$error":"#REF!"}},{"$f":"AND(#REF!,\"AAAAAH+vd30=\")","v":{"$error":"#REF!"}},{"$f":"AND(#REF!,\"AAAAAH+vd34=\")","v":{"$error":"#REF!"}},{"$f":"AND(#REF!,\"AAAAAH+vd38=\")","v":{"$error":"#REF!"}},{"$f":"AND(#REF!,\"AAAAAH+vd4A=\")","v":{"$error":"#REF!"}},{"$f":"AND(#REF!,\"AAAAAH+vd4E=\")","v":{"$error":"#REF!"}},{"$f":"AND(#REF!,\"AAAAAH+vd4I=\")","v":{"$error":"#REF!"}},{"$f":"AND(#REF!,\"AAAAAH+vd4M=\")","v":{"$error":"#REF!"}},{"$f":"AND(#REF!,\"AAAAAH+vd4Q=\")","v":{"$error":"#REF!"}},{"$f":"AND(#REF!,\"AAAAAH+vd4U=\")","v":{"$error":"#REF!"}},{"$f":"AND(#REF!,\"AAAAAH+vd4Y=\")","v":{"$error":"#REF!"}},{"$f":"AND(#REF!,\"AAAAAH+vd4c=\")","v":{"$error":"#REF!"}},{"$f":"IF(#REF!,\"AAAAAH+vd4g=\",0)","v":{"$error":"#REF!"}},{"$f":"AND(#REF!,\"AAAAAH+vd4k=\")","v":{"$error":"#REF!"}},{"$f":"AND(#REF!,\"AAAAAH+vd4o=\")","v":{"$error":"#REF!"}},{"$f":"AND(#REF!,\"AAAAAH+vd4s=\")","v":{"$error":"#REF!"}},{"$f":"AND(#REF!,\"AAAAAH+vd4w=\")","v":{"$error":"#REF!"}},{"$f":"AND(#REF!,\"AAAAAH+vd40=\")","v":{"$error":"#REF!"}},{"$f":"AND(#REF!,\"AAAAAH+vd44=\")","v":{"$error":"#REF!"}},{"$f":"AND(#REF!,\"AAAAAH+vd48=\")","v":{"$error":"#REF!"}},{"$f":"AND(#REF!,\"AAAAAH+vd5A=\")","v":{"$error":"#REF!"}},{"$f":"AND(#REF!,\"AAAAAH+vd5E=\")","v":{"$error":"#REF!"}},{"$f":"AND(#REF!,\"AAAAAH+vd5I=\")","v":{"$error":"#REF!"}},{"$f":"AND(#REF!,\"AAAAAH+vd5M=\")","v":{"$error":"#REF!"}},{"$f":"AND(#REF!,\"AAAAAH+vd5Q=\")","v":{"$error":"#REF!"}},{"$f":"AND(#REF!,\"AAAAAH+vd5U=\")","v":{"$error":"#REF!"}},{"$f":"AND(#REF!,\"AAAAAH+vd5Y=\")","v":{"$error":"#REF!"}},{"$f":"AND(#REF!,\"AAAAAH+vd5c=\")","v":{"$error":"#REF!"}},{"$f":"AND(#REF!,\"AAAAAH+vd5g=\")","v":{"$error":"#REF!"}},{"$f":"AND(#REF!,\"AAAAAH+vd5k=\")","v":{"$error":"#REF!"}},{"$f":"AND(#REF!,\"AAAAAH+vd5o=\")","v":{"$error":"#REF!"}},{"$f":"AND(#REF!,\"AAAAAH+vd5s=\")","v":{"$error":"#REF!"}},{"$f":"AND(#REF!,\"AAAAAH+vd5w=\")","v":{"$error":"#REF!"}},{"$f":"AND(#REF!,\"AAAAAH+vd50=\")","v":{"$error":"#REF!"}},{"$f":"AND(#REF!,\"AAAAAH+vd54=\")","v":{"$error":"#REF!"}},{"$f":"AND(#REF!,\"AAAAAH+vd58=\")","v":{"$error":"#REF!"}},{"$f":"AND(#REF!,\"AAAAAH+vd6A=\")","v":{"$error":"#REF!"}},{"$f":"AND(#REF!,\"AAAAAH+vd6E=\")","v":{"$error":"#REF!"}},{"$f":"AND(#REF!,\"AAAAAH+vd6I=\")","v":{"$error":"#REF!"}},{"$f":"AND(#REF!,\"AAAAAH+vd6M=\")","v":{"$error":"#REF!"}},{"$f":"AND(#REF!,\"AAAAAH+vd6Q=\")","v":{"$error":"#REF!"}},{"$f":"AND(#REF!,\"AAAAAH+vd6U=\")","v":{"$error":"#REF!"}},{"$f":"AND(#REF!,\"AAAAAH+vd6Y=\")","v":{"$error":"#REF!"}},{"$f":"AND(#REF!,\"AAAAAH+vd6c=\")","v":{"$error":"#REF!"}},{"$f":"AND(#REF!,\"AAAAAH+vd6g=\")","v":{"$error":"#REF!"}},{"$f":"AND(#REF!,\"AAAAAH+vd6k=\")","v":{"$error":"#REF!"}},{"$f":"IF(#REF!,\"AAAAAH+vd6o=\",0)","v":{"$error":"#REF!"}},{"$f":"AND(#REF!,\"AAAAAH+vd6s=\")","v":{"$error":"#REF!"}},{"$f":"AND(#REF!,\"AAAAAH+vd6w=\")","v":{"$error":"#REF!"}},{"$f":"AND(#REF!,\"AAAAAH+vd60=\")","v":{"$error":"#REF!"}},{"$f":"AND(#REF!,\"AAAAAH+vd64=\")","v":{"$error":"#REF!"}},{"$f":"AND(#REF!,\"AAAAAH+vd68=\")","v":{"$error":"#REF!"}},{"$f":"AND(#REF!,\"AAAAAH+vd7A=\")","v":{"$error":"#REF!"}},{"$f":"AND(#REF!,\"AAAAAH+vd7E=\")","v":{"$error":"#REF!"}},{"$f":"AND(#REF!,\"AAAAAH+vd7I=\")","v":{"$error":"#REF!"}},{"$f":"AND(#REF!,\"AAAAAH+vd7M=\")","v":{"$error":"#REF!"}},{"$f":"AND(#REF!,\"AAAAAH+vd7Q=\")","v":{"$error":"#REF!"}},{"$f":"AND(#REF!,\"AAAAAH+vd7U=\")","v":{"$error":"#REF!"}},{"$f":"AND(#REF!,\"AAAAAH+vd7Y=\")","v":{"$error":"#REF!"}},{"$f":"AND(#REF!,\"AAAAAH+vd7c=\")","v":{"$error":"#REF!"}},{"$f":"AND(#REF!,\"AAAAAH+vd7g=\")","v":{"$error":"#REF!"}},{"$f":"AND(#REF!,\"AAAAAH+vd7k=\")","v":{"$error":"#REF!"}},{"$f":"AND(#REF!,\"AAAAAH+vd7o=\")","v":{"$error":"#REF!"}},{"$f":"AND(#REF!,\"AAAAAH+vd7s=\")","v":{"$error":"#REF!"}},{"$f":"AND(#REF!,\"AAAAAH+vd7w=\")","v":{"$error":"#REF!"}},{"$f":"AND(#REF!,\"AAAAAH+vd70=\")","v":{"$error":"#REF!"}},{"$f":"AND(#REF!,\"AAAAAH+vd74=\")","v":{"$error":"#REF!"}},{"$f":"AND(#REF!,\"AAAAAH+vd78=\")","v":{"$error":"#REF!"}},{"$f":"AND(#REF!,\"AAAAAH+vd8A=\")","v":{"$error":"#REF!"}},{"$f":"AND(#REF!,\"AAAAAH+vd8E=\")","v":{"$error":"#REF!"}},{"$f":"AND(#REF!,\"AAAAAH+vd8I=\")","v":{"$error":"#REF!"}},{"$f":"AND(#REF!,\"AAAAAH+vd8M=\")","v":{"$error":"#REF!"}},{"$f":"AND(#REF!,\"AAAAAH+vd8Q=\")","v":{"$error":"#REF!"}},{"$f":"AND(#REF!,\"AAAAAH+vd8U=\")","v":{"$error":"#REF!"}},{"$f":"AND(#REF!,\"AAAAAH+vd8Y=\")","v":{"$error":"#REF!"}},{"$f":"AND(#REF!,\"AAAAAH+vd8c=\")","v":{"$error":"#REF!"}},{"$f":"AND(#REF!,\"AAAAAH+vd8g=\")","v":{"$error":"#REF!"}},{"$f":"AND(#REF!,\"AAAAAH+vd8k=\")","v":{"$error":"#REF!"}},{"$f":"AND(#REF!,\"AAAAAH+vd8o=\")","v":{"$error":"#REF!"}},{"$f":"AND(#REF!,\"AAAAAH+vd8s=\")","v":{"$error":"#REF!"}},{"$f":"IF(#REF!,\"AAAAAH+vd8w=\",0)","v":{"$error":"#REF!"}},{"$f":"AND(#REF!,\"AAAAAH+vd80=\")","v":{"$error":"#REF!"}},{"$f":"AND(#REF!,\"AAAAAH+vd84=\")","v":{"$error":"#REF!"}},{"$f":"AND(#REF!,\"AAAAAH+vd88=\")","v":{"$error":"#REF!"}},{"$f":"AND(#REF!,\"AAAAAH+vd9A=\")","v":{"$error":"#REF!"}},{"$f":"AND(#REF!,\"AAAAAH+vd9E=\")","v":{"$error":"#REF!"}},{"$f":"AND(#REF!,\"AAAAAH+vd9I=\")","v":{"$error":"#REF!"}},{"$f":"AND(#REF!,\"AAAAAH+vd9M=\")","v":{"$error":"#REF!"}},{"$f":"AND(#REF!,\"AAAAAH+vd9Q=\")","v":{"$error":"#REF!"}},{"$f":"AND(#REF!,\"AAAAAH+vd9U=\")","v":{"$error":"#REF!"}},{"$f":"AND(#REF!,\"AAAAAH+vd9Y=\")","v":{"$error":"#REF!"}},{"$f":"AND(#REF!,\"AAAAAH+vd9c=\")","v":{"$error":"#REF!"}},{"$f":"AND(#REF!,\"AAAAAH+vd9g=\")","v":{"$error":"#REF!"}},{"$f":"AND(#REF!,\"AAAAAH+vd9k=\")","v":{"$error":"#REF!"}},{"$f":"AND(#REF!,\"AAAAAH+vd9o=\")","v":{"$error":"#REF!"}},{"$f":"AND(#REF!,\"AAAAAH+vd9s=\")","v":{"$error":"#REF!"}},{"$f":"AND(#REF!,\"AAAAAH+vd9w=\")","v":{"$error":"#REF!"}},{"$f":"AND(#REF!,\"AAAAAH+vd90=\")","v":{"$error":"#REF!"}},{"$f":"AND(#REF!,\"AAAAAH+vd94=\")","v":{"$error":"#REF!"}},{"$f":"AND(#REF!,\"AAAAAH+vd98=\")","v":{"$error":"#REF!"}},{"$f":"AND(#REF!,\"AAAAAH+vd+A=\")","v":{"$error":"#REF!"}},{"$f":"AND(#REF!,\"AAAAAH+vd+E=\")","v":{"$error":"#REF!"}},{"$f":"AND(#REF!,\"AAAAAH+vd+I=\")","v":{"$error":"#REF!"}},{"$f":"AND(#REF!,\"AAAAAH+vd+M=\")","v":{"$error":"#REF!"}},{"$f":"AND(#REF!,\"AAAAAH+vd+Q=\")","v":{"$error":"#REF!"}},{"$f":"AND(#REF!,\"AAAAAH+vd+U=\")","v":{"$error":"#REF!"}},{"$f":"AND(#REF!,\"AAAAAH+vd+Y=\")","v":{"$error":"#REF!"}},{"$f":"AND(#REF!,\"AAAAAH+vd+c=\")","v":{"$error":"#REF!"}},{"$f":"AND(#REF!,\"AAAAAH+vd+g=\")","v":{"$error":"#REF!"}},{"$f":"AND(#REF!,\"AAAAAH+vd+k=\")","v":{"$error":"#REF!"}},{"$f":"AND(#REF!,\"AAAAAH+vd+o=\")","v":{"$error":"#REF!"}},{"$f":"AND(#REF!,\"AAAAAH+vd+s=\")","v":{"$error":"#REF!"}},{"$f":"AND(#REF!,\"AAAAAH+vd+w=\")","v":{"$error":"#REF!"}},{"$f":"AND(#REF!,\"AAAAAH+vd+0=\")","v":{"$error":"#REF!"}},{"$f":"IF(#REF!,\"AAAAAH+vd+4=\",0)","v":{"$error":"#REF!"}},{"$f":"AND(#REF!,\"AAAAAH+vd+8=\")","v":{"$error":"#REF!"}},{"$f":"AND(#REF!,\"AAAAAH+vd/A=\")","v":{"$error":"#REF!"}},{"$f":"AND(#REF!,\"AAAAAH+vd/E=\")","v":{"$error":"#REF!"}},{"$f":"AND(#REF!,\"AAAAAH+vd/I=\")","v":{"$error":"#REF!"}},{"$f":"AND(#REF!,\"AAAAAH+vd/M=\")","v":{"$error":"#REF!"}},{"$f":"AND(#REF!,\"AAAAAH+vd/Q=\")","v":{"$error":"#REF!"}},{"$f":"AND(#REF!,\"AAAAAH+vd/U=\")","v":{"$error":"#REF!"}},{"$f":"AND(#REF!,\"AAAAAH+vd/Y=\")","v":{"$error":"#REF!"}},{"$f":"AND(#REF!,\"AAAAAH+vd/c=\")","v":{"$error":"#REF!"}},{"$f":"AND(#REF!,\"AAAAAH+vd/g=\")","v":{"$error":"#REF!"}},{"$f":"AND(#REF!,\"AAAAAH+vd/k=\")","v":{"$error":"#REF!"}},{"$f":"AND(#REF!,\"AAAAAH+vd/o=\")","v":{"$error":"#REF!"}},{"$f":"AND(#REF!,\"AAAAAH+vd/s=\")","v":{"$error":"#REF!"}},{"$f":"AND(#REF!,\"AAAAAH+vd/w=\")","v":{"$error":"#REF!"}},{"$f":"AND(#REF!,\"AAAAAH+vd/0=\")","v":{"$error":"#REF!"}},{"$f":"AND(#REF!,\"AAAAAH+vd/4=\")","v":{"$error":"#REF!"}},{"$f":"AND(#REF!,\"AAAAAH+vd/8=\")","v":{"$error":"#REF!"}}]
[{"$f":"AND(#REF!,\"AAAAAFX2ygA=\")","v":{"$error":"#REF!"}},{"$f":"AND(#REF!,\"AAAAAFX2ygE=\")","v":{"$error":"#REF!"}},{"$f":"AND(#REF!,\"AAAAAFX2ygI=\")","v":{"$error":"#REF!"}},{"$f":"AND(#REF!,\"AAAAAFX2ygM=\")","v":{"$error":"#REF!"}},{"$f":"AND(#REF!,\"AAAAAFX2ygQ=\")","v":{"$error":"#REF!"}},{"$f":"AND(#REF!,\"AAAAAFX2ygU=\")","v":{"$error":"#REF!"}},{"$f":"AND(#REF!,\"AAAAAFX2ygY=\")","v":{"$error":"#REF!"}},{"$f":"AND(#REF!,\"AAAAAFX2ygc=\")","v":{"$error":"#REF!"}},{"$f":"AND(#REF!,\"AAAAAFX2ygg=\")","v":{"$error":"#REF!"}},{"$f":"AND(#REF!,\"AAAAAFX2ygk=\")","v":{"$error":"#REF!"}},{"$f":"AND(#REF!,\"AAAAAFX2ygo=\")","v":{"$error":"#REF!"}},{"$f":"AND(#REF!,\"AAAAAFX2ygs=\")","v":{"$error":"#REF!"}},{"$f":"AND(#REF!,\"AAAAAFX2ygw=\")","v":{"$error":"#REF!"}},{"$f":"AND(#REF!,\"AAAAAFX2yg0=\")","v":{"$error":"#REF!"}},{"$f":"AND(#REF!,\"AAAAAFX2yg4=\")","v":{"$error":"#REF!"}},{"$f":"AND(#REF!,\"AAAAAFX2yg8=\")","v":{"$error":"#REF!"}},{"$f":"IF(#REF!,\"AAAAAFX2yhA=\",0)","v":{"$error":"#REF!"}},{"$f":"AND(#REF!,\"AAAAAFX2yhE=\")","v":{"$error":"#REF!"}},{"$f":"AND(#REF!,\"AAAAAFX2yhI=\")","v":{"$error":"#REF!"}},{"$f":"AND(#REF!,\"AAAAAFX2yhM=\")","v":{"$error":"#REF!"}},{"$f":"AND(#REF!,\"AAAAAFX2yhQ=\")","v":{"$error":"#REF!"}},{"$f":"AND(#REF!,\"AAAAAFX2yhU=\")","v":{"$error":"#REF!"}},{"$f":"AND(#REF!,\"AAAAAFX2yhY=\")","v":{"$error":"#REF!"}},{"$f":"AND(#REF!,\"AAAAAFX2yhc=\")","v":{"$error":"#REF!"}},{"$f":"AND(#REF!,\"AAAAAFX2yhg=\")","v":{"$error":"#REF!"}},{"$f":"AND(#REF!,\"AAAAAFX2yhk=\")","v":{"$error":"#REF!"}},{"$f":"AND(#REF!,\"AAAAAFX2yho=\")","v":{"$error":"#REF!"}},{"$f":"AND(#REF!,\"AAAAAFX2yhs=\")","v":{"$error":"#REF!"}},{"$f":"AND(#REF!,\"AAAAAFX2yhw=\")","v":{"$error":"#REF!"}},{"$f":"AND(#REF!,\"AAAAAFX2yh0=\")","v":{"$error":"#REF!"}},{"$f":"AND(#REF!,\"AAAAAFX2yh4=\")","v":{"$error":"#REF!"}},{"$f":"AND(#REF!,\"AAAAAFX2yh8=\")","v":{"$error":"#REF!"}},{"$f":"AND(#REF!,\"AAAAAFX2yiA=\")","v":{"$error":"#REF!"}},{"$f":"AND(#REF!,\"AAAAAFX2yiE=\")","v":{"$error":"#REF!"}},{"$f":"AND(#REF!,\"AAAAAFX2yiI=\")","v":{"$error":"#REF!"}},{"$f":"AND(#REF!,\"AAAAAFX2yiM=\")","v":{"$error":"#REF!"}},{"$f":"AND(#REF!,\"AAAAAFX2yiQ=\")","v":{"$error":"#REF!"}},{"$f":"AND(#REF!,\"AAAAAFX2yiU=\")","v":{"$error":"#REF!"}},{"$f":"AND(#REF!,\"AAAAAFX2yiY=\")","v":{"$error":"#REF!"}},{"$f":"AND(#REF!,\"AAAAAFX2yic=\")","v":{"$error":"#REF!"}},{"$f":"AND(#REF!,\"AAAAAFX2yig=\")","v":{"$error":"#REF!"}},{"$f":"AND(#REF!,\"AAAAAFX2yik=\")","v":{"$error":"#REF!"}},{"$f":"AND(#REF!,\"AAAAAFX2yio=\")","v":{"$error":"#REF!"}},{"$f":"AND(#REF!,\"AAAAAFX2yis=\")","v":{"$error":"#REF!"}},{"$f":"AND(#REF!,\"AAAAAFX2yiw=\")","v":{"$error":"#REF!"}},{"$f":"AND(#REF!,\"AAAAAFX2yi0=\")","v":{"$error":"#REF!"}},{"$f":"AND(#REF!,\"AAAAAFX2yi4=\")","v":{"$error":"#REF!"}},{"$f":"AND(#REF!,\"AAAAAFX2yi8=\")","v":{"$error":"#REF!"}},{"$f":"AND(#REF!,\"AAAAAFX2yjA=\")","v":{"$error":"#REF!"}},{"$f":"AND(#REF!,\"AAAAAFX2yjE=\")","v":{"$error":"#REF!"}},{"$f":"IF(#REF!,\"AAAAAFX2yjI=\",0)","v":{"$error":"#REF!"}},{"$f":"AND(#REF!,\"AAAAAFX2yjM=\")","v":{"$error":"#REF!"}},{"$f":"AND(#REF!,\"AAAAAFX2yjQ=\")","v":{"$error":"#REF!"}},{"$f":"AND(#REF!,\"AAAAAFX2yjU=\")","v":{"$error":"#REF!"}},{"$f":"AND(#REF!,\"AAAAAFX2yjY=\")","v":{"$error":"#REF!"}},{"$f":"AND(#REF!,\"AAAAAFX2yjc=\")","v":{"$error":"#REF!"}},{"$f":"AND(#REF!,\"AAAAAFX2yjg=\")","v":{"$error":"#REF!"}},{"$f":"AND(#REF!,\"AAAAAFX2yjk=\")","v":{"$error":"#REF!"}},{"$f":"AND(#REF!,\"AAAAAFX2yjo=\")","v":{"$error":"#REF!"}},{"$f":"AND(#REF!,\"AAAAAFX2yjs=\")","v":{"$error":"#REF!"}},{"$f":"AND(#REF!,\"AAAAAFX2yjw=\")","v":{"$error":"#REF!"}},{"$f":"AND(#REF!,\"AAAAAFX2yj0=\")","v":{"$error":"#REF!"}},{"$f":"AND(#REF!,\"AAAAAFX2yj4=\")","v":{"$error":"#REF!"}},{"$f":"AND(#REF!,\"AAAAAFX2yj8=\")","v":{"$error":"#REF!"}},{"$f":"AND(#REF!,\"AAAAAFX2ykA=\")","v":{"$error":"#REF!"}},{"$f":"AND(#REF!,\"AAAAAFX2ykE=\")","v":{"$error":"#REF!"}},{"$f":"AND(#REF!,\"AAAAAFX2ykI=\")","v":{"$error":"#REF!"}},{"$f":"AND(#REF!,\"AAAAAFX2ykM=\")","v":{"$error":"#REF!"}},{"$f":"AND(#REF!,\"AAAAAFX2ykQ=\")","v":{"$error":"#REF!"}},{"$f":"AND(#REF!,\"AAAAAFX2ykU=\")","v":{"$error":"#REF!"}},{"$f":"AND(#REF!,\"AAAAAFX2ykY=\")","v":{"$error":"#REF!"}},{"$f":"AND(#REF!,\"AAAAAFX2ykc=\")","v":{"$error":"#REF!"}},{"$f":"AND(#REF!,\"AAAAAFX2ykg=\")","v":{"$error":"#REF!"}},{"$f":"AND(#REF!,\"AAAAAFX2ykk=\")","v":{"$error":"#REF!"}},{"$f":"AND(#REF!,\"AAAAAFX2yko=\")","v":{"$error":"#REF!"}},{"$f":"AND(#REF!,\"AAAAAFX2yks=\")","v":{"$error":"#REF!"}},{"$f":"AND(#REF!,\"AAAAAFX2ykw=\")","v":{"$error":"#REF!"}},{"$f":"AND(#REF!,\"AAAAAFX2yk0=\")","v":{"$error":"#REF!"}},{"$f":"AND(#REF!,\"AAAAAFX2yk4=\")","v":{"$error":"#REF!"}},{"$f":"AND(#REF!,\"AAAAAFX2yk8=\")","v":{"$error":"#REF!"}},{"$f":"AND(#REF!,\"AAAAAFX2ylA=\")","v":{"$error":"#REF!"}},{"$f":"AND(#REF!,\"AAAAAFX2ylE=\")","v":{"$error":"#REF!"}},{"$f":"AND(#REF!,\"AAAAAFX2ylI=\")","v":{"$error":"#REF!"}},{"$f":"AND(#REF!,\"AAAAAFX2ylM=\")","v":{"$error":"#REF!"}},{"$f":"IF(#REF!,\"AAAAAFX2ylQ=\",0)","v":{"$error":"#REF!"}},{"$f":"AND(#REF!,\"AAAAAFX2ylU=\")","v":{"$error":"#REF!"}},{"$f":"AND(#REF!,\"AAAAAFX2ylY=\")","v":{"$error":"#REF!"}},{"$f":"AND(#REF!,\"AAAAAFX2ylc=\")","v":{"$error":"#REF!"}},{"$f":"AND(#REF!,\"AAAAAFX2ylg=\")","v":{"$error":"#REF!"}},{"$f":"AND(#REF!,\"AAAAAFX2ylk=\")","v":{"$error":"#REF!"}},{"$f":"AND(#REF!,\"AAAAAFX2ylo=\")","v":{"$error":"#REF!"}},{"$f":"AND(#REF!,\"AAAAAFX2yls=\")","v":{"$error":"#REF!"}},{"$f":"AND(#REF!,\"AAAAAFX2ylw=\")","v":{"$error":"#REF!"}},{"$f":"AND(#REF!,\"AAAAAFX2yl0=\")","v":{"$error":"#REF!"}},{"$f":"AND(#REF!,\"AAAAAFX2yl4=\")","v":{"$error":"#REF!"}},{"$f":"AND(#REF!,\"AAAAAFX2yl8=\")","v":{"$error":"#REF!"}},{"$f":"AND(#REF!,\"AAAAAFX2ymA=\")","v":{"$error":"#REF!"}},{"$f":"AND(#REF!,\"AAAAAFX2ymE=\")","v":{"$error":"#REF!"}},{"$f":"AND(#REF!,\"AAAAAFX2ymI=\")","v":{"$error":"#REF!"}},{"$f":"AND(#REF!,\"AAAAAFX2ymM=\")","v":{"$error":"#REF!"}},{"$f":"AND(#REF!,\"AAAAAFX2ymQ=\")","v":{"$error":"#REF!"}},{"$f":"AND(#REF!,\"AAAAAFX2ymU=\")","v":{"$error":"#REF!"}},{"$f":"AND(#REF!,\"AAAAAFX2ymY=\")","v":{"$error":"#REF!"}},{"$f":"AND(#REF!,\"AAAAAFX2ymc=\")","v":{"$error":"#REF!"}},{"$f":"AND(#REF!,\"AAAAAFX2ymg=\")","v":{"$error":"#REF!"}},{"$f":"AND(#REF!,\"AAAAAFX2ymk=\")","v":{"$error":"#REF!"}},{"$f":"AND(#REF!,\"AAAAAFX2ymo=\")","v":{"$error":"#REF!"}},{"$f":"AND(#REF!,\"AAAAAFX2yms=\")","v":{"$error":"#REF!"}},{"$f":"AND(#REF!,\"AAAAAFX2ymw=\")","v":{"$error":"#REF!"}},{"$f":"AND(#REF!,\"AAAAAFX2ym0=\")","v":{"$error":"#REF!"}},{"$f":"AND(#REF!,\"AAAAAFX2ym4=\")","v":{"$error":"#REF!"}},{"$f":"AND(#REF!,\"AAAAAFX2ym8=\")","v":{"$error":"#REF!"}},{"$f":"AND(#REF!,\"AAAAAFX2ynA=\")","v":{"$error":"#REF!"}},{"$f":"AND(#REF!,\"AAAAAFX2ynE=\")","v":{"$error":"#REF!"}},{"$f":"AND(#REF!,\"AAAAAFX2ynI=\")","v":{"$error":"#REF!"}},{"$f":"AND(#REF!,\"AAAAAFX2ynM=\")","v":{"$error":"#REF!"}},{"$f":"AND(#REF!,\"AAAAAFX2ynQ=\")","v":{"$error":"#REF!"}},{"$f":"AND(#REF!,\"AAAAAFX2ynU=\")","v":{"$error":"#REF!"}},{"$f":"IF(#REF!,\"AAAAAFX2ynY=\",0)","v":{"$error":"#REF!"}},{"$f":"AND(#REF!,\"AAAAAFX2ync=\")","v":{"$error":"#REF!"}},{"$f":"AND(#REF!,\"AAAAAFX2yng=\")","v":{"$error":"#REF!"}},{"$f":"AND(#REF!,\"AAAAAFX2ynk=\")","v":{"$error":"#REF!"}},{"$f":"AND(#REF!,\"AAAAAFX2yno=\")","v":{"$error":"#REF!"}},{"$f":"AND(#REF!,\"AAAAAFX2yns=\")","v":{"$error":"#REF!"}},{"$f":"AND(#REF!,\"AAAAAFX2ynw=\")","v":{"$error":"#REF!"}},{"$f":"AND(#REF!,\"AAAAAFX2yn0=\")","v":{"$error":"#REF!"}},{"$f":"AND(#REF!,\"AAAAAFX2yn4=\")","v":{"$error":"#REF!"}},{"$f":"AND(#REF!,\"AAAAAFX2yn8=\")","v":{"$error":"#REF!"}},{"$f":"AND(#REF!,\"AAAAAFX2yoA=\")","v":{"$error":"#REF!"}},{"$f":"AND(#REF!,\"AAAAAFX2yoE=\")","v":{"$error":"#REF!"}},{"$f":"AND(#REF!,\"AAAAAFX2yoI=\")","v":{"$error":"#REF!"}},{"$f":"AND(#REF!,\"AAAAAFX2yoM=\")","v":{"$error":"#REF!"}},{"$f":"AND(#REF!,\"AAAAAFX2yoQ=\")","v":{"$error":"#REF!"}},{"$f":"AND(#REF!,\"AAAAAFX2yoU=\")","v":{"$error":"#REF!"}},{"$f":"AND(#REF!,\"AAAAAFX2yoY=\")","v":{"$error":"#REF!"}},{"$f":"AND(#REF!,\"AAAAAFX2yoc=\")","v":{"$error":"#REF!"}},{"$f":"AND(#REF!,\"AAAAAFX2yog=\")","v":{"$error":"#REF!"}},{"$f":"AND(#REF!,\"AAAAAFX2yok=\")","v":{"$error":"#REF!"}},{"$f":"AND(#REF!,\"AAAAAFX2yoo=\")","v":{"$error":"#REF!"}},{"$f":"AND(#REF!,\"AAAAAFX2yos=\")","v":{"$error":"#REF!"}},{"$f":"AND(#REF!,\"AAAAAFX2yow=\")","v":{"$error":"#REF!"}},{"$f":"AND(#REF!,\"AAAAAFX2yo0=\")","v":{"$error":"#REF!"}},{"$f":"AND(#REF!,\"AAAAAFX2yo4=\")","v":{"$error":"#REF!"}},{"$f":"AND(#REF!,\"AAAAAFX2yo8=\")","v":{"$error":"#REF!"}},{"$f":"AND(#REF!,\"AAAAAFX2ypA=\")","v":{"$error":"#REF!"}},{"$f":"AND(#REF!,\"AAAAAFX2ypE=\")","v":{"$error":"#REF!"}},{"$f":"AND(#REF!,\"AAAAAFX2ypI=\")","v":{"$error":"#REF!"}},{"$f":"AND(#REF!,\"AAAAAFX2ypM=\")","v":{"$error":"#REF!"}},{"$f":"AND(#REF!,\"AAAAAFX2ypQ=\")","v":{"$error":"#REF!"}},{"$f":"AND(#REF!,\"AAAAAFX2ypU=\")","v":{"$error":"#REF!"}},{"$f":"AND(#REF!,\"AAAAAFX2ypY=\")","v":{"$error":"#REF!"}},{"$f":"AND(#REF!,\"AAAAAFX2ypc=\")","v":{"$error":"#REF!"}},{"$f":"IF(#REF!,\"AAAAAFX2ypg=\",0)","v":{"$error":"#REF!"}},{"$f":"AND(#REF!,\"AAAAAFX2ypk=\")","v":{"$error":"#REF!"}},{"$f":"AND(#REF!,\"AAAAAFX2ypo=\")","v":{"$error":"#REF!"}},{"$f":"AND(#REF!,\"AAAAAFX2yps=\")","v":{"$error":"#REF!"}},{"$f":"AND(#REF!,\"AAAAAFX2ypw=\")","v":{"$error":"#REF!"}},{"$f":"AND(#REF!,\"AAAAAFX2yp0=\")","v":{"$error":"#REF!"}},{"$f":"AND(#REF!,\"AAAAAFX2yp4=\")","v":{"$error":"#REF!"}},{"$f":"AND(#REF!,\"AAAAAFX2yp8=\")","v":{"$error":"#REF!"}},{"$f":"AND(#REF!,\"AAAAAFX2yqA=\")","v":{"$error":"#REF!"}},{"$f":"AND(#REF!,\"AAAAAFX2yqE=\")","v":{"$error":"#REF!"}},{"$f":"AND(#REF!,\"AAAAAFX2yqI=\")","v":{"$error":"#REF!"}},{"$f":"AND(#REF!,\"AAAAAFX2yqM=\")","v":{"$error":"#REF!"}},{"$f":"AND(#REF!,\"AAAAAFX2yqQ=\")","v":{"$error":"#REF!"}},{"$f":"AND(#REF!,\"AAAAAFX2yqU=\")","v":{"$error":"#REF!"}},{"$f":"AND(#REF!,\"AAAAAFX2yqY=\")","v":{"$error":"#REF!"}},{"$f":"AND(#REF!,\"AAAAAFX2yqc=\")","v":{"$error":"#REF!"}},{"$f":"AND(#REF!,\"AAAAAFX2yqg=\")","v":{"$error":"#REF!"}},{"$f":"AND(#REF!,\"AAAAAFX2yqk=\")","v":{"$error":"#REF!"}},{"$f":"AND(#REF!,\"AAAAAFX2yqo=\")","v":{"$error":"#REF!"}},{"$f":"AND(#REF!,\"AAAAAFX2yqs=\")","v":{"$error":"#REF!"}},{"$f":"AND(#REF!,\"AAAAAFX2yqw=\")","v":{"$error":"#REF!"}},{"$f":"AND(#REF!,\"AAAAAFX2yq0=\")","v":{"$error":"#REF!"}},{"$f":"AND(#REF!,\"AAAAAFX2yq4=\")","v":{"$error":"#REF!"}},{"$f":"AND(#REF!,\"AAAAAFX2yq8=\")","v":{"$error":"#REF!"}},{"$f":"AND(#REF!,\"AAAAAFX2yrA=\")","v":{"$error":"#REF!"}},{"$f":"AND(#REF!,\"AAAAAFX2yrE=\")","v":{"$error":"#REF!"}},{"$f":"AND(#REF!,\"AAAAAFX2yrI=\")","v":{"$error":"#REF!"}},{"$f":"AND(#REF!,\"AAAAAFX2yrM=\")","v":{"$error":"#REF!"}},{"$f":"AND(#REF!,\"AAAAAFX2yrQ=\")","v":{"$error":"#REF!"}},{"$f":"AND(#REF!,\"AAAAAFX2yrU=\")","v":{"$error":"#REF!"}},{"$f":"AND(#REF!,\"AAAAAFX2yrY=\")","v":{"$error":"#REF!"}},{"$f":"AND(#REF!,\"AAAAAFX2yrc=\")","v":{"$error":"#REF!"}},{"$f":"AND(#REF!,\"AAAAAFX2yrg=\")","v":{"$error":"#REF!"}},{"$f":"AND(#REF!,\"AAAAAFX2yrk=\")","v":{"$error":"#REF!"}},{"$f":"IF(#REF!,\"AAAAAFX2yro=\",0)","v":{"$error":"#REF!"}},{"$f":"AND(#REF!,\"AAAAAFX2yrs=\")","v":{"$error":"#REF!"}},{"$f":"AND(#REF!,\"AAAAAFX2yrw=\")","v":{"$error":"#REF!"}},{"$f":"AND(#REF!,\"AAAAAFX2yr0=\")","v":{"$error":"#REF!"}},{"$f":"AND(#REF!,\"AAAAAFX2yr4=\")","v":{"$error":"#REF!"}},{"$f":"AND(#REF!,\"AAAAAFX2yr8=\")","v":{"$error":"#REF!"}},{"$f":"AND(#REF!,\"AAAAAFX2ysA=\")","v":{"$error":"#REF!"}},{"$f":"AND(#REF!,\"AAAAAFX2ysE=\")","v":{"$error":"#REF!"}},{"$f":"AND(#REF!,\"AAAAAFX2ysI=\")","v":{"$error":"#REF!"}},{"$f":"AND(#REF!,\"AAAAAFX2ysM=\")","v":{"$error":"#REF!"}},{"$f":"AND(#REF!,\"AAAAAFX2ysQ=\")","v":{"$error":"#REF!"}},{"$f":"AND(#REF!,\"AAAAAFX2ysU=\")","v":{"$error":"#REF!"}},{"$f":"AND(#REF!,\"AAAAAFX2ysY=\")","v":{"$error":"#REF!"}},{"$f":"AND(#REF!,\"AAAAAFX2ysc=\")","v":{"$error":"#REF!"}},{"$f":"AND(#REF!,\"AAAAAFX2ysg=\")","v":{"$error":"#REF!"}},{"$f":"AND(#REF!,\"AAAAAFX2ysk=\")","v":{"$error":"#REF!"}},{"$f":"AND(#REF!,\"AAAAAFX2yso=\")","v":{"$error":"#REF!"}},{"$f":"AND(#REF!,\"AAAAAFX2yss=\")","v":{"$error":"#REF!"}},{"$f":"AND(#REF!,\"AAAAAFX2ysw=\")","v":{"$error":"#REF!"}},{"$f":"AND(#REF!,\"AAAAAFX2ys0=\")","v":{"$error":"#REF!"}},{"$f":"AND(#REF!,\"AAAAAFX2ys4=\")","v":{"$error":"#REF!"}},{"$f":"AND(#REF!,\"AAAAAFX2ys8=\")","v":{"$error":"#REF!"}},{"$f":"AND(#REF!,\"AAAAAFX2ytA=\")","v":{"$error":"#REF!"}},{"$f":"AND(#REF!,\"AAAAAFX2ytE=\")","v":{"$error":"#REF!"}},{"$f":"AND(#REF!,\"AAAAAFX2ytI=\")","v":{"$error":"#REF!"}},{"$f":"AND(#REF!,\"AAAAAFX2ytM=\")","v":{"$error":"#REF!"}},{"$f":"AND(#REF!,\"AAAAAFX2ytQ=\")","v":{"$error":"#REF!"}},{"$f":"AND(#REF!,\"AAAAAFX2ytU=\")","v":{"$error":"#REF!"}},{"$f":"AND(#REF!,\"AAAAAFX2ytY=\")","v":{"$error":"#REF!"}},{"$f":"AND(#REF!,\"AAAAAFX2ytc=\")","v":{"$error":"#REF!"}},{"$f":"AND(#REF!,\"AAAAAFX2ytg=\")","v":{"$error":"#REF!"}},{"$f":"AND(#REF!,\"AAAAAFX2ytk=\")","v":{"$error":"#REF!"}},{"$f":"AND(#REF!,\"AAAAAFX2yto=\")","v":{"$error":"#REF!"}},{"$f":"AND(#REF!,\"AAAAAFX2yts=\")","v":{"$error":"#REF!"}},{"$f":"IF(#REF!,\"AAAAAFX2ytw=\",0)","v":{"$error":"#REF!"}},{"$f":"AND(#REF!,\"AAAAAFX2yt0=\")","v":{"$error":"#REF!"}},{"$f":"AND(#REF!,\"AAAAAFX2yt4=\")","v":{"$error":"#REF!"}},{"$f":"AND(#REF!,\"AAAAAFX2yt8=\")","v":{"$error":"#REF!"}},{"$f":"AND(#REF!,\"AAAAAFX2yuA=\")","v":{"$error":"#REF!"}},{"$f":"AND(#REF!,\"AAAAAFX2yuE=\")","v":{"$error":"#REF!"}},{"$f":"AND(#REF!,\"AAAAAFX2yuI=\")","v":{"$error":"#REF!"}},{"$f":"AND(#REF!,\"AAAAAFX2yuM=\")","v":{"$error":"#REF!"}},{"$f":"AND(#REF!,\"AAAAAFX2yuQ=\")","v":{"$error":"#REF!"}},{"$f":"AND(#REF!,\"AAAAAFX2yuU=\")","v":{"$error":"#REF!"}},{"$f":"AND(#REF!,\"AAAAAFX2yuY=\")","v":{"$error":"#REF!"}},{"$f":"AND(#REF!,\"AAAAAFX2yuc=\")","v":{"$error":"#REF!"}},{"$f":"AND(#REF!,\"AAAAAFX2yug=\")","v":{"$error":"#REF!"}},{"$f":"AND(#REF!,\"AAAAAFX2yuk=\")","v":{"$error":"#REF!"}},{"$f":"AND(#REF!,\"AAAAAFX2yuo=\")","v":{"$error":"#REF!"}},{"$f":"AND(#REF!,\"AAAAAFX2yus=\")","v":{"$error":"#REF!"}},{"$f":"AND(#REF!,\"AAAAAFX2yuw=\")","v":{"$error":"#REF!"}},{"$f":"AND(#REF!,\"AAAAAFX2yu0=\")","v":{"$error":"#REF!"}},{"$f":"AND(#REF!,\"AAAAAFX2yu4=\")","v":{"$error":"#REF!"}},{"$f":"AND(#REF!,\"AAAAAFX2yu8=\")","v":{"$error":"#REF!"}},{"$f":"AND(#REF!,\"AAAAAFX2yvA=\")","v":{"$error":"#REF!"}},{"$f":"AND(#REF!,\"AAAAAFX2yvE=\")","v":{"$error":"#REF!"}},{"$f":"AND(#REF!,\"AAAAAFX2yvI=\")","v":{"$error":"#REF!"}},{"$f":"AND(#REF!,\"AAAAAFX2yvM=\")","v":{"$error":"#REF!"}},{"$f":"AND(#REF!,\"AAAAAFX2yvQ=\")","v":{"$error":"#REF!"}},{"$f":"AND(#REF!,\"AAAAAFX2yvU=\")","v":{"$error":"#REF!"}},{"$f":"AND(#REF!,\"AAAAAFX2yvY=\")","v":{"$error":"#REF!"}},{"$f":"AND(#REF!,\"AAAAAFX2yvc=\")","v":{"$error":"#REF!"}},{"$f":"AND(#REF!,\"AAAAAFX2yvg=\")","v":{"$error":"#REF!"}},{"$f":"AND(#REF!,\"AAAAAFX2yvk=\")","v":{"$error":"#REF!"}},{"$f":"AND(#REF!,\"AAAAAFX2yvo=\")","v":{"$error":"#REF!"}},{"$f":"AND(#REF!,\"AAAAAFX2yvs=\")","v":{"$error":"#REF!"}},{"$f":"AND(#REF!,\"AAAAAFX2yvw=\")","v":{"$error":"#REF!"}},{"$f":"AND(#REF!,\"AAAAAFX2yv0=\")","v":{"$error":"#REF!"}},{"$f":"IF(#REF!,\"AAAAAFX2yv4=\",0)","v":{"$error":"#REF!"}},{"$f":"AND(#REF!,\"AAAAAFX2yv8=\")","v":{"$error":"#REF!"}}]
[{"$f":"AND(#REF!,\"AAAAAG992wA=\")","v":{"$error":"#REF!"}},{"$f":"AND(#REF!,\"AAAAAG992wE=\")","v":{"$error":"#REF!"}},{"$f":"AND(#REF!,\"AAAAAG992wI=\")","v":{"$error":"#REF!"}},{"$f":"AND(#REF!,\"AAAAAG992wM=\")","v":{"$error":"#REF!"}},{"$f":"AND(#REF!,\"AAAAAG992wQ=\")","v":{"$error":"#REF!"}},{"$f":"AND(#REF!,\"AAAAAG992wU=\")","v":{"$error":"#REF!"}},{"$f":"AND(#REF!,\"AAAAAG992wY=\")","v":{"$error":"#REF!"}},{"$f":"AND(#REF!,\"AAAAAG992wc=\")","v":{"$error":"#REF!"}},{"$f":"AND(#REF!,\"AAAAAG992wg=\")","v":{"$error":"#REF!"}},{"$f":"AND(#REF!,\"AAAAAG992wk=\")","v":{"$error":"#REF!"}},{"$f":"AND(#REF!,\"AAAAAG992wo=\")","v":{"$error":"#REF!"}},{"$f":"AND(#REF!,\"AAAAAG992ws=\")","v":{"$error":"#REF!"}},{"$f":"AND(#REF!,\"AAAAAG992ww=\")","v":{"$error":"#REF!"}},{"$f":"AND(#REF!,\"AAAAAG992w0=\")","v":{"$error":"#REF!"}},{"$f":"AND(#REF!,\"AAAAAG992w4=\")","v":{"$error":"#REF!"}},{"$f":"AND(#REF!,\"AAAAAG992w8=\")","v":{"$error":"#REF!"}},{"$f":"AND(#REF!,\"AAAAAG992xA=\")","v":{"$error":"#REF!"}},{"$f":"AND(#REF!,\"AAAAAG992xE=\")","v":{"$error":"#REF!"}},{"$f":"AND(#REF!,\"AAAAAG992xI=\")","v":{"$error":"#REF!"}},{"$f":"AND(#REF!,\"AAAAAG992xM=\")","v":{"$error":"#REF!"}},{"$f":"AND(#REF!,\"AAAAAG992xQ=\")","v":{"$error":"#REF!"}},{"$f":"AND(#REF!,\"AAAAAG992xU=\")","v":{"$error":"#REF!"}},{"$f":"AND(#REF!,\"AAAAAG992xY=\")","v":{"$error":"#REF!"}},{"$f":"AND(#REF!,\"AAAAAG992xc=\")","v":{"$error":"#REF!"}},{"$f":"AND(#REF!,\"AAAAAG992xg=\")","v":{"$error":"#REF!"}},{"$f":"AND(#REF!,\"AAAAAG992xk=\")","v":{"$error":"#REF!"}},{"$f":"AND(#REF!,\"AAAAAG992xo=\")","v":{"$error":"#REF!"}},{"$f":"AND(#REF!,\"AAAAAG992xs=\")","v":{"$error":"#REF!"}},{"$f":"AND(#REF!,\"AAAAAG992xw=\")","v":{"$error":"#REF!"}},{"$f":"AND(#REF!,\"AAAAAG992x0=\")","v":{"$error":"#REF!"}},{"$f":"AND(#REF!,\"AAAAAG992x4=\")","v":{"$error":"#REF!"}},{"$f":"AND(#REF!,\"AAAAAG992x8=\")","v":{"$error":"#REF!"}},{"$f":"IF(#REF!,\"AAAAAG992yA=\",0)","v":{"$error":"#REF!"}},{"$f":"AND(#REF!,\"AAAAAG992yE=\")","v":{"$error":"#REF!"}},{"$f":"AND(#REF!,\"AAAAAG992yI=\")","v":{"$error":"#REF!"}},{"$f":"AND(#REF!,\"AAAAAG992yM=\")","v":{"$error":"#REF!"}},{"$f":"AND(#REF!,\"AAAAAG992yQ=\")","v":{"$error":"#REF!"}},{"$f":"AND(#REF!,\"AAAAAG992yU=\")","v":{"$error":"#REF!"}},{"$f":"AND(#REF!,\"AAAAAG992yY=\")","v":{"$error":"#REF!"}},{"$f":"AND(#REF!,\"AAAAAG992yc=\")","v":{"$error":"#REF!"}},{"$f":"AND(#REF!,\"AAAAAG992yg=\")","v":{"$error":"#REF!"}},{"$f":"AND(#REF!,\"AAAAAG992yk=\")","v":{"$error":"#REF!"}},{"$f":"AND(#REF!,\"AAAAAG992yo=\")","v":{"$error":"#REF!"}},{"$f":"AND(#REF!,\"AAAAAG992ys=\")","v":{"$error":"#REF!"}},{"$f":"AND(#REF!,\"AAAAAG992yw=\")","v":{"$error":"#REF!"}},{"$f":"AND(#REF!,\"AAAAAG992y0=\")","v":{"$error":"#REF!"}},{"$f":"AND(#REF!,\"AAAAAG992y4=\")","v":{"$error":"#REF!"}},{"$f":"AND(#REF!,\"AAAAAG992y8=\")","v":{"$error":"#REF!"}},{"$f":"AND(#REF!,\"AAAAAG992zA=\")","v":{"$error":"#REF!"}},{"$f":"AND(#REF!,\"AAAAAG992zE=\")","v":{"$error":"#REF!"}},{"$f":"AND(#REF!,\"AAAAAG992zI=\")","v":{"$error":"#REF!"}},{"$f":"AND(#REF!,\"AAAAAG992zM=\")","v":{"$error":"#REF!"}},{"$f":"AND(#REF!,\"AAAAAG992zQ=\")","v":{"$error":"#REF!"}},{"$f":"AND(#REF!,\"AAAAAG992zU=\")","v":{"$error":"#REF!"}},{"$f":"AND(#REF!,\"AAAAAG992zY=\")","v":{"$error":"#REF!"}},{"$f":"AND(#REF!,\"AAAAAG992zc=\")","v":{"$error":"#REF!"}},{"$f":"AND(#REF!,\"AAAAAG992zg=\")","v":{"$error":"#REF!"}},{"$f":"AND(#REF!,\"AAAAAG992zk=\")","v":{"$error":"#REF!"}},{"$f":"AND(#REF!,\"AAAAAG992zo=\")","v":{"$error":"#REF!"}},{"$f":"AND(#REF!,\"AAAAAG992zs=\")","v":{"$error":"#REF!"}},{"$f":"AND(#REF!,\"AAAAAG992zw=\")","v":{"$error":"#REF!"}},{"$f":"AND(#REF!,\"AAAAAG992z0=\")","v":{"$error":"#REF!"}},{"$f":"AND(#REF!,\"AAAAAG992z4=\")","v":{"$error":"#REF!"}},{"$f":"AND(#REF!,\"AAAAAG992z8=\")","v":{"$error":"#REF!"}},{"$f":"AND(#REF!,\"AAAAAG9920A=\")","v":{"$error":"#REF!"}},{"$f":"AND(#REF!,\"AAAAAG9920E=\")","v":{"$error":"#REF!"}},{"$f":"IF(#REF!,\"AAAAAG9920I=\",0)","v":{"$error":"#REF!"}},{"$f":"AND(#REF!,\"AAAAAG9920M=\")","v":{"$error":"#REF!"}},{"$f":"AND(#REF!,\"AAAAAG9920Q=\")","v":{"$error":"#REF!"}},{"$f":"AND(#REF!,\"AAAAAG9920U=\")","v":{"$error":"#REF!"}},{"$f":"AND(#REF!,\"AAAAAG9920Y=\")","v":{"$error":"#REF!"}},{"$f":"AND(#REF!,\"AAAAAG9920c=\")","v":{"$error":"#REF!"}},{"$f":"AND(#REF!,\"AAAAAG9920g=\")","v":{"$error":"#REF!"}},{"$f":"AND(#REF!,\"AAAAAG9920k=\")","v":{"$error":"#REF!"}},{"$f":"AND(#REF!,\"AAAAAG9920o=\")","v":{"$error":"#REF!"}},{"$f":"AND(#REF!,\"AAAAAG9920s=\")","v":{"$error":"#REF!"}},{"$f":"AND(#REF!,\"AAAAAG9920w=\")","v":{"$error":"#REF!"}},{"$f":"AND(#REF!,\"AAAAAG99200=\")","v":{"$error":"#REF!"}},{"$f":"AND(#REF!,\"AAAAAG99204=\")","v":{"$error":"#REF!"}},{"$f":"AND(#REF!,\"AAAAAG99208=\")","v":{"$error":"#REF!"}},{"$f":"AND(#REF!,\"AAAAAG9921A=\")","v":{"$error":"#REF!"}},{"$f":"AND(#REF!,\"AAAAAG9921E=\")","v":{"$error":"#REF!"}},{"$f":"AND(#REF!,\"AAAAAG9921I=\")","v":{"$error":"#REF!"}},{"$f":"AND(#REF!,\"AAAAAG9921M=\")","v":{"$error":"#REF!"}},{"$f":"AND(#REF!,\"AAAAAG9921Q=\")","v":{"$error":"#REF!"}},{"$f":"AND(#REF!,\"AAAAAG9921U=\")","v":{"$error":"#REF!"}},{"$f":"AND(#REF!,\"AAAAAG9921Y=\")","v":{"$error":"#REF!"}},{"$f":"AND(#REF!,\"AAAAAG9921c=\")","v":{"$error":"#REF!"}},{"$f":"AND(#REF!,\"AAAAAG9921g=\")","v":{"$error":"#REF!"}},{"$f":"AND(#REF!,\"AAAAAG9921k=\")","v":{"$error":"#REF!"}},{"$f":"AND(#REF!,\"AAAAAG9921o=\")","v":{"$error":"#REF!"}},{"$f":"AND(#REF!,\"AAAAAG9921s=\")","v":{"$error":"#REF!"}},{"$f":"AND(#REF!,\"AAAAAG9921w=\")","v":{"$error":"#REF!"}},{"$f":"AND(#REF!,\"AAAAAG99210=\")","v":{"$error":"#REF!"}},{"$f":"AND(#REF!,\"AAAAAG99214=\")","v":{"$error":"#REF!"}},{"$f":"AND(#REF!,\"AAAAAG99218=\")","v":{"$error":"#REF!"}},{"$f":"AND(#REF!,\"AAAAAG9922A=\")","v":{"$error":"#REF!"}},{"$f":"AND(#REF!,\"AAAAAG9922E=\")","v":{"$error":"#REF!"}},{"$f":"AND(#REF!,\"AAAAAG9922I=\")","v":{"$error":"#REF!"}},{"$f":"AND(#REF!,\"AAAAAG9922M=\")","v":{"$error":"#REF!"}},{"$f":"IF(#REF!,\"AAAAAG9922Q=\",0)","v":{"$error":"#REF!"}},{"$f":"AND(#REF!,\"AAAAAG9922U=\")","v":{"$error":"#REF!"}},{"$f":"AND(#REF!,\"AAAAAG9922Y=\")","v":{"$error":"#REF!"}},{"$f":"AND(#REF!,\"AAAAAG9922c=\")","v":{"$error":"#REF!"}},{"$f":"AND(#REF!,\"AAAAAG9922g=\")","v":{"$error":"#REF!"}},{"$f":"AND(#REF!,\"AAAAAG9922k=\")","v":{"$error":"#REF!"}},{"$f":"AND(#REF!,\"AAAAAG9922o=\")","v":{"$error":"#REF!"}},{"$f":"AND(#REF!,\"AAAAAG9922s=\")","v":{"$error":"#REF!"}},{"$f":"AND(#REF!,\"AAAAAG9922w=\")","v":{"$error":"#REF!"}},{"$f":"AND(#REF!,\"AAAAAG99220=\")","v":{"$error":"#REF!"}},{"$f":"AND(#REF!,\"AAAAAG99224=\")","v":{"$error":"#REF!"}},{"$f":"AND(#REF!,\"AAAAAG99228=\")","v":{"$error":"#REF!"}},{"$f":"AND(#REF!,\"AAAAAG9923A=\")","v":{"$error":"#REF!"}},{"$f":"AND(#REF!,\"AAAAAG9923E=\")","v":{"$error":"#REF!"}},{"$f":"AND(#REF!,\"AAAAAG9923I=\")","v":{"$error":"#REF!"}},{"$f":"AND(#REF!,\"AAAAAG9923M=\")","v":{"$error":"#REF!"}},{"$f":"AND(#REF!,\"AAAAAG9923Q=\")","v":{"$error":"#REF!"}},{"$f":"AND(#REF!,\"AAAAAG9923U=\")","v":{"$error":"#REF!"}},{"$f":"AND(#REF!,\"AAAAAG9923Y=\")","v":{"$error":"#REF!"}},{"$f":"AND(#REF!,\"AAAAAG9923c=\")","v":{"$error":"#REF!"}},{"$f":"AND(#REF!,\"AAAAAG9923g=\")","v":{"$error":"#REF!"}},{"$f":"AND(#REF!,\"AAAAAG9923k=\")","v":{"$error":"#REF!"}},{"$f":"AND(#REF!,\"AAAAAG9923o=\")","v":{"$error":"#REF!"}},{"$f":"AND(#REF!,\"AAAAAG9923s=\")","v":{"$error":"#REF!"}},{"$f":"AND(#REF!,\"AAAAAG9923w=\")","v":{"$error":"#REF!"}},{"$f":"AND(#REF!,\"AAAAAG99230=\")","v":{"$error":"#REF!"}},{"$f":"AND(#REF!,\"AAAAAG99234=\")","v":{"$error":"#REF!"}},{"$f":"AND(#REF!,\"AAAAAG99238=\")","v":{"$error":"#REF!"}},{"$f":"AND(#REF!,\"AAAAAG9924A=\")","v":{"$error":"#REF!"}},{"$f":"AND(#REF!,\"AAAAAG9924E=\")","v":{"$error":"#REF!"}},{"$f":"AND(#REF!,\"AAAAAG9924I=\")","v":{"$error":"#REF!"}},{"$f":"AND(#REF!,\"AAAAAG9924M=\")","v":{"$error":"#REF!"}},{"$f":"AND(#REF!,\"AAAAAG9924Q=\")","v":{"$error":"#REF!"}},{"$f":"AND(#REF!,\"AAAAAG9924U=\")","v":{"$error":"#REF!"}},{"$f":"IF(#REF!,\"AAAAAG9924Y=\",0)","v":{"$error":"#REF!"}},{"$f":"AND(#REF!,\"AAAAAG9924c=\")","v":{"$error":"#REF!"}},{"$f":"AND(#REF!,\"AAAAAG9924g=\")","v":{"$error":"#REF!"}},{"$f":"AND(#REF!,\"AAAAAG9924k=\")","v":{"$error":"#REF!"}},{"$f":"AND(#REF!,\"AAAAAG9924o=\")","v":{"$error":"#REF!"}},{"$f":"AND(#REF!,\"AAAAAG9924s=\")","v":{"$error":"#REF!"}},{"$f":"AND(#REF!,\"AAAAAG9924w=\")","v":{"$error":"#REF!"}},{"$f":"AND(#REF!,\"AAAAAG99240=\")","v":{"$error":"#REF!"}},{"$f":"AND(#REF!,\"AAAAAG99244=\")","v":{"$error":"#REF!"}},{"$f":"AND(#REF!,\"AAAAAG99248=\")","v":{"$error":"#REF!"}},{"$f":"AND(#REF!,\"AAAAAG9925A=\")","v":{"$error":"#REF!"}},{"$f":"AND(#REF!,\"AAAAAG9925E=\")","v":{"$error":"#REF!"}},{"$f":"AND(#REF!,\"AAAAAG9925I=\")","v":{"$error":"#REF!"}},{"$f":"AND(#REF!,\"AAAAAG9925M=\")","v":{"$error":"#REF!"}},{"$f":"AND(#REF!,\"AAAAAG9925Q=\")","v":{"$error":"#REF!"}},{"$f":"AND(#REF!,\"AAAAAG9925U=\")","v":{"$error":"#REF!"}},{"$f":"AND(#REF!,\"AAAAAG9925Y=\")","v":{"$error":"#REF!"}},{"$f":"AND(#REF!,\"AAAAAG9925c=\")","v":{"$error":"#REF!"}},{"$f":"AND(#REF!,\"AAAAAG9925g=\")","v":{"$error":"#REF!"}},{"$f":"AND(#REF!,\"AAAAAG9925k=\")","v":{"$error":"#REF!"}},{"$f":"AND(#REF!,\"AAAAAG9925o=\")","v":{"$error":"#REF!"}},{"$f":"AND(#REF!,\"AAAAAG9925s=\")","v":{"$error":"#REF!"}},{"$f":"AND(#REF!,\"AAAAAG9925w=\")","v":{"$error":"#REF!"}},{"$f":"AND(#REF!,\"AAAAAG99250=\")","v":{"$error":"#REF!"}},{"$f":"AND(#REF!,\"AAAAAG99254=\")","v":{"$error":"#REF!"}},{"$f":"AND(#REF!,\"AAAAAG99258=\")","v":{"$error":"#REF!"}},{"$f":"AND(#REF!,\"AAAAAG9926A=\")","v":{"$error":"#REF!"}},{"$f":"AND(#REF!,\"AAAAAG9926E=\")","v":{"$error":"#REF!"}},{"$f":"AND(#REF!,\"AAAAAG9926I=\")","v":{"$error":"#REF!"}},{"$f":"AND(#REF!,\"AAAAAG9926M=\")","v":{"$error":"#REF!"}},{"$f":"AND(#REF!,\"AAAAAG9926Q=\")","v":{"$error":"#REF!"}},{"$f":"AND(#REF!,\"AAAAAG9926U=\")","v":{"$error":"#REF!"}},{"$f":"AND(#REF!,\"AAAAAG9926Y=\")","v":{"$error":"#REF!"}},{"$f":"AND(#REF!,\"AAAAAG9926c=\")","v":{"$error":"#REF!"}},{"$f":"IF(#REF!,\"AAAAAG9926g=\",0)","v":{"$error":"#REF!"}},{"$f":"AND(#REF!,\"AAAAAG9926k=\")","v":{"$error":"#REF!"}},{"$f":"AND(#REF!,\"AAAAAG9926o=\")","v":{"$error":"#REF!"}},{"$f":"AND(#REF!,\"AAAAAG9926s=\")","v":{"$error":"#REF!"}},{"$f":"AND(#REF!,\"AAAAAG9926w=\")","v":{"$error":"#REF!"}},{"$f":"AND(#REF!,\"AAAAAG99260=\")","v":{"$error":"#REF!"}},{"$f":"AND(#REF!,\"AAAAAG99264=\")","v":{"$error":"#REF!"}},{"$f":"AND(#REF!,\"AAAAAG99268=\")","v":{"$error":"#REF!"}},{"$f":"AND(#REF!,\"AAAAAG9927A=\")","v":{"$error":"#REF!"}},{"$f":"AND(#REF!,\"AAAAAG9927E=\")","v":{"$error":"#REF!"}},{"$f":"AND(#REF!,\"AAAAAG9927I=\")","v":{"$error":"#REF!"}},{"$f":"AND(#REF!,\"AAAAAG9927M=\")","v":{"$error":"#REF!"}},{"$f":"AND(#REF!,\"AAAAAG9927Q=\")","v":{"$error":"#REF!"}},{"$f":"AND(#REF!,\"AAAAAG9927U=\")","v":{"$error":"#REF!"}},{"$f":"AND(#REF!,\"AAAAAG9927Y=\")","v":{"$error":"#REF!"}},{"$f":"AND(#REF!,\"AAAAAG9927c=\")","v":{"$error":"#REF!"}},{"$f":"AND(#REF!,\"AAAAAG9927g=\")","v":{"$error":"#REF!"}},{"$f":"AND(#REF!,\"AAAAAG9927k=\")","v":{"$error":"#REF!"}},{"$f":"AND(#REF!,\"AAAAAG9927o=\")","v":{"$error":"#REF!"}},{"$f":"AND(#REF!,\"AAAAAG9927s=\")","v":{"$error":"#REF!"}},{"$f":"AND(#REF!,\"AAAAAG9927w=\")","v":{"$error":"#REF!"}},{"$f":"AND(#REF!,\"AAAAAG99270=\")","v":{"$error":"#REF!"}},{"$f":"AND(#REF!,\"AAAAAG99274=\")","v":{"$error":"#REF!"}},{"$f":"AND(#REF!,\"AAAAAG99278=\")","v":{"$error":"#REF!"}},{"$f":"AND(#REF!,\"AAAAAG9928A=\")","v":{"$error":"#REF!"}},{"$f":"AND(#REF!,\"AAAAAG9928E=\")","v":{"$error":"#REF!"}},{"$f":"AND(#REF!,\"AAAAAG9928I=\")","v":{"$error":"#REF!"}},{"$f":"AND(#REF!,\"AAAAAG9928M=\")","v":{"$error":"#REF!"}},{"$f":"AND(#REF!,\"AAAAAG9928Q=\")","v":{"$error":"#REF!"}},{"$f":"AND(#REF!,\"AAAAAG9928U=\")","v":{"$error":"#REF!"}},{"$f":"AND(#REF!,\"AAAAAG9928Y=\")","v":{"$error":"#REF!"}},{"$f":"AND(#REF!,\"AAAAAG9928c=\")","v":{"$error":"#REF!"}},{"$f":"AND(#REF!,\"AAAAAG9928g=\")","v":{"$error":"#REF!"}},{"$f":"AND(#REF!,\"AAAAAG9928k=\")","v":{"$error":"#REF!"}},{"$f":"IF(#REF!,\"AAAAAG9928o=\",0)","v":{"$error":"#REF!"}},{"$f":"AND(#REF!,\"AAAAAG9928s=\")","v":{"$error":"#REF!"}},{"$f":"AND(#REF!,\"AAAAAG9928w=\")","v":{"$error":"#REF!"}},{"$f":"AND(#REF!,\"AAAAAG99280=\")","v":{"$error":"#REF!"}},{"$f":"AND(#REF!,\"AAAAAG99284=\")","v":{"$error":"#REF!"}},{"$f":"AND(#REF!,\"AAAAAG99288=\")","v":{"$error":"#REF!"}},{"$f":"AND(#REF!,\"AAAAAG9929A=\")","v":{"$error":"#REF!"}},{"$f":"AND(#REF!,\"AAAAAG9929E=\")","v":{"$error":"#REF!"}},{"$f":"AND(#REF!,\"AAAAAG9929I=\")","v":{"$error":"#REF!"}},{"$f":"AND(#REF!,\"AAAAAG9929M=\")","v":{"$error":"#REF!"}},{"$f":"AND(#REF!,\"AAAAAG9929Q=\")","v":{"$error":"#REF!"}},{"$f":"AND(#REF!,\"AAAAAG9929U=\")","v":{"$error":"#REF!"}},{"$f":"AND(#REF!,\"AAAAAG9929Y=\")","v":{"$error":"#REF!"}},{"$f":"AND(#REF!,\"AAAAAG9929c=\")","v":{"$error":"#REF!"}},{"$f":"AND(#REF!,\"AAAAAG9929g=\")","v":{"$error":"#REF!"}},{"$f":"AND(#REF!,\"AAAAAG9929k=\")","v":{"$error":"#REF!"}},{"$f":"AND(#REF!,\"AAAAAG9929o=\")","v":{"$error":"#REF!"}},{"$f":"AND(#REF!,\"AAAAAG9929s=\")","v":{"$error":"#REF!"}},{"$f":"AND(#REF!,\"AAAAAG9929w=\")","v":{"$error":"#REF!"}},{"$f":"AND(#REF!,\"AAAAAG99290=\")","v":{"$error":"#REF!"}},{"$f":"AND(#REF!,\"AAAAAG99294=\")","v":{"$error":"#REF!"}},{"$f":"AND(#REF!,\"AAAAAG99298=\")","v":{"$error":"#REF!"}},{"$f":"AND(#REF!,\"AAAAAG992+A=\")","v":{"$error":"#REF!"}},{"$f":"AND(#REF!,\"AAAAAG992+E=\")","v":{"$error":"#REF!"}},{"$f":"AND(#REF!,\"AAAAAG992+I=\")","v":{"$error":"#REF!"}},{"$f":"AND(#REF!,\"AAAAAG992+M=\")","v":{"$error":"#REF!"}},{"$f":"AND(#REF!,\"AAAAAG992+Q=\")","v":{"$error":"#REF!"}},{"$f":"AND(#REF!,\"AAAAAG992+U=\")","v":{"$error":"#REF!"}},{"$f":"AND(#REF!,\"AAAAAG992+Y=\")","v":{"$error":"#REF!"}},{"$f":"AND(#REF!,\"AAAAAG992+c=\")","v":{"$error":"#REF!"}},{"$f":"AND(#REF!,\"AAAAAG992+g=\")","v":{"$error":"#REF!"}},{"$f":"AND(#REF!,\"AAAAAG992+k=\")","v":{"$error":"#REF!"}},{"$f":"AND(#REF!,\"AAAAAG992+o=\")","v":{"$error":"#REF!"}},{"$f":"AND(#REF!,\"AAAAAG992+s=\")","v":{"$error":"#REF!"}},{"$f":"IF(#REF!,\"AAAAAG992+w=\",0)","v":{"$error":"#REF!"}},{"$f":"AND(#REF!,\"AAAAAG992+0=\")","v":{"$error":"#REF!"}},{"$f":"AND(#REF!,\"AAAAAG992+4=\")","v":{"$error":"#REF!"}},{"$f":"AND(#REF!,\"AAAAAG992+8=\")","v":{"$error":"#REF!"}},{"$f":"AND(#REF!,\"AAAAAG992/A=\")","v":{"$error":"#REF!"}},{"$f":"AND(#REF!,\"AAAAAG992/E=\")","v":{"$error":"#REF!"}},{"$f":"AND(#REF!,\"AAAAAG992/I=\")","v":{"$error":"#REF!"}},{"$f":"AND(#REF!,\"AAAAAG992/M=\")","v":{"$error":"#REF!"}},{"$f":"AND(#REF!,\"AAAAAG992/Q=\")","v":{"$error":"#REF!"}},{"$f":"AND(#REF!,\"AAAAAG992/U=\")","v":{"$error":"#REF!"}},{"$f":"AND(#REF!,\"AAAAAG992/Y=\")","v":{"$error":"#REF!"}},{"$f":"AND(#REF!,\"AAAAAG992/c=\")","v":{"$error":"#REF!"}},{"$f":"AND(#REF!,\"AAAAAG992/g=\")","v":{"$error":"#REF!"}},{"$f":"AND(#REF!,\"AAAAAG992/k=\")","v":{"$error":"#REF!"}},{"$f":"AND(#REF!,\"AAAAAG992/o=\")","v":{"$error":"#REF!"}},{"$f":"AND(#REF!,\"AAAAAG992/s=\")","v":{"$error":"#REF!"}},{"$f":"AND(#REF!,\"AAAAAG992/w=\")","v":{"$error":"#REF!"}},{"$f":"AND(#REF!,\"AAAAAG992/0=\")","v":{"$error":"#REF!"}},{"$f":"AND(#REF!,\"AAAAAG992/4=\")","v":{"$error":"#REF!"}},{"$f":"AND(#REF!,\"AAAAAG992/8=\")","v":{"$error":"#REF!"}}]
[{"$f":"AND(#REF!,\"AAAAAGO3+wA=\")","v":{"$error":"#REF!"}},{"$f":"AND(#REF!,\"AAAAAGO3+wE=\")","v":{"$error":"#REF!"}},{"$f":"AND(#REF!,\"AAAAAGO3+wI=\")","v":{"$error":"#REF!"}},{"$f":"AND(#REF!,\"AAAAAGO3+wM=\")","v":{"$error":"#REF!"}},{"$f":"AND(#REF!,\"AAAAAGO3+wQ=\")","v":{"$error":"#REF!"}},{"$f":"AND(#REF!,\"AAAAAGO3+wU=\")","v":{"$error":"#REF!"}},{"$f":"AND(#REF!,\"AAAAAGO3+wY=\")","v":{"$error":"#REF!"}},{"$f":"AND(#REF!,\"AAAAAGO3+wc=\")","v":{"$error":"#REF!"}},{"$f":"AND(#REF!,\"AAAAAGO3+wg=\")","v":{"$error":"#REF!"}},{"$f":"AND(#REF!,\"AAAAAGO3+wk=\")","v":{"$error":"#REF!"}},{"$f":"AND(#REF!,\"AAAAAGO3+wo=\")","v":{"$error":"#REF!"}},{"$f":"AND(#REF!,\"AAAAAGO3+ws=\")","v":{"$error":"#REF!"}},{"$f":"AND(#REF!,\"AAAAAGO3+ww=\")","v":{"$error":"#REF!"}},{"$f":"AND(#REF!,\"AAAAAGO3+w0=\")","v":{"$error":"#REF!"}},{"$f":"IF(#REF!,\"AAAAAGO3+w4=\",0)","v":{"$error":"#REF!"}},{"$f":"AND(#REF!,\"AAAAAGO3+w8=\")","v":{"$error":"#REF!"}},{"$f":"AND(#REF!,\"AAAAAGO3+xA=\")","v":{"$error":"#REF!"}},{"$f":"AND(#REF!,\"AAAAAGO3+xE=\")","v":{"$error":"#REF!"}},{"$f":"AND(#REF!,\"AAAAAGO3+xI=\")","v":{"$error":"#REF!"}},{"$f":"AND(#REF!,\"AAAAAGO3+xM=\")","v":{"$error":"#REF!"}},{"$f":"AND(#REF!,\"AAAAAGO3+xQ=\")","v":{"$error":"#REF!"}},{"$f":"AND(#REF!,\"AAAAAGO3+xU=\")","v":{"$error":"#REF!"}},{"$f":"AND(#REF!,\"AAAAAGO3+xY=\")","v":{"$error":"#REF!"}},{"$f":"AND(#REF!,\"AAAAAGO3+xc=\")","v":{"$error":"#REF!"}},{"$f":"AND(#REF!,\"AAAAAGO3+xg=\")","v":{"$error":"#REF!"}},{"$f":"AND(#REF!,\"AAAAAGO3+xk=\")","v":{"$error":"#REF!"}},{"$f":"AND(#REF!,\"AAAAAGO3+xo=\")","v":{"$error":"#REF!"}},{"$f":"AND(#REF!,\"AAAAAGO3+xs=\")","v":{"$error":"#REF!"}},{"$f":"AND(#REF!,\"AAAAAGO3+xw=\")","v":{"$error":"#REF!"}},{"$f":"AND(#REF!,\"AAAAAGO3+x0=\")","v":{"$error":"#REF!"}},{"$f":"AND(#REF!,\"AAAAAGO3+x4=\")","v":{"$error":"#REF!"}},{"$f":"AND(#REF!,\"AAAAAGO3+x8=\")","v":{"$error":"#REF!"}},{"$f":"AND(#REF!,\"AAAAAGO3+yA=\")","v":{"$error":"#REF!"}},{"$f":"AND(#REF!,\"AAAAAGO3+yE=\")","v":{"$error":"#REF!"}},{"$f":"AND(#REF!,\"AAAAAGO3+yI=\")","v":{"$error":"#REF!"}},{"$f":"AND(#REF!,\"AAAAAGO3+yM=\")","v":{"$error":"#REF!"}},{"$f":"AND(#REF!,\"AAAAAGO3+yQ=\")","v":{"$error":"#REF!"}},{"$f":"AND(#REF!,\"AAAAAGO3+yU=\")","v":{"$error":"#REF!"}},{"$f":"AND(#REF!,\"AAAAAGO3+yY=\")","v":{"$error":"#REF!"}},{"$f":"AND(#REF!,\"AAAAAGO3+yc=\")","v":{"$error":"#REF!"}},{"$f":"AND(#REF!,\"AAAAAGO3+yg=\")","v":{"$error":"#REF!"}},{"$f":"AND(#REF!,\"AAAAAGO3+yk=\")","v":{"$error":"#REF!"}},{"$f":"AND(#REF!,\"AAAAAGO3+yo=\")","v":{"$error":"#REF!"}},{"$f":"AND(#REF!,\"AAAAAGO3+ys=\")","v":{"$error":"#REF!"}},{"$f":"AND(#REF!,\"AAAAAGO3+yw=\")","v":{"$error":"#REF!"}},{"$f":"AND(#REF!,\"AAAAAGO3+y0=\")","v":{"$error":"#REF!"}},{"$f":"AND(#REF!,\"AAAAAGO3+y4=\")","v":{"$error":"#REF!"}},{"$f":"AND(#REF!,\"AAAAAGO3+y8=\")","v":{"$error":"#REF!"}},{"$f":"IF(#REF!,\"AAAAAGO3+zA=\",0)","v":{"$error":"#REF!"}},{"$f":"AND(#REF!,\"AAAAAGO3+zE=\")","v":{"$error":"#REF!"}},{"$f":"AND(#REF!,\"AAAAAGO3+zI=\")","v":{"$error":"#REF!"}},{"$f":"AND(#REF!,\"AAAAAGO3+zM=\")","v":{"$error":"#REF!"}},{"$f":"AND(#REF!,\"AAAAAGO3+zQ=\")","v":{"$error":"#REF!"}},{"$f":"AND(#REF!,\"AAAAAGO3+zU=\")","v":{"$error":"#REF!"}},{"$f":"AND(#REF!,\"AAAAAGO3+zY=\")","v":{"$error":"#REF!"}},{"$f":"AND(#REF!,\"AAAAAGO3+zc=\")","v":{"$error":"#REF!"}},{"$f":"AND(#REF!,\"AAAAAGO3+zg=\")","v":{"$error":"#REF!"}},{"$f":"AND(#REF!,\"AAAAAGO3+zk=\")","v":{"$error":"#REF!"}},{"$f":"AND(#REF!,\"AAAAAGO3+zo=\")","v":{"$error":"#REF!"}},{"$f":"AND(#REF!,\"AAAAAGO3+zs=\")","v":{"$error":"#REF!"}},{"$f":"AND(#REF!,\"AAAAAGO3+zw=\")","v":{"$error":"#REF!"}},{"$f":"AND(#REF!,\"AAAAAGO3+z0=\")","v":{"$error":"#REF!"}},{"$f":"AND(#REF!,\"AAAAAGO3+z4=\")","v":{"$error":"#REF!"}},{"$f":"AND(#REF!,\"AAAAAGO3+z8=\")","v":{"$error":"#REF!"}},{"$f":"AND(#REF!,\"AAAAAGO3+0A=\")","v":{"$error":"#REF!"}},{"$f":"AND(#REF!,\"AAAAAGO3+0E=\")","v":{"$error":"#REF!"}},{"$f":"AND(#REF!,\"AAAAAGO3+0I=\")","v":{"$error":"#REF!"}},{"$f":"AND(#REF!,\"AAAAAGO3+0M=\")","v":{"$error":"#REF!"}},{"$f":"AND(#REF!,\"AAAAAGO3+0Q=\")","v":{"$error":"#REF!"}},{"$f":"AND(#REF!,\"AAAAAGO3+0U=\")","v":{"$error":"#REF!"}},{"$f":"AND(#REF!,\"AAAAAGO3+0Y=\")","v":{"$error":"#REF!"}},{"$f":"AND(#REF!,\"AAAAAGO3+0c=\")","v":{"$error":"#REF!"}},{"$f":"AND(#REF!,\"AAAAAGO3+0g=\")","v":{"$error":"#REF!"}},{"$f":"AND(#REF!,\"AAAAAGO3+0k=\")","v":{"$error":"#REF!"}},{"$f":"AND(#REF!,\"AAAAAGO3+0o=\")","v":{"$error":"#REF!"}},{"$f":"AND(#REF!,\"AAAAAGO3+0s=\")","v":{"$error":"#REF!"}},{"$f":"AND(#REF!,\"AAAAAGO3+0w=\")","v":{"$error":"#REF!"}},{"$f":"AND(#REF!,\"AAAAAGO3+00=\")","v":{"$error":"#REF!"}},{"$f":"AND(#REF!,\"AAAAAGO3+04=\")","v":{"$error":"#REF!"}},{"$f":"AND(#REF!,\"AAAAAGO3+08=\")","v":{"$error":"#REF!"}},{"$f":"AND(#REF!,\"AAAAAGO3+1A=\")","v":{"$error":"#REF!"}},{"$f":"AND(#REF!,\"AAAAAGO3+1E=\")","v":{"$error":"#REF!"}},{"$f":"IF(#REF!,\"AAAAAGO3+1I=\",0)","v":{"$error":"#REF!"}},{"$f":"AND(#REF!,\"AAAAAGO3+1M=\")","v":{"$error":"#REF!"}},{"$f":"AND(#REF!,\"AAAAAGO3+1Q=\")","v":{"$error":"#REF!"}},{"$f":"AND(#REF!,\"AAAAAGO3+1U=\")","v":{"$error":"#REF!"}},{"$f":"AND(#REF!,\"AAAAAGO3+1Y=\")","v":{"$error":"#REF!"}},{"$f":"AND(#REF!,\"AAAAAGO3+1c=\")","v":{"$error":"#REF!"}},{"$f":"AND(#REF!,\"AAAAAGO3+1g=\")","v":{"$error":"#REF!"}},{"$f":"AND(#REF!,\"AAAAAGO3+1k=\")","v":{"$error":"#REF!"}},{"$f":"AND(#REF!,\"AAAAAGO3+1o=\")","v":{"$error":"#REF!"}},{"$f":"AND(#REF!,\"AAAAAGO3+1s=\")","v":{"$error":"#REF!"}},{"$f":"AND(#REF!,\"AAAAAGO3+1w=\")","v":{"$error":"#REF!"}},{"$f":"AND(#REF!,\"AAAAAGO3+10=\")","v":{"$error":"#REF!"}},{"$f":"AND(#REF!,\"AAAAAGO3+14=\")","v":{"$error":"#REF!"}},{"$f":"AND(#REF!,\"AAAAAGO3+18=\")","v":{"$error":"#REF!"}},{"$f":"AND(#REF!,\"AAAAAGO3+2A=\")","v":{"$error":"#REF!"}},{"$f":"AND(#REF!,\"AAAAAGO3+2E=\")","v":{"$error":"#REF!"}},{"$f":"AND(#REF!,\"AAAAAGO3+2I=\")","v":{"$error":"#REF!"}},{"$f":"AND(#REF!,\"AAAAAGO3+2M=\")","v":{"$error":"#REF!"}},{"$f":"AND(#REF!,\"AAAAAGO3+2Q=\")","v":{"$error":"#REF!"}},{"$f":"AND(#REF!,\"AAAAAGO3+2U=\")","v":{"$error":"#REF!"}},{"$f":"AND(#REF!,\"AAAAAGO3+2Y=\")","v":{"$error":"#REF!"}},{"$f":"AND(#REF!,\"AAAAAGO3+2c=\")","v":{"$error":"#REF!"}},{"$f":"AND(#REF!,\"AAAAAGO3+2g=\")","v":{"$error":"#REF!"}},{"$f":"AND(#REF!,\"AAAAAGO3+2k=\")","v":{"$error":"#REF!"}},{"$f":"AND(#REF!,\"AAAAAGO3+2o=\")","v":{"$error":"#REF!"}},{"$f":"AND(#REF!,\"AAAAAGO3+2s=\")","v":{"$error":"#REF!"}},{"$f":"AND(#REF!,\"AAAAAGO3+2w=\")","v":{"$error":"#REF!"}},{"$f":"AND(#REF!,\"AAAAAGO3+20=\")","v":{"$error":"#REF!"}},{"$f":"AND(#REF!,\"AAAAAGO3+24=\")","v":{"$error":"#REF!"}},{"$f":"AND(#REF!,\"AAAAAGO3+28=\")","v":{"$error":"#REF!"}},{"$f":"AND(#REF!,\"AAAAAGO3+3A=\")","v":{"$error":"#REF!"}},{"$f":"AND(#REF!,\"AAAAAGO3+3E=\")","v":{"$error":"#REF!"}},{"$f":"AND(#REF!,\"AAAAAGO3+3I=\")","v":{"$error":"#REF!"}},{"$f":"AND(#REF!,\"AAAAAGO3+3M=\")","v":{"$error":"#REF!"}},{"$f":"IF(#REF!,\"AAAAAGO3+3Q=\",0)","v":{"$error":"#REF!"}},{"$f":"AND(#REF!,\"AAAAAGO3+3U=\")","v":{"$error":"#REF!"}},{"$f":"AND(#REF!,\"AAAAAGO3+3Y=\")","v":{"$error":"#REF!"}},{"$f":"AND(#REF!,\"AAAAAGO3+3c=\")","v":{"$error":"#REF!"}},{"$f":"AND(#REF!,\"AAAAAGO3+3g=\")","v":{"$error":"#REF!"}},{"$f":"AND(#REF!,\"AAAAAGO3+3k=\")","v":{"$error":"#REF!"}},{"$f":"AND(#REF!,\"AAAAAGO3+3o=\")","v":{"$error":"#REF!"}},{"$f":"AND(#REF!,\"AAAAAGO3+3s=\")","v":{"$error":"#REF!"}},{"$f":"AND(#REF!,\"AAAAAGO3+3w=\")","v":{"$error":"#REF!"}},{"$f":"AND(#REF!,\"AAAAAGO3+30=\")","v":{"$error":"#REF!"}},{"$f":"AND(#REF!,\"AAAAAGO3+34=\")","v":{"$error":"#REF!"}},{"$f":"AND(#REF!,\"AAAAAGO3+38=\")","v":{"$error":"#REF!"}},{"$f":"AND(#REF!,\"AAAAAGO3+4A=\")","v":{"$error":"#REF!"}},{"$f":"AND(#REF!,\"AAAAAGO3+4E=\")","v":{"$error":"#REF!"}},{"$f":"AND(#REF!,\"AAAAAGO3+4I=\")","v":{"$error":"#REF!"}},{"$f":"AND(#REF!,\"AAAAAGO3+4M=\")","v":{"$error":"#REF!"}},{"$f":"AND(#REF!,\"AAAAAGO3+4Q=\")","v":{"$error":"#REF!"}},{"$f":"AND(#REF!,\"AAAAAGO3+4U=\")","v":{"$error":"#REF!"}},{"$f":"AND(#REF!,\"AAAAAGO3+4Y=\")","v":{"$error":"#REF!"}},{"$f":"AND(#REF!,\"AAAAAGO3+4c=\")","v":{"$error":"#REF!"}},{"$f":"AND(#REF!,\"AAAAAGO3+4g=\")","v":{"$error":"#REF!"}},{"$f":"AND(#REF!,\"AAAAAGO3+4k=\")","v":{"$error":"#REF!"}},{"$f":"AND(#REF!,\"AAAAAGO3+4o=\")","v":{"$error":"#REF!"}},{"$f":"AND(#REF!,\"AAAAAGO3+4s=\")","v":{"$error":"#REF!"}},{"$f":"AND(#REF!,\"AAAAAGO3+4w=\")","v":{"$error":"#REF!"}},{"$f":"AND(#REF!,\"AAAAAGO3+40=\")","v":{"$error":"#REF!"}},{"$f":"AND(#REF!,\"AAAAAGO3+44=\")","v":{"$error":"#REF!"}},{"$f":"AND(#REF!,\"AAAAAGO3+48=\")","v":{"$error":"#REF!"}},{"$f":"AND(#REF!,\"AAAAAGO3+5A=\")","v":{"$error":"#REF!"}},{"$f":"AND(#REF!,\"AAAAAGO3+5E=\")","v":{"$error":"#REF!"}},{"$f":"AND(#REF!,\"AAAAAGO3+5I=\")","v":{"$error":"#REF!"}},{"$f":"AND(#REF!,\"AAAAAGO3+5M=\")","v":{"$error":"#REF!"}},{"$f":"AND(#REF!,\"AAAAAGO3+5Q=\")","v":{"$error":"#REF!"}},{"$f":"AND(#REF!,\"AAAAAGO3+5U=\")","v":{"$error":"#REF!"}},{"$f":"IF(#REF!,\"AAAAAGO3+5Y=\",0)","v":{"$error":"#REF!"}},{"$f":"AND(#REF!,\"AAAAAGO3+5c=\")","v":{"$error":"#REF!"}},{"$f":"AND(#REF!,\"AAAAAGO3+5g=\")","v":{"$error":"#REF!"}},{"$f":"AND(#REF!,\"AAAAAGO3+5k=\")","v":{"$error":"#REF!"}},{"$f":"AND(#REF!,\"AAAAAGO3+5o=\")","v":{"$error":"#REF!"}},{"$f":"AND(#REF!,\"AAAAAGO3+5s=\")","v":{"$error":"#REF!"}},{"$f":"AND(#REF!,\"AAAAAGO3+5w=\")","v":{"$error":"#REF!"}},{"$f":"AND(#REF!,\"AAAAAGO3+50=\")","v":{"$error":"#REF!"}},{"$f":"AND(#REF!,\"AAAAAGO3+54=\")","v":{"$error":"#REF!"}},{"$f":"AND(#REF!,\"AAAAAGO3+58=\")","v":{"$error":"#REF!"}},{"$f":"AND(#REF!,\"AAAAAGO3+6A=\")","v":{"$error":"#REF!"}},{"$f":"AND(#REF!,\"AAAAAGO3+6E=\")","v":{"$error":"#REF!"}},{"$f":"AND(#REF!,\"AAAAAGO3+6I=\")","v":{"$error":"#REF!"}},{"$f":"AND(#REF!,\"AAAAAGO3+6M=\")","v":{"$error":"#REF!"}},{"$f":"AND(#REF!,\"AAAAAGO3+6Q=\")","v":{"$error":"#REF!"}},{"$f":"AND(#REF!,\"AAAAAGO3+6U=\")","v":{"$error":"#REF!"}},{"$f":"AND(#REF!,\"AAAAAGO3+6Y=\")","v":{"$error":"#REF!"}},{"$f":"AND(#REF!,\"AAAAAGO3+6c=\")","v":{"$error":"#REF!"}},{"$f":"AND(#REF!,\"AAAAAGO3+6g=\")","v":{"$error":"#REF!"}},{"$f":"AND(#REF!,\"AAAAAGO3+6k=\")","v":{"$error":"#REF!"}},{"$f":"AND(#REF!,\"AAAAAGO3+6o=\")","v":{"$error":"#REF!"}},{"$f":"AND(#REF!,\"AAAAAGO3+6s=\")","v":{"$error":"#REF!"}},{"$f":"AND(#REF!,\"AAAAAGO3+6w=\")","v":{"$error":"#REF!"}},{"$f":"AND(#REF!,\"AAAAAGO3+60=\")","v":{"$error":"#REF!"}},{"$f":"AND(#REF!,\"AAAAAGO3+64=\")","v":{"$error":"#REF!"}},{"$f":"AND(#REF!,\"AAAAAGO3+68=\")","v":{"$error":"#REF!"}},{"$f":"AND(#REF!,\"AAAAAGO3+7A=\")","v":{"$error":"#REF!"}},{"$f":"AND(#REF!,\"AAAAAGO3+7E=\")","v":{"$error":"#REF!"}},{"$f":"AND(#REF!,\"AAAAAGO3+7I=\")","v":{"$error":"#REF!"}},{"$f":"AND(#REF!,\"AAAAAGO3+7M=\")","v":{"$error":"#REF!"}},{"$f":"AND(#REF!,\"AAAAAGO3+7Q=\")","v":{"$error":"#REF!"}},{"$f":"AND(#REF!,\"AAAAAGO3+7U=\")","v":{"$error":"#REF!"}},{"$f":"AND(#REF!,\"AAAAAGO3+7Y=\")","v":{"$error":"#REF!"}},{"$f":"AND(#REF!,\"AAAAAGO3+7c=\")","v":{"$error":"#REF!"}},{"$f":"IF(#REF!,\"AAAAAGO3+7g=\",0)","v":{"$error":"#REF!"}},{"$f":"AND(#REF!,\"AAAAAGO3+7k=\")","v":{"$error":"#REF!"}},{"$f":"AND(#REF!,\"AAAAAGO3+7o=\")","v":{"$error":"#REF!"}},{"$f":"AND(#REF!,\"AAAAAGO3+7s=\")","v":{"$error":"#REF!"}},{"$f":"AND(#REF!,\"AAAAAGO3+7w=\")","v":{"$error":"#REF!"}},{"$f":"AND(#REF!,\"AAAAAGO3+70=\")","v":{"$error":"#REF!"}},{"$f":"AND(#REF!,\"AAAAAGO3+74=\")","v":{"$error":"#REF!"}},{"$f":"AND(#REF!,\"AAAAAGO3+78=\")","v":{"$error":"#REF!"}},{"$f":"AND(#REF!,\"AAAAAGO3+8A=\")","v":{"$error":"#REF!"}},{"$f":"AND(#REF!,\"AAAAAGO3+8E=\")","v":{"$error":"#REF!"}},{"$f":"AND(#REF!,\"AAAAAGO3+8I=\")","v":{"$error":"#REF!"}},{"$f":"AND(#REF!,\"AAAAAGO3+8M=\")","v":{"$error":"#REF!"}},{"$f":"AND(#REF!,\"AAAAAGO3+8Q=\")","v":{"$error":"#REF!"}},{"$f":"AND(#REF!,\"AAAAAGO3+8U=\")","v":{"$error":"#REF!"}},{"$f":"AND(#REF!,\"AAAAAGO3+8Y=\")","v":{"$error":"#REF!"}},{"$f":"AND(#REF!,\"AAAAAGO3+8c=\")","v":{"$error":"#REF!"}},{"$f":"AND(#REF!,\"AAAAAGO3+8g=\")","v":{"$error":"#REF!"}},{"$f":"AND(#REF!,\"AAAAAGO3+8k=\")","v":{"$error":"#REF!"}},{"$f":"AND(#REF!,\"AAAAAGO3+8o=\")","v":{"$error":"#REF!"}},{"$f":"AND(#REF!,\"AAAAAGO3+8s=\")","v":{"$error":"#REF!"}},{"$f":"AND(#REF!,\"AAAAAGO3+8w=\")","v":{"$error":"#REF!"}},{"$f":"AND(#REF!,\"AAAAAGO3+80=\")","v":{"$error":"#REF!"}},{"$f":"AND(#REF!,\"AAAAAGO3+84=\")","v":{"$error":"#REF!"}},{"$f":"AND(#REF!,\"AAAAAGO3+88=\")","v":{"$error":"#REF!"}},{"$f":"AND(#REF!,\"AAAAAGO3+9A=\")","v":{"$error":"#REF!"}},{"$f":"AND(#REF!,\"AAAAAGO3+9E=\")","v":{"$error":"#REF!"}},{"$f":"AND(#REF!,\"AAAAAGO3+9I=\")","v":{"$error":"#REF!"}},{"$f":"AND(#REF!,\"AAAAAGO3+9M=\")","v":{"$error":"#REF!"}},{"$f":"AND(#REF!,\"AAAAAGO3+9Q=\")","v":{"$error":"#REF!"}},{"$f":"AND(#REF!,\"AAAAAGO3+9U=\")","v":{"$error":"#REF!"}},{"$f":"AND(#REF!,\"AAAAAGO3+9Y=\")","v":{"$error":"#REF!"}},{"$f":"AND(#REF!,\"AAAAAGO3+9c=\")","v":{"$error":"#REF!"}},{"$f":"AND(#REF!,\"AAAAAGO3+9g=\")","v":{"$error":"#REF!"}},{"$f":"AND(#REF!,\"AAAAAGO3+9k=\")","v":{"$error":"#REF!"}},{"$f":"IF(#REF!,\"AAAAAGO3+9o=\",0)","v":{"$error":"#REF!"}},{"$f":"AND(#REF!,\"AAAAAGO3+9s=\")","v":{"$error":"#REF!"}},{"$f":"AND(#REF!,\"AAAAAGO3+9w=\")","v":{"$error":"#REF!"}},{"$f":"AND(#REF!,\"AAAAAGO3+90=\")","v":{"$error":"#REF!"}},{"$f":"AND(#REF!,\"AAAAAGO3+94=\")","v":{"$error":"#REF!"}},{"$f":"AND(#REF!,\"AAAAAGO3+98=\")","v":{"$error":"#REF!"}},{"$f":"AND(#REF!,\"AAAAAGO3++A=\")","v":{"$error":"#REF!"}},{"$f":"AND(#REF!,\"AAAAAGO3++E=\")","v":{"$error":"#REF!"}},{"$f":"AND(#REF!,\"AAAAAGO3++I=\")","v":{"$error":"#REF!"}},{"$f":"AND(#REF!,\"AAAAAGO3++M=\")","v":{"$error":"#REF!"}},{"$f":"AND(#REF!,\"AAAAAGO3++Q=\")","v":{"$error":"#REF!"}},{"$f":"AND(#REF!,\"AAAAAGO3++U=\")","v":{"$error":"#REF!"}},{"$f":"AND(#REF!,\"AAAAAGO3++Y=\")","v":{"$error":"#REF!"}},{"$f":"AND(#REF!,\"AAAAAGO3++c=\")","v":{"$error":"#REF!"}},{"$f":"AND(#REF!,\"AAAAAGO3++g=\")","v":{"$error":"#REF!"}},{"$f":"AND(#REF!,\"AAAAAGO3++k=\")","v":{"$error":"#REF!"}},{"$f":"AND(#REF!,\"AAAAAGO3++o=\")","v":{"$error":"#REF!"}},{"$f":"AND(#REF!,\"AAAAAGO3++s=\")","v":{"$error":"#REF!"}},{"$f":"AND(#REF!,\"AAAAAGO3++w=\")","v":{"$error":"#REF!"}},{"$f":"AND(#REF!,\"AAAAAGO3++0=\")","v":{"$error":"#REF!"}},{"$f":"AND(#REF!,\"AAAAAGO3++4=\")","v":{"$error":"#REF!"}},{"$f":"AND(#REF!,\"AAAAAGO3++8=\")","v":{"$error":"#REF!"}},{"$f":"AND(#REF!,\"AAAAAGO3+/A=\")","v":{"$error":"#REF!"}},{"$f":"AND(#REF!,\"AAAAAGO3+/E=\")","v":{"$error":"#REF!"}},{"$f":"AND(#REF!,\"AAAAAGO3+/I=\")","v":{"$error":"#REF!"}},{"$f":"AND(#REF!,\"AAAAAGO3+/M=\")","v":{"$error":"#REF!"}},{"$f":"AND(#REF!,\"AAAAAGO3+/Q=\")","v":{"$error":"#REF!"}},{"$f":"AND(#REF!,\"AAAAAGO3+/U=\")","v":{"$error":"#REF!"}},{"$f":"AND(#REF!,\"AAAAAGO3+/Y=\")","v":{"$error":"#REF!"}},{"$f":"AND(#REF!,\"AAAAAGO3+/c=\")","v":{"$error":"#REF!"}},{"$f":"AND(#REF!,\"AAAAAGO3+/g=\")","v":{"$error":"#REF!"}},{"$f":"AND(#REF!,\"AAAAAGO3+/k=\")","v":{"$error":"#REF!"}},{"$f":"AND(#REF!,\"AAAAAGO3+/o=\")","v":{"$error":"#REF!"}},{"$f":"AND(#REF!,\"AAAAAGO3+/s=\")","v":{"$error":"#REF!"}},{"$f":"IF(#REF!,\"AAAAAGO3+/w=\",0)","v":{"$error":"#REF!"}},{"$f":"AND(#REF!,\"AAAAAGO3+/0=\")","v":{"$error":"#REF!"}},{"$f":"AND(#REF!,\"AAAAAGO3+/4=\")","v":{"$error":"#REF!"}},{"$f":"AND(#REF!,\"AAAAAGO3+/8=\")","v":{"$error":"#REF!"}}]
[{"$f":"AND(#REF!,\"AAAAAB+58wA=\")","v":{"$error":"#REF!"}},{"$f":"AND(#REF!,\"AAAAAB+58wE=\")","v":{"$error":"#REF!"}},{"$f":"AND(#REF!,\"AAAAAB+58wI=\")","v":{"$error":"#REF!"}},{"$f":"AND(#REF!,\"AAAAAB+58wM=\")","v":{"$error":"#REF!"}},{"$f":"AND(#REF!,\"AAAAAB+58wQ=\")","v":{"$error":"#REF!"}},{"$f":"AND(#REF!,\"AAAAAB+58wU=\")","v":{"$error":"#REF!"}},{"$f":"AND(#REF!,\"AAAAAB+58wY=\")","v":{"$error":"#REF!"}},{"$f":"AND(#REF!,\"AAAAAB+58wc=\")","v":{"$error":"#REF!"}},{"$f":"AND(#REF!,\"AAAAAB+58wg=\")","v":{"$error":"#REF!"}},{"$f":"AND(#REF!,\"AAAAAB+58wk=\")","v":{"$error":"#REF!"}},{"$f":"AND(#REF!,\"AAAAAB+58wo=\")","v":{"$error":"#REF!"}},{"$f":"AND(#REF!,\"AAAAAB+58ws=\")","v":{"$error":"#REF!"}},{"$f":"AND(#REF!,\"AAAAAB+58ww=\")","v":{"$error":"#REF!"}},{"$f":"AND(#REF!,\"AAAAAB+58w0=\")","v":{"$error":"#REF!"}},{"$f":"AND(#REF!,\"AAAAAB+58w4=\")","v":{"$error":"#REF!"}},{"$f":"AND(#REF!,\"AAAAAB+58w8=\")","v":{"$error":"#REF!"}},{"$f":"AND(#REF!,\"AAAAAB+58xA=\")","v":{"$error":"#REF!"}},{"$f":"AND(#REF!,\"AAAAAB+58xE=\")","v":{"$error":"#REF!"}},{"$f":"AND(#REF!,\"AAAAAB+58xI=\")","v":{"$error":"#REF!"}},{"$f":"AND(#REF!,\"AAAAAB+58xM=\")","v":{"$error":"#REF!"}},{"$f":"AND(#REF!,\"AAAAAB+58xQ=\")","v":{"$error":"#REF!"}},{"$f":"AND(#REF!,\"AAAAAB+58xU=\")","v":{"$error":"#REF!"}},{"$f":"AND(#REF!,\"AAAAAB+58xY=\")","v":{"$error":"#REF!"}},{"$f":"AND(#REF!,\"AAAAAB+58xc=\")","v":{"$error":"#REF!"}},{"$f":"AND(#REF!,\"AAAAAB+58xg=\")","v":{"$error":"#REF!"}},{"$f":"AND(#REF!,\"AAAAAB+58xk=\")","v":{"$error":"#REF!"}},{"$f":"AND(#REF!,\"AAAAAB+58xo=\")","v":{"$error":"#REF!"}},{"$f":"AND(#REF!,\"AAAAAB+58xs=\")","v":{"$error":"#REF!"}},{"$f":"AND(#REF!,\"AAAAAB+58xw=\")","v":{"$error":"#REF!"}},{"$f":"AND(#REF!,\"AAAAAB+58x0=\")","v":{"$error":"#REF!"}},{"$f":"IF(#REF!,\"AAAAAB+58x4=\",0)","v":{"$error":"#REF!"}},{"$f":"AND(#REF!,\"AAAAAB+58x8=\")","v":{"$error":"#REF!"}},{"$f":"AND(#REF!,\"AAAAAB+58yA=\")","v":{"$error":"#REF!"}},{"$f":"AND(#REF!,\"AAAAAB+58yE=\")","v":{"$error":"#REF!"}},{"$f":"AND(#REF!,\"AAAAAB+58yI=\")","v":{"$error":"#REF!"}},{"$f":"AND(#REF!,\"AAAAAB+58yM=\")","v":{"$error":"#REF!"}},{"$f":"AND(#REF!,\"AAAAAB+58yQ=\")","v":{"$error":"#REF!"}},{"$f":"AND(#REF!,\"AAAAAB+58yU=\")","v":{"$error":"#REF!"}},{"$f":"AND(#REF!,\"AAAAAB+58yY=\")","v":{"$error":"#REF!"}},{"$f":"AND(#REF!,\"AAAAAB+58yc=\")","v":{"$error":"#REF!"}},{"$f":"AND(#REF!,\"AAAAAB+58yg=\")","v":{"$error":"#REF!"}},{"$f":"AND(#REF!,\"AAAAAB+58yk=\")","v":{"$error":"#REF!"}},{"$f":"AND(#REF!,\"AAAAAB+58yo=\")","v":{"$error":"#REF!"}},{"$f":"AND(#REF!,\"AAAAAB+58ys=\")","v":{"$error":"#REF!"}},{"$f":"AND(#REF!,\"AAAAAB+58yw=\")","v":{"$error":"#REF!"}},{"$f":"AND(#REF!,\"AAAAAB+58y0=\")","v":{"$error":"#REF!"}},{"$f":"AND(#REF!,\"AAAAAB+58y4=\")","v":{"$error":"#REF!"}},{"$f":"AND(#REF!,\"AAAAAB+58y8=\")","v":{"$error":"#REF!"}},{"$f":"AND(#REF!,\"AAAAAB+58zA=\")","v":{"$error":"#REF!"}},{"$f":"AND(#REF!,\"AAAAAB+58zE=\")","v":{"$error":"#REF!"}},{"$f":"AND(#REF!,\"AAAAAB+58zI=\")","v":{"$error":"#REF!"}},{"$f":"AND(#REF!,\"AAAAAB+58zM=\")","v":{"$error":"#REF!"}},{"$f":"AND(#REF!,\"AAAAAB+58zQ=\")","v":{"$error":"#REF!"}},{"$f":"AND(#REF!,\"AAAAAB+58zU=\")","v":{"$error":"#REF!"}},{"$f":"AND(#REF!,\"AAAAAB+58zY=\")","v":{"$error":"#REF!"}},{"$f":"AND(#REF!,\"AAAAAB+58zc=\")","v":{"$error":"#REF!"}},{"$f":"AND(#REF!,\"AAAAAB+58zg=\")","v":{"$error":"#REF!"}},{"$f":"AND(#REF!,\"AAAAAB+58zk=\")","v":{"$error":"#REF!"}},{"$f":"AND(#REF!,\"AAAAAB+58zo=\")","v":{"$error":"#REF!"}},{"$f":"AND(#REF!,\"AAAAAB+58zs=\")","v":{"$error":"#REF!"}},{"$f":"AND(#REF!,\"AAAAAB+58zw=\")","v":{"$error":"#REF!"}},{"$f":"AND(#REF!,\"AAAAAB+58z0=\")","v":{"$error":"#REF!"}},{"$f":"AND(#REF!,\"AAAAAB+58z4=\")","v":{"$error":"#REF!"}},{"$f":"AND(#REF!,\"AAAAAB+58z8=\")","v":{"$error":"#REF!"}},{"$f":"IF(#REF!,\"AAAAAB+580A=\",0)","v":{"$error":"#REF!"}},{"$f":"AND(#REF!,\"AAAAAB+580E=\")","v":{"$error":"#REF!"}},{"$f":"AND(#REF!,\"AAAAAB+580I=\")","v":{"$error":"#REF!"}},{"$f":"AND(#REF!,\"AAAAAB+580M=\")","v":{"$error":"#REF!"}},{"$f":"AND(#REF!,\"AAAAAB+580Q=\")","v":{"$error":"#REF!"}},{"$f":"AND(#REF!,\"AAAAAB+580U=\")","v":{"$error":"#REF!"}},{"$f":"AND(#REF!,\"AAAAAB+580Y=\")","v":{"$error":"#REF!"}},{"$f":"AND(#REF!,\"AAAAAB+580c=\")","v":{"$error":"#REF!"}},{"$f":"AND(#REF!,\"AAAAAB+580g=\")","v":{"$error":"#REF!"}},{"$f":"AND(#REF!,\"AAAAAB+580k=\")","v":{"$error":"#REF!"}},{"$f":"AND(#REF!,\"AAAAAB+580o=\")","v":{"$error":"#REF!"}},{"$f":"AND(#REF!,\"AAAAAB+580s=\")","v":{"$error":"#REF!"}},{"$f":"AND(#REF!,\"AAAAAB+580w=\")","v":{"$error":"#REF!"}},{"$f":"AND(#REF!,\"AAAAAB+5800=\")","v":{"$error":"#REF!"}},{"$f":"AND(#REF!,\"AAAAAB+5804=\")","v":{"$error":"#REF!"}},{"$f":"AND(#REF!,\"AAAAAB+5808=\")","v":{"$error":"#REF!"}},{"$f":"AND(#REF!,\"AAAAAB+581A=\")","v":{"$error":"#REF!"}},{"$f":"AND(#REF!,\"AAAAAB+581E=\")","v":{"$error":"#REF!"}},{"$f":"AND(#REF!,\"AAAAAB+581I=\")","v":{"$error":"#REF!"}},{"$f":"AND(#REF!,\"AAAAAB+581M=\")","v":{"$error":"#REF!"}},{"$f":"AND(#REF!,\"AAAAAB+581Q=\")","v":{"$error":"#REF!"}},{"$f":"AND(#REF!,\"AAAAAB+581U=\")","v":{"$error":"#REF!"}},{"$f":"AND(#REF!,\"AAAAAB+581Y=\")","v":{"$error":"#REF!"}},{"$f":"AND(#REF!,\"AAAAAB+581c=\")","v":{"$error":"#REF!"}},{"$f":"AND(#REF!,\"AAAAAB+581g=\")","v":{"$error":"#REF!"}},{"$f":"AND(#REF!,\"AAAAAB+581k=\")","v":{"$error":"#REF!"}},{"$f":"AND(#REF!,\"AAAAAB+581o=\")","v":{"$error":"#REF!"}},{"$f":"AND(#REF!,\"AAAAAB+581s=\")","v":{"$error":"#REF!"}},{"$f":"AND(#REF!,\"AAAAAB+581w=\")","v":{"$error":"#REF!"}},{"$f":"AND(#REF!,\"AAAAAB+5810=\")","v":{"$error":"#REF!"}},{"$f":"AND(#REF!,\"AAAAAB+5814=\")","v":{"$error":"#REF!"}},{"$f":"AND(#REF!,\"AAAAAB+5818=\")","v":{"$error":"#REF!"}},{"$f":"AND(#REF!,\"AAAAAB+582A=\")","v":{"$error":"#REF!"}},{"$f":"AND(#REF!,\"AAAAAB+582E=\")","v":{"$error":"#REF!"}},{"$f":"IF(#REF!,\"AAAAAB+582I=\",0)","v":{"$error":"#REF!"}},{"$f":"AND(#REF!,\"AAAAAB+582M=\")","v":{"$error":"#REF!"}},{"$f":"AND(#REF!,\"AAAAAB+582Q=\")","v":{"$error":"#REF!"}},{"$f":"AND(#REF!,\"AAAAAB+582U=\")","v":{"$error":"#REF!"}},{"$f":"AND(#REF!,\"AAAAAB+582Y=\")","v":{"$error":"#REF!"}},{"$f":"AND(#REF!,\"AAAAAB+582c=\")","v":{"$error":"#REF!"}},{"$f":"AND(#REF!,\"AAAAAB+582g=\")","v":{"$error":"#REF!"}},{"$f":"AND(#REF!,\"AAAAAB+582k=\")","v":{"$error":"#REF!"}},{"$f":"AND(#REF!,\"AAAAAB+582o=\")","v":{"$error":"#REF!"}},{"$f":"AND(#REF!,\"AAAAAB+582s=\")","v":{"$error":"#REF!"}},{"$f":"AND(#REF!,\"AAAAAB+582w=\")","v":{"$error":"#REF!"}},{"$f":"AND(#REF!,\"AAAAAB+5820=\")","v":{"$error":"#REF!"}},{"$f":"AND(#REF!,\"AAAAAB+5824=\")","v":{"$error":"#REF!"}},{"$f":"AND(#REF!,\"AAAAAB+5828=\")","v":{"$error":"#REF!"}},{"$f":"AND(#REF!,\"AAAAAB+583A=\")","v":{"$error":"#REF!"}},{"$f":"AND(#REF!,\"AAAAAB+583E=\")","v":{"$error":"#REF!"}},{"$f":"AND(#REF!,\"AAAAAB+583I=\")","v":{"$error":"#REF!"}},{"$f":"AND(#REF!,\"AAAAAB+583M=\")","v":{"$error":"#REF!"}},{"$f":"AND(#REF!,\"AAAAAB+583Q=\")","v":{"$error":"#REF!"}},{"$f":"AND(#REF!,\"AAAAAB+583U=\")","v":{"$error":"#REF!"}},{"$f":"AND(#REF!,\"AAAAAB+583Y=\")","v":{"$error":"#REF!"}},{"$f":"AND(#REF!,\"AAAAAB+583c=\")","v":{"$error":"#REF!"}},{"$f":"AND(#REF!,\"AAAAAB+583g=\")","v":{"$error":"#REF!"}},{"$f":"AND(#REF!,\"AAAAAB+583k=\")","v":{"$error":"#REF!"}},{"$f":"AND(#REF!,\"AAAAAB+583o=\")","v":{"$error":"#REF!"}},{"$f":"AND(#REF!,\"AAAAAB+583s=\")","v":{"$error":"#REF!"}},{"$f":"AND(#REF!,\"AAAAAB+583w=\")","v":{"$error":"#REF!"}},{"$f":"AND(#REF!,\"AAAAAB+5830=\")","v":{"$error":"#REF!"}},{"$f":"AND(#REF!,\"AAAAAB+5834=\")","v":{"$error":"#REF!"}},{"$f":"AND(#REF!,\"AAAAAB+5838=\")","v":{"$error":"#REF!"}},{"$f":"AND(#REF!,\"AAAAAB+584A=\")","v":{"$error":"#REF!"}},{"$f":"AND(#REF!,\"AAAAAB+584E=\")","v":{"$error":"#REF!"}},{"$f":"AND(#REF!,\"AAAAAB+584I=\")","v":{"$error":"#REF!"}},{"$f":"AND(#REF!,\"AAAAAB+584M=\")","v":{"$error":"#REF!"}},{"$f":"IF(#REF!,\"AAAAAB+584Q=\",0)","v":{"$error":"#REF!"}},{"$f":"AND(#REF!,\"AAAAAB+584U=\")","v":{"$error":"#REF!"}},{"$f":"AND(#REF!,\"AAAAAB+584Y=\")","v":{"$error":"#REF!"}},{"$f":"AND(#REF!,\"AAAAAB+584c=\")","v":{"$error":"#REF!"}},{"$f":"AND(#REF!,\"AAAAAB+584g=\")","v":{"$error":"#REF!"}},{"$f":"AND(#REF!,\"AAAAAB+584k=\")","v":{"$error":"#REF!"}},{"$f":"AND(#REF!,\"AAAAAB+584o=\")","v":{"$error":"#REF!"}},{"$f":"AND(#REF!,\"AAAAAB+584s=\")","v":{"$error":"#REF!"}},{"$f":"AND(#REF!,\"AAAAAB+584w=\")","v":{"$error":"#REF!"}},{"$f":"AND(#REF!,\"AAAAAB+5840=\")","v":{"$error":"#REF!"}},{"$f":"AND(#REF!,\"AAAAAB+5844=\")","v":{"$error":"#REF!"}},{"$f":"AND(#REF!,\"AAAAAB+5848=\")","v":{"$error":"#REF!"}},{"$f":"AND(#REF!,\"AAAAAB+585A=\")","v":{"$error":"#REF!"}},{"$f":"AND(#REF!,\"AAAAAB+585E=\")","v":{"$error":"#REF!"}},{"$f":"AND(#REF!,\"AAAAAB+585I=\")","v":{"$error":"#REF!"}},{"$f":"AND(#REF!,\"AAAAAB+585M=\")","v":{"$error":"#REF!"}},{"$f":"AND(#REF!,\"AAAAAB+585Q=\")","v":{"$error":"#REF!"}},{"$f":"AND(#REF!,\"AAAAAB+585U=\")","v":{"$error":"#REF!"}},{"$f":"AND(#REF!,\"AAAAAB+585Y=\")","v":{"$error":"#REF!"}},{"$f":"AND(#REF!,\"AAAAAB+585c=\")","v":{"$error":"#REF!"}},{"$f":"AND(#REF!,\"AAAAAB+585g=\")","v":{"$error":"#REF!"}},{"$f":"AND(#REF!,\"AAAAAB+585k=\")","v":{"$error":"#REF!"}},{"$f":"AND(#REF!,\"AAAAAB+585o=\")","v":{"$error":"#REF!"}},{"$f":"AND(#REF!,\"AAAAAB+585s=\")","v":{"$error":"#REF!"}},{"$f":"AND(#REF!,\"AAAAAB+585w=\")","v":{"$error":"#REF!"}},{"$f":"AND(#REF!,\"AAAAAB+5850=\")","v":{"$error":"#REF!"}},{"$f":"AND(#REF!,\"AAAAAB+5854=\")","v":{"$error":"#REF!"}},{"$f":"AND(#REF!,\"AAAAAB+5858=\")","v":{"$error":"#REF!"}},{"$f":"AND(#REF!,\"AAAAAB+586A=\")","v":{"$error":"#REF!"}},{"$f":"AND(#REF!,\"AAAAAB+586E=\")","v":{"$error":"#REF!"}},{"$f":"AND(#REF!,\"AAAAAB+586I=\")","v":{"$error":"#REF!"}},{"$f":"AND(#REF!,\"AAAAAB+586M=\")","v":{"$error":"#REF!"}},{"$f":"AND(#REF!,\"AAAAAB+586Q=\")","v":{"$error":"#REF!"}},{"$f":"AND(#REF!,\"AAAAAB+586U=\")","v":{"$error":"#REF!"}},{"$f":"IF(#REF!,\"AAAAAB+586Y=\",0)","v":{"$error":"#REF!"}},{"$f":"AND(#REF!,\"AAAAAB+586c=\")","v":{"$error":"#REF!"}},{"$f":"AND(#REF!,\"AAAAAB+586g=\")","v":{"$error":"#REF!"}},{"$f":"AND(#REF!,\"AAAAAB+586k=\")","v":{"$error":"#REF!"}},{"$f":"AND(#REF!,\"AAAAAB+586o=\")","v":{"$error":"#REF!"}},{"$f":"AND(#REF!,\"AAAAAB+586s=\")","v":{"$error":"#REF!"}},{"$f":"AND(#REF!,\"AAAAAB+586w=\")","v":{"$error":"#REF!"}},{"$f":"AND(#REF!,\"AAAAAB+5860=\")","v":{"$error":"#REF!"}},{"$f":"AND(#REF!,\"AAAAAB+5864=\")","v":{"$error":"#REF!"}},{"$f":"AND(#REF!,\"AAAAAB+5868=\")","v":{"$error":"#REF!"}},{"$f":"AND(#REF!,\"AAAAAB+587A=\")","v":{"$error":"#REF!"}},{"$f":"AND(#REF!,\"AAAAAB+587E=\")","v":{"$error":"#REF!"}},{"$f":"AND(#REF!,\"AAAAAB+587I=\")","v":{"$error":"#REF!"}},{"$f":"AND(#REF!,\"AAAAAB+587M=\")","v":{"$error":"#REF!"}},{"$f":"AND(#REF!,\"AAAAAB+587Q=\")","v":{"$error":"#REF!"}},{"$f":"AND(#REF!,\"AAAAAB+587U=\")","v":{"$error":"#REF!"}},{"$f":"AND(#REF!,\"AAAAAB+587Y=\")","v":{"$error":"#REF!"}},{"$f":"AND(#REF!,\"AAAAAB+587c=\")","v":{"$error":"#REF!"}},{"$f":"AND(#REF!,\"AAAAAB+587g=\")","v":{"$error":"#REF!"}},{"$f":"AND(#REF!,\"AAAAAB+587k=\")","v":{"$error":"#REF!"}},{"$f":"AND(#REF!,\"AAAAAB+587o=\")","v":{"$error":"#REF!"}},{"$f":"AND(#REF!,\"AAAAAB+587s=\")","v":{"$error":"#REF!"}},{"$f":"AND(#REF!,\"AAAAAB+587w=\")","v":{"$error":"#REF!"}},{"$f":"AND(#REF!,\"AAAAAB+5870=\")","v":{"$error":"#REF!"}},{"$f":"AND(#REF!,\"AAAAAB+5874=\")","v":{"$error":"#REF!"}},{"$f":"AND(#REF!,\"AAAAAB+5878=\")","v":{"$error":"#REF!"}},{"$f":"AND(#REF!,\"AAAAAB+588A=\")","v":{"$error":"#REF!"}},{"$f":"AND(#REF!,\"AAAAAB+588E=\")","v":{"$error":"#REF!"}},{"$f":"AND(#REF!,\"AAAAAB+588I=\")","v":{"$error":"#REF!"}},{"$f":"AND(#REF!,\"AAAAAB+588M=\")","v":{"$error":"#REF!"}},{"$f":"AND(#REF!,\"AAAAAB+588Q=\")","v":{"$error":"#REF!"}},{"$f":"AND(#REF!,\"AAAAAB+588U=\")","v":{"$error":"#REF!"}},{"$f":"AND(#REF!,\"AAAAAB+588Y=\")","v":{"$error":"#REF!"}},{"$f":"AND(#REF!,\"AAAAAB+588c=\")","v":{"$error":"#REF!"}},{"$f":"IF(#REF!,\"AAAAAB+588g=\",0)","v":{"$error":"#REF!"}},{"$f":"AND(#REF!,\"AAAAAB+588k=\")","v":{"$error":"#REF!"}},{"$f":"AND(#REF!,\"AAAAAB+588o=\")","v":{"$error":"#REF!"}},{"$f":"AND(#REF!,\"AAAAAB+588s=\")","v":{"$error":"#REF!"}},{"$f":"AND(#REF!,\"AAAAAB+588w=\")","v":{"$error":"#REF!"}},{"$f":"AND(#REF!,\"AAAAAB+5880=\")","v":{"$error":"#REF!"}},{"$f":"AND(#REF!,\"AAAAAB+5884=\")","v":{"$error":"#REF!"}},{"$f":"AND(#REF!,\"AAAAAB+5888=\")","v":{"$error":"#REF!"}},{"$f":"AND(#REF!,\"AAAAAB+589A=\")","v":{"$error":"#REF!"}},{"$f":"AND(#REF!,\"AAAAAB+589E=\")","v":{"$error":"#REF!"}},{"$f":"AND(#REF!,\"AAAAAB+589I=\")","v":{"$error":"#REF!"}},{"$f":"AND(#REF!,\"AAAAAB+589M=\")","v":{"$error":"#REF!"}},{"$f":"AND(#REF!,\"AAAAAB+589Q=\")","v":{"$error":"#REF!"}},{"$f":"AND(#REF!,\"AAAAAB+589U=\")","v":{"$error":"#REF!"}},{"$f":"AND(#REF!,\"AAAAAB+589Y=\")","v":{"$error":"#REF!"}},{"$f":"AND(#REF!,\"AAAAAB+589c=\")","v":{"$error":"#REF!"}},{"$f":"AND(#REF!,\"AAAAAB+589g=\")","v":{"$error":"#REF!"}},{"$f":"AND(#REF!,\"AAAAAB+589k=\")","v":{"$error":"#REF!"}},{"$f":"AND(#REF!,\"AAAAAB+589o=\")","v":{"$error":"#REF!"}},{"$f":"AND(#REF!,\"AAAAAB+589s=\")","v":{"$error":"#REF!"}},{"$f":"AND(#REF!,\"AAAAAB+589w=\")","v":{"$error":"#REF!"}},{"$f":"AND(#REF!,\"AAAAAB+5890=\")","v":{"$error":"#REF!"}},{"$f":"AND(#REF!,\"AAAAAB+5894=\")","v":{"$error":"#REF!"}},{"$f":"AND(#REF!,\"AAAAAB+5898=\")","v":{"$error":"#REF!"}},{"$f":"AND(#REF!,\"AAAAAB+58+A=\")","v":{"$error":"#REF!"}},{"$f":"AND(#REF!,\"AAAAAB+58+E=\")","v":{"$error":"#REF!"}},{"$f":"AND(#REF!,\"AAAAAB+58+I=\")","v":{"$error":"#REF!"}},{"$f":"AND(#REF!,\"AAAAAB+58+M=\")","v":{"$error":"#REF!"}},{"$f":"AND(#REF!,\"AAAAAB+58+Q=\")","v":{"$error":"#REF!"}},{"$f":"AND(#REF!,\"AAAAAB+58+U=\")","v":{"$error":"#REF!"}},{"$f":"AND(#REF!,\"AAAAAB+58+Y=\")","v":{"$error":"#REF!"}},{"$f":"AND(#REF!,\"AAAAAB+58+c=\")","v":{"$error":"#REF!"}},{"$f":"AND(#REF!,\"AAAAAB+58+g=\")","v":{"$error":"#REF!"}},{"$f":"AND(#REF!,\"AAAAAB+58+k=\")","v":{"$error":"#REF!"}},{"$f":"IF(#REF!,\"AAAAAB+58+o=\",0)","v":{"$error":"#REF!"}},{"$f":"AND(#REF!,\"AAAAAB+58+s=\")","v":{"$error":"#REF!"}},{"$f":"AND(#REF!,\"AAAAAB+58+w=\")","v":{"$error":"#REF!"}},{"$f":"AND(#REF!,\"AAAAAB+58+0=\")","v":{"$error":"#REF!"}},{"$f":"AND(#REF!,\"AAAAAB+58+4=\")","v":{"$error":"#REF!"}},{"$f":"AND(#REF!,\"AAAAAB+58+8=\")","v":{"$error":"#REF!"}},{"$f":"AND(#REF!,\"AAAAAB+58/A=\")","v":{"$error":"#REF!"}},{"$f":"AND(#REF!,\"AAAAAB+58/E=\")","v":{"$error":"#REF!"}},{"$f":"AND(#REF!,\"AAAAAB+58/I=\")","v":{"$error":"#REF!"}},{"$f":"AND(#REF!,\"AAAAAB+58/M=\")","v":{"$error":"#REF!"}},{"$f":"AND(#REF!,\"AAAAAB+58/Q=\")","v":{"$error":"#REF!"}},{"$f":"AND(#REF!,\"AAAAAB+58/U=\")","v":{"$error":"#REF!"}},{"$f":"AND(#REF!,\"AAAAAB+58/Y=\")","v":{"$error":"#REF!"}},{"$f":"AND(#REF!,\"AAAAAB+58/c=\")","v":{"$error":"#REF!"}},{"$f":"AND(#REF!,\"AAAAAB+58/g=\")","v":{"$error":"#REF!"}},{"$f":"AND(#REF!,\"AAAAAB+58/k=\")","v":{"$error":"#REF!"}},{"$f":"AND(#REF!,\"AAAAAB+58/o=\")","v":{"$error":"#REF!"}},{"$f":"AND(#REF!,\"AAAAAB+58/s=\")","v":{"$error":"#REF!"}},{"$f":"AND(#REF!,\"AAAAAB+58/w=\")","v":{"$error":"#REF!"}},{"$f":"AND(#REF!,\"AAAAAB+58/0=\")","v":{"$error":"#REF!"}},{"$f":"AND(#REF!,\"AAAAAB+58/4=\")","v":{"$error":"#REF!"}},{"$f":"AND(#REF!,\"AAAAAB+58/8=\")","v":{"$error":"#REF!"}}]
[{"$f":"AND(#REF!,\"AAAAACfdpwA=\")","v":{"$error":"#REF!"}},{"$f":"AND(#REF!,\"AAAAACfdpwE=\")","v":{"$error":"#REF!"}},{"$f":"AND(#REF!,\"AAAAACfdpwI=\")","v":{"$error":"#REF!"}},{"$f":"AND(#REF!,\"AAAAACfdpwM=\")","v":{"$error":"#REF!"}},{"$f":"AND(#REF!,\"AAAAACfdpwQ=\")","v":{"$error":"#REF!"}},{"$f":"AND(#REF!,\"AAAAACfdpwU=\")","v":{"$error":"#REF!"}},{"$f":"AND(#REF!,\"AAAAACfdpwY=\")","v":{"$error":"#REF!"}},{"$f":"AND(#REF!,\"AAAAACfdpwc=\")","v":{"$error":"#REF!"}},{"$f":"AND(#REF!,\"AAAAACfdpwg=\")","v":{"$error":"#REF!"}},{"$f":"AND(#REF!,\"AAAAACfdpwk=\")","v":{"$error":"#REF!"}},{"$f":"AND(#REF!,\"AAAAACfdpwo=\")","v":{"$error":"#REF!"}},{"$f":"AND(#REF!,\"AAAAACfdpws=\")","v":{"$error":"#REF!"}},{"$f":"IF(#REF!,\"AAAAACfdpww=\",0)","v":{"$error":"#REF!"}},{"$f":"AND(#REF!,\"AAAAACfdpw0=\")","v":{"$error":"#REF!"}},{"$f":"AND(#REF!,\"AAAAACfdpw4=\")","v":{"$error":"#REF!"}},{"$f":"AND(#REF!,\"AAAAACfdpw8=\")","v":{"$error":"#REF!"}},{"$f":"AND(#REF!,\"AAAAACfdpxA=\")","v":{"$error":"#REF!"}},{"$f":"AND(#REF!,\"AAAAACfdpxE=\")","v":{"$error":"#REF!"}},{"$f":"AND(#REF!,\"AAAAACfdpxI=\")","v":{"$error":"#REF!"}},{"$f":"AND(#REF!,\"AAAAACfdpxM=\")","v":{"$error":"#REF!"}},{"$f":"AND(#REF!,\"AAAAACfdpxQ=\")","v":{"$error":"#REF!"}},{"$f":"AND(#REF!,\"AAAAACfdpxU=\")","v":{"$error":"#REF!"}},{"$f":"AND(#REF!,\"AAAAACfdpxY=\")","v":{"$error":"#REF!"}},{"$f":"AND(#REF!,\"AAAAACfdpxc=\")","v":{"$error":"#REF!"}},{"$f":"AND(#REF!,\"AAAAACfdpxg=\")","v":{"$error":"#REF!"}},{"$f":"AND(#REF!,\"AAAAACfdpxk=\")","v":{"$error":"#REF!"}},{"$f":"AND(#REF!,\"AAAAACfdpxo=\")","v":{"$error":"#REF!"}},{"$f":"AND(#REF!,\"AAAAACfdpxs=\")","v":{"$error":"#REF!"}},{"$f":"AND(#REF!,\"AAAAACfdpxw=\")","v":{"$error":"#REF!"}},{"$f":"AND(#REF!,\"AAAAACfdpx0=\")","v":{"$error":"#REF!"}},{"$f":"AND(#REF!,\"AAAAACfdpx4=\")","v":{"$error":"#REF!"}},{"$f":"AND(#REF!,\"AAAAACfdpx8=\")","v":{"$error":"#REF!"}},{"$f":"AND(#REF!,\"AAAAACfdpyA=\")","v":{"$error":"#REF!"}},{"$f":"AND(#REF!,\"AAAAACfdpyE=\")","v":{"$error":"#REF!"}},{"$f":"AND(#REF!,\"AAAAACfdpyI=\")","v":{"$error":"#REF!"}},{"$f":"AND(#REF!,\"AAAAACfdpyM=\")","v":{"$error":"#REF!"}},{"$f":"AND(#REF!,\"AAAAACfdpyQ=\")","v":{"$error":"#REF!"}},{"$f":"AND(#REF!,\"AAAAACfdpyU=\")","v":{"$error":"#REF!"}},{"$f":"AND(#REF!,\"AAAAACfdpyY=\")","v":{"$error":"#REF!"}},{"$f":"AND(#REF!,\"AAAAACfdpyc=\")","v":{"$error":"#REF!"}},{"$f":"AND(#REF!,\"AAAAACfdpyg=\")","v":{"$error":"#REF!"}},{"$f":"AND(#REF!,\"AAAAACfdpyk=\")","v":{"$error":"#REF!"}},{"$f":"AND(#REF!,\"AAAAACfdpyo=\")","v":{"$error":"#REF!"}},{"$f":"AND(#REF!,\"AAAAACfdpys=\")","v":{"$error":"#REF!"}},{"$f":"AND(#REF!,\"AAAAACfdpyw=\")","v":{"$error":"#REF!"}},{"$f":"AND(#REF!,\"AAAAACfdpy0=\")","v":{"$error":"#REF!"}},{"$f":"IF(#REF!,\"AAAAACfdpy4=\",0)","v":{"$error":"#REF!"}},{"$f":"AND(#REF!,\"AAAAACfdpy8=\")","v":{"$error":"#REF!"}},{"$f":"AND(#REF!,\"AAAAACfdpzA=\")","v":{"$error":"#REF!"}},{"$f":"AND(#REF!,\"AAAAACfdpzE=\")","v":{"$error":"#REF!"}},{"$f":"AND(#REF!,\"AAAAACfdpzI=\")","v":{"$error":"#REF!"}},{"$f":"AND(#REF!,\"AAAAACfdpzM=\")","v":{"$error":"#REF!"}},{"$f":"AND(#REF!,\"AAAAACfdpzQ=\")","v":{"$error":"#REF!"}},{"$f":"AND(#REF!,\"AAAAACfdpzU=\")","v":{"$error":"#REF!"}},{"$f":"AND(#REF!,\"AAAAACfdpzY=\")","v":{"$error":"#REF!"}},{"$f":"AND(#REF!,\"AAAAACfdpzc=\")","v":{"$error":"#REF!"}},{"$f":"AND(#REF!,\"AAAAACfdpzg=\")","v":{"$error":"#REF!"}},{"$f":"AND(#REF!,\"AAAAACfdpzk=\")","v":{"$error":"#REF!"}},{"$f":"AND(#REF!,\"AAAAACfdpzo=\")","v":{"$error":"#REF!"}},{"$f":"AND(#REF!,\"AAAAACfdpzs=\")","v":{"$error":"#REF!"}},{"$f":"AND(#REF!,\"AAAAACfdpzw=\")","v":{"$error":"#REF!"}},{"$f":"AND(#REF!,\"AAAAACfdpz0=\")","v":{"$error":"#REF!"}},{"$f":"AND(#REF!,\"AAAAACfdpz4=\")","v":{"$error":"#REF!"}},{"$f":"AND(#REF!,\"AAAAACfdpz8=\")","v":{"$error":"#REF!"}},{"$f":"AND(#REF!,\"AAAAACfdp0A=\")","v":{"$error":"#REF!"}},{"$f":"AND(#REF!,\"AAAAACfdp0E=\")","v":{"$error":"#REF!"}},{"$f":"AND(#REF!,\"AAAAACfdp0I=\")","v":{"$error":"#REF!"}},{"$f":"AND(#REF!,\"AAAAACfdp0M=\")","v":{"$error":"#REF!"}},{"$f":"AND(#REF!,\"AAAAACfdp0Q=\")","v":{"$error":"#REF!"}},{"$f":"AND(#REF!,\"AAAAACfdp0U=\")","v":{"$error":"#REF!"}},{"$f":"AND(#REF!,\"AAAAACfdp0Y=\")","v":{"$error":"#REF!"}},{"$f":"AND(#REF!,\"AAAAACfdp0c=\")","v":{"$error":"#REF!"}},{"$f":"AND(#REF!,\"AAAAACfdp0g=\")","v":{"$error":"#REF!"}},{"$f":"AND(#REF!,\"AAAAACfdp0k=\")","v":{"$error":"#REF!"}},{"$f":"AND(#REF!,\"AAAAACfdp0o=\")","v":{"$error":"#REF!"}},{"$f":"AND(#REF!,\"AAAAACfdp0s=\")","v":{"$error":"#REF!"}},{"$f":"AND(#REF!,\"AAAAACfdp0w=\")","v":{"$error":"#REF!"}},{"$f":"AND(#REF!,\"AAAAACfdp00=\")","v":{"$error":"#REF!"}},{"$f":"AND(#REF!,\"AAAAACfdp04=\")","v":{"$error":"#REF!"}},{"$f":"AND(#REF!,\"AAAAACfdp08=\")","v":{"$error":"#REF!"}},{"$f":"IF(#REF!,\"AAAAACfdp1A=\",0)","v":{"$error":"#REF!"}},{"$f":"AND(#REF!,\"AAAAACfdp1E=\")","v":{"$error":"#REF!"}},{"$f":"AND(#REF!,\"AAAAACfdp1I=\")","v":{"$error":"#REF!"}},{"$f":"AND(#REF!,\"AAAAACfdp1M=\")","v":{"$error":"#REF!"}},{"$f":"AND(#REF!,\"AAAAACfdp1Q=\")","v":{"$error":"#REF!"}},{"$f":"AND(#REF!,\"AAAAACfdp1U=\")","v":{"$error":"#REF!"}},{"$f":"AND(#REF!,\"AAAAACfdp1Y=\")","v":{"$error":"#REF!"}},{"$f":"AND(#REF!,\"AAAAACfdp1c=\")","v":{"$error":"#REF!"}},{"$f":"AND(#REF!,\"AAAAACfdp1g=\")","v":{"$error":"#REF!"}},{"$f":"AND(#REF!,\"AAAAACfdp1k=\")","v":{"$error":"#REF!"}},{"$f":"AND(#REF!,\"AAAAACfdp1o=\")","v":{"$error":"#REF!"}},{"$f":"AND(#REF!,\"AAAAACfdp1s=\")","v":{"$error":"#REF!"}},{"$f":"AND(#REF!,\"AAAAACfdp1w=\")","v":{"$error":"#REF!"}},{"$f":"AND(#REF!,\"AAAAACfdp10=\")","v":{"$error":"#REF!"}},{"$f":"AND(#REF!,\"AAAAACfdp14=\")","v":{"$error":"#REF!"}},{"$f":"AND(#REF!,\"AAAAACfdp18=\")","v":{"$error":"#REF!"}},{"$f":"AND(#REF!,\"AAAAACfdp2A=\")","v":{"$error":"#REF!"}},{"$f":"AND(#REF!,\"AAAAACfdp2E=\")","v":{"$error":"#REF!"}},{"$f":"AND(#REF!,\"AAAAACfdp2I=\")","v":{"$error":"#REF!"}},{"$f":"AND(#REF!,\"AAAAACfdp2M=\")","v":{"$error":"#REF!"}},{"$f":"AND(#REF!,\"AAAAACfdp2Q=\")","v":{"$error":"#REF!"}},{"$f":"AND(#REF!,\"AAAAACfdp2U=\")","v":{"$error":"#REF!"}},{"$f":"AND(#REF!,\"AAAAACfdp2Y=\")","v":{"$error":"#REF!"}},{"$f":"AND(#REF!,\"AAAAACfdp2c=\")","v":{"$error":"#REF!"}},{"$f":"AND(#REF!,\"AAAAACfdp2g=\")","v":{"$error":"#REF!"}},{"$f":"AND(#REF!,\"AAAAACfdp2k=\")","v":{"$error":"#REF!"}},{"$f":"AND(#REF!,\"AAAAACfdp2o=\")","v":{"$error":"#REF!"}},{"$f":"AND(#REF!,\"AAAAACfdp2s=\")","v":{"$error":"#REF!"}},{"$f":"AND(#REF!,\"AAAAACfdp2w=\")","v":{"$error":"#REF!"}},{"$f":"AND(#REF!,\"AAAAACfdp20=\")","v":{"$error":"#REF!"}},{"$f":"AND(#REF!,\"AAAAACfdp24=\")","v":{"$error":"#REF!"}},{"$f":"AND(#REF!,\"AAAAACfdp28=\")","v":{"$error":"#REF!"}},{"$f":"AND(#REF!,\"AAAAACfdp3A=\")","v":{"$error":"#REF!"}},{"$f":"AND(#REF!,\"AAAAACfdp3E=\")","v":{"$error":"#REF!"}},{"$f":"IF(#REF!,\"AAAAACfdp3I=\",0)","v":{"$error":"#REF!"}},{"$f":"AND(#REF!,\"AAAAACfdp3M=\")","v":{"$error":"#REF!"}},{"$f":"AND(#REF!,\"AAAAACfdp3Q=\")","v":{"$error":"#REF!"}},{"$f":"AND(#REF!,\"AAAAACfdp3U=\")","v":{"$error":"#REF!"}},{"$f":"AND(#REF!,\"AAAAACfdp3Y=\")","v":{"$error":"#REF!"}},{"$f":"AND(#REF!,\"AAAAACfdp3c=\")","v":{"$error":"#REF!"}},{"$f":"AND(#REF!,\"AAAAACfdp3g=\")","v":{"$error":"#REF!"}},{"$f":"AND(#REF!,\"AAAAACfdp3k=\")","v":{"$error":"#REF!"}},{"$f":"AND(#REF!,\"AAAAACfdp3o=\")","v":{"$error":"#REF!"}},{"$f":"AND(#REF!,\"AAAAACfdp3s=\")","v":{"$error":"#REF!"}},{"$f":"AND(#REF!,\"AAAAACfdp3w=\")","v":{"$error":"#REF!"}},{"$f":"AND(#REF!,\"AAAAACfdp30=\")","v":{"$error":"#REF!"}},{"$f":"AND(#REF!,\"AAAAACfdp34=\")","v":{"$error":"#REF!"}},{"$f":"AND(#REF!,\"AAAAACfdp38=\")","v":{"$error":"#REF!"}},{"$f":"AND(#REF!,\"AAAAACfdp4A=\")","v":{"$error":"#REF!"}},{"$f":"AND(#REF!,\"AAAAACfdp4E=\")","v":{"$error":"#REF!"}},{"$f":"AND(#REF!,\"AAAAACfdp4I=\")","v":{"$error":"#REF!"}},{"$f":"AND(#REF!,\"AAAAACfdp4M=\")","v":{"$error":"#REF!"}},{"$f":"AND(#REF!,\"AAAAACfdp4Q=\")","v":{"$error":"#REF!"}},{"$f":"AND(#REF!,\"AAAAACfdp4U=\")","v":{"$error":"#REF!"}},{"$f":"AND(#REF!,\"AAAAACfdp4Y=\")","v":{"$error":"#REF!"}},{"$f":"AND(#REF!,\"AAAAACfdp4c=\")","v":{"$error":"#REF!"}},{"$f":"AND(#REF!,\"AAAAACfdp4g=\")","v":{"$error":"#REF!"}},{"$f":"AND(#REF!,\"AAAAACfdp4k=\")","v":{"$error":"#REF!"}},{"$f":"AND(#REF!,\"AAAAACfdp4o=\")","v":{"$error":"#REF!"}},{"$f":"AND(#REF!,\"AAAAACfdp4s=\")","v":{"$error":"#REF!"}},{"$f":"AND(#REF!,\"AAAAACfdp4w=\")","v":{"$error":"#REF!"}},{"$f":"AND(#REF!,\"AAAAACfdp40=\")","v":{"$error":"#REF!"}},{"$f":"AND(#REF!,\"AAAAACfdp44=\")","v":{"$error":"#REF!"}},{"$f":"AND(#REF!,\"AAAAACfdp48=\")","v":{"$error":"#REF!"}},{"$f":"AND(#REF!,\"AAAAACfdp5A=\")","v":{"$error":"#REF!"}},{"$f":"AND(#REF!,\"AAAAACfdp5E=\")","v":{"$error":"#REF!"}},{"$f":"AND(#REF!,\"AAAAACfdp5I=\")","v":{"$error":"#REF!"}},{"$f":"AND(#REF!,\"AAAAACfdp5M=\")","v":{"$error":"#REF!"}},{"$f":"IF(#REF!,\"AAAAACfdp5Q=\",0)","v":{"$error":"#REF!"}},{"$f":"AND(#REF!,\"AAAAACfdp5U=\")","v":{"$error":"#REF!"}},{"$f":"AND(#REF!,\"AAAAACfdp5Y=\")","v":{"$error":"#REF!"}},{"$f":"AND(#REF!,\"AAAAACfdp5c=\")","v":{"$error":"#REF!"}},{"$f":"AND(#REF!,\"AAAAACfdp5g=\")","v":{"$error":"#REF!"}},{"$f":"AND(#REF!,\"AAAAACfdp5k=\")","v":{"$error":"#REF!"}},{"$f":"AND(#REF!,\"AAAAACfdp5o=\")","v":{"$error":"#REF!"}},{"$f":"AND(#REF!,\"AAAAACfdp5s=\")","v":{"$error":"#REF!"}},{"$f":"AND(#REF!,\"AAAAACfdp5w=\")","v":{"$error":"#REF!"}},{"$f":"AND(#REF!,\"AAAAACfdp50=\")","v":{"$error":"#REF!"}},{"$f":"AND(#REF!,\"AAAAACfdp54=\")","v":{"$error":"#REF!"}},{"$f":"AND(#REF!,\"AAAAACfdp58=\")","v":{"$error":"#REF!"}},{"$f":"AND(#REF!,\"AAAAACfdp6A=\")","v":{"$error":"#REF!"}},{"$f":"AND(#REF!,\"AAAAACfdp6E=\")","v":{"$error":"#REF!"}},{"$f":"AND(#REF!,\"AAAAACfdp6I=\")","v":{"$error":"#REF!"}},{"$f":"AND(#REF!,\"AAAAACfdp6M=\")","v":{"$error":"#REF!"}},{"$f":"AND(#REF!,\"AAAAACfdp6Q=\")","v":{"$error":"#REF!"}},{"$f":"AND(#REF!,\"AAAAACfdp6U=\")","v":{"$error":"#REF!"}},{"$f":"AND(#REF!,\"AAAAACfdp6Y=\")","v":{"$error":"#REF!"}},{"$f":"AND(#REF!,\"AAAAACfdp6c=\")","v":{"$error":"#REF!"}},{"$f":"AND(#REF!,\"AAAAACfdp6g=\")","v":{"$error":"#REF!"}},{"$f":"AND(#REF!,\"AAAAACfdp6k=\")","v":{"$error":"#REF!"}},{"$f":"AND(#REF!,\"AAAAACfdp6o=\")","v":{"$error":"#REF!"}},{"$f":"AND(#REF!,\"AAAAACfdp6s=\")","v":{"$error":"#REF!"}},{"$f":"AND(#REF!,\"AAAAACfdp6w=\")","v":{"$error":"#REF!"}},{"$f":"AND(#REF!,\"AAAAACfdp60=\")","v":{"$error":"#REF!"}},{"$f":"AND(#REF!,\"AAAAACfdp64=\")","v":{"$error":"#REF!"}},{"$f":"AND(#REF!,\"AAAAACfdp68=\")","v":{"$error":"#REF!"}},{"$f":"AND(#REF!,\"AAAAACfdp7A=\")","v":{"$error":"#REF!"}},{"$f":"AND(#REF!,\"AAAAACfdp7E=\")","v":{"$error":"#REF!"}},{"$f":"AND(#REF!,\"AAAAACfdp7I=\")","v":{"$error":"#REF!"}},{"$f":"AND(#REF!,\"AAAAACfdp7M=\")","v":{"$error":"#REF!"}},{"$f":"AND(#REF!,\"AAAAACfdp7Q=\")","v":{"$error":"#REF!"}},{"$f":"AND(#REF!,\"AAAAACfdp7U=\")","v":{"$error":"#REF!"}},{"$f":"IF(#REF!,\"AAAAACfdp7Y=\",0)","v":{"$error":"#REF!"}},{"$f":"AND(#REF!,\"AAAAACfdp7c=\")","v":{"$error":"#REF!"}},{"$f":"AND(#REF!,\"AAAAACfdp7g=\")","v":{"$error":"#REF!"}},{"$f":"AND(#REF!,\"AAAAACfdp7k=\")","v":{"$error":"#REF!"}},{"$f":"AND(#REF!,\"AAAAACfdp7o=\")","v":{"$error":"#REF!"}},{"$f":"AND(#REF!,\"AAAAACfdp7s=\")","v":{"$error":"#REF!"}},{"$f":"AND(#REF!,\"AAAAACfdp7w=\")","v":{"$error":"#REF!"}},{"$f":"AND(#REF!,\"AAAAACfdp70=\")","v":{"$error":"#REF!"}},{"$f":"AND(#REF!,\"AAAAACfdp74=\")","v":{"$error":"#REF!"}},{"$f":"AND(#REF!,\"AAAAACfdp78=\")","v":{"$error":"#REF!"}},{"$f":"AND(#REF!,\"AAAAACfdp8A=\")","v":{"$error":"#REF!"}},{"$f":"AND(#REF!,\"AAAAACfdp8E=\")","v":{"$error":"#REF!"}},{"$f":"AND(#REF!,\"AAAAACfdp8I=\")","v":{"$error":"#REF!"}},{"$f":"AND(#REF!,\"AAAAACfdp8M=\")","v":{"$error":"#REF!"}},{"$f":"AND(#REF!,\"AAAAACfdp8Q=\")","v":{"$error":"#REF!"}},{"$f":"AND(#REF!,\"AAAAACfdp8U=\")","v":{"$error":"#REF!"}},{"$f":"AND(#REF!,\"AAAAACfdp8Y=\")","v":{"$error":"#REF!"}},{"$f":"AND(#REF!,\"AAAAACfdp8c=\")","v":{"$error":"#REF!"}},{"$f":"AND(#REF!,\"AAAAACfdp8g=\")","v":{"$error":"#REF!"}},{"$f":"AND(#REF!,\"AAAAACfdp8k=\")","v":{"$error":"#REF!"}},{"$f":"AND(#REF!,\"AAAAACfdp8o=\")","v":{"$error":"#REF!"}},{"$f":"AND(#REF!,\"AAAAACfdp8s=\")","v":{"$error":"#REF!"}},{"$f":"AND(#REF!,\"AAAAACfdp8w=\")","v":{"$error":"#REF!"}},{"$f":"AND(#REF!,\"AAAAACfdp80=\")","v":{"$error":"#REF!"}},{"$f":"AND(#REF!,\"AAAAACfdp84=\")","v":{"$error":"#REF!"}},{"$f":"AND(#REF!,\"AAAAACfdp88=\")","v":{"$error":"#REF!"}},{"$f":"AND(#REF!,\"AAAAACfdp9A=\")","v":{"$error":"#REF!"}},{"$f":"AND(#REF!,\"AAAAACfdp9E=\")","v":{"$error":"#REF!"}},{"$f":"AND(#REF!,\"AAAAACfdp9I=\")","v":{"$error":"#REF!"}},{"$f":"AND(#REF!,\"AAAAACfdp9M=\")","v":{"$error":"#REF!"}},{"$f":"AND(#REF!,\"AAAAACfdp9Q=\")","v":{"$error":"#REF!"}},{"$f":"AND(#REF!,\"AAAAACfdp9U=\")","v":{"$error":"#REF!"}},{"$f":"AND(#REF!,\"AAAAACfdp9Y=\")","v":{"$error":"#REF!"}},{"$f":"AND(#REF!,\"AAAAACfdp9c=\")","v":{"$error":"#REF!"}},{"$f":"IF(#REF!,\"AAAAACfdp9g=\",0)","v":{"$error":"#REF!"}},{"$f":"AND(#REF!,\"AAAAACfdp9k=\")","v":{"$error":"#REF!"}},{"$f":"AND(#REF!,\"AAAAACfdp9o=\")","v":{"$error":"#REF!"}},{"$f":"AND(#REF!,\"AAAAACfdp9s=\")","v":{"$error":"#REF!"}},{"$f":"AND(#REF!,\"AAAAACfdp9w=\")","v":{"$error":"#REF!"}},{"$f":"AND(#REF!,\"AAAAACfdp90=\")","v":{"$error":"#REF!"}},{"$f":"AND(#REF!,\"AAAAACfdp94=\")","v":{"$error":"#REF!"}},{"$f":"AND(#REF!,\"AAAAACfdp98=\")","v":{"$error":"#REF!"}},{"$f":"AND(#REF!,\"AAAAACfdp+A=\")","v":{"$error":"#REF!"}},{"$f":"AND(#REF!,\"AAAAACfdp+E=\")","v":{"$error":"#REF!"}},{"$f":"AND(#REF!,\"AAAAACfdp+I=\")","v":{"$error":"#REF!"}},{"$f":"AND(#REF!,\"AAAAACfdp+M=\")","v":{"$error":"#REF!"}},{"$f":"AND(#REF!,\"AAAAACfdp+Q=\")","v":{"$error":"#REF!"}},{"$f":"AND(#REF!,\"AAAAACfdp+U=\")","v":{"$error":"#REF!"}},{"$f":"AND(#REF!,\"AAAAACfdp+Y=\")","v":{"$error":"#REF!"}},{"$f":"AND(#REF!,\"AAAAACfdp+c=\")","v":{"$error":"#REF!"}},{"$f":"AND(#REF!,\"AAAAACfdp+g=\")","v":{"$error":"#REF!"}},{"$f":"AND(#REF!,\"AAAAACfdp+k=\")","v":{"$error":"#REF!"}},{"$f":"AND(#REF!,\"AAAAACfdp+o=\")","v":{"$error":"#REF!"}},{"$f":"AND(#REF!,\"AAAAACfdp+s=\")","v":{"$error":"#REF!"}},{"$f":"AND(#REF!,\"AAAAACfdp+w=\")","v":{"$error":"#REF!"}},{"$f":"AND(#REF!,\"AAAAACfdp+0=\")","v":{"$error":"#REF!"}},{"$f":"AND(#REF!,\"AAAAACfdp+4=\")","v":{"$error":"#REF!"}},{"$f":"AND(#REF!,\"AAAAACfdp+8=\")","v":{"$error":"#REF!"}},{"$f":"AND(#REF!,\"AAAAACfdp/A=\")","v":{"$error":"#REF!"}},{"$f":"AND(#REF!,\"AAAAACfdp/E=\")","v":{"$error":"#REF!"}},{"$f":"AND(#REF!,\"AAAAACfdp/I=\")","v":{"$error":"#REF!"}},{"$f":"AND(#REF!,\"AAAAACfdp/M=\")","v":{"$error":"#REF!"}},{"$f":"AND(#REF!,\"AAAAACfdp/Q=\")","v":{"$error":"#REF!"}},{"$f":"AND(#REF!,\"AAAAACfdp/U=\")","v":{"$error":"#REF!"}},{"$f":"AND(#REF!,\"AAAAACfdp/Y=\")","v":{"$error":"#REF!"}},{"$f":"AND(#REF!,\"AAAAACfdp/c=\")","v":{"$error":"#REF!"}},{"$f":"AND(#REF!,\"AAAAACfdp/g=\")","v":{"$error":"#REF!"}},{"$f":"AND(#REF!,\"AAAAACfdp/k=\")","v":{"$error":"#REF!"}},{"$f":"IF(#REF!,\"AAAAACfdp/o=\",0)","v":{"$error":"#REF!"}},{"$f":"AND(#REF!,\"AAAAACfdp/s=\")","v":{"$error":"#REF!"}},{"$f":"AND(#REF!,\"AAAAACfdp/w=\")","v":{"$error":"#REF!"}},{"$f":"AND(#REF!,\"AAAAACfdp/0=\")","v":{"$error":"#REF!"}},{"$f":"AND(#REF!,\"AAAAACfdp/4=\")","v":{"$error":"#REF!"}},{"$f":"AND(#REF!,\"AAAAACfdp/8=\")","v":{"$error":"#REF!"}}]
[{"$f":"AND(#REF!,\"AAAAAB/18QA=\")","v":{"$error":"#REF!"}},{"$f":"AND(#REF!,\"AAAAAB/18QE=\")","v":{"$error":"#REF!"}},{"$f":"AND(#REF!,\"AAAAAB/18QI=\")","v":{"$error":"#REF!"}},{"$f":"AND(#REF!,\"AAAAAB/18QM=\")","v":{"$error":"#REF!"}},{"$f":"AND(#REF!,\"AAAAAB/18QQ=\")","v":{"$error":"#REF!"}},{"$f":"AND(#REF!,\"AAAAAB/18QU=\")","v":{"$error":"#REF!"}},{"$f":"AND(#REF!,\"AAAAAB/18QY=\")","v":{"$error":"#REF!"}},{"$f":"AND(#REF!,\"AAAAAB/18Qc=\")","v":{"$error":"#REF!"}},{"$f":"AND(#REF!,\"AAAAAB/18Qg=\")","v":{"$error":"#REF!"}},{"$f":"AND(#REF!,\"AAAAAB/18Qk=\")","v":{"$error":"#REF!"}},{"$f":"AND(#REF!,\"AAAAAB/18Qo=\")","v":{"$error":"#REF!"}},{"$f":"AND(#REF!,\"AAAAAB/18Qs=\")","v":{"$error":"#REF!"}},{"$f":"AND(#REF!,\"AAAAAB/18Qw=\")","v":{"$error":"#REF!"}},{"$f":"AND(#REF!,\"AAAAAB/18Q0=\")","v":{"$error":"#REF!"}},{"$f":"AND(#REF!,\"AAAAAB/18Q4=\")","v":{"$error":"#REF!"}},{"$f":"AND(#REF!,\"AAAAAB/18Q8=\")","v":{"$error":"#REF!"}},{"$f":"AND(#REF!,\"AAAAAB/18RA=\")","v":{"$error":"#REF!"}},{"$f":"AND(#REF!,\"AAAAAB/18RE=\")","v":{"$error":"#REF!"}},{"$f":"AND(#REF!,\"AAAAAB/18RI=\")","v":{"$error":"#REF!"}},{"$f":"AND(#REF!,\"AAAAAB/18RM=\")","v":{"$error":"#REF!"}},{"$f":"AND(#REF!,\"AAAAAB/18RQ=\")","v":{"$error":"#REF!"}},{"$f":"AND(#REF!,\"AAAAAB/18RU=\")","v":{"$error":"#REF!"}},{"$f":"AND(#REF!,\"AAAAAB/18RY=\")","v":{"$error":"#REF!"}},{"$f":"AND(#REF!,\"AAAAAB/18Rc=\")","v":{"$error":"#REF!"}},{"$f":"AND(#REF!,\"AAAAAB/18Rg=\")","v":{"$error":"#REF!"}},{"$f":"AND(#REF!,\"AAAAAB/18Rk=\")","v":{"$error":"#REF!"}},{"$f":"AND(#REF!,\"AAAAAB/18Ro=\")","v":{"$error":"#REF!"}},{"$f":"AND(#REF!,\"AAAAAB/18Rs=\")","v":{"$error":"#REF!"}},{"$f":"IF(#REF!,\"AAAAAB/18Rw=\",0)","v":{"$error":"#REF!"}},{"$f":"AND(#REF!,\"AAAAAB/18R0=\")","v":{"$error":"#REF!"}},{"$f":"AND(#REF!,\"AAAAAB/18R4=\")","v":{"$error":"#REF!"}},{"$f":"AND(#REF!,\"AAAAAB/18R8=\")","v":{"$error":"#REF!"}},{"$f":"AND(#REF!,\"AAAAAB/18SA=\")","v":{"$error":"#REF!"}},{"$f":"AND(#REF!,\"AAAAAB/18SE=\")","v":{"$error":"#REF!"}},{"$f":"AND(#REF!,\"AAAAAB/18SI=\")","v":{"$error":"#REF!"}},{"$f":"AND(#REF!,\"AAAAAB/18SM=\")","v":{"$error":"#REF!"}},{"$f":"AND(#REF!,\"AAAAAB/18SQ=\")","v":{"$error":"#REF!"}},{"$f":"AND(#REF!,\"AAAAAB/18SU=\")","v":{"$error":"#REF!"}},{"$f":"AND(#REF!,\"AAAAAB/18SY=\")","v":{"$error":"#REF!"}},{"$f":"AND(#REF!,\"AAAAAB/18Sc=\")","v":{"$error":"#REF!"}},{"$f":"AND(#REF!,\"AAAAAB/18Sg=\")","v":{"$error":"#REF!"}},{"$f":"AND(#REF!,\"AAAAAB/18Sk=\")","v":{"$error":"#REF!"}},{"$f":"AND(#REF!,\"AAAAAB/18So=\")","v":{"$error":"#REF!"}},{"$f":"AND(#REF!,\"AAAAAB/18Ss=\")","v":{"$error":"#REF!"}},{"$f":"AND(#REF!,\"AAAAAB/18Sw=\")","v":{"$error":"#REF!"}},{"$f":"AND(#REF!,\"AAAAAB/18S0=\")","v":{"$error":"#REF!"}},{"$f":"AND(#REF!,\"AAAAAB/18S4=\")","v":{"$error":"#REF!"}},{"$f":"AND(#REF!,\"AAAAAB/18S8=\")","v":{"$error":"#REF!"}},{"$f":"AND(#REF!,\"AAAAAB/18TA=\")","v":{"$error":"#REF!"}},{"$f":"AND(#REF!,\"AAAAAB/18TE=\")","v":{"$error":"#REF!"}},{"$f":"AND(#REF!,\"AAAAAB/18TI=\")","v":{"$error":"#REF!"}},{"$f":"AND(#REF!,\"AAAAAB/18TM=\")","v":{"$error":"#REF!"}},{"$f":"AND(#REF!,\"AAAAAB/18TQ=\")","v":{"$error":"#REF!"}},{"$f":"AND(#REF!,\"AAAAAB/18TU=\")","v":{"$error":"#REF!"}},{"$f":"AND(#REF!,\"AAAAAB/18TY=\")","v":{"$error":"#REF!"}},{"$f":"AND(#REF!,\"AAAAAB/18Tc=\")","v":{"$error":"#REF!"}},{"$f":"AND(#REF!,\"AAAAAB/18Tg=\")","v":{"$error":"#REF!"}},{"$f":"AND(#REF!,\"AAAAAB/18Tk=\")","v":{"$error":"#REF!"}},{"$f":"AND(#REF!,\"AAAAAB/18To=\")","v":{"$error":"#REF!"}},{"$f":"AND(#REF!,\"AAAAAB/18Ts=\")","v":{"$error":"#REF!"}},{"$f":"AND(#REF!,\"AAAAAB/18Tw=\")","v":{"$error":"#REF!"}},{"$f":"AND(#REF!,\"AAAAAB/18T0=\")","v":{"$error":"#REF!"}},{"$f":"IF(#REF!,\"AAAAAB/18T4=\",0)","v":{"$error":"#REF!"}},{"$f":"AND(#REF!,\"AAAAAB/18T8=\")","v":{"$error":"#REF!"}},{"$f":"AND(#REF!,\"AAAAAB/18UA=\")","v":{"$error":"#REF!"}},{"$f":"AND(#REF!,\"AAAAAB/18UE=\")","v":{"$error":"#REF!"}},{"$f":"AND(#REF!,\"AAAAAB/18UI=\")","v":{"$error":"#REF!"}},{"$f":"AND(#REF!,\"AAAAAB/18UM=\")","v":{"$error":"#REF!"}},{"$f":"AND(#REF!,\"AAAAAB/18UQ=\")","v":{"$error":"#REF!"}},{"$f":"AND(#REF!,\"AAAAAB/18UU=\")","v":{"$error":"#REF!"}},{"$f":"AND(#REF!,\"AAAAAB/18UY=\")","v":{"$error":"#REF!"}},{"$f":"AND(#REF!,\"AAAAAB/18Uc=\")","v":{"$error":"#REF!"}},{"$f":"AND(#REF!,\"AAAAAB/18Ug=\")","v":{"$error":"#REF!"}},{"$f":"AND(#REF!,\"AAAAAB/18Uk=\")","v":{"$error":"#REF!"}},{"$f":"AND(#REF!,\"AAAAAB/18Uo=\")","v":{"$error":"#REF!"}},{"$f":"AND(#REF!,\"AAAAAB/18Us=\")","v":{"$error":"#REF!"}},{"$f":"AND(#REF!,\"AAAAAB/18Uw=\")","v":{"$error":"#REF!"}},{"$f":"AND(#REF!,\"AAAAAB/18U0=\")","v":{"$error":"#REF!"}},{"$f":"AND(#REF!,\"AAAAAB/18U4=\")","v":{"$error":"#REF!"}},{"$f":"AND(#REF!,\"AAAAAB/18U8=\")","v":{"$error":"#REF!"}},{"$f":"AND(#REF!,\"AAAAAB/18VA=\")","v":{"$error":"#REF!"}},{"$f":"AND(#REF!,\"AAAAAB/18VE=\")","v":{"$error":"#REF!"}},{"$f":"AND(#REF!,\"AAAAAB/18VI=\")","v":{"$error":"#REF!"}},{"$f":"AND(#REF!,\"AAAAAB/18VM=\")","v":{"$error":"#REF!"}},{"$f":"AND(#REF!,\"AAAAAB/18VQ=\")","v":{"$error":"#REF!"}},{"$f":"AND(#REF!,\"AAAAAB/18VU=\")","v":{"$error":"#REF!"}},{"$f":"AND(#REF!,\"AAAAAB/18VY=\")","v":{"$error":"#REF!"}},{"$f":"AND(#REF!,\"AAAAAB/18Vc=\")","v":{"$error":"#REF!"}},{"$f":"AND(#REF!,\"AAAAAB/18Vg=\")","v":{"$error":"#REF!"}},{"$f":"AND(#REF!,\"AAAAAB/18Vk=\")","v":{"$error":"#REF!"}},{"$f":"AND(#REF!,\"AAAAAB/18Vo=\")","v":{"$error":"#REF!"}},{"$f":"AND(#REF!,\"AAAAAB/18Vs=\")","v":{"$error":"#REF!"}},{"$f":"AND(#REF!,\"AAAAAB/18Vw=\")","v":{"$error":"#REF!"}},{"$f":"AND(#REF!,\"AAAAAB/18V0=\")","v":{"$error":"#REF!"}},{"$f":"AND(#REF!,\"AAAAAB/18V4=\")","v":{"$error":"#REF!"}},{"$f":"AND(#REF!,\"AAAAAB/18V8=\")","v":{"$error":"#REF!"}},{"$f":"IF(#REF!,\"AAAAAB/18WA=\",0)","v":{"$error":"#REF!"}},{"$f":"AND(#REF!,\"AAAAAB/18WE=\")","v":{"$error":"#REF!"}},{"$f":"AND(#REF!,\"AAAAAB/18WI=\")","v":{"$error":"#REF!"}},{"$f":"AND(#REF!,\"AAAAAB/18WM=\")","v":{"$error":"#REF!"}},{"$f":"AND(#REF!,\"AAAAAB/18WQ=\")","v":{"$error":"#REF!"}},{"$f":"AND(#REF!,\"AAAAAB/18WU=\")","v":{"$error":"#REF!"}},{"$f":"AND(#REF!,\"AAAAAB/18WY=\")","v":{"$error":"#REF!"}},{"$f":"AND(#REF!,\"AAAAAB/18Wc=\")","v":{"$error":"#REF!"}},{"$f":"AND(#REF!,\"AAAAAB/18Wg=\")","v":{"$error":"#REF!"}},{"$f":"AND(#REF!,\"AAAAAB/18Wk=\")","v":{"$error":"#REF!"}},{"$f":"AND(#REF!,\"AAAAAB/18Wo=\")","v":{"$error":"#REF!"}},{"$f":"AND(#REF!,\"AAAAAB/18Ws=\")","v":{"$error":"#REF!"}},{"$f":"AND(#REF!,\"AAAAAB/18Ww=\")","v":{"$error":"#REF!"}},{"$f":"AND(#REF!,\"AAAAAB/18W0=\")","v":{"$error":"#REF!"}},{"$f":"AND(#REF!,\"AAAAAB/18W4=\")","v":{"$error":"#REF!"}},{"$f":"AND(#REF!,\"AAAAAB/18W8=\")","v":{"$error":"#REF!"}},{"$f":"AND(#REF!,\"AAAAAB/18XA=\")","v":{"$error":"#REF!"}},{"$f":"AND(#REF!,\"AAAAAB/18XE=\")","v":{"$error":"#REF!"}},{"$f":"AND(#REF!,\"AAAAAB/18XI=\")","v":{"$error":"#REF!"}},{"$f":"AND(#REF!,\"AAAAAB/18XM=\")","v":{"$error":"#REF!"}},{"$f":"AND(#REF!,\"AAAAAB/18XQ=\")","v":{"$error":"#REF!"}},{"$f":"AND(#REF!,\"AAAAAB/18XU=\")","v":{"$error":"#REF!"}},{"$f":"AND(#REF!,\"AAAAAB/18XY=\")","v":{"$error":"#REF!"}},{"$f":"AND(#REF!,\"AAAAAB/18Xc=\")","v":{"$error":"#REF!"}},{"$f":"AND(#REF!,\"AAAAAB/18Xg=\")","v":{"$error":"#REF!"}},{"$f":"AND(#REF!,\"AAAAAB/18Xk=\")","v":{"$error":"#REF!"}},{"$f":"AND(#REF!,\"AAAAAB/18Xo=\")","v":{"$error":"#REF!"}},{"$f":"AND(#REF!,\"AAAAAB/18Xs=\")","v":{"$error":"#REF!"}},{"$f":"AND(#REF!,\"AAAAAB/18Xw=\")","v":{"$error":"#REF!"}},{"$f":"AND(#REF!,\"AAAAAB/18X0=\")","v":{"$error":"#REF!"}},{"$f":"AND(#REF!,\"AAAAAB/18X4=\")","v":{"$error":"#REF!"}},{"$f":"AND(#REF!,\"AAAAAB/18X8=\")","v":{"$error":"#REF!"}},{"$f":"AND(#REF!,\"AAAAAB/18YA=\")","v":{"$error":"#REF!"}},{"$f":"AND(#REF!,\"AAAAAB/18YE=\")","v":{"$error":"#REF!"}},{"$f":"IF(#REF!,\"AAAAAB/18YI=\",0)","v":{"$error":"#REF!"}},{"$f":"AND(#REF!,\"AAAAAB/18YM=\")","v":{"$error":"#REF!"}},{"$f":"AND(#REF!,\"AAAAAB/18YQ=\")","v":{"$error":"#REF!"}},{"$f":"AND(#REF!,\"AAAAAB/18YU=\")","v":{"$error":"#REF!"}},{"$f":"AND(#REF!,\"AAAAAB/18YY=\")","v":{"$error":"#REF!"}},{"$f":"AND(#REF!,\"AAAAAB/18Yc=\")","v":{"$error":"#REF!"}},{"$f":"AND(#REF!,\"AAAAAB/18Yg=\")","v":{"$error":"#REF!"}},{"$f":"AND(#REF!,\"AAAAAB/18Yk=\")","v":{"$error":"#REF!"}},{"$f":"AND(#REF!,\"AAAAAB/18Yo=\")","v":{"$error":"#REF!"}},{"$f":"AND(#REF!,\"AAAAAB/18Ys=\")","v":{"$error":"#REF!"}},{"$f":"AND(#REF!,\"AAAAAB/18Yw=\")","v":{"$error":"#REF!"}},{"$f":"AND(#REF!,\"AAAAAB/18Y0=\")","v":{"$error":"#REF!"}},{"$f":"AND(#REF!,\"AAAAAB/18Y4=\")","v":{"$error":"#REF!"}},{"$f":"AND(#REF!,\"AAAAAB/18Y8=\")","v":{"$error":"#REF!"}},{"$f":"AND(#REF!,\"AAAAAB/18ZA=\")","v":{"$error":"#REF!"}},{"$f":"AND(#REF!,\"AAAAAB/18ZE=\")","v":{"$error":"#REF!"}},{"$f":"AND(#REF!,\"AAAAAB/18ZI=\")","v":{"$error":"#REF!"}},{"$f":"AND(#REF!,\"AAAAAB/18ZM=\")","v":{"$error":"#REF!"}},{"$f":"AND(#REF!,\"AAAAAB/18ZQ=\")","v":{"$error":"#REF!"}},{"$f":"AND(#REF!,\"AAAAAB/18ZU=\")","v":{"$error":"#REF!"}},{"$f":"AND(#REF!,\"AAAAAB/18ZY=\")","v":{"$error":"#REF!"}},{"$f":"AND(#REF!,\"AAAAAB/18Zc=\")","v":{"$error":"#REF!"}},{"$f":"AND(#REF!,\"AAAAAB/18Zg=\")","v":{"$error":"#REF!"}},{"$f":"AND(#REF!,\"AAAAAB/18Zk=\")","v":{"$error":"#REF!"}},{"$f":"AND(#REF!,\"AAAAAB/18Zo=\")","v":{"$error":"#REF!"}},{"$f":"AND(#REF!,\"AAAAAB/18Zs=\")","v":{"$error":"#REF!"}},{"$f":"AND(#REF!,\"AAAAAB/18Zw=\")","v":{"$error":"#REF!"}},{"$f":"AND(#REF!,\"AAAAAB/18Z0=\")","v":{"$error":"#REF!"}},{"$f":"AND(#REF!,\"AAAAAB/18Z4=\")","v":{"$error":"#REF!"}},{"$f":"AND(#REF!,\"AAAAAB/18Z8=\")","v":{"$error":"#REF!"}},{"$f":"AND(#REF!,\"AAAAAB/18aA=\")","v":{"$error":"#REF!"}},{"$f":"AND(#REF!,\"AAAAAB/18aE=\")","v":{"$error":"#REF!"}},{"$f":"AND(#REF!,\"AAAAAB/18aI=\")","v":{"$error":"#REF!"}},{"$f":"AND(#REF!,\"AAAAAB/18aM=\")","v":{"$error":"#REF!"}},{"$f":"IF(#REF!,\"AAAAAB/18aQ=\",0)","v":{"$error":"#REF!"}},{"$f":"AND(#REF!,\"AAAAAB/18aU=\")","v":{"$error":"#REF!"}},{"$f":"AND(#REF!,\"AAAAAB/18aY=\")","v":{"$error":"#REF!"}},{"$f":"AND(#REF!,\"AAAAAB/18ac=\")","v":{"$error":"#REF!"}},{"$f":"AND(#REF!,\"AAAAAB/18ag=\")","v":{"$error":"#REF!"}},{"$f":"AND(#REF!,\"AAAAAB/18ak=\")","v":{"$error":"#REF!"}},{"$f":"AND(#REF!,\"AAAAAB/18ao=\")","v":{"$error":"#REF!"}},{"$f":"AND(#REF!,\"AAAAAB/18as=\")","v":{"$error":"#REF!"}},{"$f":"AND(#REF!,\"AAAAAB/18aw=\")","v":{"$error":"#REF!"}},{"$f":"AND(#REF!,\"AAAAAB/18a0=\")","v":{"$error":"#REF!"}},{"$f":"AND(#REF!,\"AAAAAB/18a4=\")","v":{"$error":"#REF!"}},{"$f":"AND(#REF!,\"AAAAAB/18a8=\")","v":{"$error":"#REF!"}},{"$f":"AND(#REF!,\"AAAAAB/18bA=\")","v":{"$error":"#REF!"}},{"$f":"AND(#REF!,\"AAAAAB/18bE=\")","v":{"$error":"#REF!"}},{"$f":"AND(#REF!,\"AAAAAB/18bI=\")","v":{"$error":"#REF!"}},{"$f":"AND(#REF!,\"AAAAAB/18bM=\")","v":{"$error":"#REF!"}},{"$f":"AND(#REF!,\"AAAAAB/18bQ=\")","v":{"$error":"#REF!"}},{"$f":"AND(#REF!,\"AAAAAB/18bU=\")","v":{"$error":"#REF!"}},{"$f":"AND(#REF!,\"AAAAAB/18bY=\")","v":{"$error":"#REF!"}},{"$f":"AND(#REF!,\"AAAAAB/18bc=\")","v":{"$error":"#REF!"}},{"$f":"AND(#REF!,\"AAAAAB/18bg=\")","v":{"$error":"#REF!"}},{"$f":"AND(#REF!,\"AAAAAB/18bk=\")","v":{"$error":"#REF!"}},{"$f":"AND(#REF!,\"AAAAAB/18bo=\")","v":{"$error":"#REF!"}},{"$f":"AND(#REF!,\"AAAAAB/18bs=\")","v":{"$error":"#REF!"}},{"$f":"AND(#REF!,\"AAAAAB/18bw=\")","v":{"$error":"#REF!"}},{"$f":"AND(#REF!,\"AAAAAB/18b0=\")","v":{"$error":"#REF!"}},{"$f":"AND(#REF!,\"AAAAAB/18b4=\")","v":{"$error":"#REF!"}},{"$f":"AND(#REF!,\"AAAAAB/18b8=\")","v":{"$error":"#REF!"}},{"$f":"AND(#REF!,\"AAAAAB/18cA=\")","v":{"$error":"#REF!"}},{"$f":"AND(#REF!,\"AAAAAB/18cE=\")","v":{"$error":"#REF!"}},{"$f":"AND(#REF!,\"AAAAAB/18cI=\")","v":{"$error":"#REF!"}},{"$f":"AND(#REF!,\"AAAAAB/18cM=\")","v":{"$error":"#REF!"}},{"$f":"AND(#REF!,\"AAAAAB/18cQ=\")","v":{"$error":"#REF!"}},{"$f":"AND(#REF!,\"AAAAAB/18cU=\")","v":{"$error":"#REF!"}},{"$f":"IF(#REF!,\"AAAAAB/18cY=\",0)","v":{"$error":"#REF!"}},{"$f":"AND(#REF!,\"AAAAAB/18cc=\")","v":{"$error":"#REF!"}},{"$f":"AND(#REF!,\"AAAAAB/18cg=\")","v":{"$error":"#REF!"}},{"$f":"AND(#REF!,\"AAAAAB/18ck=\")","v":{"$error":"#REF!"}},{"$f":"AND(#REF!,\"AAAAAB/18co=\")","v":{"$error":"#REF!"}},{"$f":"AND(#REF!,\"AAAAAB/18cs=\")","v":{"$error":"#REF!"}},{"$f":"AND(#REF!,\"AAAAAB/18cw=\")","v":{"$error":"#REF!"}},{"$f":"AND(#REF!,\"AAAAAB/18c0=\")","v":{"$error":"#REF!"}},{"$f":"AND(#REF!,\"AAAAAB/18c4=\")","v":{"$error":"#REF!"}},{"$f":"AND(#REF!,\"AAAAAB/18c8=\")","v":{"$error":"#REF!"}},{"$f":"AND(#REF!,\"AAAAAB/18dA=\")","v":{"$error":"#REF!"}},{"$f":"AND(#REF!,\"AAAAAB/18dE=\")","v":{"$error":"#REF!"}},{"$f":"AND(#REF!,\"AAAAAB/18dI=\")","v":{"$error":"#REF!"}},{"$f":"AND(#REF!,\"AAAAAB/18dM=\")","v":{"$error":"#REF!"}},{"$f":"AND(#REF!,\"AAAAAB/18dQ=\")","v":{"$error":"#REF!"}},{"$f":"AND(#REF!,\"AAAAAB/18dU=\")","v":{"$error":"#REF!"}},{"$f":"AND(#REF!,\"AAAAAB/18dY=\")","v":{"$error":"#REF!"}},{"$f":"AND(#REF!,\"AAAAAB/18dc=\")","v":{"$error":"#REF!"}},{"$f":"AND(#REF!,\"AAAAAB/18dg=\")","v":{"$error":"#REF!"}},{"$f":"AND(#REF!,\"AAAAAB/18dk=\")","v":{"$error":"#REF!"}},{"$f":"AND(#REF!,\"AAAAAB/18do=\")","v":{"$error":"#REF!"}},{"$f":"AND(#REF!,\"AAAAAB/18ds=\")","v":{"$error":"#REF!"}},{"$f":"AND(#REF!,\"AAAAAB/18dw=\")","v":{"$error":"#REF!"}},{"$f":"AND(#REF!,\"AAAAAB/18d0=\")","v":{"$error":"#REF!"}},{"$f":"AND(#REF!,\"AAAAAB/18d4=\")","v":{"$error":"#REF!"}},{"$f":"AND(#REF!,\"AAAAAB/18d8=\")","v":{"$error":"#REF!"}},{"$f":"AND(#REF!,\"AAAAAB/18eA=\")","v":{"$error":"#REF!"}},{"$f":"AND(#REF!,\"AAAAAB/18eE=\")","v":{"$error":"#REF!"}},{"$f":"AND(#REF!,\"AAAAAB/18eI=\")","v":{"$error":"#REF!"}},{"$f":"AND(#REF!,\"AAAAAB/18eM=\")","v":{"$error":"#REF!"}},{"$f":"AND(#REF!,\"AAAAAB/18eQ=\")","v":{"$error":"#REF!"}},{"$f":"AND(#REF!,\"AAAAAB/18eU=\")","v":{"$error":"#REF!"}},{"$f":"AND(#REF!,\"AAAAAB/18eY=\")","v":{"$error":"#REF!"}},{"$f":"AND(#REF!,\"AAAAAB/18ec=\")","v":{"$error":"#REF!"}},{"$f":"IF(#REF!,\"AAAAAB/18eg=\",0)","v":{"$error":"#REF!"}},{"$f":"AND(#REF!,\"AAAAAB/18ek=\")","v":{"$error":"#REF!"}},{"$f":"AND(#REF!,\"AAAAAB/18eo=\")","v":{"$error":"#REF!"}},{"$f":"AND(#REF!,\"AAAAAB/18es=\")","v":{"$error":"#REF!"}},{"$f":"AND(#REF!,\"AAAAAB/18ew=\")","v":{"$error":"#REF!"}},{"$f":"AND(#REF!,\"AAAAAB/18e0=\")","v":{"$error":"#REF!"}},{"$f":"AND(#REF!,\"AAAAAB/18e4=\")","v":{"$error":"#REF!"}},{"$f":"AND(#REF!,\"AAAAAB/18e8=\")","v":{"$error":"#REF!"}},{"$f":"AND(#REF!,\"AAAAAB/18fA=\")","v":{"$error":"#REF!"}},{"$f":"AND(#REF!,\"AAAAAB/18fE=\")","v":{"$error":"#REF!"}},{"$f":"AND(#REF!,\"AAAAAB/18fI=\")","v":{"$error":"#REF!"}},{"$f":"AND(#REF!,\"AAAAAB/18fM=\")","v":{"$error":"#REF!"}},{"$f":"AND(#REF!,\"AAAAAB/18fQ=\")","v":{"$error":"#REF!"}},{"$f":"AND(#REF!,\"AAAAAB/18fU=\")","v":{"$error":"#REF!"}},{"$f":"AND(#REF!,\"AAAAAB/18fY=\")","v":{"$error":"#REF!"}},{"$f":"AND(#REF!,\"AAAAAB/18fc=\")","v":{"$error":"#REF!"}},{"$f":"AND(#REF!,\"AAAAAB/18fg=\")","v":{"$error":"#REF!"}},{"$f":"AND(#REF!,\"AAAAAB/18fk=\")","v":{"$error":"#REF!"}},{"$f":"AND(#REF!,\"AAAAAB/18fo=\")","v":{"$error":"#REF!"}},{"$f":"AND(#REF!,\"AAAAAB/18fs=\")","v":{"$error":"#REF!"}},{"$f":"AND(#REF!,\"AAAAAB/18fw=\")","v":{"$error":"#REF!"}},{"$f":"AND(#REF!,\"AAAAAB/18f0=\")","v":{"$error":"#REF!"}},{"$f":"AND(#REF!,\"AAAAAB/18f4=\")","v":{"$error":"#REF!"}},{"$f":"AND(#REF!,\"AAAAAB/18f8=\")","v":{"$error":"#REF!"}}]
[{"$f":"AND(#REF!,\"AAAAAB/v9QA=\")","v":{"$error":"#REF!"}},{"$f":"AND(#REF!,\"AAAAAB/v9QE=\")","v":{"$error":"#REF!"}},{"$f":"AND(#REF!,\"AAAAAB/v9QI=\")","v":{"$error":"#REF!"}},{"$f":"AND(#REF!,\"AAAAAB/v9QM=\")","v":{"$error":"#REF!"}},{"$f":"AND(#REF!,\"AAAAAB/v9QQ=\")","v":{"$error":"#REF!"}},{"$f":"AND(#REF!,\"AAAAAB/v9QU=\")","v":{"$error":"#REF!"}},{"$f":"AND(#REF!,\"AAAAAB/v9QY=\")","v":{"$error":"#REF!"}},{"$f":"AND(#REF!,\"AAAAAB/v9Qc=\")","v":{"$error":"#REF!"}},{"$f":"AND(#REF!,\"AAAAAB/v9Qg=\")","v":{"$error":"#REF!"}},{"$f":"AND(#REF!,\"AAAAAB/v9Qk=\")","v":{"$error":"#REF!"}},{"$f":"IF(#REF!,\"AAAAAB/v9Qo=\",0)","v":{"$error":"#REF!"}},{"$f":"AND(#REF!,\"AAAAAB/v9Qs=\")","v":{"$error":"#REF!"}},{"$f":"AND(#REF!,\"AAAAAB/v9Qw=\")","v":{"$error":"#REF!"}},{"$f":"AND(#REF!,\"AAAAAB/v9Q0=\")","v":{"$error":"#REF!"}},{"$f":"AND(#REF!,\"AAAAAB/v9Q4=\")","v":{"$error":"#REF!"}},{"$f":"AND(#REF!,\"AAAAAB/v9Q8=\")","v":{"$error":"#REF!"}},{"$f":"AND(#REF!,\"AAAAAB/v9RA=\")","v":{"$error":"#REF!"}},{"$f":"AND(#REF!,\"AAAAAB/v9RE=\")","v":{"$error":"#REF!"}},{"$f":"AND(#REF!,\"AAAAAB/v9RI=\")","v":{"$error":"#REF!"}},{"$f":"AND(#REF!,\"AAAAAB/v9RM=\")","v":{"$error":"#REF!"}},{"$f":"AND(#REF!,\"AAAAAB/v9RQ=\")","v":{"$error":"#REF!"}},{"$f":"AND(#REF!,\"AAAAAB/v9RU=\")","v":{"$error":"#REF!"}},{"$f":"AND(#REF!,\"AAAAAB/v9RY=\")","v":{"$error":"#REF!"}},{"$f":"AND(#REF!,\"AAAAAB/v9Rc=\")","v":{"$error":"#REF!"}},{"$f":"AND(#REF!,\"AAAAAB/v9Rg=\")","v":{"$error":"#REF!"}},{"$f":"AND(#REF!,\"AAAAAB/v9Rk=\")","v":{"$error":"#REF!"}},{"$f":"AND(#REF!,\"AAAAAB/v9Ro=\")","v":{"$error":"#REF!"}},{"$f":"AND(#REF!,\"AAAAAB/v9Rs=\")","v":{"$error":"#REF!"}},{"$f":"AND(#REF!,\"AAAAAB/v9Rw=\")","v":{"$error":"#REF!"}},{"$f":"AND(#REF!,\"AAAAAB/v9R0=\")","v":{"$error":"#REF!"}},{"$f":"AND(#REF!,\"AAAAAB/v9R4=\")","v":{"$error":"#REF!"}},{"$f":"AND(#REF!,\"AAAAAB/v9R8=\")","v":{"$error":"#REF!"}},{"$f":"AND(#REF!,\"AAAAAB/v9SA=\")","v":{"$error":"#REF!"}},{"$f":"AND(#REF!,\"AAAAAB/v9SE=\")","v":{"$error":"#REF!"}},{"$f":"AND(#REF!,\"AAAAAB/v9SI=\")","v":{"$error":"#REF!"}},{"$f":"AND(#REF!,\"AAAAAB/v9SM=\")","v":{"$error":"#REF!"}},{"$f":"AND(#REF!,\"AAAAAB/v9SQ=\")","v":{"$error":"#REF!"}},{"$f":"AND(#REF!,\"AAAAAB/v9SU=\")","v":{"$error":"#REF!"}},{"$f":"AND(#REF!,\"AAAAAB/v9SY=\")","v":{"$error":"#REF!"}},{"$f":"AND(#REF!,\"AAAAAB/v9Sc=\")","v":{"$error":"#REF!"}},{"$f":"AND(#REF!,\"AAAAAB/v9Sg=\")","v":{"$error":"#REF!"}},{"$f":"AND(#REF!,\"AAAAAB/v9Sk=\")","v":{"$error":"#REF!"}},{"$f":"AND(#REF!,\"AAAAAB/v9So=\")","v":{"$error":"#REF!"}},{"$f":"AND(#REF!,\"AAAAAB/v9Ss=\")","v":{"$error":"#REF!"}},{"$f":"IF(#REF!,\"AAAAAB/v9Sw=\",0)","v":{"$error":"#REF!"}},{"$f":"AND(#REF!,\"AAAAAB/v9S0=\")","v":{"$error":"#REF!"}},{"$f":"AND(#REF!,\"AAAAAB/v9S4=\")","v":{"$error":"#REF!"}},{"$f":"AND(#REF!,\"AAAAAB/v9S8=\")","v":{"$error":"#REF!"}},{"$f":"AND(#REF!,\"AAAAAB/v9TA=\")","v":{"$error":"#REF!"}},{"$f":"AND(#REF!,\"AAAAAB/v9TE=\")","v":{"$error":"#REF!"}},{"$f":"AND(#REF!,\"AAAAAB/v9TI=\")","v":{"$error":"#REF!"}},{"$f":"AND(#REF!,\"AAAAAB/v9TM=\")","v":{"$error":"#REF!"}},{"$f":"AND(#REF!,\"AAAAAB/v9TQ=\")","v":{"$error":"#REF!"}},{"$f":"AND(#REF!,\"AAAAAB/v9TU=\")","v":{"$error":"#REF!"}},{"$f":"AND(#REF!,\"AAAAAB/v9TY=\")","v":{"$error":"#REF!"}},{"$f":"AND(#REF!,\"AAAAAB/v9Tc=\")","v":{"$error":"#REF!"}},{"$f":"AND(#REF!,\"AAAAAB/v9Tg=\")","v":{"$error":"#REF!"}},{"$f":"AND(#REF!,\"AAAAAB/v9Tk=\")","v":{"$error":"#REF!"}},{"$f":"AND(#REF!,\"AAAAAB/v9To=\")","v":{"$error":"#REF!"}},{"$f":"AND(#REF!,\"AAAAAB/v9Ts=\")","v":{"$error":"#REF!"}},{"$f":"AND(#REF!,\"AAAAAB/v9Tw=\")","v":{"$error":"#REF!"}},{"$f":"AND(#REF!,\"AAAAAB/v9T0=\")","v":{"$error":"#REF!"}},{"$f":"AND(#REF!,\"AAAAAB/v9T4=\")","v":{"$error":"#REF!"}},{"$f":"AND(#REF!,\"AAAAAB/v9T8=\")","v":{"$error":"#REF!"}},{"$f":"AND(#REF!,\"AAAAAB/v9UA=\")","v":{"$error":"#REF!"}},{"$f":"AND(#REF!,\"AAAAAB/v9UE=\")","v":{"$error":"#REF!"}},{"$f":"AND(#REF!,\"AAAAAB/v9UI=\")","v":{"$error":"#REF!"}},{"$f":"AND(#REF!,\"AAAAAB/v9UM=\")","v":{"$error":"#REF!"}},{"$f":"AND(#REF!,\"AAAAAB/v9UQ=\")","v":{"$error":"#REF!"}},{"$f":"AND(#REF!,\"AAAAAB/v9UU=\")","v":{"$error":"#REF!"}},{"$f":"AND(#REF!,\"AAAAAB/v9UY=\")","v":{"$error":"#REF!"}},{"$f":"AND(#REF!,\"AAAAAB/v9Uc=\")","v":{"$error":"#REF!"}},{"$f":"AND(#REF!,\"AAAAAB/v9Ug=\")","v":{"$error":"#REF!"}},{"$f":"AND(#REF!,\"AAAAAB/v9Uk=\")","v":{"$error":"#REF!"}},{"$f":"AND(#REF!,\"AAAAAB/v9Uo=\")","v":{"$error":"#REF!"}},{"$f":"AND(#REF!,\"AAAAAB/v9Us=\")","v":{"$error":"#REF!"}},{"$f":"AND(#REF!,\"AAAAAB/v9Uw=\")","v":{"$error":"#REF!"}},{"$f":"AND(#REF!,\"AAAAAB/v9U0=\")","v":{"$error":"#REF!"}},{"$f":"IF(#REF!,\"AAAAAB/v9U4=\",0)","v":{"$error":"#REF!"}},{"$f":"AND(#REF!,\"AAAAAB/v9U8=\")","v":{"$error":"#REF!"}},{"$f":"AND(#REF!,\"AAAAAB/v9VA=\")","v":{"$error":"#REF!"}},{"$f":"AND(#REF!,\"AAAAAB/v9VE=\")","v":{"$error":"#REF!"}},{"$f":"AND(#REF!,\"AAAAAB/v9VI=\")","v":{"$error":"#REF!"}},{"$f":"AND(#REF!,\"AAAAAB/v9VM=\")","v":{"$error":"#REF!"}},{"$f":"AND(#REF!,\"AAAAAB/v9VQ=\")","v":{"$error":"#REF!"}},{"$f":"AND(#REF!,\"AAAAAB/v9VU=\")","v":{"$error":"#REF!"}},{"$f":"AND(#REF!,\"AAAAAB/v9VY=\")","v":{"$error":"#REF!"}},{"$f":"AND(#REF!,\"AAAAAB/v9Vc=\")","v":{"$error":"#REF!"}},{"$f":"AND(#REF!,\"AAAAAB/v9Vg=\")","v":{"$error":"#REF!"}},{"$f":"AND(#REF!,\"AAAAAB/v9Vk=\")","v":{"$error":"#REF!"}},{"$f":"AND(#REF!,\"AAAAAB/v9Vo=\")","v":{"$error":"#REF!"}},{"$f":"AND(#REF!,\"AAAAAB/v9Vs=\")","v":{"$error":"#REF!"}},{"$f":"AND(#REF!,\"AAAAAB/v9Vw=\")","v":{"$error":"#REF!"}},{"$f":"AND(#REF!,\"AAAAAB/v9V0=\")","v":{"$error":"#REF!"}},{"$f":"AND(#REF!,\"AAAAAB/v9V4=\")","v":{"$error":"#REF!"}},{"$f":"AND(#REF!,\"AAAAAB/v9V8=\")","v":{"$error":"#REF!"}},{"$f":"AND(#REF!,\"AAAAAB/v9WA=\")","v":{"$error":"#REF!"}},{"$f":"AND(#REF!,\"AAAAAB/v9WE=\")","v":{"$error":"#REF!"}},{"$f":"AND(#REF!,\"AAAAAB/v9WI=\")","v":{"$error":"#REF!"}},{"$f":"AND(#REF!,\"AAAAAB/v9WM=\")","v":{"$error":"#REF!"}},{"$f":"AND(#REF!,\"AAAAAB/v9WQ=\")","v":{"$error":"#REF!"}},{"$f":"AND(#REF!,\"AAAAAB/v9WU=\")","v":{"$error":"#REF!"}},{"$f":"AND(#REF!,\"AAAAAB/v9WY=\")","v":{"$error":"#REF!"}},{"$f":"AND(#REF!,\"AAAAAB/v9Wc=\")","v":{"$error":"#REF!"}},{"$f":"AND(#REF!,\"AAAAAB/v9Wg=\")","v":{"$error":"#REF!"}},{"$f":"AND(#REF!,\"AAAAAB/v9Wk=\")","v":{"$error":"#REF!"}},{"$f":"AND(#REF!,\"AAAAAB/v9Wo=\")","v":{"$error":"#REF!"}},{"$f":"AND(#REF!,\"AAAAAB/v9Ws=\")","v":{"$error":"#REF!"}},{"$f":"AND(#REF!,\"AAAAAB/v9Ww=\")","v":{"$error":"#REF!"}},{"$f":"AND(#REF!,\"AAAAAB/v9W0=\")","v":{"$error":"#REF!"}},{"$f":"AND(#REF!,\"AAAAAB/v9W4=\")","v":{"$error":"#REF!"}},{"$f":"AND(#REF!,\"AAAAAB/v9W8=\")","v":{"$error":"#REF!"}},{"$f":"IF(#REF!,\"AAAAAB/v9XA=\",0)","v":{"$error":"#REF!"}},{"$f":"AND(#REF!,\"AAAAAB/v9XE=\")","v":{"$error":"#REF!"}},{"$f":"AND(#REF!,\"AAAAAB/v9XI=\")","v":{"$error":"#REF!"}},{"$f":"AND(#REF!,\"AAAAAB/v9XM=\")","v":{"$error":"#REF!"}},{"$f":"AND(#REF!,\"AAAAAB/v9XQ=\")","v":{"$error":"#REF!"}},{"$f":"AND(#REF!,\"AAAAAB/v9XU=\")","v":{"$error":"#REF!"}},{"$f":"AND(#REF!,\"AAAAAB/v9XY=\")","v":{"$error":"#REF!"}},{"$f":"AND(#REF!,\"AAAAAB/v9Xc=\")","v":{"$error":"#REF!"}},{"$f":"AND(#REF!,\"AAAAAB/v9Xg=\")","v":{"$error":"#REF!"}},{"$f":"AND(#REF!,\"AAAAAB/v9Xk=\")","v":{"$error":"#REF!"}},{"$f":"AND(#REF!,\"AAAAAB/v9Xo=\")","v":{"$error":"#REF!"}},{"$f":"AND(#REF!,\"AAAAAB/v9Xs=\")","v":{"$error":"#REF!"}},{"$f":"AND(#REF!,\"AAAAAB/v9Xw=\")","v":{"$error":"#REF!"}},{"$f":"AND(#REF!,\"AAAAAB/v9X0=\")","v":{"$error":"#REF!"}},{"$f":"AND(#REF!,\"AAAAAB/v9X4=\")","v":{"$error":"#REF!"}},{"$f":"AND(#REF!,\"AAAAAB/v9X8=\")","v":{"$error":"#REF!"}},{"$f":"AND(#REF!,\"AAAAAB/v9YA=\")","v":{"$error":"#REF!"}},{"$f":"AND(#REF!,\"AAAAAB/v9YE=\")","v":{"$error":"#REF!"}},{"$f":"AND(#REF!,\"AAAAAB/v9YI=\")","v":{"$error":"#REF!"}},{"$f":"AND(#REF!,\"AAAAAB/v9YM=\")","v":{"$error":"#REF!"}},{"$f":"AND(#REF!,\"AAAAAB/v9YQ=\")","v":{"$error":"#REF!"}},{"$f":"AND(#REF!,\"AAAAAB/v9YU=\")","v":{"$error":"#REF!"}},{"$f":"AND(#REF!,\"AAAAAB/v9YY=\")","v":{"$error":"#REF!"}},{"$f":"AND(#REF!,\"AAAAAB/v9Yc=\")","v":{"$error":"#REF!"}},{"$f":"AND(#REF!,\"AAAAAB/v9Yg=\")","v":{"$error":"#REF!"}},{"$f":"AND(#REF!,\"AAAAAB/v9Yk=\")","v":{"$error":"#REF!"}},{"$f":"AND(#REF!,\"AAAAAB/v9Yo=\")","v":{"$error":"#REF!"}},{"$f":"AND(#REF!,\"AAAAAB/v9Ys=\")","v":{"$error":"#REF!"}},{"$f":"AND(#REF!,\"AAAAAB/v9Yw=\")","v":{"$error":"#REF!"}},{"$f":"AND(#REF!,\"AAAAAB/v9Y0=\")","v":{"$error":"#REF!"}},{"$f":"AND(#REF!,\"AAAAAB/v9Y4=\")","v":{"$error":"#REF!"}},{"$f":"AND(#REF!,\"AAAAAB/v9Y8=\")","v":{"$error":"#REF!"}},{"$f":"AND(#REF!,\"AAAAAB/v9ZA=\")","v":{"$error":"#REF!"}},{"$f":"AND(#REF!,\"AAAAAB/v9ZE=\")","v":{"$error":"#REF!"}},{"$f":"IF(#REF!,\"AAAAAB/v9ZI=\",0)","v":{"$error":"#REF!"}},{"$f":"AND(#REF!,\"AAAAAB/v9ZM=\")","v":{"$error":"#REF!"}},{"$f":"AND(#REF!,\"AAAAAB/v9ZQ=\")","v":{"$error":"#REF!"}},{"$f":"AND(#REF!,\"AAAAAB/v9ZU=\")","v":{"$error":"#REF!"}},{"$f":"AND(#REF!,\"AAAAAB/v9ZY=\")","v":{"$error":"#REF!"}},{"$f":"AND(#REF!,\"AAAAAB/v9Zc=\")","v":{"$error":"#REF!"}},{"$f":"AND(#REF!,\"AAAAAB/v9Zg=\")","v":{"$error":"#REF!"}},{"$f":"AND(#REF!,\"AAAAAB/v9Zk=\")","v":{"$error":"#REF!"}},{"$f":"AND(#REF!,\"AAAAAB/v9Zo=\")","v":{"$error":"#REF!"}},{"$f":"AND(#REF!,\"AAAAAB/v9Zs=\")","v":{"$error":"#REF!"}},{"$f":"AND(#REF!,\"AAAAAB/v9Zw=\")","v":{"$error":"#REF!"}},{"$f":"AND(#REF!,\"AAAAAB/v9Z0=\")","v":{"$error":"#REF!"}},{"$f":"AND(#REF!,\"AAAAAB/v9Z4=\")","v":{"$error":"#REF!"}},{"$f":"AND(#REF!,\"AAAAAB/v9Z8=\")","v":{"$error":"#REF!"}},{"$f":"AND(#REF!,\"AAAAAB/v9aA=\")","v":{"$error":"#REF!"}},{"$f":"AND(#REF!,\"AAAAAB/v9aE=\")","v":{"$error":"#REF!"}},{"$f":"AND(#REF!,\"AAAAAB/v9aI=\")","v":{"$error":"#REF!"}},{"$f":"AND(#REF!,\"AAAAAB/v9aM=\")","v":{"$error":"#REF!"}},{"$f":"AND(#REF!,\"AAAAAB/v9aQ=\")","v":{"$error":"#REF!"}},{"$f":"AND(#REF!,\"AAAAAB/v9aU=\")","v":{"$error":"#REF!"}},{"$f":"AND(#REF!,\"AAAAAB/v9aY=\")","v":{"$error":"#REF!"}},{"$f":"AND(#REF!,\"AAAAAB/v9ac=\")","v":{"$error":"#REF!"}},{"$f":"AND(#REF!,\"AAAAAB/v9ag=\")","v":{"$error":"#REF!"}},{"$f":"AND(#REF!,\"AAAAAB/v9ak=\")","v":{"$error":"#REF!"}},{"$f":"AND(#REF!,\"AAAAAB/v9ao=\")","v":{"$error":"#REF!"}},{"$f":"AND(#REF!,\"AAAAAB/v9as=\")","v":{"$error":"#REF!"}},{"$f":"AND(#REF!,\"AAAAAB/v9aw=\")","v":{"$error":"#REF!"}},{"$f":"AND(#REF!,\"AAAAAB/v9a0=\")","v":{"$error":"#REF!"}},{"$f":"AND(#REF!,\"AAAAAB/v9a4=\")","v":{"$error":"#REF!"}},{"$f":"AND(#REF!,\"AAAAAB/v9a8=\")","v":{"$error":"#REF!"}},{"$f":"AND(#REF!,\"AAAAAB/v9bA=\")","v":{"$error":"#REF!"}},{"$f":"AND(#REF!,\"AAAAAB/v9bE=\")","v":{"$error":"#REF!"}},{"$f":"AND(#REF!,\"AAAAAB/v9bI=\")","v":{"$error":"#REF!"}},{"$f":"AND(#REF!,\"AAAAAB/v9bM=\")","v":{"$error":"#REF!"}},{"$f":"IF(#REF!,\"AAAAAB/v9bQ=\",0)","v":{"$error":"#REF!"}},{"$f":"AND(#REF!,\"AAAAAB/v9bU=\")","v":{"$error":"#REF!"}},{"$f":"AND(#REF!,\"AAAAAB/v9bY=\")","v":{"$error":"#REF!"}},{"$f":"AND(#REF!,\"AAAAAB/v9bc=\")","v":{"$error":"#REF!"}},{"$f":"AND(#REF!,\"AAAAAB/v9bg=\")","v":{"$error":"#REF!"}},{"$f":"AND(#REF!,\"AAAAAB/v9bk=\")","v":{"$error":"#REF!"}},{"$f":"AND(#REF!,\"AAAAAB/v9bo=\")","v":{"$error":"#REF!"}},{"$f":"AND(#REF!,\"AAAAAB/v9bs=\")","v":{"$error":"#REF!"}},{"$f":"AND(#REF!,\"AAAAAB/v9bw=\")","v":{"$error":"#REF!"}},{"$f":"AND(#REF!,\"AAAAAB/v9b0=\")","v":{"$error":"#REF!"}},{"$f":"AND(#REF!,\"AAAAAB/v9b4=\")","v":{"$error":"#REF!"}},{"$f":"AND(#REF!,\"AAAAAB/v9b8=\")","v":{"$error":"#REF!"}},{"$f":"AND(#REF!,\"AAAAAB/v9cA=\")","v":{"$error":"#REF!"}},{"$f":"AND(#REF!,\"AAAAAB/v9cE=\")","v":{"$error":"#REF!"}},{"$f":"AND(#REF!,\"AAAAAB/v9cI=\")","v":{"$error":"#REF!"}},{"$f":"AND(#REF!,\"AAAAAB/v9cM=\")","v":{"$error":"#REF!"}},{"$f":"AND(#REF!,\"AAAAAB/v9cQ=\")","v":{"$error":"#REF!"}},{"$f":"AND(#REF!,\"AAAAAB/v9cU=\")","v":{"$error":"#REF!"}},{"$f":"AND(#REF!,\"AAAAAB/v9cY=\")","v":{"$error":"#REF!"}},{"$f":"AND(#REF!,\"AAAAAB/v9cc=\")","v":{"$error":"#REF!"}},{"$f":"AND(#REF!,\"AAAAAB/v9cg=\")","v":{"$error":"#REF!"}},{"$f":"AND(#REF!,\"AAAAAB/v9ck=\")","v":{"$error":"#REF!"}},{"$f":"AND(#REF!,\"AAAAAB/v9co=\")","v":{"$error":"#REF!"}},{"$f":"AND(#REF!,\"AAAAAB/v9cs=\")","v":{"$error":"#REF!"}},{"$f":"AND(#REF!,\"AAAAAB/v9cw=\")","v":{"$error":"#REF!"}},{"$f":"AND(#REF!,\"AAAAAB/v9c0=\")","v":{"$error":"#REF!"}},{"$f":"AND(#REF!,\"AAAAAB/v9c4=\")","v":{"$error":"#REF!"}},{"$f":"AND(#REF!,\"AAAAAB/v9c8=\")","v":{"$error":"#REF!"}},{"$f":"AND(#REF!,\"AAAAAB/v9dA=\")","v":{"$error":"#REF!"}},{"$f":"AND(#REF!,\"AAAAAB/v9dE=\")","v":{"$error":"#REF!"}},{"$f":"AND(#REF!,\"AAAAAB/v9dI=\")","v":{"$error":"#REF!"}},{"$f":"AND(#REF!,\"AAAAAB/v9dM=\")","v":{"$error":"#REF!"}},{"$f":"AND(#REF!,\"AAAAAB/v9dQ=\")","v":{"$error":"#REF!"}},{"$f":"AND(#REF!,\"AAAAAB/v9dU=\")","v":{"$error":"#REF!"}},{"$f":"IF(#REF!,\"AAAAAB/v9dY=\",0)","v":{"$error":"#REF!"}},{"$f":"AND(#REF!,\"AAAAAB/v9dc=\")","v":{"$error":"#REF!"}},{"$f":"AND(#REF!,\"AAAAAB/v9dg=\")","v":{"$error":"#REF!"}},{"$f":"AND(#REF!,\"AAAAAB/v9dk=\")","v":{"$error":"#REF!"}},{"$f":"AND(#REF!,\"AAAAAB/v9do=\")","v":{"$error":"#REF!"}},{"$f":"AND(#REF!,\"AAAAAB/v9ds=\")","v":{"$error":"#REF!"}},{"$f":"AND(#REF!,\"AAAAAB/v9dw=\")","v":{"$error":"#REF!"}},{"$f":"AND(#REF!,\"AAAAAB/v9d0=\")","v":{"$error":"#REF!"}},{"$f":"AND(#REF!,\"AAAAAB/v9d4=\")","v":{"$error":"#REF!"}},{"$f":"AND(#REF!,\"AAAAAB/v9d8=\")","v":{"$error":"#REF!"}},{"$f":"AND(#REF!,\"AAAAAB/v9eA=\")","v":{"$error":"#REF!"}},{"$f":"AND(#REF!,\"AAAAAB/v9eE=\")","v":{"$error":"#REF!"}},{"$f":"AND(#REF!,\"AAAAAB/v9eI=\")","v":{"$error":"#REF!"}},{"$f":"AND(#REF!,\"AAAAAB/v9eM=\")","v":{"$error":"#REF!"}},{"$f":"AND(#REF!,\"AAAAAB/v9eQ=\")","v":{"$error":"#REF!"}},{"$f":"AND(#REF!,\"AAAAAB/v9eU=\")","v":{"$error":"#REF!"}},{"$f":"AND(#REF!,\"AAAAAB/v9eY=\")","v":{"$error":"#REF!"}},{"$f":"AND(#REF!,\"AAAAAB/v9ec=\")","v":{"$error":"#REF!"}},{"$f":"AND(#REF!,\"AAAAAB/v9eg=\")","v":{"$error":"#REF!"}},{"$f":"AND(#REF!,\"AAAAAB/v9ek=\")","v":{"$error":"#REF!"}},{"$f":"AND(#REF!,\"AAAAAB/v9eo=\")","v":{"$error":"#REF!"}},{"$f":"AND(#REF!,\"AAAAAB/v9es=\")","v":{"$error":"#REF!"}},{"$f":"AND(#REF!,\"AAAAAB/v9ew=\")","v":{"$error":"#REF!"}},{"$f":"AND(#REF!,\"AAAAAB/v9e0=\")","v":{"$error":"#REF!"}},{"$f":"AND(#REF!,\"AAAAAB/v9e4=\")","v":{"$error":"#REF!"}},{"$f":"AND(#REF!,\"AAAAAB/v9e8=\")","v":{"$error":"#REF!"}},{"$f":"AND(#REF!,\"AAAAAB/v9fA=\")","v":{"$error":"#REF!"}},{"$f":"AND(#REF!,\"AAAAAB/v9fE=\")","v":{"$error":"#REF!"}},{"$f":"AND(#REF!,\"AAAAAB/v9fI=\")","v":{"$error":"#REF!"}},{"$f":"AND(#REF!,\"AAAAAB/v9fM=\")","v":{"$error":"#REF!"}},{"$f":"AND(#REF!,\"AAAAAB/v9fQ=\")","v":{"$error":"#REF!"}},{"$f":"AND(#REF!,\"AAAAAB/v9fU=\")","v":{"$error":"#REF!"}},{"$f":"AND(#REF!,\"AAAAAB/v9fY=\")","v":{"$error":"#REF!"}},{"$f":"AND(#REF!,\"AAAAAB/v9fc=\")","v":{"$error":"#REF!"}},{"$f":"IF(#REF!,\"AAAAAB/v9fg=\",0)","v":{"$error":"#REF!"}},{"$f":"AND(#REF!,\"AAAAAB/v9fk=\")","v":{"$error":"#REF!"}},{"$f":"AND(#REF!,\"AAAAAB/v9fo=\")","v":{"$error":"#REF!"}},{"$f":"AND(#REF!,\"AAAAAB/v9fs=\")","v":{"$error":"#REF!"}},{"$f":"AND(#REF!,\"AAAAAB/v9fw=\")","v":{"$error":"#REF!"}},{"$f":"AND(#REF!,\"AAAAAB/v9f0=\")","v":{"$error":"#REF!"}},{"$f":"AND(#REF!,\"AAAAAB/v9f4=\")","v":{"$error":"#REF!"}},{"$f":"AND(#REF!,\"AAAAAB/v9f8=\")","v":{"$error":"#REF!"}}]
[{"$f":"AND(#REF!,\"AAAAAHXd7wA=\")","v":{"$error":"#REF!"}},{"$f":"AND(#REF!,\"AAAAAHXd7wE=\")","v":{"$error":"#REF!"}},{"$f":"AND(#REF!,\"AAAAAHXd7wI=\")","v":{"$error":"#REF!"}},{"$f":"AND(#REF!,\"AAAAAHXd7wM=\")","v":{"$error":"#REF!"}},{"$f":"AND(#REF!,\"AAAAAHXd7wQ=\")","v":{"$error":"#REF!"}},{"$f":"AND(#REF!,\"AAAAAHXd7wU=\")","v":{"$error":"#REF!"}},{"$f":"AND(#REF!,\"AAAAAHXd7wY=\")","v":{"$error":"#REF!"}},{"$f":"AND(#REF!,\"AAAAAHXd7wc=\")","v":{"$error":"#REF!"}},{"$f":"AND(#REF!,\"AAAAAHXd7wg=\")","v":{"$error":"#REF!"}},{"$f":"AND(#REF!,\"AAAAAHXd7wk=\")","v":{"$error":"#REF!"}},{"$f":"AND(#REF!,\"AAAAAHXd7wo=\")","v":{"$error":"#REF!"}},{"$f":"AND(#REF!,\"AAAAAHXd7ws=\")","v":{"$error":"#REF!"}},{"$f":"AND(#REF!,\"AAAAAHXd7ww=\")","v":{"$error":"#REF!"}},{"$f":"AND(#REF!,\"AAAAAHXd7w0=\")","v":{"$error":"#REF!"}},{"$f":"AND(#REF!,\"AAAAAHXd7w4=\")","v":{"$error":"#REF!"}},{"$f":"AND(#REF!,\"AAAAAHXd7w8=\")","v":{"$error":"#REF!"}},{"$f":"AND(#REF!,\"AAAAAHXd7xA=\")","v":{"$error":"#REF!"}},{"$f":"AND(#REF!,\"AAAAAHXd7xE=\")","v":{"$error":"#REF!"}},{"$f":"AND(#REF!,\"AAAAAHXd7xI=\")","v":{"$error":"#REF!"}},{"$f":"AND(#REF!,\"AAAAAHXd7xM=\")","v":{"$error":"#REF!"}},{"$f":"AND(#REF!,\"AAAAAHXd7xQ=\")","v":{"$error":"#REF!"}},{"$f":"AND(#REF!,\"AAAAAHXd7xU=\")","v":{"$error":"#REF!"}},{"$f":"AND(#REF!,\"AAAAAHXd7xY=\")","v":{"$error":"#REF!"}},{"$f":"AND(#REF!,\"AAAAAHXd7xc=\")","v":{"$error":"#REF!"}},{"$f":"AND(#REF!,\"AAAAAHXd7xg=\")","v":{"$error":"#REF!"}},{"$f":"AND(#REF!,\"AAAAAHXd7xk=\")","v":{"$error":"#REF!"}},{"$f":"IF(#REF!,\"AAAAAHXd7xo=\",0)","v":{"$error":"#REF!"}},{"$f":"AND(#REF!,\"AAAAAHXd7xs=\")","v":{"$error":"#REF!"}},{"$f":"AND(#REF!,\"AAAAAHXd7xw=\")","v":{"$error":"#REF!"}},{"$f":"AND(#REF!,\"AAAAAHXd7x0=\")","v":{"$error":"#REF!"}},{"$f":"AND(#REF!,\"AAAAAHXd7x4=\")","v":{"$error":"#REF!"}},{"$f":"AND(#REF!,\"AAAAAHXd7x8=\")","v":{"$error":"#REF!"}},{"$f":"AND(#REF!,\"AAAAAHXd7yA=\")","v":{"$error":"#REF!"}},{"$f":"AND(#REF!,\"AAAAAHXd7yE=\")","v":{"$error":"#REF!"}},{"$f":"AND(#REF!,\"AAAAAHXd7yI=\")","v":{"$error":"#REF!"}},{"$f":"AND(#REF!,\"AAAAAHXd7yM=\")","v":{"$error":"#REF!"}},{"$f":"AND(#REF!,\"AAAAAHXd7yQ=\")","v":{"$error":"#REF!"}},{"$f":"AND(#REF!,\"AAAAAHXd7yU=\")","v":{"$error":"#REF!"}},{"$f":"AND(#REF!,\"AAAAAHXd7yY=\")","v":{"$error":"#REF!"}},{"$f":"AND(#REF!,\"AAAAAHXd7yc=\")","v":{"$error":"#REF!"}},{"$f":"AND(#REF!,\"AAAAAHXd7yg=\")","v":{"$error":"#REF!"}},{"$f":"AND(#REF!,\"AAAAAHXd7yk=\")","v":{"$error":"#REF!"}},{"$f":"AND(#REF!,\"AAAAAHXd7yo=\")","v":{"$error":"#REF!"}},{"$f":"AND(#REF!,\"AAAAAHXd7ys=\")","v":{"$error":"#REF!"}},{"$f":"AND(#REF!,\"AAAAAHXd7yw=\")","v":{"$error":"#REF!"}},{"$f":"AND(#REF!,\"AAAAAHXd7y0=\")","v":{"$error":"#REF!"}},{"$f":"AND(#REF!,\"AAAAAHXd7y4=\")","v":{"$error":"#REF!"}},{"$f":"AND(#REF!,\"AAAAAHXd7y8=\")","v":{"$error":"#REF!"}},{"$f":"AND(#REF!,\"AAAAAHXd7zA=\")","v":{"$error":"#REF!"}},{"$f":"AND(#REF!,\"AAAAAHXd7zE=\")","v":{"$error":"#REF!"}},{"$f":"AND(#REF!,\"AAAAAHXd7zI=\")","v":{"$error":"#REF!"}},{"$f":"AND(#REF!,\"AAAAAHXd7zM=\")","v":{"$error":"#REF!"}},{"$f":"AND(#REF!,\"AAAAAHXd7zQ=\")","v":{"$error":"#REF!"}},{"$f":"AND(#REF!,\"AAAAAHXd7zU=\")","v":{"$error":"#REF!"}},{"$f":"AND(#REF!,\"AAAAAHXd7zY=\")","v":{"$error":"#REF!"}},{"$f":"AND(#REF!,\"AAAAAHXd7zc=\")","v":{"$error":"#REF!"}},{"$f":"AND(#REF!,\"AAAAAHXd7zg=\")","v":{"$error":"#REF!"}},{"$f":"AND(#REF!,\"AAAAAHXd7zk=\")","v":{"$error":"#REF!"}},{"$f":"AND(#REF!,\"AAAAAHXd7zo=\")","v":{"$error":"#REF!"}},{"$f":"AND(#REF!,\"AAAAAHXd7zs=\")","v":{"$error":"#REF!"}},{"$f":"IF(#REF!,\"AAAAAHXd7zw=\",0)","v":{"$error":"#REF!"}},{"$f":"AND(#REF!,\"AAAAAHXd7z0=\")","v":{"$error":"#REF!"}},{"$f":"AND(#REF!,\"AAAAAHXd7z4=\")","v":{"$error":"#REF!"}},{"$f":"AND(#REF!,\"AAAAAHXd7z8=\")","v":{"$error":"#REF!"}},{"$f":"AND(#REF!,\"AAAAAHXd70A=\")","v":{"$error":"#REF!"}},{"$f":"AND(#REF!,\"AAAAAHXd70E=\")","v":{"$error":"#REF!"}},{"$f":"AND(#REF!,\"AAAAAHXd70I=\")","v":{"$error":"#REF!"}},{"$f":"AND(#REF!,\"AAAAAHXd70M=\")","v":{"$error":"#REF!"}},{"$f":"AND(#REF!,\"AAAAAHXd70Q=\")","v":{"$error":"#REF!"}},{"$f":"AND(#REF!,\"AAAAAHXd70U=\")","v":{"$error":"#REF!"}},{"$f":"AND(#REF!,\"AAAAAHXd70Y=\")","v":{"$error":"#REF!"}},{"$f":"AND(#REF!,\"AAAAAHXd70c=\")","v":{"$error":"#REF!"}},{"$f":"AND(#REF!,\"AAAAAHXd70g=\")","v":{"$error":"#REF!"}},{"$f":"AND(#REF!,\"AAAAAHXd70k=\")","v":{"$error":"#REF!"}},{"$f":"AND(#REF!,\"AAAAAHXd70o=\")","v":{"$error":"#REF!"}},{"$f":"AND(#REF!,\"AAAAAHXd70s=\")","v":{"$error":"#REF!"}},{"$f":"AND(#REF!,\"AAAAAHXd70w=\")","v":{"$error":"#REF!"}},{"$f":"AND(#REF!,\"AAAAAHXd700=\")","v":{"$error":"#REF!"}},{"$f":"AND(#REF!,\"AAAAAHXd704=\")","v":{"$error":"#REF!"}},{"$f":"AND(#REF!,\"AAAAAHXd708=\")","v":{"$error":"#REF!"}},{"$f":"AND(#REF!,\"AAAAAHXd71A=\")","v":{"$error":"#REF!"}},{"$f":"AND(#REF!,\"AAAAAHXd71E=\")","v":{"$error":"#REF!"}},{"$f":"AND(#REF!,\"AAAAAHXd71I=\")","v":{"$error":"#REF!"}},{"$f":"AND(#REF!,\"AAAAAHXd71M=\")","v":{"$error":"#REF!"}},{"$f":"AND(#REF!,\"AAAAAHXd71Q=\")","v":{"$error":"#REF!"}},{"$f":"AND(#REF!,\"AAAAAHXd71U=\")","v":{"$error":"#REF!"}},{"$f":"AND(#REF!,\"AAAAAHXd71Y=\")","v":{"$error":"#REF!"}},{"$f":"AND(#REF!,\"AAAAAHXd71c=\")","v":{"$error":"#REF!"}},{"$f":"AND(#REF!,\"AAAAAHXd71g=\")","v":{"$error":"#REF!"}},{"$f":"AND(#REF!,\"AAAAAHXd71k=\")","v":{"$error":"#REF!"}},{"$f":"AND(#REF!,\"AAAAAHXd71o=\")","v":{"$error":"#REF!"}},{"$f":"AND(#REF!,\"AAAAAHXd71s=\")","v":{"$error":"#REF!"}},{"$f":"AND(#REF!,\"AAAAAHXd71w=\")","v":{"$error":"#REF!"}},{"$f":"AND(#REF!,\"AAAAAHXd710=\")","v":{"$error":"#REF!"}},{"$f":"IF(#REF!,\"AAAAAHXd714=\",0)","v":{"$error":"#REF!"}},{"$f":"AND(#REF!,\"AAAAAHXd718=\")","v":{"$error":"#REF!"}},{"$f":"AND(#REF!,\"AAAAAHXd72A=\")","v":{"$error":"#REF!"}},{"$f":"AND(#REF!,\"AAAAAHXd72E=\")","v":{"$error":"#REF!"}},{"$f":"AND(#REF!,\"AAAAAHXd72I=\")","v":{"$error":"#REF!"}},{"$f":"AND(#REF!,\"AAAAAHXd72M=\")","v":{"$error":"#REF!"}},{"$f":"AND(#REF!,\"AAAAAHXd72Q=\")","v":{"$error":"#REF!"}},{"$f":"AND(#REF!,\"AAAAAHXd72U=\")","v":{"$error":"#REF!"}},{"$f":"AND(#REF!,\"AAAAAHXd72Y=\")","v":{"$error":"#REF!"}},{"$f":"AND(#REF!,\"AAAAAHXd72c=\")","v":{"$error":"#REF!"}},{"$f":"AND(#REF!,\"AAAAAHXd72g=\")","v":{"$error":"#REF!"}},{"$f":"AND(#REF!,\"AAAAAHXd72k=\")","v":{"$error":"#REF!"}},{"$f":"AND(#REF!,\"AAAAAHXd72o=\")","v":{"$error":"#REF!"}},{"$f":"AND(#REF!,\"AAAAAHXd72s=\")","v":{"$error":"#REF!"}},{"$f":"AND(#REF!,\"AAAAAHXd72w=\")","v":{"$error":"#REF!"}},{"$f":"AND(#REF!,\"AAAAAHXd720=\")","v":{"$error":"#REF!"}},{"$f":"AND(#REF!,\"AAAAAHXd724=\")","v":{"$error":"#REF!"}},{"$f":"AND(#REF!,\"AAAAAHXd728=\")","v":{"$error":"#REF!"}},{"$f":"AND(#REF!,\"AAAAAHXd73A=\")","v":{"$error":"#REF!"}},{"$f":"AND(#REF!,\"AAAAAHXd73E=\")","v":{"$error":"#REF!"}},{"$f":"AND(#REF!,\"AAAAAHXd73I=\")","v":{"$error":"#REF!"}},{"$f":"AND(#REF!,\"AAAAAHXd73M=\")","v":{"$error":"#REF!"}},{"$f":"AND(#REF!,\"AAAAAHXd73Q=\")","v":{"$error":"#REF!"}},{"$f":"AND(#REF!,\"AAAAAHXd73U=\")","v":{"$error":"#REF!"}},{"$f":"AND(#REF!,\"AAAAAHXd73Y=\")","v":{"$error":"#REF!"}},{"$f":"AND(#REF!,\"AAAAAHXd73c=\")","v":{"$error":"#REF!"}},{"$f":"AND(#REF!,\"AAAAAHXd73g=\")","v":{"$error":"#REF!"}},{"$f":"AND(#REF!,\"AAAAAHXd73k=\")","v":{"$error":"#REF!"}},{"$f":"AND(#REF!,\"AAAAAHXd73o=\")","v":{"$error":"#REF!"}},{"$f":"AND(#REF!,\"AAAAAHXd73s=\")","v":{"$error":"#REF!"}},{"$f":"AND(#REF!,\"AAAAAHXd73w=\")","v":{"$error":"#REF!"}},{"$f":"AND(#REF!,\"AAAAAHXd730=\")","v":{"$error":"#REF!"}},{"$f":"AND(#REF!,\"AAAAAHXd734=\")","v":{"$error":"#REF!"}},{"$f":"AND(#REF!,\"AAAAAHXd738=\")","v":{"$error":"#REF!"}},{"$f":"IF(#REF!,\"AAAAAHXd74A=\",0)","v":{"$error":"#REF!"}},{"$f":"AND(#REF!,\"AAAAAHXd74E=\")","v":{"$error":"#REF!"}},{"$f":"AND(#REF!,\"AAAAAHXd74I=\")","v":{"$error":"#REF!"}},{"$f":"AND(#REF!,\"AAAAAHXd74M=\")","v":{"$error":"#REF!"}},{"$f":"AND(#REF!,\"AAAAAHXd74Q=\")","v":{"$error":"#REF!"}},{"$f":"AND(#REF!,\"AAAAAHXd74U=\")","v":{"$error":"#REF!"}},{"$f":"AND(#REF!,\"AAAAAHXd74Y=\")","v":{"$error":"#REF!"}},{"$f":"AND(#REF!,\"AAAAAHXd74c=\")","v":{"$error":"#REF!"}},{"$f":"AND(#REF!,\"AAAAAHXd74g=\")","v":{"$error":"#REF!"}},{"$f":"AND(#REF!,\"AAAAAHXd74k=\")","v":{"$error":"#REF!"}},{"$f":"AND(#REF!,\"AAAAAHXd74o=\")","v":{"$error":"#REF!"}},{"$f":"AND(#REF!,\"AAAAAHXd74s=\")","v":{"$error":"#REF!"}},{"$f":"AND(#REF!,\"AAAAAHXd74w=\")","v":{"$error":"#REF!"}},{"$f":"AND(#REF!,\"AAAAAHXd740=\")","v":{"$error":"#REF!"}},{"$f":"AND(#REF!,\"AAAAAHXd744=\")","v":{"$error":"#REF!"}},{"$f":"AND(#REF!,\"AAAAAHXd748=\")","v":{"$error":"#REF!"}},{"$f":"AND(#REF!,\"AAAAAHXd75A=\")","v":{"$error":"#REF!"}},{"$f":"AND(#REF!,\"AAAAAHXd75E=\")","v":{"$error":"#REF!"}},{"$f":"AND(#REF!,\"AAAAAHXd75I=\")","v":{"$error":"#REF!"}},{"$f":"AND(#REF!,\"AAAAAHXd75M=\")","v":{"$error":"#REF!"}},{"$f":"AND(#REF!,\"AAAAAHXd75Q=\")","v":{"$error":"#REF!"}},{"$f":"AND(#REF!,\"AAAAAHXd75U=\")","v":{"$error":"#REF!"}},{"$f":"AND(#REF!,\"AAAAAHXd75Y=\")","v":{"$error":"#REF!"}},{"$f":"AND(#REF!,\"AAAAAHXd75c=\")","v":{"$error":"#REF!"}},{"$f":"AND(#REF!,\"AAAAAHXd75g=\")","v":{"$error":"#REF!"}},{"$f":"AND(#REF!,\"AAAAAHXd75k=\")","v":{"$error":"#REF!"}},{"$f":"AND(#REF!,\"AAAAAHXd75o=\")","v":{"$error":"#REF!"}},{"$f":"AND(#REF!,\"AAAAAHXd75s=\")","v":{"$error":"#REF!"}},{"$f":"AND(#REF!,\"AAAAAHXd75w=\")","v":{"$error":"#REF!"}},{"$f":"AND(#REF!,\"AAAAAHXd750=\")","v":{"$error":"#REF!"}},{"$f":"AND(#REF!,\"AAAAAHXd754=\")","v":{"$error":"#REF!"}},{"$f":"AND(#REF!,\"AAAAAHXd758=\")","v":{"$error":"#REF!"}},{"$f":"AND(#REF!,\"AAAAAHXd76A=\")","v":{"$error":"#REF!"}},{"$f":"AND(#REF!,\"AAAAAHXd76E=\")","v":{"$error":"#REF!"}},{"$f":"IF(#REF!,\"AAAAAHXd76I=\",0)","v":{"$error":"#REF!"}},{"$f":"AND(#REF!,\"AAAAAHXd76M=\")","v":{"$error":"#REF!"}},{"$f":"AND(#REF!,\"AAAAAHXd76Q=\")","v":{"$error":"#REF!"}},{"$f":"AND(#REF!,\"AAAAAHXd76U=\")","v":{"$error":"#REF!"}},{"$f":"AND(#REF!,\"AAAAAHXd76Y=\")","v":{"$error":"#REF!"}},{"$f":"AND(#REF!,\"AAAAAHXd76c=\")","v":{"$error":"#REF!"}},{"$f":"AND(#REF!,\"AAAAAHXd76g=\")","v":{"$error":"#REF!"}},{"$f":"AND(#REF!,\"AAAAAHXd76k=\")","v":{"$error":"#REF!"}},{"$f":"AND(#REF!,\"AAAAAHXd76o=\")","v":{"$error":"#REF!"}},{"$f":"AND(#REF!,\"AAAAAHXd76s=\")","v":{"$error":"#REF!"}},{"$f":"AND(#REF!,\"AAAAAHXd76w=\")","v":{"$error":"#REF!"}},{"$f":"AND(#REF!,\"AAAAAHXd760=\")","v":{"$error":"#REF!"}},{"$f":"AND(#REF!,\"AAAAAHXd764=\")","v":{"$error":"#REF!"}},{"$f":"AND(#REF!,\"AAAAAHXd768=\")","v":{"$error":"#REF!"}},{"$f":"AND(#REF!,\"AAAAAHXd77A=\")","v":{"$error":"#REF!"}},{"$f":"AND(#REF!,\"AAAAAHXd77E=\")","v":{"$error":"#REF!"}},{"$f":"AND(#REF!,\"AAAAAHXd77I=\")","v":{"$error":"#REF!"}},{"$f":"AND(#REF!,\"AAAAAHXd77M=\")","v":{"$error":"#REF!"}},{"$f":"AND(#REF!,\"AAAAAHXd77Q=\")","v":{"$error":"#REF!"}},{"$f":"AND(#REF!,\"AAAAAHXd77U=\")","v":{"$error":"#REF!"}},{"$f":"AND(#REF!,\"AAAAAHXd77Y=\")","v":{"$error":"#REF!"}},{"$f":"AND(#REF!,\"AAAAAHXd77c=\")","v":{"$error":"#REF!"}},{"$f":"AND(#REF!,\"AAAAAHXd77g=\")","v":{"$error":"#REF!"}},{"$f":"AND(#REF!,\"AAAAAHXd77k=\")","v":{"$error":"#REF!"}},{"$f":"AND(#REF!,\"AAAAAHXd77o=\")","v":{"$error":"#REF!"}},{"$f":"AND(#REF!,\"AAAAAHXd77s=\")","v":{"$error":"#REF!"}},{"$f":"AND(#REF!,\"AAAAAHXd77w=\")","v":{"$error":"#REF!"}},{"$f":"AND(#REF!,\"AAAAAHXd770=\")","v":{"$error":"#REF!"}},{"$f":"AND(#REF!,\"AAAAAHXd774=\")","v":{"$error":"#REF!"}},{"$f":"AND(#REF!,\"AAAAAHXd778=\")","v":{"$error":"#REF!"}},{"$f":"AND(#REF!,\"AAAAAHXd78A=\")","v":{"$error":"#REF!"}},{"$f":"AND(#REF!,\"AAAAAHXd78E=\")","v":{"$error":"#REF!"}},{"$f":"AND(#REF!,\"AAAAAHXd78I=\")","v":{"$error":"#REF!"}},{"$f":"AND(#REF!,\"AAAAAHXd78M=\")","v":{"$error":"#REF!"}},{"$f":"IF(#REF!,\"AAAAAHXd78Q=\",0)","v":{"$error":"#REF!"}},{"$f":"AND(#REF!,\"AAAAAHXd78U=\")","v":{"$error":"#REF!"}},{"$f":"AND(#REF!,\"AAAAAHXd78Y=\")","v":{"$error":"#REF!"}},{"$f":"AND(#REF!,\"AAAAAHXd78c=\")","v":{"$error":"#REF!"}},{"$f":"AND(#REF!,\"AAAAAHXd78g=\")","v":{"$error":"#REF!"}},{"$f":"AND(#REF!,\"AAAAAHXd78k=\")","v":{"$error":"#REF!"}},{"$f":"AND(#REF!,\"AAAAAHXd78o=\")","v":{"$error":"#REF!"}},{"$f":"AND(#REF!,\"AAAAAHXd78s=\")","v":{"$error":"#REF!"}},{"$f":"AND(#REF!,\"AAAAAHXd78w=\")","v":{"$error":"#REF!"}},{"$f":"AND(#REF!,\"AAAAAHXd780=\")","v":{"$error":"#REF!"}},{"$f":"AND(#REF!,\"AAAAAHXd784=\")","v":{"$error":"#REF!"}},{"$f":"AND(#REF!,\"AAAAAHXd788=\")","v":{"$error":"#REF!"}},{"$f":"AND(#REF!,\"AAAAAHXd79A=\")","v":{"$error":"#REF!"}},{"$f":"AND(#REF!,\"AAAAAHXd79E=\")","v":{"$error":"#REF!"}},{"$f":"AND(#REF!,\"AAAAAHXd79I=\")","v":{"$error":"#REF!"}},{"$f":"AND(#REF!,\"AAAAAHXd79M=\")","v":{"$error":"#REF!"}},{"$f":"AND(#REF!,\"AAAAAHXd79Q=\")","v":{"$error":"#REF!"}},{"$f":"AND(#REF!,\"AAAAAHXd79U=\")","v":{"$error":"#REF!"}},{"$f":"AND(#REF!,\"AAAAAHXd79Y=\")","v":{"$error":"#REF!"}},{"$f":"AND(#REF!,\"AAAAAHXd79c=\")","v":{"$error":"#REF!"}},{"$f":"AND(#REF!,\"AAAAAHXd79g=\")","v":{"$error":"#REF!"}},{"$f":"AND(#REF!,\"AAAAAHXd79k=\")","v":{"$error":"#REF!"}},{"$f":"AND(#REF!,\"AAAAAHXd79o=\")","v":{"$error":"#REF!"}},{"$f":"AND(#REF!,\"AAAAAHXd79s=\")","v":{"$error":"#REF!"}},{"$f":"AND(#REF!,\"AAAAAHXd79w=\")","v":{"$error":"#REF!"}},{"$f":"AND(#REF!,\"AAAAAHXd790=\")","v":{"$error":"#REF!"}},{"$f":"AND(#REF!,\"AAAAAHXd794=\")","v":{"$error":"#REF!"}},{"$f":"AND(#REF!,\"AAAAAHXd798=\")","v":{"$error":"#REF!"}},{"$f":"AND(#REF!,\"AAAAAHXd7+A=\")","v":{"$error":"#REF!"}},{"$f":"AND(#REF!,\"AAAAAHXd7+E=\")","v":{"$error":"#REF!"}},{"$f":"AND(#REF!,\"AAAAAHXd7+I=\")","v":{"$error":"#REF!"}},{"$f":"AND(#REF!,\"AAAAAHXd7+M=\")","v":{"$error":"#REF!"}},{"$f":"AND(#REF!,\"AAAAAHXd7+Q=\")","v":{"$error":"#REF!"}},{"$f":"AND(#REF!,\"AAAAAHXd7+U=\")","v":{"$error":"#REF!"}},{"$f":"IF(#REF!,\"AAAAAHXd7+Y=\",0)","v":{"$error":"#REF!"}},{"$f":"AND(#REF!,\"AAAAAHXd7+c=\")","v":{"$error":"#REF!"}},{"$f":"AND(#REF!,\"AAAAAHXd7+g=\")","v":{"$error":"#REF!"}},{"$f":"AND(#REF!,\"AAAAAHXd7+k=\")","v":{"$error":"#REF!"}},{"$f":"AND(#REF!,\"AAAAAHXd7+o=\")","v":{"$error":"#REF!"}},{"$f":"AND(#REF!,\"AAAAAHXd7+s=\")","v":{"$error":"#REF!"}},{"$f":"AND(#REF!,\"AAAAAHXd7+w=\")","v":{"$error":"#REF!"}},{"$f":"AND(#REF!,\"AAAAAHXd7+0=\")","v":{"$error":"#REF!"}},{"$f":"AND(#REF!,\"AAAAAHXd7+4=\")","v":{"$error":"#REF!"}},{"$f":"AND(#REF!,\"AAAAAHXd7+8=\")","v":{"$error":"#REF!"}},{"$f":"AND(#REF!,\"AAAAAHXd7/A=\")","v":{"$error":"#REF!"}},{"$f":"AND(#REF!,\"AAAAAHXd7/E=\")","v":{"$error":"#REF!"}},{"$f":"AND(#REF!,\"AAAAAHXd7/I=\")","v":{"$error":"#REF!"}},{"$f":"AND(#REF!,\"AAAAAHXd7/M=\")","v":{"$error":"#REF!"}},{"$f":"AND(#REF!,\"AAAAAHXd7/Q=\")","v":{"$error":"#REF!"}},{"$f":"AND(#REF!,\"AAAAAHXd7/U=\")","v":{"$error":"#REF!"}},{"$f":"AND(#REF!,\"AAAAAHXd7/Y=\")","v":{"$error":"#REF!"}},{"$f":"AND(#REF!,\"AAAAAHXd7/c=\")","v":{"$error":"#REF!"}},{"$f":"AND(#REF!,\"AAAAAHXd7/g=\")","v":{"$error":"#REF!"}},{"$f":"AND(#REF!,\"AAAAAHXd7/k=\")","v":{"$error":"#REF!"}},{"$f":"AND(#REF!,\"AAAAAHXd7/o=\")","v":{"$error":"#REF!"}},{"$f":"AND(#REF!,\"AAAAAHXd7/s=\")","v":{"$error":"#REF!"}},{"$f":"AND(#REF!,\"AAAAAHXd7/w=\")","v":{"$error":"#REF!"}},{"$f":"AND(#REF!,\"AAAAAHXd7/0=\")","v":{"$error":"#REF!"}},{"$f":"AND(#REF!,\"AAAAAHXd7/4=\")","v":{"$error":"#REF!"}},{"$f":"AND(#REF!,\"AAAAAHXd7/8=\")","v":{"$error":"#REF!"}}]
[{"$f":"AND(#REF!,\"AAAAAE7nuwA=\")","v":{"$error":"#REF!"}},{"$f":"AND(#REF!,\"AAAAAE7nuwE=\")","v":{"$error":"#REF!"}},{"$f":"AND(#REF!,\"AAAAAE7nuwI=\")","v":{"$error":"#REF!"}},{"$f":"AND(#REF!,\"AAAAAE7nuwM=\")","v":{"$error":"#REF!"}},{"$f":"AND(#REF!,\"AAAAAE7nuwQ=\")","v":{"$error":"#REF!"}},{"$f":"AND(#REF!,\"AAAAAE7nuwU=\")","v":{"$error":"#REF!"}},{"$f":"AND(#REF!,\"AAAAAE7nuwY=\")","v":{"$error":"#REF!"}},{"$f":"AND(#REF!,\"AAAAAE7nuwc=\")","v":{"$error":"#REF!"}},{"$f":"IF(#REF!,\"AAAAAE7nuwg=\",0)","v":{"$error":"#REF!"}},{"$f":"AND(#REF!,\"AAAAAE7nuwk=\")","v":{"$error":"#REF!"}},{"$f":"AND(#REF!,\"AAAAAE7nuwo=\")","v":{"$error":"#REF!"}},{"$f":"AND(#REF!,\"AAAAAE7nuws=\")","v":{"$error":"#REF!"}},{"$f":"AND(#REF!,\"AAAAAE7nuww=\")","v":{"$error":"#REF!"}},{"$f":"AND(#REF!,\"AAAAAE7nuw0=\")","v":{"$error":"#REF!"}},{"$f":"AND(#REF!,\"AAAAAE7nuw4=\")","v":{"$error":"#REF!"}},{"$f":"AND(#REF!,\"AAAAAE7nuw8=\")","v":{"$error":"#REF!"}},{"$f":"AND(#REF!,\"AAAAAE7nuxA=\")","v":{"$error":"#REF!"}},{"$f":"AND(#REF!,\"AAAAAE7nuxE=\")","v":{"$error":"#REF!"}},{"$f":"AND(#REF!,\"AAAAAE7nuxI=\")","v":{"$error":"#REF!"}},{"$f":"AND(#REF!,\"AAAAAE7nuxM=\")","v":{"$error":"#REF!"}},{"$f":"AND(#REF!,\"AAAAAE7nuxQ=\")","v":{"$error":"#REF!"}},{"$f":"AND(#REF!,\"AAAAAE7nuxU=\")","v":{"$error":"#REF!"}},{"$f":"AND(#REF!,\"AAAAAE7nuxY=\")","v":{"$error":"#REF!"}},{"$f":"AND(#REF!,\"AAAAAE7nuxc=\")","v":{"$error":"#REF!"}},{"$f":"AND(#REF!,\"AAAAAE7nuxg=\")","v":{"$error":"#REF!"}},{"$f":"AND(#REF!,\"AAAAAE7nuxk=\")","v":{"$error":"#REF!"}},{"$f":"AND(#REF!,\"AAAAAE7nuxo=\")","v":{"$error":"#REF!"}},{"$f":"AND(#REF!,\"AAAAAE7nuxs=\")","v":{"$error":"#REF!"}},{"$f":"AND(#REF!,\"AAAAAE7nuxw=\")","v":{"$error":"#REF!"}},{"$f":"AND(#REF!,\"AAAAAE7nux0=\")","v":{"$error":"#REF!"}},{"$f":"AND(#REF!,\"AAAAAE7nux4=\")","v":{"$error":"#REF!"}},{"$f":"AND(#REF!,\"AAAAAE7nux8=\")","v":{"$error":"#REF!"}},{"$f":"AND(#REF!,\"AAAAAE7nuyA=\")","v":{"$error":"#REF!"}},{"$f":"AND(#REF!,\"AAAAAE7nuyE=\")","v":{"$error":"#REF!"}},{"$f":"AND(#REF!,\"AAAAAE7nuyI=\")","v":{"$error":"#REF!"}},{"$f":"AND(#REF!,\"AAAAAE7nuyM=\")","v":{"$error":"#REF!"}},{"$f":"AND(#REF!,\"AAAAAE7nuyQ=\")","v":{"$error":"#REF!"}},{"$f":"AND(#REF!,\"AAAAAE7nuyU=\")","v":{"$error":"#REF!"}},{"$f":"AND(#REF!,\"AAAAAE7nuyY=\")","v":{"$error":"#REF!"}},{"$f":"AND(#REF!,\"AAAAAE7nuyc=\")","v":{"$error":"#REF!"}},{"$f":"AND(#REF!,\"AAAAAE7nuyg=\")","v":{"$error":"#REF!"}},{"$f":"AND(#REF!,\"AAAAAE7nuyk=\")","v":{"$error":"#REF!"}},{"$f":"IF(#REF!,\"AAAAAE7nuyo=\",0)","v":{"$error":"#REF!"}},{"$f":"AND(#REF!,\"AAAAAE7nuys=\")","v":{"$error":"#REF!"}},{"$f":"AND(#REF!,\"AAAAAE7nuyw=\")","v":{"$error":"#REF!"}},{"$f":"AND(#REF!,\"AAAAAE7nuy0=\")","v":{"$error":"#REF!"}},{"$f":"AND(#REF!,\"AAAAAE7nuy4=\")","v":{"$error":"#REF!"}},{"$f":"AND(#REF!,\"AAAAAE7nuy8=\")","v":{"$error":"#REF!"}},{"$f":"AND(#REF!,\"AAAAAE7nuzA=\")","v":{"$error":"#REF!"}},{"$f":"AND(#REF!,\"AAAAAE7nuzE=\")","v":{"$error":"#REF!"}},{"$f":"AND(#REF!,\"AAAAAE7nuzI=\")","v":{"$error":"#REF!"}},{"$f":"AND(#REF!,\"AAAAAE7nuzM=\")","v":{"$error":"#REF!"}},{"$f":"AND(#REF!,\"AAAAAE7nuzQ=\")","v":{"$error":"#REF!"}},{"$f":"AND(#REF!,\"AAAAAE7nuzU=\")","v":{"$error":"#REF!"}},{"$f":"AND(#REF!,\"AAAAAE7nuzY=\")","v":{"$error":"#REF!"}},{"$f":"AND(#REF!,\"AAAAAE7nuzc=\")","v":{"$error":"#REF!"}},{"$f":"AND(#REF!,\"AAAAAE7nuzg=\")","v":{"$error":"#REF!"}},{"$f":"AND(#REF!,\"AAAAAE7nuzk=\")","v":{"$error":"#REF!"}},{"$f":"AND(#REF!,\"AAAAAE7nuzo=\")","v":{"$error":"#REF!"}},{"$f":"AND(#REF!,\"AAAAAE7nuzs=\")","v":{"$error":"#REF!"}},{"$f":"AND(#REF!,\"AAAAAE7nuzw=\")","v":{"$error":"#REF!"}},{"$f":"AND(#REF!,\"AAAAAE7nuz0=\")","v":{"$error":"#REF!"}},{"$f":"AND(#REF!,\"AAAAAE7nuz4=\")","v":{"$error":"#REF!"}},{"$f":"AND(#REF!,\"AAAAAE7nuz8=\")","v":{"$error":"#REF!"}},{"$f":"AND(#REF!,\"AAAAAE7nu0A=\")","v":{"$error":"#REF!"}},{"$f":"AND(#REF!,\"AAAAAE7nu0E=\")","v":{"$error":"#REF!"}},{"$f":"AND(#REF!,\"AAAAAE7nu0I=\")","v":{"$error":"#REF!"}},{"$f":"AND(#REF!,\"AAAAAE7nu0M=\")","v":{"$error":"#REF!"}},{"$f":"AND(#REF!,\"AAAAAE7nu0Q=\")","v":{"$error":"#REF!"}},{"$f":"AND(#REF!,\"AAAAAE7nu0U=\")","v":{"$error":"#REF!"}},{"$f":"AND(#REF!,\"AAAAAE7nu0Y=\")","v":{"$error":"#REF!"}},{"$f":"AND(#REF!,\"AAAAAE7nu0c=\")","v":{"$error":"#REF!"}},{"$f":"AND(#REF!,\"AAAAAE7nu0g=\")","v":{"$error":"#REF!"}},{"$f":"AND(#REF!,\"AAAAAE7nu0k=\")","v":{"$error":"#REF!"}},{"$f":"AND(#REF!,\"AAAAAE7nu0o=\")","v":{"$error":"#REF!"}},{"$f":"AND(#REF!,\"AAAAAE7nu0s=\")","v":{"$error":"#REF!"}},{"$f":"IF(#REF!,\"AAAAAE7nu0w=\",0)","v":{"$error":"#REF!"}},{"$f":"AND(#REF!,\"AAAAAE7nu00=\")","v":{"$error":"#REF!"}},{"$f":"AND(#REF!,\"AAAAAE7nu04=\")","v":{"$error":"#REF!"}},{"$f":"AND(#REF!,\"AAAAAE7nu08=\")","v":{"$error":"#REF!"}},{"$f":"AND(#REF!,\"AAAAAE7nu1A=\")","v":{"$error":"#REF!"}},{"$f":"AND(#REF!,\"AAAAAE7nu1E=\")","v":{"$error":"#REF!"}},{"$f":"AND(#REF!,\"AAAAAE7nu1I=\")","v":{"$error":"#REF!"}},{"$f":"AND(#REF!,\"AAAAAE7nu1M=\")","v":{"$error":"#REF!"}},{"$f":"AND(#REF!,\"AAAAAE7nu1Q=\")","v":{"$error":"#REF!"}},{"$f":"AND(#REF!,\"AAAAAE7nu1U=\")","v":{"$error":"#REF!"}},{"$f":"AND(#REF!,\"AAAAAE7nu1Y=\")","v":{"$error":"#REF!"}},{"$f":"AND(#REF!,\"AAAAAE7nu1c=\")","v":{"$error":"#REF!"}},{"$f":"AND(#REF!,\"AAAAAE7nu1g=\")","v":{"$error":"#REF!"}},{"$f":"AND(#REF!,\"AAAAAE7nu1k=\")","v":{"$error":"#REF!"}},{"$f":"AND(#REF!,\"AAAAAE7nu1o=\")","v":{"$error":"#REF!"}},{"$f":"AND(#REF!,\"AAAAAE7nu1s=\")","v":{"$error":"#REF!"}},{"$f":"AND(#REF!,\"AAAAAE7nu1w=\")","v":{"$error":"#REF!"}},{"$f":"AND(#REF!,\"AAAAAE7nu10=\")","v":{"$error":"#REF!"}},{"$f":"AND(#REF!,\"AAAAAE7nu14=\")","v":{"$error":"#REF!"}},{"$f":"AND(#REF!,\"AAAAAE7nu18=\")","v":{"$error":"#REF!"}},{"$f":"AND(#REF!,\"AAAAAE7nu2A=\")","v":{"$error":"#REF!"}},{"$f":"AND(#REF!,\"AAAAAE7nu2E=\")","v":{"$error":"#REF!"}},{"$f":"AND(#REF!,\"AAAAAE7nu2I=\")","v":{"$error":"#REF!"}},{"$f":"AND(#REF!,\"AAAAAE7nu2M=\")","v":{"$error":"#REF!"}},{"$f":"AND(#REF!,\"AAAAAE7nu2Q=\")","v":{"$error":"#REF!"}},{"$f":"AND(#REF!,\"AAAAAE7nu2U=\")","v":{"$error":"#REF!"}},{"$f":"AND(#REF!,\"AAAAAE7nu2Y=\")","v":{"$error":"#REF!"}},{"$f":"AND(#REF!,\"AAAAAE7nu2c=\")","v":{"$error":"#REF!"}},{"$f":"AND(#REF!,\"AAAAAE7nu2g=\")","v":{"$error":"#REF!"}},{"$f":"AND(#REF!,\"AAAAAE7nu2k=\")","v":{"$error":"#REF!"}},{"$f":"AND(#REF!,\"AAAAAE7nu2o=\")","v":{"$error":"#REF!"}},{"$f":"AND(#REF!,\"AAAAAE7nu2s=\")","v":{"$error":"#REF!"}},{"$f":"AND(#REF!,\"AAAAAE7nu2w=\")","v":{"$error":"#REF!"}},{"$f":"AND(#REF!,\"AAAAAE7nu20=\")","v":{"$error":"#REF!"}},{"$f":"IF(#REF!,\"AAAAAE7nu24=\",0)","v":{"$error":"#REF!"}},{"$f":"AND(#REF!,\"AAAAAE7nu28=\")","v":{"$error":"#REF!"}},{"$f":"AND(#REF!,\"AAAAAE7nu3A=\")","v":{"$error":"#REF!"}},{"$f":"AND(#REF!,\"AAAAAE7nu3E=\")","v":{"$error":"#REF!"}},{"$f":"AND(#REF!,\"AAAAAE7nu3I=\")","v":{"$error":"#REF!"}},{"$f":"AND(#REF!,\"AAAAAE7nu3M=\")","v":{"$error":"#REF!"}},{"$f":"AND(#REF!,\"AAAAAE7nu3Q=\")","v":{"$error":"#REF!"}},{"$f":"AND(#REF!,\"AAAAAE7nu3U=\")","v":{"$error":"#REF!"}},{"$f":"AND(#REF!,\"AAAAAE7nu3Y=\")","v":{"$error":"#REF!"}},{"$f":"AND(#REF!,\"AAAAAE7nu3c=\")","v":{"$error":"#REF!"}},{"$f":"AND(#REF!,\"AAAAAE7nu3g=\")","v":{"$error":"#REF!"}},{"$f":"AND(#REF!,\"AAAAAE7nu3k=\")","v":{"$error":"#REF!"}},{"$f":"AND(#REF!,\"AAAAAE7nu3o=\")","v":{"$error":"#REF!"}},{"$f":"AND(#REF!,\"AAAAAE7nu3s=\")","v":{"$error":"#REF!"}},{"$f":"AND(#REF!,\"AAAAAE7nu3w=\")","v":{"$error":"#REF!"}},{"$f":"AND(#REF!,\"AAAAAE7nu30=\")","v":{"$error":"#REF!"}},{"$f":"AND(#REF!,\"AAAAAE7nu34=\")","v":{"$error":"#REF!"}},{"$f":"AND(#REF!,\"AAAAAE7nu38=\")","v":{"$error":"#REF!"}},{"$f":"AND(#REF!,\"AAAAAE7nu4A=\")","v":{"$error":"#REF!"}},{"$f":"AND(#REF!,\"AAAAAE7nu4E=\")","v":{"$error":"#REF!"}},{"$f":"AND(#REF!,\"AAAAAE7nu4I=\")","v":{"$error":"#REF!"}},{"$f":"AND(#REF!,\"AAAAAE7nu4M=\")","v":{"$error":"#REF!"}},{"$f":"AND(#REF!,\"AAAAAE7nu4Q=\")","v":{"$error":"#REF!"}},{"$f":"AND(#REF!,\"AAAAAE7nu4U=\")","v":{"$error":"#REF!"}},{"$f":"AND(#REF!,\"AAAAAE7nu4Y=\")","v":{"$error":"#REF!"}},{"$f":"AND(#REF!,\"AAAAAE7nu4c=\")","v":{"$error":"#REF!"}},{"$f":"AND(#REF!,\"AAAAAE7nu4g=\")","v":{"$error":"#REF!"}},{"$f":"AND(#REF!,\"AAAAAE7nu4k=\")","v":{"$error":"#REF!"}},{"$f":"AND(#REF!,\"AAAAAE7nu4o=\")","v":{"$error":"#REF!"}},{"$f":"AND(#REF!,\"AAAAAE7nu4s=\")","v":{"$error":"#REF!"}},{"$f":"AND(#REF!,\"AAAAAE7nu4w=\")","v":{"$error":"#REF!"}},{"$f":"AND(#REF!,\"AAAAAE7nu40=\")","v":{"$error":"#REF!"}},{"$f":"AND(#REF!,\"AAAAAE7nu44=\")","v":{"$error":"#REF!"}},{"$f":"AND(#REF!,\"AAAAAE7nu48=\")","v":{"$error":"#REF!"}},{"$f":"IF(#REF!,\"AAAAAE7nu5A=\",0)","v":{"$error":"#REF!"}},{"$f":"AND(#REF!,\"AAAAAE7nu5E=\")","v":{"$error":"#REF!"}},{"$f":"AND(#REF!,\"AAAAAE7nu5I=\")","v":{"$error":"#REF!"}},{"$f":"AND(#REF!,\"AAAAAE7nu5M=\")","v":{"$error":"#REF!"}},{"$f":"AND(#REF!,\"AAAAAE7nu5Q=\")","v":{"$error":"#REF!"}},{"$f":"AND(#REF!,\"AAAAAE7nu5U=\")","v":{"$error":"#REF!"}},{"$f":"AND(#REF!,\"AAAAAE7nu5Y=\")","v":{"$error":"#REF!"}},{"$f":"AND(#REF!,\"AAAAAE7nu5c=\")","v":{"$error":"#REF!"}},{"$f":"AND(#REF!,\"AAAAAE7nu5g=\")","v":{"$error":"#REF!"}},{"$f":"AND(#REF!,\"AAAAAE7nu5k=\")","v":{"$error":"#REF!"}},{"$f":"AND(#REF!,\"AAAAAE7nu5o=\")","v":{"$error":"#REF!"}},{"$f":"AND(#REF!,\"AAAAAE7nu5s=\")","v":{"$error":"#REF!"}},{"$f":"AND(#REF!,\"AAAAAE7nu5w=\")","v":{"$error":"#REF!"}},{"$f":"AND(#REF!,\"AAAAAE7nu50=\")","v":{"$error":"#REF!"}},{"$f":"AND(#REF!,\"AAAAAE7nu54=\")","v":{"$error":"#REF!"}},{"$f":"AND(#REF!,\"AAAAAE7nu58=\")","v":{"$error":"#REF!"}},{"$f":"AND(#REF!,\"AAAAAE7nu6A=\")","v":{"$error":"#REF!"}},{"$f":"AND(#REF!,\"AAAAAE7nu6E=\")","v":{"$error":"#REF!"}},{"$f":"AND(#REF!,\"AAAAAE7nu6I=\")","v":{"$error":"#REF!"}},{"$f":"AND(#REF!,\"AAAAAE7nu6M=\")","v":{"$error":"#REF!"}},{"$f":"AND(#REF!,\"AAAAAE7nu6Q=\")","v":{"$error":"#REF!"}},{"$f":"AND(#REF!,\"AAAAAE7nu6U=\")","v":{"$error":"#REF!"}},{"$f":"AND(#REF!,\"AAAAAE7nu6Y=\")","v":{"$error":"#REF!"}},{"$f":"AND(#REF!,\"AAAAAE7nu6c=\")","v":{"$error":"#REF!"}},{"$f":"AND(#REF!,\"AAAAAE7nu6g=\")","v":{"$error":"#REF!"}},{"$f":"AND(#REF!,\"AAAAAE7nu6k=\")","v":{"$error":"#REF!"}},{"$f":"AND(#REF!,\"AAAAAE7nu6o=\")","v":{"$error":"#REF!"}},{"$f":"AND(#REF!,\"AAAAAE7nu6s=\")","v":{"$error":"#REF!"}},{"$f":"AND(#REF!,\"AAAAAE7nu6w=\")","v":{"$error":"#REF!"}},{"$f":"AND(#REF!,\"AAAAAE7nu60=\")","v":{"$error":"#REF!"}},{"$f":"AND(#REF!,\"AAAAAE7nu64=\")","v":{"$error":"#REF!"}},{"$f":"AND(#REF!,\"AAAAAE7nu68=\")","v":{"$error":"#REF!"}},{"$f":"AND(#REF!,\"AAAAAE7nu7A=\")","v":{"$error":"#REF!"}},{"$f":"AND(#REF!,\"AAAAAE7nu7E=\")","v":{"$error":"#REF!"}},{"$f":"IF(#REF!,\"AAAAAE7nu7I=\",0)","v":{"$error":"#REF!"}},{"$f":"AND(#REF!,\"AAAAAE7nu7M=\")","v":{"$error":"#REF!"}},{"$f":"AND(#REF!,\"AAAAAE7nu7Q=\")","v":{"$error":"#REF!"}},{"$f":"AND(#REF!,\"AAAAAE7nu7U=\")","v":{"$error":"#REF!"}},{"$f":"AND(#REF!,\"AAAAAE7nu7Y=\")","v":{"$error":"#REF!"}},{"$f":"AND(#REF!,\"AAAAAE7nu7c=\")","v":{"$error":"#REF!"}},{"$f":"AND(#REF!,\"AAAAAE7nu7g=\")","v":{"$error":"#REF!"}},{"$f":"AND(#REF!,\"AAAAAE7nu7k=\")","v":{"$error":"#REF!"}},{"$f":"AND(#REF!,\"AAAAAE7nu7o=\")","v":{"$error":"#REF!"}},{"$f":"AND(#REF!,\"AAAAAE7nu7s=\")","v":{"$error":"#REF!"}},{"$f":"AND(#REF!,\"AAAAAE7nu7w=\")","v":{"$error":"#REF!"}},{"$f":"AND(#REF!,\"AAAAAE7nu70=\")","v":{"$error":"#REF!"}},{"$f":"AND(#REF!,\"AAAAAE7nu74=\")","v":{"$error":"#REF!"}},{"$f":"AND(#REF!,\"AAAAAE7nu78=\")","v":{"$error":"#REF!"}},{"$f":"AND(#REF!,\"AAAAAE7nu8A=\")","v":{"$error":"#REF!"}},{"$f":"AND(#REF!,\"AAAAAE7nu8E=\")","v":{"$error":"#REF!"}},{"$f":"AND(#REF!,\"AAAAAE7nu8I=\")","v":{"$error":"#REF!"}},{"$f":"AND(#REF!,\"AAAAAE7nu8M=\")","v":{"$error":"#REF!"}},{"$f":"AND(#REF!,\"AAAAAE7nu8Q=\")","v":{"$error":"#REF!"}},{"$f":"AND(#REF!,\"AAAAAE7nu8U=\")","v":{"$error":"#REF!"}},{"$f":"AND(#REF!,\"AAAAAE7nu8Y=\")","v":{"$error":"#REF!"}},{"$f":"AND(#REF!,\"AAAAAE7nu8c=\")","v":{"$error":"#REF!"}},{"$f":"AND(#REF!,\"AAAAAE7nu8g=\")","v":{"$error":"#REF!"}},{"$f":"AND(#REF!,\"AAAAAE7nu8k=\")","v":{"$error":"#REF!"}},{"$f":"AND(#REF!,\"AAAAAE7nu8o=\")","v":{"$error":"#REF!"}},{"$f":"AND(#REF!,\"AAAAAE7nu8s=\")","v":{"$error":"#REF!"}},{"$f":"AND(#REF!,\"AAAAAE7nu8w=\")","v":{"$error":"#REF!"}},{"$f":"AND(#REF!,\"AAAAAE7nu80=\")","v":{"$error":"#REF!"}},{"$f":"AND(#REF!,\"AAAAAE7nu84=\")","v":{"$error":"#REF!"}},{"$f":"AND(#REF!,\"AAAAAE7nu88=\")","v":{"$error":"#REF!"}},{"$f":"AND(#REF!,\"AAAAAE7nu9A=\")","v":{"$error":"#REF!"}},{"$f":"AND(#REF!,\"AAAAAE7nu9E=\")","v":{"$error":"#REF!"}},{"$f":"AND(#REF!,\"AAAAAE7nu9I=\")","v":{"$error":"#REF!"}},{"$f":"AND(#REF!,\"AAAAAE7nu9M=\")","v":{"$error":"#REF!"}},{"$f":"IF(#REF!,\"AAAAAE7nu9Q=\",0)","v":{"$error":"#REF!"}},{"$f":"AND(#REF!,\"AAAAAE7nu9U=\")","v":{"$error":"#REF!"}},{"$f":"AND(#REF!,\"AAAAAE7nu9Y=\")","v":{"$error":"#REF!"}},{"$f":"AND(#REF!,\"AAAAAE7nu9c=\")","v":{"$error":"#REF!"}},{"$f":"AND(#REF!,\"AAAAAE7nu9g=\")","v":{"$error":"#REF!"}},{"$f":"AND(#REF!,\"AAAAAE7nu9k=\")","v":{"$error":"#REF!"}},{"$f":"AND(#REF!,\"AAAAAE7nu9o=\")","v":{"$error":"#REF!"}},{"$f":"AND(#REF!,\"AAAAAE7nu9s=\")","v":{"$error":"#REF!"}},{"$f":"AND(#REF!,\"AAAAAE7nu9w=\")","v":{"$error":"#REF!"}},{"$f":"AND(#REF!,\"AAAAAE7nu90=\")","v":{"$error":"#REF!"}},{"$f":"AND(#REF!,\"AAAAAE7nu94=\")","v":{"$error":"#REF!"}},{"$f":"AND(#REF!,\"AAAAAE7nu98=\")","v":{"$error":"#REF!"}},{"$f":"AND(#REF!,\"AAAAAE7nu+A=\")","v":{"$error":"#REF!"}},{"$f":"AND(#REF!,\"AAAAAE7nu+E=\")","v":{"$error":"#REF!"}},{"$f":"AND(#REF!,\"AAAAAE7nu+I=\")","v":{"$error":"#REF!"}},{"$f":"AND(#REF!,\"AAAAAE7nu+M=\")","v":{"$error":"#REF!"}},{"$f":"AND(#REF!,\"AAAAAE7nu+Q=\")","v":{"$error":"#REF!"}},{"$f":"AND(#REF!,\"AAAAAE7nu+U=\")","v":{"$error":"#REF!"}},{"$f":"AND(#REF!,\"AAAAAE7nu+Y=\")","v":{"$error":"#REF!"}},{"$f":"AND(#REF!,\"AAAAAE7nu+c=\")","v":{"$error":"#REF!"}},{"$f":"AND(#REF!,\"AAAAAE7nu+g=\")","v":{"$error":"#REF!"}},{"$f":"AND(#REF!,\"AAAAAE7nu+k=\")","v":{"$error":"#REF!"}},{"$f":"AND(#REF!,\"AAAAAE7nu+o=\")","v":{"$error":"#REF!"}},{"$f":"AND(#REF!,\"AAAAAE7nu+s=\")","v":{"$error":"#REF!"}},{"$f":"AND(#REF!,\"AAAAAE7nu+w=\")","v":{"$error":"#REF!"}},{"$f":"AND(#REF!,\"AAAAAE7nu+0=\")","v":{"$error":"#REF!"}},{"$f":"AND(#REF!,\"AAAAAE7nu+4=\")","v":{"$error":"#REF!"}},{"$f":"AND(#REF!,\"AAAAAE7nu+8=\")","v":{"$error":"#REF!"}},{"$f":"AND(#REF!,\"AAAAAE7nu/A=\")","v":{"$error":"#REF!"}},{"$f":"AND(#REF!,\"AAAAAE7nu/E=\")","v":{"$error":"#REF!"}},{"$f":"AND(#REF!,\"AAAAAE7nu/I=\")","v":{"$error":"#REF!"}},{"$f":"AND(#REF!,\"AAAAAE7nu/M=\")","v":{"$error":"#REF!"}},{"$f":"AND(#REF!,\"AAAAAE7nu/Q=\")","v":{"$error":"#REF!"}},{"$f":"AND(#REF!,\"AAAAAE7nu/U=\")","v":{"$error":"#REF!"}},{"$f":"IF(#REF!,\"AAAAAE7nu/Y=\",0)","v":{"$error":"#REF!"}},{"$f":"AND(#REF!,\"AAAAAE7nu/c=\")","v":{"$error":"#REF!"}},{"$f":"AND(#REF!,\"AAAAAE7nu/g=\")","v":{"$error":"#REF!"}},{"$f":"AND(#REF!,\"AAAAAE7nu/k=\")","v":{"$error":"#REF!"}},{"$f":"AND(#REF!,\"AAAAAE7nu/o=\")","v":{"$error":"#REF!"}},{"$f":"AND(#REF!,\"AAAAAE7nu/s=\")","v":{"$error":"#REF!"}},{"$f":"AND(#REF!,\"AAAAAE7nu/w=\")","v":{"$error":"#REF!"}},{"$f":"AND(#REF!,\"AAAAAE7nu/0=\")","v":{"$error":"#REF!"}},{"$f":"AND(#REF!,\"AAAAAE7nu/4=\")","v":{"$error":"#REF!"}},{"$f":"AND(#REF!,\"AAAAAE7nu/8=\")","v":{"$error":"#REF!"}}]
[{"$f":"AND(#REF!,\"AAAAAAH/7gA=\")","v":{"$error":"#REF!"}},{"$f":"AND(#REF!,\"AAAAAAH/7gE=\")","v":{"$error":"#REF!"}},{"$f":"AND(#REF!,\"AAAAAAH/7gI=\")","v":{"$error":"#REF!"}},{"$f":"AND(#REF!,\"AAAAAAH/7gM=\")","v":{"$error":"#REF!"}},{"$f":"AND(#REF!,\"AAAAAAH/7gQ=\")","v":{"$error":"#REF!"}},{"$f":"AND(#REF!,\"AAAAAAH/7gU=\")","v":{"$error":"#REF!"}},{"$f":"AND(#REF!,\"AAAAAAH/7gY=\")","v":{"$error":"#REF!"}},{"$f":"AND(#REF!,\"AAAAAAH/7gc=\")","v":{"$error":"#REF!"}},{"$f":"AND(#REF!,\"AAAAAAH/7gg=\")","v":{"$error":"#REF!"}},{"$f":"AND(#REF!,\"AAAAAAH/7gk=\")","v":{"$error":"#REF!"}},{"$f":"AND(#REF!,\"AAAAAAH/7go=\")","v":{"$error":"#REF!"}},{"$f":"AND(#REF!,\"AAAAAAH/7gs=\")","v":{"$error":"#REF!"}},{"$f":"AND(#REF!,\"AAAAAAH/7gw=\")","v":{"$error":"#REF!"}},{"$f":"AND(#REF!,\"AAAAAAH/7g0=\")","v":{"$error":"#REF!"}},{"$f":"AND(#REF!,\"AAAAAAH/7g4=\")","v":{"$error":"#REF!"}},{"$f":"AND(#REF!,\"AAAAAAH/7g8=\")","v":{"$error":"#REF!"}},{"$f":"AND(#REF!,\"AAAAAAH/7hA=\")","v":{"$error":"#REF!"}},{"$f":"AND(#REF!,\"AAAAAAH/7hE=\")","v":{"$error":"#REF!"}},{"$f":"AND(#REF!,\"AAAAAAH/7hI=\")","v":{"$error":"#REF!"}},{"$f":"AND(#REF!,\"AAAAAAH/7hM=\")","v":{"$error":"#REF!"}},{"$f":"AND(#REF!,\"AAAAAAH/7hQ=\")","v":{"$error":"#REF!"}},{"$f":"AND(#REF!,\"AAAAAAH/7hU=\")","v":{"$error":"#REF!"}},{"$f":"AND(#REF!,\"AAAAAAH/7hY=\")","v":{"$error":"#REF!"}},{"$f":"AND(#REF!,\"AAAAAAH/7hc=\")","v":{"$error":"#REF!"}},{"$f":"IF(#REF!,\"AAAAAAH/7hg=\",0)","v":{"$error":"#REF!"}},{"$f":"AND(#REF!,\"AAAAAAH/7hk=\")","v":{"$error":"#REF!"}},{"$f":"AND(#REF!,\"AAAAAAH/7ho=\")","v":{"$error":"#REF!"}},{"$f":"AND(#REF!,\"AAAAAAH/7hs=\")","v":{"$error":"#REF!"}},{"$f":"AND(#REF!,\"AAAAAAH/7hw=\")","v":{"$error":"#REF!"}},{"$f":"AND(#REF!,\"AAAAAAH/7h0=\")","v":{"$error":"#REF!"}},{"$f":"AND(#REF!,\"AAAAAAH/7h4=\")","v":{"$error":"#REF!"}},{"$f":"AND(#REF!,\"AAAAAAH/7h8=\")","v":{"$error":"#REF!"}},{"$f":"AND(#REF!,\"AAAAAAH/7iA=\")","v":{"$error":"#REF!"}},{"$f":"AND(#REF!,\"AAAAAAH/7iE=\")","v":{"$error":"#REF!"}},{"$f":"AND(#REF!,\"AAAAAAH/7iI=\")","v":{"$error":"#REF!"}},{"$f":"AND(#REF!,\"AAAAAAH/7iM=\")","v":{"$error":"#REF!"}},{"$f":"AND(#REF!,\"AAAAAAH/7iQ=\")","v":{"$error":"#REF!"}},{"$f":"AND(#REF!,\"AAAAAAH/7iU=\")","v":{"$error":"#REF!"}},{"$f":"AND(#REF!,\"AAAAAAH/7iY=\")","v":{"$error":"#REF!"}},{"$f":"AND(#REF!,\"AAAAAAH/7ic=\")","v":{"$error":"#REF!"}},{"$f":"AND(#REF!,\"AAAAAAH/7ig=\")","v":{"$error":"#REF!"}},{"$f":"AND(#REF!,\"AAAAAAH/7ik=\")","v":{"$error":"#REF!"}},{"$f":"AND(#REF!,\"AAAAAAH/7io=\")","v":{"$error":"#REF!"}},{"$f":"AND(#REF!,\"AAAAAAH/7is=\")","v":{"$error":"#REF!"}},{"$f":"AND(#REF!,\"AAAAAAH/7iw=\")","v":{"$error":"#REF!"}},{"$f":"AND(#REF!,\"AAAAAAH/7i0=\")","v":{"$error":"#REF!"}},{"$f":"AND(#REF!,\"AAAAAAH/7i4=\")","v":{"$error":"#REF!"}},{"$f":"AND(#REF!,\"AAAAAAH/7i8=\")","v":{"$error":"#REF!"}},{"$f":"AND(#REF!,\"AAAAAAH/7jA=\")","v":{"$error":"#REF!"}},{"$f":"AND(#REF!,\"AAAAAAH/7jE=\")","v":{"$error":"#REF!"}},{"$f":"AND(#REF!,\"AAAAAAH/7jI=\")","v":{"$error":"#REF!"}},{"$f":"AND(#REF!,\"AAAAAAH/7jM=\")","v":{"$error":"#REF!"}},{"$f":"AND(#REF!,\"AAAAAAH/7jQ=\")","v":{"$error":"#REF!"}},{"$f":"AND(#REF!,\"AAAAAAH/7jU=\")","v":{"$error":"#REF!"}},{"$f":"AND(#REF!,\"AAAAAAH/7jY=\")","v":{"$error":"#REF!"}},{"$f":"AND(#REF!,\"AAAAAAH/7jc=\")","v":{"$error":"#REF!"}},{"$f":"AND(#REF!,\"AAAAAAH/7jg=\")","v":{"$error":"#REF!"}},{"$f":"AND(#REF!,\"AAAAAAH/7jk=\")","v":{"$error":"#REF!"}},{"$f":"IF(#REF!,\"AAAAAAH/7jo=\",0)","v":{"$error":"#REF!"}},{"$f":"AND(#REF!,\"AAAAAAH/7js=\")","v":{"$error":"#REF!"}},{"$f":"AND(#REF!,\"AAAAAAH/7jw=\")","v":{"$error":"#REF!"}},{"$f":"AND(#REF!,\"AAAAAAH/7j0=\")","v":{"$error":"#REF!"}},{"$f":"AND(#REF!,\"AAAAAAH/7j4=\")","v":{"$error":"#REF!"}},{"$f":"AND(#REF!,\"AAAAAAH/7j8=\")","v":{"$error":"#REF!"}},{"$f":"AND(#REF!,\"AAAAAAH/7kA=\")","v":{"$error":"#REF!"}},{"$f":"AND(#REF!,\"AAAAAAH/7kE=\")","v":{"$error":"#REF!"}},{"$f":"AND(#REF!,\"AAAAAAH/7kI=\")","v":{"$error":"#REF!"}},{"$f":"AND(#REF!,\"AAAAAAH/7kM=\")","v":{"$error":"#REF!"}},{"$f":"AND(#REF!,\"AAAAAAH/7kQ=\")","v":{"$error":"#REF!"}},{"$f":"AND(#REF!,\"AAAAAAH/7kU=\")","v":{"$error":"#REF!"}},{"$f":"AND(#REF!,\"AAAAAAH/7kY=\")","v":{"$error":"#REF!"}},{"$f":"AND(#REF!,\"AAAAAAH/7kc=\")","v":{"$error":"#REF!"}},{"$f":"AND(#REF!,\"AAAAAAH/7kg=\")","v":{"$error":"#REF!"}},{"$f":"AND(#REF!,\"AAAAAAH/7kk=\")","v":{"$error":"#REF!"}},{"$f":"AND(#REF!,\"AAAAAAH/7ko=\")","v":{"$error":"#REF!"}},{"$f":"AND(#REF!,\"AAAAAAH/7ks=\")","v":{"$error":"#REF!"}},{"$f":"AND(#REF!,\"AAAAAAH/7kw=\")","v":{"$error":"#REF!"}},{"$f":"AND(#REF!,\"AAAAAAH/7k0=\")","v":{"$error":"#REF!"}},{"$f":"AND(#REF!,\"AAAAAAH/7k4=\")","v":{"$error":"#REF!"}},{"$f":"AND(#REF!,\"AAAAAAH/7k8=\")","v":{"$error":"#REF!"}},{"$f":"AND(#REF!,\"AAAAAAH/7lA=\")","v":{"$error":"#REF!"}},{"$f":"AND(#REF!,\"AAAAAAH/7lE=\")","v":{"$error":"#REF!"}},{"$f":"AND(#REF!,\"AAAAAAH/7lI=\")","v":{"$error":"#REF!"}},{"$f":"AND(#REF!,\"AAAAAAH/7lM=\")","v":{"$error":"#REF!"}},{"$f":"AND(#REF!,\"AAAAAAH/7lQ=\")","v":{"$error":"#REF!"}},{"$f":"AND(#REF!,\"AAAAAAH/7lU=\")","v":{"$error":"#REF!"}},{"$f":"AND(#REF!,\"AAAAAAH/7lY=\")","v":{"$error":"#REF!"}},{"$f":"AND(#REF!,\"AAAAAAH/7lc=\")","v":{"$error":"#REF!"}},{"$f":"AND(#REF!,\"AAAAAAH/7lg=\")","v":{"$error":"#REF!"}},{"$f":"AND(#REF!,\"AAAAAAH/7lk=\")","v":{"$error":"#REF!"}},{"$f":"AND(#REF!,\"AAAAAAH/7lo=\")","v":{"$error":"#REF!"}},{"$f":"AND(#REF!,\"AAAAAAH/7ls=\")","v":{"$error":"#REF!"}},{"$f":"IF(#REF!,\"AAAAAAH/7lw=\",0)","v":{"$error":"#REF!"}},{"$f":"AND(#REF!,\"AAAAAAH/7l0=\")","v":{"$error":"#REF!"}},{"$f":"AND(#REF!,\"AAAAAAH/7l4=\")","v":{"$error":"#REF!"}},{"$f":"AND(#REF!,\"AAAAAAH/7l8=\")","v":{"$error":"#REF!"}},{"$f":"AND(#REF!,\"AAAAAAH/7mA=\")","v":{"$error":"#REF!"}},{"$f":"AND(#REF!,\"AAAAAAH/7mE=\")","v":{"$error":"#REF!"}},{"$f":"AND(#REF!,\"AAAAAAH/7mI=\")","v":{"$error":"#REF!"}},{"$f":"AND(#REF!,\"AAAAAAH/7mM=\")","v":{"$error":"#REF!"}},{"$f":"AND(#REF!,\"AAAAAAH/7mQ=\")","v":{"$error":"#REF!"}},{"$f":"AND(#REF!,\"AAAAAAH/7mU=\")","v":{"$error":"#REF!"}},{"$f":"AND(#REF!,\"AAAAAAH/7mY=\")","v":{"$error":"#REF!"}},{"$f":"AND(#REF!,\"AAAAAAH/7mc=\")","v":{"$error":"#REF!"}},{"$f":"AND(#REF!,\"AAAAAAH/7mg=\")","v":{"$error":"#REF!"}},{"$f":"AND(#REF!,\"AAAAAAH/7mk=\")","v":{"$error":"#REF!"}},{"$f":"AND(#REF!,\"AAAAAAH/7mo=\")","v":{"$error":"#REF!"}},{"$f":"AND(#REF!,\"AAAAAAH/7ms=\")","v":{"$error":"#REF!"}},{"$f":"AND(#REF!,\"AAAAAAH/7mw=\")","v":{"$error":"#REF!"}},{"$f":"AND(#REF!,\"AAAAAAH/7m0=\")","v":{"$error":"#REF!"}},{"$f":"AND(#REF!,\"AAAAAAH/7m4=\")","v":{"$error":"#REF!"}},{"$f":"AND(#REF!,\"AAAAAAH/7m8=\")","v":{"$error":"#REF!"}},{"$f":"AND(#REF!,\"AAAAAAH/7nA=\")","v":{"$error":"#REF!"}},{"$f":"AND(#REF!,\"AAAAAAH/7nE=\")","v":{"$error":"#REF!"}},{"$f":"AND(#REF!,\"AAAAAAH/7nI=\")","v":{"$error":"#REF!"}},{"$f":"AND(#REF!,\"AAAAAAH/7nM=\")","v":{"$error":"#REF!"}},{"$f":"AND(#REF!,\"AAAAAAH/7nQ=\")","v":{"$error":"#REF!"}},{"$f":"AND(#REF!,\"AAAAAAH/7nU=\")","v":{"$error":"#REF!"}},{"$f":"AND(#REF!,\"AAAAAAH/7nY=\")","v":{"$error":"#REF!"}},{"$f":"AND(#REF!,\"AAAAAAH/7nc=\")","v":{"$error":"#REF!"}},{"$f":"AND(#REF!,\"AAAAAAH/7ng=\")","v":{"$error":"#REF!"}},{"$f":"AND(#REF!,\"AAAAAAH/7nk=\")","v":{"$error":"#REF!"}},{"$f":"AND(#REF!,\"AAAAAAH/7no=\")","v":{"$error":"#REF!"}},{"$f":"AND(#REF!,\"AAAAAAH/7ns=\")","v":{"$error":"#REF!"}},{"$f":"AND(#REF!,\"AAAAAAH/7nw=\")","v":{"$error":"#REF!"}},{"$f":"AND(#REF!,\"AAAAAAH/7n0=\")","v":{"$error":"#REF!"}},{"$f":"IF(#REF!,\"AAAAAAH/7n4=\",0)","v":{"$error":"#REF!"}},{"$f":"IF(#REF!,\"AAAAAAH/7n8=\",0)","v":{"$error":"#REF!"}},{"$f":"IF(#REF!,\"AAAAAAH/7oA=\",0)","v":{"$error":"#REF!"}},{"$f":"IF(#REF!,\"AAAAAAH/7oE=\",0)","v":{"$error":"#REF!"}},{"$f":"IF(#REF!,\"AAAAAAH/7oI=\",0)","v":{"$error":"#REF!"}},{"$f":"IF(#REF!,\"AAAAAAH/7oM=\",0)","v":{"$error":"#REF!"}},{"$f":"IF(#REF!,\"AAAAAAH/7oQ=\",0)","v":{"$error":"#REF!"}},{"$f":"IF(#REF!,\"AAAAAAH/7oU=\",0)","v":{"$error":"#REF!"}},{"$f":"IF(#REF!,\"AAAAAAH/7oY=\",0)","v":{"$error":"#REF!"}},{"$f":"IF(#REF!,\"AAAAAAH/7oc=\",0)","v":{"$error":"#REF!"}},{"$f":"IF(#REF!,\"AAAAAAH/7og=\",0)","v":{"$error":"#REF!"}},{"$f":"IF(#REF!,\"AAAAAAH/7ok=\",0)","v":{"$error":"#REF!"}},{"$f":"IF(#REF!,\"AAAAAAH/7oo=\",0)","v":{"$error":"#REF!"}},{"$f":"IF(#REF!,\"AAAAAAH/7os=\",0)","v":{"$error":"#REF!"}},{"$f":"IF(#REF!,\"AAAAAAH/7ow=\",0)","v":{"$error":"#REF!"}},{"$f":"IF(#REF!,\"AAAAAAH/7o0=\",0)","v":{"$error":"#REF!"}},{"$f":"IF(#REF!,\"AAAAAAH/7o4=\",0)","v":{"$error":"#REF!"}},{"$f":"IF(#REF!,\"AAAAAAH/7o8=\",0)","v":{"$error":"#REF!"}},{"$f":"IF(#REF!,\"AAAAAAH/7pA=\",0)","v":{"$error":"#REF!"}},{"$f":"IF(#REF!,\"AAAAAAH/7pE=\",0)","v":{"$error":"#REF!"}},{"$f":"IF(#REF!,\"AAAAAAH/7pI=\",0)","v":{"$error":"#REF!"}},{"$f":"IF(#REF!,\"AAAAAAH/7pM=\",0)","v":{"$error":"#REF!"}},{"$f":"IF(#REF!,\"AAAAAAH/7pQ=\",0)","v":{"$error":"#REF!"}},{"$f":"IF(#REF!,\"AAAAAAH/7pU=\",0)","v":{"$error":"#REF!"}},{"$f":"IF(#REF!,\"AAAAAAH/7pY=\",0)","v":{"$error":"#REF!"}},{"$f":"IF(#REF!,\"AAAAAAH/7pc=\",0)","v":{"$error":"#REF!"}},{"$f":"IF(#REF!,\"AAAAAAH/7pg=\",0)","v":{"$error":"#REF!"}},{"$f":"IF(#REF!,\"AAAAAAH/7pk=\",0)","v":{"$error":"#REF!"}},{"$f":"IF(#REF!,\"AAAAAAH/7po=\",0)","v":{"$error":"#REF!"}},{"$f":"IF(#REF!,\"AAAAAAH/7ps=\",0)","v":{"$error":"#REF!"}},{"$f":"IF(#REF!,\"AAAAAAH/7pw=\",0)","v":{"$error":"#REF!"}},{"$f":"IF(#REF!,\"AAAAAAH/7p0=\",0)","v":{"$error":"#REF!"}},{"$f":"IF(#REF!,\"AAAAAAH/7p4=\",0)","v":{"$error":"#REF!"}},{"$f":"IF(#REF!,\"AAAAAAH/7p8=\",0)","v":{"$error":"#REF!"}},{"$f":"IF(#REF!,\"AAAAAAH/7qA=\",0)","v":{"$error":"#REF!"}},{"$f":"IF(#REF!,\"AAAAAAH/7qE=\",0)","v":{"$error":"#REF!"}},{"$f":"IF(#REF!,\"AAAAAAH/7qI=\",0)","v":{"$error":"#REF!"}},{"$f":"IF(#REF!,\"AAAAAAH/7qM=\",0)","v":{"$error":"#REF!"}},{"$f":"IF(#REF!,\"AAAAAAH/7qQ=\",0)","v":{"$error":"#REF!"}},{"$f":"IF(#REF!,\"AAAAAAH/7qU=\",0)","v":{"$error":"#REF!"}},{"$f":"IF(#REF!,\"AAAAAAH/7qY=\",0)","v":{"$error":"#REF!"}},{"$f":"IF(#REF!,\"AAAAAAH/7qc=\",0)","v":{"$error":"#REF!"}},"AAAAAAH/7qg=","AAAAAAH/7qk=","AAAAAAH/7qo=",{"$f":"IF(\"N\",Clause,\"AAAAAAH/7qs=\")","v":{"$error":"#VALUE!"}},{"$f":"IF(\"N\",DynaList,\"AAAAAAH/7qw=\")","v":{"$error":"#VALUE!"}},{"$f":"IF(\"N\",MinorThreshold,\"AAAAAAH/7q0=\")","v":{"$error":"#VALUE!"}},{"$f":"IF(\"N\",Instructions!_xlnm.Print_Area,\"AAAAAAH/7q4=\")","v":{"$error":"#VALUE!"}},{"$f":"IF(\"N\",'Non-Streaming - Res Calc'!_xlnm.Print_Area,\"AAAAAAH/7q8=\")","v":{"$error":"#VALUE!"}},{"$f":"IF(\"N\",'Non-Streaming - Resolution'!_xlnm.Print_Area,\"AAAAAAH/7rA=\")","v":{"$error":"#VALUE!"}},{"$f":"IF(\"N\",[0]!_xlnm.Print_Area,\"AAAAAAH/7rE=\")","v":{"$error":"#VALUE!"}},{"$f":"IF(\"N\",[0]!_xlnm.Print_Area,\"AAAAAAH/7rI=\")","v":{"$error":"#VALUE!"}},{"$f":"IF(\"N\",[0]!_xlnm.Print_Area,\"AAAAAAH/7rM=\")","v":{"$error":"#VALUE!"}},{"$f":"IF(\"N\",'Streaming - Res Calc'!_xlnm.Print_Area,\"AAAAAAH/7rQ=\")","v":{"$error":"#VALUE!"}},{"$f":"IF(\"N\",'Streaming - Resolution'!_xlnm.Print_Area,\"AAAAAAH/7rU=\")","v":{"$error":"#VALUE!"}},{"$f":"IF(\"N\",[0]!_xlnm.Print_Area,\"AAAAAAH/7rY=\")","v":{"$error":"#VALUE!"}},{"$f":"IF(\"N\",'Non-Streaming - Resolution'!_xlnm.Print_Titles,\"AAAAAAH/7rc=\")","v":{"$error":"#VALUE!"}},{"$f":"IF(\"N\",'Streaming - Resolution'!_xlnm.Print_Titles,\"AAAAAAH/7rg=\")","v":{"$error":"#VALUE!"}}]
[{"$f":"IF(#REF!,\"AAAAAH71uwA=\",0)","v":{"$error":"#REF!"}},{"$f":"AND(#REF!,\"AAAAAH71uwE=\")","v":{"$error":"#REF!"}},{"$f":"AND(#REF!,\"AAAAAH71uwI=\")","v":{"$error":"#REF!"}},{"$f":"AND(#REF!,\"AAAAAH71uwM=\")","v":{"$error":"#REF!"}},{"$f":"AND(#REF!,\"AAAAAH71uwQ=\")","v":{"$error":"#REF!"}},{"$f":"AND(#REF!,\"AAAAAH71uwU=\")","v":{"$error":"#REF!"}},{"$f":"AND(#REF!,\"AAAAAH71uwY=\")","v":{"$error":"#REF!"}},{"$f":"AND(#REF!,\"AAAAAH71uwc=\")","v":{"$error":"#REF!"}},{"$f":"AND(#REF!,\"AAAAAH71uwg=\")","v":{"$error":"#REF!"}},{"$f":"AND(#REF!,\"AAAAAH71uwk=\")","v":{"$error":"#REF!"}},{"$f":"AND(#REF!,\"AAAAAH71uwo=\")","v":{"$error":"#REF!"}},{"$f":"AND(#REF!,\"AAAAAH71uws=\")","v":{"$error":"#REF!"}},{"$f":"AND(#REF!,\"AAAAAH71uww=\")","v":{"$error":"#REF!"}},{"$f":"AND(#REF!,\"AAAAAH71uw0=\")","v":{"$error":"#REF!"}},{"$f":"AND(#REF!,\"AAAAAH71uw4=\")","v":{"$error":"#REF!"}},{"$f":"AND(#REF!,\"AAAAAH71uw8=\")","v":{"$error":"#REF!"}},{"$f":"AND(#REF!,\"AAAAAH71uxA=\")","v":{"$error":"#REF!"}},{"$f":"AND(#REF!,\"AAAAAH71uxE=\")","v":{"$error":"#REF!"}},{"$f":"AND(#REF!,\"AAAAAH71uxI=\")","v":{"$error":"#REF!"}},{"$f":"AND(#REF!,\"AAAAAH71uxM=\")","v":{"$error":"#REF!"}},{"$f":"AND(#REF!,\"AAAAAH71uxQ=\")","v":{"$error":"#REF!"}},{"$f":"AND(#REF!,\"AAAAAH71uxU=\")","v":{"$error":"#REF!"}},{"$f":"AND(#REF!,\"AAAAAH71uxY=\")","v":{"$error":"#REF!"}},{"$f":"AND(#REF!,\"AAAAAH71uxc=\")","v":{"$error":"#REF!"}},{"$f":"AND(#REF!,\"AAAAAH71uxg=\")","v":{"$error":"#REF!"}},{"$f":"AND(#REF!,\"AAAAAH71uxk=\")","v":{"$error":"#REF!"}},{"$f":"AND(#REF!,\"AAAAAH71uxo=\")","v":{"$error":"#REF!"}},{"$f":"AND(#REF!,\"AAAAAH71uxs=\")","v":{"$error":"#REF!"}},{"$f":"AND(#REF!,\"AAAAAH71uxw=\")","v":{"$error":"#REF!"}},{"$f":"AND(#REF!,\"AAAAAH71ux0=\")","v":{"$error":"#REF!"}},{"$f":"AND(#REF!,\"AAAAAH71ux4=\")","v":{"$error":"#REF!"}},{"$f":"AND(#REF!,\"AAAAAH71ux8=\")","v":{"$error":"#REF!"}},{"$f":"AND(#REF!,\"AAAAAH71uyA=\")","v":{"$error":"#REF!"}},{"$f":"AND(#REF!,\"AAAAAH71uyE=\")","v":{"$error":"#REF!"}},{"$f":"IF(#REF!,\"AAAAAH71uyI=\",0)","v":{"$error":"#REF!"}},{"$f":"AND(#REF!,\"AAAAAH71uyM=\")","v":{"$error":"#REF!"}},{"$f":"AND(#REF!,\"AAAAAH71uyQ=\")","v":{"$error":"#REF!"}},{"$f":"AND(#REF!,\"AAAAAH71uyU=\")","v":{"$error":"#REF!"}},{"$f":"AND(#REF!,\"AAAAAH71uyY=\")","v":{"$error":"#REF!"}},{"$f":"AND(#REF!,\"AAAAAH71uyc=\")","v":{"$error":"#REF!"}},{"$f":"AND(#REF!,\"AAAAAH71uyg=\")","v":{"$error":"#REF!"}},{"$f":"AND(#REF!,\"AAAAAH71uyk=\")","v":{"$error":"#REF!"}},{"$f":"AND(#REF!,\"AAAAAH71uyo=\")","v":{"$error":"#REF!"}},{"$f":"AND(#REF!,\"AAAAAH71uys=\")","v":{"$error":"#REF!"}},{"$f":"AND(#REF!,\"AAAAAH71uyw=\")","v":{"$error":"#REF!"}},{"$f":"AND(#REF!,\"AAAAAH71uy0=\")","v":{"$error":"#REF!"}},{"$f":"AND(#REF!,\"AAAAAH71uy4=\")","v":{"$error":"#REF!"}},{"$f":"AND(#REF!,\"AAAAAH71uy8=\")","v":{"$error":"#REF!"}},{"$f":"AND(#REF!,\"AAAAAH71uzA=\")","v":{"$error":"#REF!"}},{"$f":"AND(#REF!,\"AAAAAH71uzE=\")","v":{"$error":"#REF!"}},{"$f":"AND(#REF!,\"AAAAAH71uzI=\")","v":{"$error":"#REF!"}},{"$f":"AND(#REF!,\"AAAAAH71uzM=\")","v":{"$error":"#REF!"}},{"$f":"AND(#REF!,\"AAAAAH71uzQ=\")","v":{"$error":"#REF!"}},{"$f":"AND(#REF!,\"AAAAAH71uzU=\")","v":{"$error":"#REF!"}},{"$f":"AND(#REF!,\"AAAAAH71uzY=\")","v":{"$error":"#REF!"}},{"$f":"AND(#REF!,\"AAAAAH71uzc=\")","v":{"$error":"#REF!"}},{"$f":"AND(#REF!,\"AAAAAH71uzg=\")","v":{"$error":"#REF!"}},{"$f":"AND(#REF!,\"AAAAAH71uzk=\")","v":{"$error":"#REF!"}},{"$f":"AND(#REF!,\"AAAAAH71uzo=\")","v":{"$error":"#REF!"}},{"$f":"AND(#REF!,\"AAAAAH71uzs=\")","v":{"$error":"#REF!"}},{"$f":"AND(#REF!,\"AAAAAH71uzw=\")","v":{"$error":"#REF!"}},{"$f":"AND(#REF!,\"AAAAAH71uz0=\")","v":{"$error":"#REF!"}},{"$f":"AND(#REF!,\"AAAAAH71uz4=\")","v":{"$error":"#REF!"}},{"$f":"AND(#REF!,\"AAAAAH71uz8=\")","v":{"$error":"#REF!"}},{"$f":"AND(#REF!,\"AAAAAH71u0A=\")","v":{"$error":"#REF!"}},{"$f":"AND(#REF!,\"AAAAAH71u0E=\")","v":{"$error":"#REF!"}},{"$f":"AND(#REF!,\"AAAAAH71u0I=\")","v":{"$error":"#REF!"}},{"$f":"AND(#REF!,\"AAAAAH71u0M=\")","v":{"$error":"#REF!"}}]
[{"$f":"AND(#REF!,\"AAAAAHf2vAA=\")","v":{"$error":"#REF!"}},{"$f":"AND(#REF!,\"AAAAAHf2vAE=\")","v":{"$error":"#REF!"}},{"$f":"AND(#REF!,\"AAAAAHf2vAI=\")","v":{"$error":"#REF!"}},{"$f":"AND(#REF!,\"AAAAAHf2vAM=\")","v":{"$error":"#REF!"}},{"$f":"AND(#REF!,\"AAAAAHf2vAQ=\")","v":{"$error":"#REF!"}},{"$f":"AND(#REF!,\"AAAAAHf2vAU=\")","v":{"$error":"#REF!"}},{"$f":"AND(#REF!,\"AAAAAHf2vAY=\")","v":{"$error":"#REF!"}},{"$f":"AND(#REF!,\"AAAAAHf2vAc=\")","v":{"$error":"#REF!"}},{"$f":"AND(#REF!,\"AAAAAHf2vAg=\")","v":{"$error":"#REF!"}},{"$f":"AND(#REF!,\"AAAAAHf2vAk=\")","v":{"$error":"#REF!"}},{"$f":"AND(#REF!,\"AAAAAHf2vAo=\")","v":{"$error":"#REF!"}},{"$f":"AND(#REF!,\"AAAAAHf2vAs=\")","v":{"$error":"#REF!"}},{"$f":"AND(#REF!,\"AAAAAHf2vAw=\")","v":{"$error":"#REF!"}},{"$f":"AND(#REF!,\"AAAAAHf2vA0=\")","v":{"$error":"#REF!"}},{"$f":"AND(#REF!,\"AAAAAHf2vA4=\")","v":{"$error":"#REF!"}},{"$f":"AND(#REF!,\"AAAAAHf2vA8=\")","v":{"$error":"#REF!"}},{"$f":"AND(#REF!,\"AAAAAHf2vBA=\")","v":{"$error":"#REF!"}},{"$f":"AND(#REF!,\"AAAAAHf2vBE=\")","v":{"$error":"#REF!"}},{"$f":"AND(#REF!,\"AAAAAHf2vBI=\")","v":{"$error":"#REF!"}},{"$f":"AND(#REF!,\"AAAAAHf2vBM=\")","v":{"$error":"#REF!"}},{"$f":"AND(#REF!,\"AAAAAHf2vBQ=\")","v":{"$error":"#REF!"}},{"$f":"AND(#REF!,\"AAAAAHf2vBU=\")","v":{"$error":"#REF!"}},{"$f":"AND(#REF!,\"AAAAAHf2vBY=\")","v":{"$error":"#REF!"}},{"$f":"AND(#REF!,\"AAAAAHf2vBc=\")","v":{"$error":"#REF!"}},{"$f":"AND(#REF!,\"AAAAAHf2vBg=\")","v":{"$error":"#REF!"}},{"$f":"AND(#REF!,\"AAAAAHf2vBk=\")","v":{"$error":"#REF!"}},{"$f":"AND(#REF!,\"AAAAAHf2vBo=\")","v":{"$error":"#REF!"}},{"$f":"AND(#REF!,\"AAAAAHf2vBs=\")","v":{"$error":"#REF!"}},{"$f":"AND(#REF!,\"AAAAAHf2vBw=\")","v":{"$error":"#REF!"}},{"$f":"AND(#REF!,\"AAAAAHf2vB0=\")","v":{"$error":"#REF!"}},{"$f":"AND(#REF!,\"AAAAAHf2vB4=\")","v":{"$error":"#REF!"}},{"$f":"AND(#REF!,\"AAAAAHf2vB8=\")","v":{"$error":"#REF!"}},{"$f":"AND(#REF!,\"AAAAAHf2vCA=\")","v":{"$error":"#REF!"}},{"$f":"IF(#REF!,\"AAAAAHf2vCE=\",0)","v":{"$error":"#REF!"}},{"$f":"AND(#REF!,\"AAAAAHf2vCI=\")","v":{"$error":"#REF!"}},{"$f":"AND(#REF!,\"AAAAAHf2vCM=\")","v":{"$error":"#REF!"}},{"$f":"AND(#REF!,\"AAAAAHf2vCQ=\")","v":{"$error":"#REF!"}},{"$f":"AND(#REF!,\"AAAAAHf2vCU=\")","v":{"$error":"#REF!"}},{"$f":"AND(#REF!,\"AAAAAHf2vCY=\")","v":{"$error":"#REF!"}},{"$f":"AND(#REF!,\"AAAAAHf2vCc=\")","v":{"$error":"#REF!"}},{"$f":"AND(#REF!,\"AAAAAHf2vCg=\")","v":{"$error":"#REF!"}},{"$f":"AND(#REF!,\"AAAAAHf2vCk=\")","v":{"$error":"#REF!"}},{"$f":"AND(#REF!,\"AAAAAHf2vCo=\")","v":{"$error":"#REF!"}},{"$f":"AND(#REF!,\"AAAAAHf2vCs=\")","v":{"$error":"#REF!"}},{"$f":"AND(#REF!,\"AAAAAHf2vCw=\")","v":{"$error":"#REF!"}},{"$f":"AND(#REF!,\"AAAAAHf2vC0=\")","v":{"$error":"#REF!"}},{"$f":"AND(#REF!,\"AAAAAHf2vC4=\")","v":{"$error":"#REF!"}},{"$f":"AND(#REF!,\"AAAAAHf2vC8=\")","v":{"$error":"#REF!"}},{"$f":"AND(#REF!,\"AAAAAHf2vDA=\")","v":{"$error":"#REF!"}},{"$f":"AND(#REF!,\"AAAAAHf2vDE=\")","v":{"$error":"#REF!"}},{"$f":"AND(#REF!,\"AAAAAHf2vDI=\")","v":{"$error":"#REF!"}},{"$f":"AND(#REF!,\"AAAAAHf2vDM=\")","v":{"$error":"#REF!"}},{"$f":"AND(#REF!,\"AAAAAHf2vDQ=\")","v":{"$error":"#REF!"}},{"$f":"AND(#REF!,\"AAAAAHf2vDU=\")","v":{"$error":"#REF!"}},{"$f":"AND(#REF!,\"AAAAAHf2vDY=\")","v":{"$error":"#REF!"}},{"$f":"AND(#REF!,\"AAAAAHf2vDc=\")","v":{"$error":"#REF!"}},{"$f":"AND(#REF!,\"AAAAAHf2vDg=\")","v":{"$error":"#REF!"}},{"$f":"AND(#REF!,\"AAAAAHf2vDk=\")","v":{"$error":"#REF!"}},{"$f":"AND(#REF!,\"AAAAAHf2vDo=\")","v":{"$error":"#REF!"}},{"$f":"AND(#REF!,\"AAAAAHf2vDs=\")","v":{"$error":"#REF!"}},{"$f":"AND(#REF!,\"AAAAAHf2vDw=\")","v":{"$error":"#REF!"}},{"$f":"AND(#REF!,\"AAAAAHf2vD0=\")","v":{"$error":"#REF!"}},{"$f":"AND(#REF!,\"AAAAAHf2vD4=\")","v":{"$error":"#REF!"}},{"$f":"AND(#REF!,\"AAAAAHf2vD8=\")","v":{"$error":"#REF!"}},{"$f":"AND(#REF!,\"AAAAAHf2vEA=\")","v":{"$error":"#REF!"}},{"$f":"AND(#REF!,\"AAAAAHf2vEE=\")","v":{"$error":"#REF!"}},{"$f":"AND(#REF!,\"AAAAAHf2vEI=\")","v":{"$error":"#REF!"}},{"$f":"AND(#REF!,\"AAAAAHf2vEM=\")","v":{"$error":"#REF!"}},{"$f":"AND(#REF!,\"AAAAAHf2vEQ=\")","v":{"$error":"#REF!"}},{"$f":"AND(#REF!,\"AAAAAHf2vEU=\")","v":{"$error":"#REF!"}},{"$f":"AND(#REF!,\"AAAAAHf2vEY=\")","v":{"$error":"#REF!"}},{"$f":"AND(#REF!,\"AAAAAHf2vEc=\")","v":{"$error":"#REF!"}},{"$f":"AND(#REF!,\"AAAAAHf2vEg=\")","v":{"$error":"#REF!"}},{"$f":"AND(#REF!,\"AAAAAHf2vEk=\")","v":{"$error":"#REF!"}},{"$f":"AND(#REF!,\"AAAAAHf2vEo=\")","v":{"$error":"#REF!"}},{"$f":"AND(#REF!,\"AAAAAHf2vEs=\")","v":{"$error":"#REF!"}},{"$f":"AND(#REF!,\"AAAAAHf2vEw=\")","v":{"$error":"#REF!"}},{"$f":"AND(#REF!,\"AAAAAHf2vE0=\")","v":{"$error":"#REF!"}},{"$f":"AND(#REF!,\"AAAAAHf2vE4=\")","v":{"$error":"#REF!"}},{"$f":"AND(#REF!,\"AAAAAHf2vE8=\")","v":{"$error":"#REF!"}},{"$f":"AND(#REF!,\"AAAAAHf2vFA=\")","v":{"$error":"#REF!"}},{"$f":"AND(#REF!,\"AAAAAHf2vFE=\")","v":{"$error":"#REF!"}},{"$f":"AND(#REF!,\"AAAAAHf2vFI=\")","v":{"$error":"#REF!"}},{"$f":"AND(#REF!,\"AAAAAHf2vFM=\")","v":{"$error":"#REF!"}},{"$f":"AND(#REF!,\"AAAAAHf2vFQ=\")","v":{"$error":"#REF!"}},{"$f":"AND(#REF!,\"AAAAAHf2vFU=\")","v":{"$error":"#REF!"}},{"$f":"AND(#REF!,\"AAAAAHf2vFY=\")","v":{"$error":"#REF!"}},{"$f":"AND(#REF!,\"AAAAAHf2vFc=\")","v":{"$error":"#REF!"}},{"$f":"AND(#REF!,\"AAAAAHf2vFg=\")","v":{"$error":"#REF!"}},{"$f":"AND(#REF!,\"AAAAAHf2vFk=\")","v":{"$error":"#REF!"}},{"$f":"AND(#REF!,\"AAAAAHf2vFo=\")","v":{"$error":"#REF!"}},{"$f":"AND(#REF!,\"AAAAAHf2vFs=\")","v":{"$error":"#REF!"}},{"$f":"AND(#REF!,\"AAAAAHf2vFw=\")","v":{"$error":"#REF!"}},{"$f":"AND(#REF!,\"AAAAAHf2vF0=\")","v":{"$error":"#REF!"}},{"$f":"AND(#REF!,\"AAAAAHf2vF4=\")","v":{"$error":"#REF!"}},{"$f":"AND(#REF!,\"AAAAAHf2vF8=\")","v":{"$error":"#REF!"}},{"$f":"AND(#REF!,\"AAAAAHf2vGA=\")","v":{"$error":"#REF!"}},{"$f":"AND(#REF!,\"AAAAAHf2vGE=\")","v":{"$error":"#REF!"}},{"$f":"AND(#REF!,\"AAAAAHf2vGI=\")","v":{"$error":"#REF!"}},{"$f":"AND(#REF!,\"AAAAAHf2vGM=\")","v":{"$error":"#REF!"}},{"$f":"AND(#REF!,\"AAAAAHf2vGQ=\")","v":{"$error":"#REF!"}},{"$f":"AND(#REF!,\"AAAAAHf2vGU=\")","v":{"$error":"#REF!"}},{"$f":"AND(#REF!,\"AAAAAHf2vGY=\")","v":{"$error":"#REF!"}},{"$f":"AND(#REF!,\"AAAAAHf2vGc=\")","v":{"$error":"#REF!"}},{"$f":"AND(#REF!,\"AAAAAHf2vGg=\")","v":{"$error":"#REF!"}},{"$f":"AND(#REF!,\"AAAAAHf2vGk=\")","v":{"$error":"#REF!"}},{"$f":"AND(#REF!,\"AAAAAHf2vGo=\")","v":{"$error":"#REF!"}},{"$f":"AND(#REF!,\"AAAAAHf2vGs=\")","v":{"$error":"#REF!"}},{"$f":"AND(#REF!,\"AAAAAHf2vGw=\")","v":{"$error":"#REF!"}},{"$f":"AND(#REF!,\"AAAAAHf2vG0=\")","v":{"$error":"#REF!"}},{"$f":"AND(#REF!,\"AAAAAHf2vG4=\")","v":{"$error":"#REF!"}},{"$f":"AND(#REF!,\"AAAAAHf2vG8=\")","v":{"$error":"#REF!"}},{"$f":"AND(#REF!,\"AAAAAHf2vHA=\")","v":{"$error":"#REF!"}},{"$f":"AND(#REF!,\"AAAAAHf2vHE=\")","v":{"$error":"#REF!"}},{"$f":"AND(#REF!,\"AAAAAHf2vHI=\")","v":{"$error":"#REF!"}},{"$f":"AND(#REF!,\"AAAAAHf2vHM=\")","v":{"$error":"#REF!"}},{"$f":"AND(#REF!,\"AAAAAHf2vHQ=\")","v":{"$error":"#REF!"}},{"$f":"AND(#REF!,\"AAAAAHf2vHU=\")","v":{"$error":"#REF!"}},{"$f":"AND(#REF!,\"AAAAAHf2vHY=\")","v":{"$error":"#REF!"}},{"$f":"AND(#REF!,\"AAAAAHf2vHc=\")","v":{"$error":"#REF!"}},{"$f":"AND(#REF!,\"AAAAAHf2vHg=\")","v":{"$error":"#REF!"}},{"$f":"AND(#REF!,\"AAAAAHf2vHk=\")","v":{"$error":"#REF!"}},{"$f":"AND(#REF!,\"AAAAAHf2vHo=\")","v":{"$error":"#REF!"}},{"$f":"AND(#REF!,\"AAAAAHf2vHs=\")","v":{"$error":"#REF!"}},{"$f":"AND(#REF!,\"AAAAAHf2vHw=\")","v":{"$error":"#REF!"}},{"$f":"AND(#REF!,\"AAAAAHf2vH0=\")","v":{"$error":"#REF!"}},{"$f":"AND(#REF!,\"AAAAAHf2vH4=\")","v":{"$error":"#REF!"}},{"$f":"AND(#REF!,\"AAAAAHf2vH8=\")","v":{"$error":"#REF!"}},{"$f":"AND(#REF!,\"AAAAAHf2vIA=\")","v":{"$error":"#REF!"}},{"$f":"AND(#REF!,\"AAAAAHf2vIE=\")","v":{"$error":"#REF!"}},{"$f":"AND(#REF!,\"AAAAAHf2vII=\")","v":{"$error":"#REF!"}},{"$f":"AND(#REF!,\"AAAAAHf2vIM=\")","v":{"$error":"#REF!"}},{"$f":"AND(#REF!,\"AAAAAHf2vIQ=\")","v":{"$error":"#REF!"}},{"$f":"IF(#REF!,\"AAAAAHf2vIU=\",0)","v":{"$error":"#REF!"}},{"$f":"AND(#REF!,\"AAAAAHf2vIY=\")","v":{"$error":"#REF!"}},{"$f":"AND(#REF!,\"AAAAAHf2vIc=\")","v":{"$error":"#REF!"}},{"$f":"AND(#REF!,\"AAAAAHf2vIg=\")","v":{"$error":"#REF!"}},{"$f":"AND(#REF!,\"AAAAAHf2vIk=\")","v":{"$error":"#REF!"}},{"$f":"AND(#REF!,\"AAAAAHf2vIo=\")","v":{"$error":"#REF!"}},{"$f":"AND(#REF!,\"AAAAAHf2vIs=\")","v":{"$error":"#REF!"}},{"$f":"AND(#REF!,\"AAAAAHf2vIw=\")","v":{"$error":"#REF!"}},{"$f":"AND(#REF!,\"AAAAAHf2vI0=\")","v":{"$error":"#REF!"}},{"$f":"AND(#REF!,\"AAAAAHf2vI4=\")","v":{"$error":"#REF!"}},{"$f":"AND(#REF!,\"AAAAAHf2vI8=\")","v":{"$error":"#REF!"}},{"$f":"AND(#REF!,\"AAAAAHf2vJA=\")","v":{"$error":"#REF!"}},{"$f":"AND(#REF!,\"AAAAAHf2vJE=\")","v":{"$error":"#REF!"}},{"$f":"AND(#REF!,\"AAAAAHf2vJI=\")","v":{"$error":"#REF!"}},{"$f":"AND(#REF!,\"AAAAAHf2vJM=\")","v":{"$error":"#REF!"}},{"$f":"AND(#REF!,\"AAAAAHf2vJQ=\")","v":{"$error":"#REF!"}},{"$f":"AND(#REF!,\"AAAAAHf2vJU=\")","v":{"$error":"#REF!"}},{"$f":"AND(#REF!,\"AAAAAHf2vJY=\")","v":{"$error":"#REF!"}},{"$f":"AND(#REF!,\"AAAAAHf2vJc=\")","v":{"$error":"#REF!"}},{"$f":"AND(#REF!,\"AAAAAHf2vJg=\")","v":{"$error":"#REF!"}},{"$f":"AND(#REF!,\"AAAAAHf2vJk=\")","v":{"$error":"#REF!"}},{"$f":"AND(#REF!,\"AAAAAHf2vJo=\")","v":{"$error":"#REF!"}},{"$f":"AND(#REF!,\"AAAAAHf2vJs=\")","v":{"$error":"#REF!"}},{"$f":"AND(#REF!,\"AAAAAHf2vJw=\")","v":{"$error":"#REF!"}},{"$f":"AND(#REF!,\"AAAAAHf2vJ0=\")","v":{"$error":"#REF!"}},{"$f":"AND(#REF!,\"AAAAAHf2vJ4=\")","v":{"$error":"#REF!"}},{"$f":"AND(#REF!,\"AAAAAHf2vJ8=\")","v":{"$error":"#REF!"}},{"$f":"AND(#REF!,\"AAAAAHf2vKA=\")","v":{"$error":"#REF!"}},{"$f":"AND(#REF!,\"AAAAAHf2vKE=\")","v":{"$error":"#REF!"}},{"$f":"AND(#REF!,\"AAAAAHf2vKI=\")","v":{"$error":"#REF!"}},{"$f":"AND(#REF!,\"AAAAAHf2vKM=\")","v":{"$error":"#REF!"}},{"$f":"AND(#REF!,\"AAAAAHf2vKQ=\")","v":{"$error":"#REF!"}},{"$f":"AND(#REF!,\"AAAAAHf2vKU=\")","v":{"$error":"#REF!"}},{"$f":"AND(#REF!,\"AAAAAHf2vKY=\")","v":{"$error":"#REF!"}},{"$f":"IF(#REF!,\"AAAAAHf2vKc=\",0)","v":{"$error":"#REF!"}},{"$f":"AND(#REF!,\"AAAAAHf2vKg=\")","v":{"$error":"#REF!"}},{"$f":"AND(#REF!,\"AAAAAHf2vKk=\")","v":{"$error":"#REF!"}},{"$f":"AND(#REF!,\"AAAAAHf2vKo=\")","v":{"$error":"#REF!"}},{"$f":"AND(#REF!,\"AAAAAHf2vKs=\")","v":{"$error":"#REF!"}},{"$f":"AND(#REF!,\"AAAAAHf2vKw=\")","v":{"$error":"#REF!"}},{"$f":"AND(#REF!,\"AAAAAHf2vK0=\")","v":{"$error":"#REF!"}},{"$f":"AND(#REF!,\"AAAAAHf2vK4=\")","v":{"$error":"#REF!"}},{"$f":"AND(#REF!,\"AAAAAHf2vK8=\")","v":{"$error":"#REF!"}},{"$f":"AND(#REF!,\"AAAAAHf2vLA=\")","v":{"$error":"#REF!"}},{"$f":"AND(#REF!,\"AAAAAHf2vLE=\")","v":{"$error":"#REF!"}},{"$f":"AND(#REF!,\"AAAAAHf2vLI=\")","v":{"$error":"#REF!"}},{"$f":"AND(#REF!,\"AAAAAHf2vLM=\")","v":{"$error":"#REF!"}},{"$f":"AND(#REF!,\"AAAAAHf2vLQ=\")","v":{"$error":"#REF!"}},{"$f":"AND(#REF!,\"AAAAAHf2vLU=\")","v":{"$error":"#REF!"}},{"$f":"AND(#REF!,\"AAAAAHf2vLY=\")","v":{"$error":"#REF!"}},{"$f":"AND(#REF!,\"AAAAAHf2vLc=\")","v":{"$error":"#REF!"}},{"$f":"AND(#REF!,\"AAAAAHf2vLg=\")","v":{"$error":"#REF!"}},{"$f":"AND(#REF!,\"AAAAAHf2vLk=\")","v":{"$error":"#REF!"}},{"$f":"AND(#REF!,\"AAAAAHf2vLo=\")","v":{"$error":"#REF!"}},{"$f":"AND(#REF!,\"AAAAAHf2vLs=\")","v":{"$error":"#REF!"}},{"$f":"AND(#REF!,\"AAAAAHf2vLw=\")","v":{"$error":"#REF!"}},{"$f":"AND(#REF!,\"AAAAAHf2vL0=\")","v":{"$error":"#REF!"}},{"$f":"AND(#REF!,\"AAAAAHf2vL4=\")","v":{"$error":"#REF!"}},{"$f":"AND(#REF!,\"AAAAAHf2vL8=\")","v":{"$error":"#REF!"}},{"$f":"AND(#REF!,\"AAAAAHf2vMA=\")","v":{"$error":"#REF!"}},{"$f":"AND(#REF!,\"AAAAAHf2vME=\")","v":{"$error":"#REF!"}},{"$f":"AND(#REF!,\"AAAAAHf2vMI=\")","v":{"$error":"#REF!"}},{"$f":"AND(#REF!,\"AAAAAHf2vMM=\")","v":{"$error":"#REF!"}},{"$f":"AND(#REF!,\"AAAAAHf2vMQ=\")","v":{"$error":"#REF!"}},{"$f":"AND(#REF!,\"AAAAAHf2vMU=\")","v":{"$error":"#REF!"}},{"$f":"AND(#REF!,\"AAAAAHf2vMY=\")","v":{"$error":"#REF!"}},{"$f":"AND(#REF!,\"AAAAAHf2vMc=\")","v":{"$error":"#REF!"}},{"$f":"AND(#REF!,\"AAAAAHf2vMg=\")","v":{"$error":"#REF!"}},{"$f":"IF(#REF!,\"AAAAAHf2vMk=\",0)","v":{"$error":"#REF!"}},{"$f":"AND(#REF!,\"AAAAAHf2vMo=\")","v":{"$error":"#REF!"}},{"$f":"AND(#REF!,\"AAAAAHf2vMs=\")","v":{"$error":"#REF!"}},{"$f":"AND(#REF!,\"AAAAAHf2vMw=\")","v":{"$error":"#REF!"}},{"$f":"AND(#REF!,\"AAAAAHf2vM0=\")","v":{"$error":"#REF!"}},{"$f":"AND(#REF!,\"AAAAAHf2vM4=\")","v":{"$error":"#REF!"}},{"$f":"AND(#REF!,\"AAAAAHf2vM8=\")","v":{"$error":"#REF!"}},{"$f":"AND(#REF!,\"AAAAAHf2vNA=\")","v":{"$error":"#REF!"}},{"$f":"AND(#REF!,\"AAAAAHf2vNE=\")","v":{"$error":"#REF!"}},{"$f":"AND(#REF!,\"AAAAAHf2vNI=\")","v":{"$error":"#REF!"}},{"$f":"AND(#REF!,\"AAAAAHf2vNM=\")","v":{"$error":"#REF!"}},{"$f":"AND(#REF!,\"AAAAAHf2vNQ=\")","v":{"$error":"#REF!"}},{"$f":"AND(#REF!,\"AAAAAHf2vNU=\")","v":{"$error":"#REF!"}},{"$f":"AND(#REF!,\"AAAAAHf2vNY=\")","v":{"$error":"#REF!"}},{"$f":"AND(#REF!,\"AAAAAHf2vNc=\")","v":{"$error":"#REF!"}},{"$f":"AND(#REF!,\"AAAAAHf2vNg=\")","v":{"$error":"#REF!"}},{"$f":"AND(#REF!,\"AAAAAHf2vNk=\")","v":{"$error":"#REF!"}},{"$f":"AND(#REF!,\"AAAAAHf2vNo=\")","v":{"$error":"#REF!"}},{"$f":"AND(#REF!,\"AAAAAHf2vNs=\")","v":{"$error":"#REF!"}},{"$f":"AND(#REF!,\"AAAAAHf2vNw=\")","v":{"$error":"#REF!"}},{"$f":"AND(#REF!,\"AAAAAHf2vN0=\")","v":{"$error":"#REF!"}},{"$f":"AND(#REF!,\"AAAAAHf2vN4=\")","v":{"$error":"#REF!"}},{"$f":"AND(#REF!,\"AAAAAHf2vN8=\")","v":{"$error":"#REF!"}},{"$f":"AND(#REF!,\"AAAAAHf2vOA=\")","v":{"$error":"#REF!"}},{"$f":"AND(#REF!,\"AAAAAHf2vOE=\")","v":{"$error":"#REF!"}},{"$f":"AND(#REF!,\"AAAAAHf2vOI=\")","v":{"$error":"#REF!"}},{"$f":"AND(#REF!,\"AAAAAHf2vOM=\")","v":{"$error":"#REF!"}},{"$f":"AND(#REF!,\"AAAAAHf2vOQ=\")","v":{"$error":"#REF!"}},{"$f":"AND(#REF!,\"AAAAAHf2vOU=\")","v":{"$error":"#REF!"}},{"$f":"AND(#REF!,\"AAAAAHf2vOY=\")","v":{"$error":"#REF!"}},{"$f":"AND(#REF!,\"AAAAAHf2vOc=\")","v":{"$error":"#REF!"}},{"$f":"AND(#REF!,\"AAAAAHf2vOg=\")","v":{"$error":"#REF!"}},{"$f":"AND(#REF!,\"AAAAAHf2vOk=\")","v":{"$error":"#REF!"}},{"$f":"AND(#REF!,\"AAAAAHf2vOo=\")","v":{"$error":"#REF!"}},{"$f":"IF(#REF!,\"AAAAAHf2vOs=\",0)","v":{"$error":"#REF!"}},{"$f":"AND(#REF!,\"AAAAAHf2vOw=\")","v":{"$error":"#REF!"}},{"$f":"AND(#REF!,\"AAAAAHf2vO0=\")","v":{"$error":"#REF!"}},{"$f":"AND(#REF!,\"AAAAAHf2vO4=\")","v":{"$error":"#REF!"}},{"$f":"AND(#REF!,\"AAAAAHf2vO8=\")","v":{"$error":"#REF!"}},{"$f":"AND(#REF!,\"AAAAAHf2vPA=\")","v":{"$error":"#REF!"}},{"$f":"AND(#REF!,\"AAAAAHf2vPE=\")","v":{"$error":"#REF!"}},{"$f":"AND(#REF!,\"AAAAAHf2vPI=\")","v":{"$error":"#REF!"}},{"$f":"AND(#REF!,\"AAAAAHf2vPM=\")","v":{"$error":"#REF!"}},{"$f":"AND(#REF!,\"AAAAAHf2vPQ=\")","v":{"$error":"#REF!"}},{"$f":"AND(#REF!,\"AAAAAHf2vPU=\")","v":{"$error":"#REF!"}},{"$f":"AND(#REF!,\"AAAAAHf2vPY=\")","v":{"$error":"#REF!"}},{"$f":"AND(#REF!,\"AAAAAHf2vPc=\")","v":{"$error":"#REF!"}},{"$f":"AND(#REF!,\"AAAAAHf2vPg=\")","v":{"$error":"#REF!"}},{"$f":"AND(#REF!,\"AAAAAHf2vPk=\")","v":{"$error":"#REF!"}},{"$f":"AND(#REF!,\"AAAAAHf2vPo=\")","v":{"$error":"#REF!"}},{"$f":"AND(#REF!,\"AAAAAHf2vPs=\")","v":{"$error":"#REF!"}},{"$f":"AND(#REF!,\"AAAAAHf2vPw=\")","v":{"$error":"#REF!"}},{"$f":"AND(#REF!,\"AAAAAHf2vP0=\")","v":{"$error":"#REF!"}},{"$f":"AND(#REF!,\"AAAAAHf2vP4=\")","v":{"$error":"#REF!"}},{"$f":"AND(#REF!,\"AAAAAHf2vP8=\")","v":{"$error":"#REF!"}}]
[{"$f":"AND(#REF!,\"AAAAAG93tgA=\")","v":{"$error":"#REF!"}},{"$f":"AND(#REF!,\"AAAAAG93tgE=\")","v":{"$error":"#REF!"}},{"$f":"AND(#REF!,\"AAAAAG93tgI=\")","v":{"$error":"#REF!"}},{"$f":"AND(#REF!,\"AAAAAG93tgM=\")","v":{"$error":"#REF!"}},{"$f":"AND(#REF!,\"AAAAAG93tgQ=\")","v":{"$error":"#REF!"}},{"$f":"AND(#REF!,\"AAAAAG93tgU=\")","v":{"$error":"#REF!"}},{"$f":"AND(#REF!,\"AAAAAG93tgY=\")","v":{"$error":"#REF!"}},{"$f":"AND(#REF!,\"AAAAAG93tgc=\")","v":{"$error":"#REF!"}},{"$f":"AND(#REF!,\"AAAAAG93tgg=\")","v":{"$error":"#REF!"}},{"$f":"AND(#REF!,\"AAAAAG93tgk=\")","v":{"$error":"#REF!"}},{"$f":"AND(#REF!,\"AAAAAG93tgo=\")","v":{"$error":"#REF!"}},{"$f":"AND(#REF!,\"AAAAAG93tgs=\")","v":{"$error":"#REF!"}},{"$f":"AND(#REF!,\"AAAAAG93tgw=\")","v":{"$error":"#REF!"}},{"$f":"IF(#REF!,\"AAAAAG93tg0=\",0)","v":{"$error":"#REF!"}},{"$f":"AND(#REF!,\"AAAAAG93tg4=\")","v":{"$error":"#REF!"}},{"$f":"AND(#REF!,\"AAAAAG93tg8=\")","v":{"$error":"#REF!"}},{"$f":"AND(#REF!,\"AAAAAG93thA=\")","v":{"$error":"#REF!"}},{"$f":"AND(#REF!,\"AAAAAG93thE=\")","v":{"$error":"#REF!"}},{"$f":"AND(#REF!,\"AAAAAG93thI=\")","v":{"$error":"#REF!"}},{"$f":"AND(#REF!,\"AAAAAG93thM=\")","v":{"$error":"#REF!"}},{"$f":"AND(#REF!,\"AAAAAG93thQ=\")","v":{"$error":"#REF!"}},{"$f":"AND(#REF!,\"AAAAAG93thU=\")","v":{"$error":"#REF!"}},{"$f":"AND(#REF!,\"AAAAAG93thY=\")","v":{"$error":"#REF!"}},{"$f":"AND(#REF!,\"AAAAAG93thc=\")","v":{"$error":"#REF!"}},{"$f":"AND(#REF!,\"AAAAAG93thg=\")","v":{"$error":"#REF!"}},{"$f":"AND(#REF!,\"AAAAAG93thk=\")","v":{"$error":"#REF!"}},{"$f":"AND(#REF!,\"AAAAAG93tho=\")","v":{"$error":"#REF!"}},{"$f":"AND(#REF!,\"AAAAAG93ths=\")","v":{"$error":"#REF!"}},{"$f":"AND(#REF!,\"AAAAAG93thw=\")","v":{"$error":"#REF!"}},{"$f":"AND(#REF!,\"AAAAAG93th0=\")","v":{"$error":"#REF!"}},{"$f":"AND(#REF!,\"AAAAAG93th4=\")","v":{"$error":"#REF!"}},{"$f":"AND(#REF!,\"AAAAAG93th8=\")","v":{"$error":"#REF!"}},{"$f":"AND(#REF!,\"AAAAAG93tiA=\")","v":{"$error":"#REF!"}},{"$f":"AND(#REF!,\"AAAAAG93tiE=\")","v":{"$error":"#REF!"}},{"$f":"AND(#REF!,\"AAAAAG93tiI=\")","v":{"$error":"#REF!"}},{"$f":"AND(#REF!,\"AAAAAG93tiM=\")","v":{"$error":"#REF!"}},{"$f":"AND(#REF!,\"AAAAAG93tiQ=\")","v":{"$error":"#REF!"}},{"$f":"AND(#REF!,\"AAAAAG93tiU=\")","v":{"$error":"#REF!"}},{"$f":"AND(#REF!,\"AAAAAG93tiY=\")","v":{"$error":"#REF!"}},{"$f":"AND(#REF!,\"AAAAAG93tic=\")","v":{"$error":"#REF!"}},{"$f":"AND(#REF!,\"AAAAAG93tig=\")","v":{"$error":"#REF!"}},{"$f":"AND(#REF!,\"AAAAAG93tik=\")","v":{"$error":"#REF!"}},{"$f":"AND(#REF!,\"AAAAAG93tio=\")","v":{"$error":"#REF!"}},{"$f":"AND(#REF!,\"AAAAAG93tis=\")","v":{"$error":"#REF!"}},{"$f":"AND(#REF!,\"AAAAAG93tiw=\")","v":{"$error":"#REF!"}},{"$f":"AND(#REF!,\"AAAAAG93ti0=\")","v":{"$error":"#REF!"}},{"$f":"AND(#REF!,\"AAAAAG93ti4=\")","v":{"$error":"#REF!"}},{"$f":"IF(#REF!,\"AAAAAG93ti8=\",0)","v":{"$error":"#REF!"}},{"$f":"AND(#REF!,\"AAAAAG93tjA=\")","v":{"$error":"#REF!"}},{"$f":"AND(#REF!,\"AAAAAG93tjE=\")","v":{"$error":"#REF!"}},{"$f":"AND(#REF!,\"AAAAAG93tjI=\")","v":{"$error":"#REF!"}},{"$f":"AND(#REF!,\"AAAAAG93tjM=\")","v":{"$error":"#REF!"}},{"$f":"AND(#REF!,\"AAAAAG93tjQ=\")","v":{"$error":"#REF!"}},{"$f":"AND(#REF!,\"AAAAAG93tjU=\")","v":{"$error":"#REF!"}},{"$f":"AND(#REF!,\"AAAAAG93tjY=\")","v":{"$error":"#REF!"}},{"$f":"AND(#REF!,\"AAAAAG93tjc=\")","v":{"$error":"#REF!"}},{"$f":"AND(#REF!,\"AAAAAG93tjg=\")","v":{"$error":"#REF!"}},{"$f":"AND(#REF!,\"AAAAAG93tjk=\")","v":{"$error":"#REF!"}},{"$f":"AND(#REF!,\"AAAAAG93tjo=\")","v":{"$error":"#REF!"}},{"$f":"AND(#REF!,\"AAAAAG93tjs=\")","v":{"$error":"#REF!"}},{"$f":"AND(#REF!,\"AAAAAG93tjw=\")","v":{"$error":"#REF!"}},{"$f":"AND(#REF!,\"AAAAAG93tj0=\")","v":{"$error":"#REF!"}},{"$f":"AND(#REF!,\"AAAAAG93tj4=\")","v":{"$error":"#REF!"}},{"$f":"AND(#REF!,\"AAAAAG93tj8=\")","v":{"$error":"#REF!"}},{"$f":"AND(#REF!,\"AAAAAG93tkA=\")","v":{"$error":"#REF!"}},{"$f":"AND(#REF!,\"AAAAAG93tkE=\")","v":{"$error":"#REF!"}},{"$f":"AND(#REF!,\"AAAAAG93tkI=\")","v":{"$error":"#REF!"}},{"$f":"AND(#REF!,\"AAAAAG93tkM=\")","v":{"$error":"#REF!"}},{"$f":"AND(#REF!,\"AAAAAG93tkQ=\")","v":{"$error":"#REF!"}},{"$f":"AND(#REF!,\"AAAAAG93tkU=\")","v":{"$error":"#REF!"}},{"$f":"AND(#REF!,\"AAAAAG93tkY=\")","v":{"$error":"#REF!"}},{"$f":"AND(#REF!,\"AAAAAG93tkc=\")","v":{"$error":"#REF!"}},{"$f":"AND(#REF!,\"AAAAAG93tkg=\")","v":{"$error":"#REF!"}},{"$f":"AND(#REF!,\"AAAAAG93tkk=\")","v":{"$error":"#REF!"}},{"$f":"AND(#REF!,\"AAAAAG93tko=\")","v":{"$error":"#REF!"}},{"$f":"AND(#REF!,\"AAAAAG93tks=\")","v":{"$error":"#REF!"}},{"$f":"AND(#REF!,\"AAAAAG93tkw=\")","v":{"$error":"#REF!"}},{"$f":"AND(#REF!,\"AAAAAG93tk0=\")","v":{"$error":"#REF!"}},{"$f":"AND(#REF!,\"AAAAAG93tk4=\")","v":{"$error":"#REF!"}},{"$f":"AND(#REF!,\"AAAAAG93tk8=\")","v":{"$error":"#REF!"}},{"$f":"AND(#REF!,\"AAAAAG93tlA=\")","v":{"$error":"#REF!"}},{"$f":"IF(#REF!,\"AAAAAG93tlE=\",0)","v":{"$error":"#REF!"}},{"$f":"AND(#REF!,\"AAAAAG93tlI=\")","v":{"$error":"#REF!"}},{"$f":"AND(#REF!,\"AAAAAG93tlM=\")","v":{"$error":"#REF!"}},{"$f":"AND(#REF!,\"AAAAAG93tlQ=\")","v":{"$error":"#REF!"}},{"$f":"AND(#REF!,\"AAAAAG93tlU=\")","v":{"$error":"#REF!"}},{"$f":"AND(#REF!,\"AAAAAG93tlY=\")","v":{"$error":"#REF!"}},{"$f":"AND(#REF!,\"AAAAAG93tlc=\")","v":{"$error":"#REF!"}},{"$f":"AND(#REF!,\"AAAAAG93tlg=\")","v":{"$error":"#REF!"}},{"$f":"AND(#REF!,\"AAAAAG93tlk=\")","v":{"$error":"#REF!"}},{"$f":"AND(#REF!,\"AAAAAG93tlo=\")","v":{"$error":"#REF!"}},{"$f":"AND(#REF!,\"AAAAAG93tls=\")","v":{"$error":"#REF!"}},{"$f":"AND(#REF!,\"AAAAAG93tlw=\")","v":{"$error":"#REF!"}},{"$f":"AND(#REF!,\"AAAAAG93tl0=\")","v":{"$error":"#REF!"}},{"$f":"AND(#REF!,\"AAAAAG93tl4=\")","v":{"$error":"#REF!"}},{"$f":"AND(#REF!,\"AAAAAG93tl8=\")","v":{"$error":"#REF!"}},{"$f":"AND(#REF!,\"AAAAAG93tmA=\")","v":{"$error":"#REF!"}},{"$f":"AND(#REF!,\"AAAAAG93tmE=\")","v":{"$error":"#REF!"}},{"$f":"AND(#REF!,\"AAAAAG93tmI=\")","v":{"$error":"#REF!"}},{"$f":"AND(#REF!,\"AAAAAG93tmM=\")","v":{"$error":"#REF!"}},{"$f":"AND(#REF!,\"AAAAAG93tmQ=\")","v":{"$error":"#REF!"}},{"$f":"AND(#REF!,\"AAAAAG93tmU=\")","v":{"$error":"#REF!"}},{"$f":"AND(#REF!,\"AAAAAG93tmY=\")","v":{"$error":"#REF!"}},{"$f":"AND(#REF!,\"AAAAAG93tmc=\")","v":{"$error":"#REF!"}},{"$f":"AND(#REF!,\"AAAAAG93tmg=\")","v":{"$error":"#REF!"}},{"$f":"AND(#REF!,\"AAAAAG93tmk=\")","v":{"$error":"#REF!"}},{"$f":"AND(#REF!,\"AAAAAG93tmo=\")","v":{"$error":"#REF!"}},{"$f":"AND(#REF!,\"AAAAAG93tms=\")","v":{"$error":"#REF!"}},{"$f":"AND(#REF!,\"AAAAAG93tmw=\")","v":{"$error":"#REF!"}},{"$f":"AND(#REF!,\"AAAAAG93tm0=\")","v":{"$error":"#REF!"}},{"$f":"AND(#REF!,\"AAAAAG93tm4=\")","v":{"$error":"#REF!"}},{"$f":"AND(#REF!,\"AAAAAG93tm8=\")","v":{"$error":"#REF!"}},{"$f":"AND(#REF!,\"AAAAAG93tnA=\")","v":{"$error":"#REF!"}},{"$f":"AND(#REF!,\"AAAAAG93tnE=\")","v":{"$error":"#REF!"}},{"$f":"AND(#REF!,\"AAAAAG93tnI=\")","v":{"$error":"#REF!"}},{"$f":"IF(#REF!,\"AAAAAG93tnM=\",0)","v":{"$error":"#REF!"}},{"$f":"AND(#REF!,\"AAAAAG93tnQ=\")","v":{"$error":"#REF!"}},{"$f":"AND(#REF!,\"AAAAAG93tnU=\")","v":{"$error":"#REF!"}},{"$f":"AND(#REF!,\"AAAAAG93tnY=\")","v":{"$error":"#REF!"}},{"$f":"AND(#REF!,\"AAAAAG93tnc=\")","v":{"$error":"#REF!"}},{"$f":"AND(#REF!,\"AAAAAG93tng=\")","v":{"$error":"#REF!"}},{"$f":"AND(#REF!,\"AAAAAG93tnk=\")","v":{"$error":"#REF!"}},{"$f":"AND(#REF!,\"AAAAAG93tno=\")","v":{"$error":"#REF!"}},{"$f":"AND(#REF!,\"AAAAAG93tns=\")","v":{"$error":"#REF!"}},{"$f":"AND(#REF!,\"AAAAAG93tnw=\")","v":{"$error":"#REF!"}},{"$f":"AND(#REF!,\"AAAAAG93tn0=\")","v":{"$error":"#REF!"}},{"$f":"AND(#REF!,\"AAAAAG93tn4=\")","v":{"$error":"#REF!"}},{"$f":"AND(#REF!,\"AAAAAG93tn8=\")","v":{"$error":"#REF!"}},{"$f":"AND(#REF!,\"AAAAAG93toA=\")","v":{"$error":"#REF!"}},{"$f":"AND(#REF!,\"AAAAAG93toE=\")","v":{"$error":"#REF!"}},{"$f":"AND(#REF!,\"AAAAAG93toI=\")","v":{"$error":"#REF!"}},{"$f":"AND(#REF!,\"AAAAAG93toM=\")","v":{"$error":"#REF!"}},{"$f":"AND(#REF!,\"AAAAAG93toQ=\")","v":{"$error":"#REF!"}},{"$f":"AND(#REF!,\"AAAAAG93toU=\")","v":{"$error":"#REF!"}},{"$f":"AND(#REF!,\"AAAAAG93toY=\")","v":{"$error":"#REF!"}},{"$f":"AND(#REF!,\"AAAAAG93toc=\")","v":{"$error":"#REF!"}},{"$f":"AND(#REF!,\"AAAAAG93tog=\")","v":{"$error":"#REF!"}},{"$f":"AND(#REF!,\"AAAAAG93tok=\")","v":{"$error":"#REF!"}},{"$f":"AND(#REF!,\"AAAAAG93too=\")","v":{"$error":"#REF!"}},{"$f":"AND(#REF!,\"AAAAAG93tos=\")","v":{"$error":"#REF!"}},{"$f":"AND(#REF!,\"AAAAAG93tow=\")","v":{"$error":"#REF!"}},{"$f":"AND(#REF!,\"AAAAAG93to0=\")","v":{"$error":"#REF!"}},{"$f":"AND(#REF!,\"AAAAAG93to4=\")","v":{"$error":"#REF!"}},{"$f":"AND(#REF!,\"AAAAAG93to8=\")","v":{"$error":"#REF!"}},{"$f":"AND(#REF!,\"AAAAAG93tpA=\")","v":{"$error":"#REF!"}},{"$f":"AND(#REF!,\"AAAAAG93tpE=\")","v":{"$error":"#REF!"}},{"$f":"AND(#REF!,\"AAAAAG93tpI=\")","v":{"$error":"#REF!"}},{"$f":"AND(#REF!,\"AAAAAG93tpM=\")","v":{"$error":"#REF!"}},{"$f":"AND(#REF!,\"AAAAAG93tpQ=\")","v":{"$error":"#REF!"}},{"$f":"IF(#REF!,\"AAAAAG93tpU=\",0)","v":{"$error":"#REF!"}},{"$f":"AND(#REF!,\"AAAAAG93tpY=\")","v":{"$error":"#REF!"}},{"$f":"AND(#REF!,\"AAAAAG93tpc=\")","v":{"$error":"#REF!"}},{"$f":"AND(#REF!,\"AAAAAG93tpg=\")","v":{"$error":"#REF!"}},{"$f":"AND(#REF!,\"AAAAAG93tpk=\")","v":{"$error":"#REF!"}},{"$f":"AND(#REF!,\"AAAAAG93tpo=\")","v":{"$error":"#REF!"}},{"$f":"AND(#REF!,\"AAAAAG93tps=\")","v":{"$error":"#REF!"}},{"$f":"AND(#REF!,\"AAAAAG93tpw=\")","v":{"$error":"#REF!"}},{"$f":"AND(#REF!,\"AAAAAG93tp0=\")","v":{"$error":"#REF!"}},{"$f":"AND(#REF!,\"AAAAAG93tp4=\")","v":{"$error":"#REF!"}},{"$f":"AND(#REF!,\"AAAAAG93tp8=\")","v":{"$error":"#REF!"}},{"$f":"AND(#REF!,\"AAAAAG93tqA=\")","v":{"$error":"#REF!"}},{"$f":"AND(#REF!,\"AAAAAG93tqE=\")","v":{"$error":"#REF!"}},{"$f":"AND(#REF!,\"AAAAAG93tqI=\")","v":{"$error":"#REF!"}},{"$f":"AND(#REF!,\"AAAAAG93tqM=\")","v":{"$error":"#REF!"}},{"$f":"AND(#REF!,\"AAAAAG93tqQ=\")","v":{"$error":"#REF!"}},{"$f":"AND(#REF!,\"AAAAAG93tqU=\")","v":{"$error":"#REF!"}},{"$f":"AND(#REF!,\"AAAAAG93tqY=\")","v":{"$error":"#REF!"}},{"$f":"AND(#REF!,\"AAAAAG93tqc=\")","v":{"$error":"#REF!"}},{"$f":"AND(#REF!,\"AAAAAG93tqg=\")","v":{"$error":"#REF!"}},{"$f":"AND(#REF!,\"AAAAAG93tqk=\")","v":{"$error":"#REF!"}},{"$f":"AND(#REF!,\"AAAAAG93tqo=\")","v":{"$error":"#REF!"}},{"$f":"AND(#REF!,\"AAAAAG93tqs=\")","v":{"$error":"#REF!"}},{"$f":"AND(#REF!,\"AAAAAG93tqw=\")","v":{"$error":"#REF!"}},{"$f":"AND(#REF!,\"AAAAAG93tq0=\")","v":{"$error":"#REF!"}},{"$f":"AND(#REF!,\"AAAAAG93tq4=\")","v":{"$error":"#REF!"}},{"$f":"AND(#REF!,\"AAAAAG93tq8=\")","v":{"$error":"#REF!"}},{"$f":"AND(#REF!,\"AAAAAG93trA=\")","v":{"$error":"#REF!"}},{"$f":"AND(#REF!,\"AAAAAG93trE=\")","v":{"$error":"#REF!"}},{"$f":"AND(#REF!,\"AAAAAG93trI=\")","v":{"$error":"#REF!"}},{"$f":"AND(#REF!,\"AAAAAG93trM=\")","v":{"$error":"#REF!"}},{"$f":"AND(#REF!,\"AAAAAG93trQ=\")","v":{"$error":"#REF!"}},{"$f":"AND(#REF!,\"AAAAAG93trU=\")","v":{"$error":"#REF!"}},{"$f":"AND(#REF!,\"AAAAAG93trY=\")","v":{"$error":"#REF!"}},{"$f":"IF(#REF!,\"AAAAAG93trc=\",0)","v":{"$error":"#REF!"}},{"$f":"AND(#REF!,\"AAAAAG93trg=\")","v":{"$error":"#REF!"}},{"$f":"AND(#REF!,\"AAAAAG93trk=\")","v":{"$error":"#REF!"}},{"$f":"AND(#REF!,\"AAAAAG93tro=\")","v":{"$error":"#REF!"}},{"$f":"AND(#REF!,\"AAAAAG93trs=\")","v":{"$error":"#REF!"}},{"$f":"AND(#REF!,\"AAAAAG93trw=\")","v":{"$error":"#REF!"}},{"$f":"AND(#REF!,\"AAAAAG93tr0=\")","v":{"$error":"#REF!"}},{"$f":"AND(#REF!,\"AAAAAG93tr4=\")","v":{"$error":"#REF!"}},{"$f":"AND(#REF!,\"AAAAAG93tr8=\")","v":{"$error":"#REF!"}},{"$f":"AND(#REF!,\"AAAAAG93tsA=\")","v":{"$error":"#REF!"}},{"$f":"AND(#REF!,\"AAAAAG93tsE=\")","v":{"$error":"#REF!"}},{"$f":"AND(#REF!,\"AAAAAG93tsI=\")","v":{"$error":"#REF!"}},{"$f":"AND(#REF!,\"AAAAAG93tsM=\")","v":{"$error":"#REF!"}},{"$f":"AND(#REF!,\"AAAAAG93tsQ=\")","v":{"$error":"#REF!"}},{"$f":"AND(#REF!,\"AAAAAG93tsU=\")","v":{"$error":"#REF!"}},{"$f":"AND(#REF!,\"AAAAAG93tsY=\")","v":{"$error":"#REF!"}},{"$f":"AND(#REF!,\"AAAAAG93tsc=\")","v":{"$error":"#REF!"}},{"$f":"AND(#REF!,\"AAAAAG93tsg=\")","v":{"$error":"#REF!"}},{"$f":"AND(#REF!,\"AAAAAG93tsk=\")","v":{"$error":"#REF!"}},{"$f":"AND(#REF!,\"AAAAAG93tso=\")","v":{"$error":"#REF!"}},{"$f":"AND(#REF!,\"AAAAAG93tss=\")","v":{"$error":"#REF!"}},{"$f":"AND(#REF!,\"AAAAAG93tsw=\")","v":{"$error":"#REF!"}},{"$f":"AND(#REF!,\"AAAAAG93ts0=\")","v":{"$error":"#REF!"}},{"$f":"AND(#REF!,\"AAAAAG93ts4=\")","v":{"$error":"#REF!"}},{"$f":"AND(#REF!,\"AAAAAG93ts8=\")","v":{"$error":"#REF!"}},{"$f":"AND(#REF!,\"AAAAAG93ttA=\")","v":{"$error":"#REF!"}},{"$f":"AND(#REF!,\"AAAAAG93ttE=\")","v":{"$error":"#REF!"}},{"$f":"AND(#REF!,\"AAAAAG93ttI=\")","v":{"$error":"#REF!"}},{"$f":"AND(#REF!,\"AAAAAG93ttM=\")","v":{"$error":"#REF!"}},{"$f":"AND(#REF!,\"AAAAAG93ttQ=\")","v":{"$error":"#REF!"}},{"$f":"AND(#REF!,\"AAAAAG93ttU=\")","v":{"$error":"#REF!"}},{"$f":"AND(#REF!,\"AAAAAG93ttY=\")","v":{"$error":"#REF!"}},{"$f":"AND(#REF!,\"AAAAAG93ttc=\")","v":{"$error":"#REF!"}},{"$f":"AND(#REF!,\"AAAAAG93ttg=\")","v":{"$error":"#REF!"}},{"$f":"IF(#REF!,\"AAAAAG93ttk=\",0)","v":{"$error":"#REF!"}},{"$f":"AND(#REF!,\"AAAAAG93tto=\")","v":{"$error":"#REF!"}},{"$f":"AND(#REF!,\"AAAAAG93tts=\")","v":{"$error":"#REF!"}},{"$f":"AND(#REF!,\"AAAAAG93ttw=\")","v":{"$error":"#REF!"}},{"$f":"AND(#REF!,\"AAAAAG93tt0=\")","v":{"$error":"#REF!"}},{"$f":"AND(#REF!,\"AAAAAG93tt4=\")","v":{"$error":"#REF!"}},{"$f":"AND(#REF!,\"AAAAAG93tt8=\")","v":{"$error":"#REF!"}},{"$f":"AND(#REF!,\"AAAAAG93tuA=\")","v":{"$error":"#REF!"}},{"$f":"AND(#REF!,\"AAAAAG93tuE=\")","v":{"$error":"#REF!"}},{"$f":"AND(#REF!,\"AAAAAG93tuI=\")","v":{"$error":"#REF!"}},{"$f":"AND(#REF!,\"AAAAAG93tuM=\")","v":{"$error":"#REF!"}},{"$f":"AND(#REF!,\"AAAAAG93tuQ=\")","v":{"$error":"#REF!"}},{"$f":"AND(#REF!,\"AAAAAG93tuU=\")","v":{"$error":"#REF!"}},{"$f":"AND(#REF!,\"AAAAAG93tuY=\")","v":{"$error":"#REF!"}},{"$f":"AND(#REF!,\"AAAAAG93tuc=\")","v":{"$error":"#REF!"}},{"$f":"AND(#REF!,\"AAAAAG93tug=\")","v":{"$error":"#REF!"}},{"$f":"AND(#REF!,\"AAAAAG93tuk=\")","v":{"$error":"#REF!"}},{"$f":"AND(#REF!,\"AAAAAG93tuo=\")","v":{"$error":"#REF!"}},{"$f":"AND(#REF!,\"AAAAAG93tus=\")","v":{"$error":"#REF!"}},{"$f":"AND(#REF!,\"AAAAAG93tuw=\")","v":{"$error":"#REF!"}},{"$f":"AND(#REF!,\"AAAAAG93tu0=\")","v":{"$error":"#REF!"}},{"$f":"AND(#REF!,\"AAAAAG93tu4=\")","v":{"$error":"#REF!"}},{"$f":"AND(#REF!,\"AAAAAG93tu8=\")","v":{"$error":"#REF!"}},{"$f":"AND(#REF!,\"AAAAAG93tvA=\")","v":{"$error":"#REF!"}},{"$f":"AND(#REF!,\"AAAAAG93tvE=\")","v":{"$error":"#REF!"}},{"$f":"AND(#REF!,\"AAAAAG93tvI=\")","v":{"$error":"#REF!"}},{"$f":"AND(#REF!,\"AAAAAG93tvM=\")","v":{"$error":"#REF!"}},{"$f":"AND(#REF!,\"AAAAAG93tvQ=\")","v":{"$error":"#REF!"}},{"$f":"AND(#REF!,\"AAAAAG93tvU=\")","v":{"$error":"#REF!"}},{"$f":"AND(#REF!,\"AAAAAG93tvY=\")","v":{"$error":"#REF!"}},{"$f":"AND(#REF!,\"AAAAAG93tvc=\")","v":{"$error":"#REF!"}},{"$f":"AND(#REF!,\"AAAAAG93tvg=\")","v":{"$error":"#REF!"}},{"$f":"AND(#REF!,\"AAAAAG93tvk=\")","v":{"$error":"#REF!"}},{"$f":"AND(#REF!,\"AAAAAG93tvo=\")","v":{"$error":"#REF!"}},{"$f":"IF(#REF!,\"AAAAAG93tvs=\",0)","v":{"$error":"#REF!"}},{"$f":"AND(#REF!,\"AAAAAG93tvw=\")","v":{"$error":"#REF!"}},{"$f":"AND(#REF!,\"AAAAAG93tv0=\")","v":{"$error":"#REF!"}},{"$f":"AND(#REF!,\"AAAAAG93tv4=\")","v":{"$error":"#REF!"}},{"$f":"AND(#REF!,\"AAAAAG93tv8=\")","v":{"$error":"#REF!"}}]
[{"$f":"AND(#REF!,\"AAAAAH+9mwA=\")","v":{"$error":"#REF!"}},{"$f":"AND(#REF!,\"AAAAAH+9mwE=\")","v":{"$error":"#REF!"}},{"$f":"AND(#REF!,\"AAAAAH+9mwI=\")","v":{"$error":"#REF!"}},{"$f":"AND(#REF!,\"AAAAAH+9mwM=\")","v":{"$error":"#REF!"}},{"$f":"AND(#REF!,\"AAAAAH+9mwQ=\")","v":{"$error":"#REF!"}},{"$f":"AND(#REF!,\"AAAAAH+9mwU=\")","v":{"$error":"#REF!"}},{"$f":"AND(#REF!,\"AAAAAH+9mwY=\")","v":{"$error":"#REF!"}},{"$f":"AND(#REF!,\"AAAAAH+9mwc=\")","v":{"$error":"#REF!"}},{"$f":"AND(#REF!,\"AAAAAH+9mwg=\")","v":{"$error":"#REF!"}},{"$f":"AND(#REF!,\"AAAAAH+9mwk=\")","v":{"$error":"#REF!"}},{"$f":"AND(#REF!,\"AAAAAH+9mwo=\")","v":{"$error":"#REF!"}},{"$f":"AND(#REF!,\"AAAAAH+9mws=\")","v":{"$error":"#REF!"}},{"$f":"AND(#REF!,\"AAAAAH+9mww=\")","v":{"$error":"#REF!"}},{"$f":"AND(#REF!,\"AAAAAH+9mw0=\")","v":{"$error":"#REF!"}},{"$f":"AND(#REF!,\"AAAAAH+9mw4=\")","v":{"$error":"#REF!"}},{"$f":"AND(#REF!,\"AAAAAH+9mw8=\")","v":{"$error":"#REF!"}},{"$f":"AND(#REF!,\"AAAAAH+9mxA=\")","v":{"$error":"#REF!"}},{"$f":"AND(#REF!,\"AAAAAH+9mxE=\")","v":{"$error":"#REF!"}},{"$f":"AND(#REF!,\"AAAAAH+9mxI=\")","v":{"$error":"#REF!"}},{"$f":"AND(#REF!,\"AAAAAH+9mxM=\")","v":{"$error":"#REF!"}},{"$f":"AND(#REF!,\"AAAAAH+9mxQ=\")","v":{"$error":"#REF!"}},{"$f":"AND(#REF!,\"AAAAAH+9mxU=\")","v":{"$error":"#REF!"}},{"$f":"AND(#REF!,\"AAAAAH+9mxY=\")","v":{"$error":"#REF!"}},{"$f":"AND(#REF!,\"AAAAAH+9mxc=\")","v":{"$error":"#REF!"}},{"$f":"AND(#REF!,\"AAAAAH+9mxg=\")","v":{"$error":"#REF!"}},{"$f":"AND(#REF!,\"AAAAAH+9mxk=\")","v":{"$error":"#REF!"}},{"$f":"AND(#REF!,\"AAAAAH+9mxo=\")","v":{"$error":"#REF!"}},{"$f":"AND(#REF!,\"AAAAAH+9mxs=\")","v":{"$error":"#REF!"}},{"$f":"AND(#REF!,\"AAAAAH+9mxw=\")","v":{"$error":"#REF!"}},{"$f":"IF(#REF!,\"AAAAAH+9mx0=\",0)","v":{"$error":"#REF!"}},{"$f":"AND(#REF!,\"AAAAAH+9mx4=\")","v":{"$error":"#REF!"}},{"$f":"AND(#REF!,\"AAAAAH+9mx8=\")","v":{"$error":"#REF!"}},{"$f":"AND(#REF!,\"AAAAAH+9myA=\")","v":{"$error":"#REF!"}},{"$f":"AND(#REF!,\"AAAAAH+9myE=\")","v":{"$error":"#REF!"}},{"$f":"AND(#REF!,\"AAAAAH+9myI=\")","v":{"$error":"#REF!"}},{"$f":"AND(#REF!,\"AAAAAH+9myM=\")","v":{"$error":"#REF!"}},{"$f":"AND(#REF!,\"AAAAAH+9myQ=\")","v":{"$error":"#REF!"}},{"$f":"AND(#REF!,\"AAAAAH+9myU=\")","v":{"$error":"#REF!"}},{"$f":"AND(#REF!,\"AAAAAH+9myY=\")","v":{"$error":"#REF!"}},{"$f":"AND(#REF!,\"AAAAAH+9myc=\")","v":{"$error":"#REF!"}},{"$f":"AND(#REF!,\"AAAAAH+9myg=\")","v":{"$error":"#REF!"}},{"$f":"AND(#REF!,\"AAAAAH+9myk=\")","v":{"$error":"#REF!"}},{"$f":"AND(#REF!,\"AAAAAH+9myo=\")","v":{"$error":"#REF!"}},{"$f":"AND(#REF!,\"AAAAAH+9mys=\")","v":{"$error":"#REF!"}},{"$f":"AND(#REF!,\"AAAAAH+9myw=\")","v":{"$error":"#REF!"}},{"$f":"AND(#REF!,\"AAAAAH+9my0=\")","v":{"$error":"#REF!"}},{"$f":"AND(#REF!,\"AAAAAH+9my4=\")","v":{"$error":"#REF!"}},{"$f":"AND(#REF!,\"AAAAAH+9my8=\")","v":{"$error":"#REF!"}},{"$f":"AND(#REF!,\"AAAAAH+9mzA=\")","v":{"$error":"#REF!"}},{"$f":"AND(#REF!,\"AAAAAH+9mzE=\")","v":{"$error":"#REF!"}},{"$f":"AND(#REF!,\"AAAAAH+9mzI=\")","v":{"$error":"#REF!"}},{"$f":"AND(#REF!,\"AAAAAH+9mzM=\")","v":{"$error":"#REF!"}},{"$f":"AND(#REF!,\"AAAAAH+9mzQ=\")","v":{"$error":"#REF!"}},{"$f":"AND(#REF!,\"AAAAAH+9mzU=\")","v":{"$error":"#REF!"}},{"$f":"AND(#REF!,\"AAAAAH+9mzY=\")","v":{"$error":"#REF!"}},{"$f":"AND(#REF!,\"AAAAAH+9mzc=\")","v":{"$error":"#REF!"}},{"$f":"AND(#REF!,\"AAAAAH+9mzg=\")","v":{"$error":"#REF!"}},{"$f":"AND(#REF!,\"AAAAAH+9mzk=\")","v":{"$error":"#REF!"}},{"$f":"AND(#REF!,\"AAAAAH+9mzo=\")","v":{"$error":"#REF!"}},{"$f":"AND(#REF!,\"AAAAAH+9mzs=\")","v":{"$error":"#REF!"}},{"$f":"AND(#REF!,\"AAAAAH+9mzw=\")","v":{"$error":"#REF!"}},{"$f":"AND(#REF!,\"AAAAAH+9mz0=\")","v":{"$error":"#REF!"}},{"$f":"AND(#REF!,\"AAAAAH+9mz4=\")","v":{"$error":"#REF!"}},{"$f":"IF(#REF!,\"AAAAAH+9mz8=\",0)","v":{"$error":"#REF!"}},{"$f":"AND(#REF!,\"AAAAAH+9m0A=\")","v":{"$error":"#REF!"}},{"$f":"AND(#REF!,\"AAAAAH+9m0E=\")","v":{"$error":"#REF!"}},{"$f":"AND(#REF!,\"AAAAAH+9m0I=\")","v":{"$error":"#REF!"}},{"$f":"AND(#REF!,\"AAAAAH+9m0M=\")","v":{"$error":"#REF!"}},{"$f":"AND(#REF!,\"AAAAAH+9m0Q=\")","v":{"$error":"#REF!"}},{"$f":"AND(#REF!,\"AAAAAH+9m0U=\")","v":{"$error":"#REF!"}},{"$f":"AND(#REF!,\"AAAAAH+9m0Y=\")","v":{"$error":"#REF!"}},{"$f":"AND(#REF!,\"AAAAAH+9m0c=\")","v":{"$error":"#REF!"}},{"$f":"AND(#REF!,\"AAAAAH+9m0g=\")","v":{"$error":"#REF!"}},{"$f":"AND(#REF!,\"AAAAAH+9m0k=\")","v":{"$error":"#REF!"}},{"$f":"AND(#REF!,\"AAAAAH+9m0o=\")","v":{"$error":"#REF!"}},{"$f":"AND(#REF!,\"AAAAAH+9m0s=\")","v":{"$error":"#REF!"}},{"$f":"AND(#REF!,\"AAAAAH+9m0w=\")","v":{"$error":"#REF!"}},{"$f":"AND(#REF!,\"AAAAAH+9m00=\")","v":{"$error":"#REF!"}},{"$f":"AND(#REF!,\"AAAAAH+9m04=\")","v":{"$error":"#REF!"}},{"$f":"AND(#REF!,\"AAAAAH+9m08=\")","v":{"$error":"#REF!"}},{"$f":"AND(#REF!,\"AAAAAH+9m1A=\")","v":{"$error":"#REF!"}},{"$f":"AND(#REF!,\"AAAAAH+9m1E=\")","v":{"$error":"#REF!"}},{"$f":"AND(#REF!,\"AAAAAH+9m1I=\")","v":{"$error":"#REF!"}},{"$f":"AND(#REF!,\"AAAAAH+9m1M=\")","v":{"$error":"#REF!"}},{"$f":"AND(#REF!,\"AAAAAH+9m1Q=\")","v":{"$error":"#REF!"}},{"$f":"AND(#REF!,\"AAAAAH+9m1U=\")","v":{"$error":"#REF!"}},{"$f":"AND(#REF!,\"AAAAAH+9m1Y=\")","v":{"$error":"#REF!"}},{"$f":"AND(#REF!,\"AAAAAH+9m1c=\")","v":{"$error":"#REF!"}},{"$f":"AND(#REF!,\"AAAAAH+9m1g=\")","v":{"$error":"#REF!"}},{"$f":"AND(#REF!,\"AAAAAH+9m1k=\")","v":{"$error":"#REF!"}},{"$f":"AND(#REF!,\"AAAAAH+9m1o=\")","v":{"$error":"#REF!"}},{"$f":"AND(#REF!,\"AAAAAH+9m1s=\")","v":{"$error":"#REF!"}},{"$f":"AND(#REF!,\"AAAAAH+9m1w=\")","v":{"$error":"#REF!"}},{"$f":"AND(#REF!,\"AAAAAH+9m10=\")","v":{"$error":"#REF!"}},{"$f":"AND(#REF!,\"AAAAAH+9m14=\")","v":{"$error":"#REF!"}},{"$f":"AND(#REF!,\"AAAAAH+9m18=\")","v":{"$error":"#REF!"}},{"$f":"AND(#REF!,\"AAAAAH+9m2A=\")","v":{"$error":"#REF!"}},{"$f":"IF(#REF!,\"AAAAAH+9m2E=\",0)","v":{"$error":"#REF!"}},{"$f":"AND(#REF!,\"AAAAAH+9m2I=\")","v":{"$error":"#REF!"}},{"$f":"AND(#REF!,\"AAAAAH+9m2M=\")","v":{"$error":"#REF!"}},{"$f":"AND(#REF!,\"AAAAAH+9m2Q=\")","v":{"$error":"#REF!"}},{"$f":"AND(#REF!,\"AAAAAH+9m2U=\")","v":{"$error":"#REF!"}},{"$f":"AND(#REF!,\"AAAAAH+9m2Y=\")","v":{"$error":"#REF!"}},{"$f":"AND(#REF!,\"AAAAAH+9m2c=\")","v":{"$error":"#REF!"}},{"$f":"AND(#REF!,\"AAAAAH+9m2g=\")","v":{"$error":"#REF!"}},{"$f":"AND(#REF!,\"AAAAAH+9m2k=\")","v":{"$error":"#REF!"}},{"$f":"AND(#REF!,\"AAAAAH+9m2o=\")","v":{"$error":"#REF!"}},{"$f":"AND(#REF!,\"AAAAAH+9m2s=\")","v":{"$error":"#REF!"}},{"$f":"AND(#REF!,\"AAAAAH+9m2w=\")","v":{"$error":"#REF!"}},{"$f":"AND(#REF!,\"AAAAAH+9m20=\")","v":{"$error":"#REF!"}},{"$f":"AND(#REF!,\"AAAAAH+9m24=\")","v":{"$error":"#REF!"}},{"$f":"AND(#REF!,\"AAAAAH+9m28=\")","v":{"$error":"#REF!"}},{"$f":"AND(#REF!,\"AAAAAH+9m3A=\")","v":{"$error":"#REF!"}},{"$f":"AND(#REF!,\"AAAAAH+9m3E=\")","v":{"$error":"#REF!"}},{"$f":"AND(#REF!,\"AAAAAH+9m3I=\")","v":{"$error":"#REF!"}},{"$f":"AND(#REF!,\"AAAAAH+9m3M=\")","v":{"$error":"#REF!"}},{"$f":"AND(#REF!,\"AAAAAH+9m3Q=\")","v":{"$error":"#REF!"}},{"$f":"AND(#REF!,\"AAAAAH+9m3U=\")","v":{"$error":"#REF!"}},{"$f":"AND(#REF!,\"AAAAAH+9m3Y=\")","v":{"$error":"#REF!"}},{"$f":"AND(#REF!,\"AAAAAH+9m3c=\")","v":{"$error":"#REF!"}},{"$f":"AND(#REF!,\"AAAAAH+9m3g=\")","v":{"$error":"#REF!"}},{"$f":"AND(#REF!,\"AAAAAH+9m3k=\")","v":{"$error":"#REF!"}},{"$f":"AND(#REF!,\"AAAAAH+9m3o=\")","v":{"$error":"#REF!"}},{"$f":"AND(#REF!,\"AAAAAH+9m3s=\")","v":{"$error":"#REF!"}},{"$f":"AND(#REF!,\"AAAAAH+9m3w=\")","v":{"$error":"#REF!"}},{"$f":"AND(#REF!,\"AAAAAH+9m30=\")","v":{"$error":"#REF!"}},{"$f":"AND(#REF!,\"AAAAAH+9m34=\")","v":{"$error":"#REF!"}},{"$f":"AND(#REF!,\"AAAAAH+9m38=\")","v":{"$error":"#REF!"}},{"$f":"AND(#REF!,\"AAAAAH+9m4A=\")","v":{"$error":"#REF!"}},{"$f":"AND(#REF!,\"AAAAAH+9m4E=\")","v":{"$error":"#REF!"}},{"$f":"AND(#REF!,\"AAAAAH+9m4I=\")","v":{"$error":"#REF!"}},{"$f":"IF(#REF!,\"AAAAAH+9m4M=\",0)","v":{"$error":"#REF!"}},{"$f":"AND(#REF!,\"AAAAAH+9m4Q=\")","v":{"$error":"#REF!"}},{"$f":"AND(#REF!,\"AAAAAH+9m4U=\")","v":{"$error":"#REF!"}},{"$f":"AND(#REF!,\"AAAAAH+9m4Y=\")","v":{"$error":"#REF!"}},{"$f":"AND(#REF!,\"AAAAAH+9m4c=\")","v":{"$error":"#REF!"}},{"$f":"AND(#REF!,\"AAAAAH+9m4g=\")","v":{"$error":"#REF!"}},{"$f":"AND(#REF!,\"AAAAAH+9m4k=\")","v":{"$error":"#REF!"}},{"$f":"AND(#REF!,\"AAAAAH+9m4o=\")","v":{"$error":"#REF!"}},{"$f":"AND(#REF!,\"AAAAAH+9m4s=\")","v":{"$error":"#REF!"}},{"$f":"AND(#REF!,\"AAAAAH+9m4w=\")","v":{"$error":"#REF!"}},{"$f":"AND(#REF!,\"AAAAAH+9m40=\")","v":{"$error":"#REF!"}},{"$f":"AND(#REF!,\"AAAAAH+9m44=\")","v":{"$error":"#REF!"}},{"$f":"AND(#REF!,\"AAAAAH+9m48=\")","v":{"$error":"#REF!"}},{"$f":"AND(#REF!,\"AAAAAH+9m5A=\")","v":{"$error":"#REF!"}},{"$f":"AND(#REF!,\"AAAAAH+9m5E=\")","v":{"$error":"#REF!"}},{"$f":"AND(#REF!,\"AAAAAH+9m5I=\")","v":{"$error":"#REF!"}},{"$f":"AND(#REF!,\"AAAAAH+9m5M=\")","v":{"$error":"#REF!"}},{"$f":"AND(#REF!,\"AAAAAH+9m5Q=\")","v":{"$error":"#REF!"}},{"$f":"AND(#REF!,\"AAAAAH+9m5U=\")","v":{"$error":"#REF!"}},{"$f":"AND(#REF!,\"AAAAAH+9m5Y=\")","v":{"$error":"#REF!"}},{"$f":"AND(#REF!,\"AAAAAH+9m5c=\")","v":{"$error":"#REF!"}},{"$f":"AND(#REF!,\"AAAAAH+9m5g=\")","v":{"$error":"#REF!"}},{"$f":"AND(#REF!,\"AAAAAH+9m5k=\")","v":{"$error":"#REF!"}},{"$f":"AND(#REF!,\"AAAAAH+9m5o=\")","v":{"$error":"#REF!"}},{"$f":"AND(#REF!,\"AAAAAH+9m5s=\")","v":{"$error":"#REF!"}},{"$f":"AND(#REF!,\"AAAAAH+9m5w=\")","v":{"$error":"#REF!"}},{"$f":"AND(#REF!,\"AAAAAH+9m50=\")","v":{"$error":"#REF!"}},{"$f":"AND(#REF!,\"AAAAAH+9m54=\")","v":{"$error":"#REF!"}},{"$f":"AND(#REF!,\"AAAAAH+9m58=\")","v":{"$error":"#REF!"}},{"$f":"AND(#REF!,\"AAAAAH+9m6A=\")","v":{"$error":"#REF!"}},{"$f":"AND(#REF!,\"AAAAAH+9m6E=\")","v":{"$error":"#REF!"}},{"$f":"AND(#REF!,\"AAAAAH+9m6I=\")","v":{"$error":"#REF!"}},{"$f":"AND(#REF!,\"AAAAAH+9m6M=\")","v":{"$error":"#REF!"}},{"$f":"AND(#REF!,\"AAAAAH+9m6Q=\")","v":{"$error":"#REF!"}},{"$f":"IF(#REF!,\"AAAAAH+9m6U=\",0)","v":{"$error":"#REF!"}},{"$f":"AND(#REF!,\"AAAAAH+9m6Y=\")","v":{"$error":"#REF!"}},{"$f":"AND(#REF!,\"AAAAAH+9m6c=\")","v":{"$error":"#REF!"}},{"$f":"AND(#REF!,\"AAAAAH+9m6g=\")","v":{"$error":"#REF!"}},{"$f":"AND(#REF!,\"AAAAAH+9m6k=\")","v":{"$error":"#REF!"}},{"$f":"AND(#REF!,\"AAAAAH+9m6o=\")","v":{"$error":"#REF!"}},{"$f":"AND(#REF!,\"AAAAAH+9m6s=\")","v":{"$error":"#REF!"}},{"$f":"AND(#REF!,\"AAAAAH+9m6w=\")","v":{"$error":"#REF!"}},{"$f":"AND(#REF!,\"AAAAAH+9m60=\")","v":{"$error":"#REF!"}},{"$f":"AND(#REF!,\"AAAAAH+9m64=\")","v":{"$error":"#REF!"}},{"$f":"AND(#REF!,\"AAAAAH+9m68=\")","v":{"$error":"#REF!"}},{"$f":"AND(#REF!,\"AAAAAH+9m7A=\")","v":{"$error":"#REF!"}},{"$f":"AND(#REF!,\"AAAAAH+9m7E=\")","v":{"$error":"#REF!"}},{"$f":"AND(#REF!,\"AAAAAH+9m7I=\")","v":{"$error":"#REF!"}},{"$f":"AND(#REF!,\"AAAAAH+9m7M=\")","v":{"$error":"#REF!"}},{"$f":"AND(#REF!,\"AAAAAH+9m7Q=\")","v":{"$error":"#REF!"}},{"$f":"AND(#REF!,\"AAAAAH+9m7U=\")","v":{"$error":"#REF!"}},{"$f":"AND(#REF!,\"AAAAAH+9m7Y=\")","v":{"$error":"#REF!"}},{"$f":"AND(#REF!,\"AAAAAH+9m7c=\")","v":{"$error":"#REF!"}},{"$f":"AND(#REF!,\"AAAAAH+9m7g=\")","v":{"$error":"#REF!"}},{"$f":"AND(#REF!,\"AAAAAH+9m7k=\")","v":{"$error":"#REF!"}},{"$f":"AND(#REF!,\"AAAAAH+9m7o=\")","v":{"$error":"#REF!"}},{"$f":"AND(#REF!,\"AAAAAH+9m7s=\")","v":{"$error":"#REF!"}},{"$f":"AND(#REF!,\"AAAAAH+9m7w=\")","v":{"$error":"#REF!"}},{"$f":"AND(#REF!,\"AAAAAH+9m70=\")","v":{"$error":"#REF!"}},{"$f":"AND(#REF!,\"AAAAAH+9m74=\")","v":{"$error":"#REF!"}},{"$f":"AND(#REF!,\"AAAAAH+9m78=\")","v":{"$error":"#REF!"}},{"$f":"AND(#REF!,\"AAAAAH+9m8A=\")","v":{"$error":"#REF!"}},{"$f":"AND(#REF!,\"AAAAAH+9m8E=\")","v":{"$error":"#REF!"}},{"$f":"AND(#REF!,\"AAAAAH+9m8I=\")","v":{"$error":"#REF!"}},{"$f":"AND(#REF!,\"AAAAAH+9m8M=\")","v":{"$error":"#REF!"}},{"$f":"AND(#REF!,\"AAAAAH+9m8Q=\")","v":{"$error":"#REF!"}},{"$f":"AND(#REF!,\"AAAAAH+9m8U=\")","v":{"$error":"#REF!"}},{"$f":"AND(#REF!,\"AAAAAH+9m8Y=\")","v":{"$error":"#REF!"}},{"$f":"IF(#REF!,\"AAAAAH+9m8c=\",0)","v":{"$error":"#REF!"}},{"$f":"AND(#REF!,\"AAAAAH+9m8g=\")","v":{"$error":"#REF!"}},{"$f":"AND(#REF!,\"AAAAAH+9m8k=\")","v":{"$error":"#REF!"}},{"$f":"AND(#REF!,\"AAAAAH+9m8o=\")","v":{"$error":"#REF!"}},{"$f":"AND(#REF!,\"AAAAAH+9m8s=\")","v":{"$error":"#REF!"}},{"$f":"AND(#REF!,\"AAAAAH+9m8w=\")","v":{"$error":"#REF!"}},{"$f":"AND(#REF!,\"AAAAAH+9m80=\")","v":{"$error":"#REF!"}},{"$f":"AND(#REF!,\"AAAAAH+9m84=\")","v":{"$error":"#REF!"}},{"$f":"AND(#REF!,\"AAAAAH+9m88=\")","v":{"$error":"#REF!"}},{"$f":"AND(#REF!,\"AAAAAH+9m9A=\")","v":{"$error":"#REF!"}},{"$f":"AND(#REF!,\"AAAAAH+9m9E=\")","v":{"$error":"#REF!"}},{"$f":"AND(#REF!,\"AAAAAH+9m9I=\")","v":{"$error":"#REF!"}},{"$f":"AND(#REF!,\"AAAAAH+9m9M=\")","v":{"$error":"#REF!"}},{"$f":"AND(#REF!,\"AAAAAH+9m9Q=\")","v":{"$error":"#REF!"}},{"$f":"AND(#REF!,\"AAAAAH+9m9U=\")","v":{"$error":"#REF!"}},{"$f":"AND(#REF!,\"AAAAAH+9m9Y=\")","v":{"$error":"#REF!"}},{"$f":"AND(#REF!,\"AAAAAH+9m9c=\")","v":{"$error":"#REF!"}},{"$f":"AND(#REF!,\"AAAAAH+9m9g=\")","v":{"$error":"#REF!"}},{"$f":"AND(#REF!,\"AAAAAH+9m9k=\")","v":{"$error":"#REF!"}},{"$f":"AND(#REF!,\"AAAAAH+9m9o=\")","v":{"$error":"#REF!"}},{"$f":"AND(#REF!,\"AAAAAH+9m9s=\")","v":{"$error":"#REF!"}},{"$f":"AND(#REF!,\"AAAAAH+9m9w=\")","v":{"$error":"#REF!"}},{"$f":"AND(#REF!,\"AAAAAH+9m90=\")","v":{"$error":"#REF!"}},{"$f":"AND(#REF!,\"AAAAAH+9m94=\")","v":{"$error":"#REF!"}},{"$f":"AND(#REF!,\"AAAAAH+9m98=\")","v":{"$error":"#REF!"}},{"$f":"AND(#REF!,\"AAAAAH+9m+A=\")","v":{"$error":"#REF!"}},{"$f":"AND(#REF!,\"AAAAAH+9m+E=\")","v":{"$error":"#REF!"}},{"$f":"AND(#REF!,\"AAAAAH+9m+I=\")","v":{"$error":"#REF!"}},{"$f":"AND(#REF!,\"AAAAAH+9m+M=\")","v":{"$error":"#REF!"}},{"$f":"AND(#REF!,\"AAAAAH+9m+Q=\")","v":{"$error":"#REF!"}},{"$f":"AND(#REF!,\"AAAAAH+9m+U=\")","v":{"$error":"#REF!"}},{"$f":"AND(#REF!,\"AAAAAH+9m+Y=\")","v":{"$error":"#REF!"}},{"$f":"AND(#REF!,\"AAAAAH+9m+c=\")","v":{"$error":"#REF!"}},{"$f":"AND(#REF!,\"AAAAAH+9m+g=\")","v":{"$error":"#REF!"}},{"$f":"IF(#REF!,\"AAAAAH+9m+k=\",0)","v":{"$error":"#REF!"}},{"$f":"AND(#REF!,\"AAAAAH+9m+o=\")","v":{"$error":"#REF!"}},{"$f":"AND(#REF!,\"AAAAAH+9m+s=\")","v":{"$error":"#REF!"}},{"$f":"AND(#REF!,\"AAAAAH+9m+w=\")","v":{"$error":"#REF!"}},{"$f":"AND(#REF!,\"AAAAAH+9m+0=\")","v":{"$error":"#REF!"}},{"$f":"AND(#REF!,\"AAAAAH+9m+4=\")","v":{"$error":"#REF!"}},{"$f":"AND(#REF!,\"AAAAAH+9m+8=\")","v":{"$error":"#REF!"}},{"$f":"AND(#REF!,\"AAAAAH+9m/A=\")","v":{"$error":"#REF!"}},{"$f":"AND(#REF!,\"AAAAAH+9m/E=\")","v":{"$error":"#REF!"}},{"$f":"AND(#REF!,\"AAAAAH+9m/I=\")","v":{"$error":"#REF!"}},{"$f":"AND(#REF!,\"AAAAAH+9m/M=\")","v":{"$error":"#REF!"}},{"$f":"AND(#REF!,\"AAAAAH+9m/Q=\")","v":{"$error":"#REF!"}},{"$f":"AND(#REF!,\"AAAAAH+9m/U=\")","v":{"$error":"#REF!"}},{"$f":"AND(#REF!,\"AAAAAH+9m/Y=\")","v":{"$error":"#REF!"}},{"$f":"AND(#REF!,\"AAAAAH+9m/c=\")","v":{"$error":"#REF!"}},{"$f":"AND(#REF!,\"AAAAAH+9m/g=\")","v":{"$error":"#REF!"}},{"$f":"AND(#REF!,\"AAAAAH+9m/k=\")","v":{"$error":"#REF!"}},{"$f":"AND(#REF!,\"AAAAAH+9m/o=\")","v":{"$error":"#REF!"}},{"$f":"AND(#REF!,\"AAAAAH+9m/s=\")","v":{"$error":"#REF!"}},{"$f":"AND(#REF!,\"AAAAAH+9m/w=\")","v":{"$error":"#REF!"}},{"$f":"AND(#REF!,\"AAAAAH+9m/0=\")","v":{"$error":"#REF!"}},{"$f":"AND(#REF!,\"AAAAAH+9m/4=\")","v":{"$error":"#REF!"}},{"$f":"AND(#REF!,\"AAAAAH+9m/8=\")","v":{"$error":"#REF!"}}]
[{"$f":"AND(#REF!,\"AAAAAG1vNgA=\")","v":{"$error":"#REF!"}},{"$f":"AND(#REF!,\"AAAAAG1vNgE=\")","v":{"$error":"#REF!"}},{"$f":"AND(#REF!,\"AAAAAG1vNgI=\")","v":{"$error":"#REF!"}},{"$f":"AND(#REF!,\"AAAAAG1vNgM=\")","v":{"$error":"#REF!"}},{"$f":"AND(#REF!,\"AAAAAG1vNgQ=\")","v":{"$error":"#REF!"}},{"$f":"AND(#REF!,\"AAAAAG1vNgU=\")","v":{"$error":"#REF!"}},{"$f":"AND(#REF!,\"AAAAAG1vNgY=\")","v":{"$error":"#REF!"}},{"$f":"AND(#REF!,\"AAAAAG1vNgc=\")","v":{"$error":"#REF!"}},{"$f":"AND(#REF!,\"AAAAAG1vNgg=\")","v":{"$error":"#REF!"}},{"$f":"AND(#REF!,\"AAAAAG1vNgk=\")","v":{"$error":"#REF!"}},{"$f":"AND(#REF!,\"AAAAAG1vNgo=\")","v":{"$error":"#REF!"}},{"$f":"IF(#REF!,\"AAAAAG1vNgs=\",0)","v":{"$error":"#REF!"}},{"$f":"AND(#REF!,\"AAAAAG1vNgw=\")","v":{"$error":"#REF!"}},{"$f":"AND(#REF!,\"AAAAAG1vNg0=\")","v":{"$error":"#REF!"}},{"$f":"AND(#REF!,\"AAAAAG1vNg4=\")","v":{"$error":"#REF!"}},{"$f":"AND(#REF!,\"AAAAAG1vNg8=\")","v":{"$error":"#REF!"}},{"$f":"AND(#REF!,\"AAAAAG1vNhA=\")","v":{"$error":"#REF!"}},{"$f":"AND(#REF!,\"AAAAAG1vNhE=\")","v":{"$error":"#REF!"}},{"$f":"AND(#REF!,\"AAAAAG1vNhI=\")","v":{"$error":"#REF!"}},{"$f":"AND(#REF!,\"AAAAAG1vNhM=\")","v":{"$error":"#REF!"}},{"$f":"AND(#REF!,\"AAAAAG1vNhQ=\")","v":{"$error":"#REF!"}},{"$f":"AND(#REF!,\"AAAAAG1vNhU=\")","v":{"$error":"#REF!"}},{"$f":"AND(#REF!,\"AAAAAG1vNhY=\")","v":{"$error":"#REF!"}},{"$f":"AND(#REF!,\"AAAAAG1vNhc=\")","v":{"$error":"#REF!"}},{"$f":"AND(#REF!,\"AAAAAG1vNhg=\")","v":{"$error":"#REF!"}},{"$f":"AND(#REF!,\"AAAAAG1vNhk=\")","v":{"$error":"#REF!"}},{"$f":"AND(#REF!,\"AAAAAG1vNho=\")","v":{"$error":"#REF!"}},{"$f":"AND(#REF!,\"AAAAAG1vNhs=\")","v":{"$error":"#REF!"}},{"$f":"AND(#REF!,\"AAAAAG1vNhw=\")","v":{"$error":"#REF!"}},{"$f":"AND(#REF!,\"AAAAAG1vNh0=\")","v":{"$error":"#REF!"}},{"$f":"AND(#REF!,\"AAAAAG1vNh4=\")","v":{"$error":"#REF!"}},{"$f":"AND(#REF!,\"AAAAAG1vNh8=\")","v":{"$error":"#REF!"}},{"$f":"AND(#REF!,\"AAAAAG1vNiA=\")","v":{"$error":"#REF!"}},{"$f":"AND(#REF!,\"AAAAAG1vNiE=\")","v":{"$error":"#REF!"}},{"$f":"AND(#REF!,\"AAAAAG1vNiI=\")","v":{"$error":"#REF!"}},{"$f":"AND(#REF!,\"AAAAAG1vNiM=\")","v":{"$error":"#REF!"}},{"$f":"AND(#REF!,\"AAAAAG1vNiQ=\")","v":{"$error":"#REF!"}},{"$f":"AND(#REF!,\"AAAAAG1vNiU=\")","v":{"$error":"#REF!"}},{"$f":"AND(#REF!,\"AAAAAG1vNiY=\")","v":{"$error":"#REF!"}},{"$f":"AND(#REF!,\"AAAAAG1vNic=\")","v":{"$error":"#REF!"}},{"$f":"AND(#REF!,\"AAAAAG1vNig=\")","v":{"$error":"#REF!"}},{"$f":"AND(#REF!,\"AAAAAG1vNik=\")","v":{"$error":"#REF!"}},{"$f":"AND(#REF!,\"AAAAAG1vNio=\")","v":{"$error":"#REF!"}},{"$f":"AND(#REF!,\"AAAAAG1vNis=\")","v":{"$error":"#REF!"}},{"$f":"AND(#REF!,\"AAAAAG1vNiw=\")","v":{"$error":"#REF!"}},{"$f":"IF(#REF!,\"AAAAAG1vNi0=\",0)","v":{"$error":"#REF!"}},{"$f":"AND(#REF!,\"AAAAAG1vNi4=\")","v":{"$error":"#REF!"}},{"$f":"AND(#REF!,\"AAAAAG1vNi8=\")","v":{"$error":"#REF!"}},{"$f":"AND(#REF!,\"AAAAAG1vNjA=\")","v":{"$error":"#REF!"}},{"$f":"AND(#REF!,\"AAAAAG1vNjE=\")","v":{"$error":"#REF!"}},{"$f":"AND(#REF!,\"AAAAAG1vNjI=\")","v":{"$error":"#REF!"}},{"$f":"AND(#REF!,\"AAAAAG1vNjM=\")","v":{"$error":"#REF!"}},{"$f":"AND(#REF!,\"AAAAAG1vNjQ=\")","v":{"$error":"#REF!"}},{"$f":"AND(#REF!,\"AAAAAG1vNjU=\")","v":{"$error":"#REF!"}},{"$f":"AND(#REF!,\"AAAAAG1vNjY=\")","v":{"$error":"#REF!"}},{"$f":"AND(#REF!,\"AAAAAG1vNjc=\")","v":{"$error":"#REF!"}},{"$f":"AND(#REF!,\"AAAAAG1vNjg=\")","v":{"$error":"#REF!"}},{"$f":"AND(#REF!,\"AAAAAG1vNjk=\")","v":{"$error":"#REF!"}},{"$f":"AND(#REF!,\"AAAAAG1vNjo=\")","v":{"$error":"#REF!"}},{"$f":"AND(#REF!,\"AAAAAG1vNjs=\")","v":{"$error":"#REF!"}},{"$f":"AND(#REF!,\"AAAAAG1vNjw=\")","v":{"$error":"#REF!"}},{"$f":"AND(#REF!,\"AAAAAG1vNj0=\")","v":{"$error":"#REF!"}},{"$f":"AND(#REF!,\"AAAAAG1vNj4=\")","v":{"$error":"#REF!"}},{"$f":"AND(#REF!,\"AAAAAG1vNj8=\")","v":{"$error":"#REF!"}},{"$f":"AND(#REF!,\"AAAAAG1vNkA=\")","v":{"$error":"#REF!"}},{"$f":"AND(#REF!,\"AAAAAG1vNkE=\")","v":{"$error":"#REF!"}},{"$f":"AND(#REF!,\"AAAAAG1vNkI=\")","v":{"$error":"#REF!"}},{"$f":"AND(#REF!,\"AAAAAG1vNkM=\")","v":{"$error":"#REF!"}},{"$f":"AND(#REF!,\"AAAAAG1vNkQ=\")","v":{"$error":"#REF!"}},{"$f":"AND(#REF!,\"AAAAAG1vNkU=\")","v":{"$error":"#REF!"}},{"$f":"AND(#REF!,\"AAAAAG1vNkY=\")","v":{"$error":"#REF!"}},{"$f":"AND(#REF!,\"AAAAAG1vNkc=\")","v":{"$error":"#REF!"}},{"$f":"AND(#REF!,\"AAAAAG1vNkg=\")","v":{"$error":"#REF!"}},{"$f":"AND(#REF!,\"AAAAAG1vNkk=\")","v":{"$error":"#REF!"}},{"$f":"AND(#REF!,\"AAAAAG1vNko=\")","v":{"$error":"#REF!"}},{"$f":"AND(#REF!,\"AAAAAG1vNks=\")","v":{"$error":"#REF!"}},{"$f":"AND(#REF!,\"AAAAAG1vNkw=\")","v":{"$error":"#REF!"}},{"$f":"AND(#REF!,\"AAAAAG1vNk0=\")","v":{"$error":"#REF!"}},{"$f":"AND(#REF!,\"AAAAAG1vNk4=\")","v":{"$error":"#REF!"}},{"$f":"IF(#REF!,\"AAAAAG1vNk8=\",0)","v":{"$error":"#REF!"}},{"$f":"AND(#REF!,\"AAAAAG1vNlA=\")","v":{"$error":"#REF!"}},{"$f":"AND(#REF!,\"AAAAAG1vNlE=\")","v":{"$error":"#REF!"}},{"$f":"AND(#REF!,\"AAAAAG1vNlI=\")","v":{"$error":"#REF!"}},{"$f":"AND(#REF!,\"AAAAAG1vNlM=\")","v":{"$error":"#REF!"}},{"$f":"AND(#REF!,\"AAAAAG1vNlQ=\")","v":{"$error":"#REF!"}},{"$f":"AND(#REF!,\"AAAAAG1vNlU=\")","v":{"$error":"#REF!"}},{"$f":"AND(#REF!,\"AAAAAG1vNlY=\")","v":{"$error":"#REF!"}},{"$f":"AND(#REF!,\"AAAAAG1vNlc=\")","v":{"$error":"#REF!"}},{"$f":"AND(#REF!,\"AAAAAG1vNlg=\")","v":{"$error":"#REF!"}},{"$f":"AND(#REF!,\"AAAAAG1vNlk=\")","v":{"$error":"#REF!"}},{"$f":"AND(#REF!,\"AAAAAG1vNlo=\")","v":{"$error":"#REF!"}},{"$f":"AND(#REF!,\"AAAAAG1vNls=\")","v":{"$error":"#REF!"}},{"$f":"AND(#REF!,\"AAAAAG1vNlw=\")","v":{"$error":"#REF!"}},{"$f":"AND(#REF!,\"AAAAAG1vNl0=\")","v":{"$error":"#REF!"}},{"$f":"AND(#REF!,\"AAAAAG1vNl4=\")","v":{"$error":"#REF!"}},{"$f":"AND(#REF!,\"AAAAAG1vNl8=\")","v":{"$error":"#REF!"}},{"$f":"AND(#REF!,\"AAAAAG1vNmA=\")","v":{"$error":"#REF!"}},{"$f":"AND(#REF!,\"AAAAAG1vNmE=\")","v":{"$error":"#REF!"}},{"$f":"AND(#REF!,\"AAAAAG1vNmI=\")","v":{"$error":"#REF!"}},{"$f":"AND(#REF!,\"AAAAAG1vNmM=\")","v":{"$error":"#REF!"}},{"$f":"AND(#REF!,\"AAAAAG1vNmQ=\")","v":{"$error":"#REF!"}},{"$f":"AND(#REF!,\"AAAAAG1vNmU=\")","v":{"$error":"#REF!"}},{"$f":"AND(#REF!,\"AAAAAG1vNmY=\")","v":{"$error":"#REF!"}},{"$f":"AND(#REF!,\"AAAAAG1vNmc=\")","v":{"$error":"#REF!"}},{"$f":"AND(#REF!,\"AAAAAG1vNmg=\")","v":{"$error":"#REF!"}},{"$f":"AND(#REF!,\"AAAAAG1vNmk=\")","v":{"$error":"#REF!"}},{"$f":"AND(#REF!,\"AAAAAG1vNmo=\")","v":{"$error":"#REF!"}},{"$f":"AND(#REF!,\"AAAAAG1vNms=\")","v":{"$error":"#REF!"}},{"$f":"AND(#REF!,\"AAAAAG1vNmw=\")","v":{"$error":"#REF!"}},{"$f":"AND(#REF!,\"AAAAAG1vNm0=\")","v":{"$error":"#REF!"}},{"$f":"AND(#REF!,\"AAAAAG1vNm4=\")","v":{"$error":"#REF!"}},{"$f":"AND(#REF!,\"AAAAAG1vNm8=\")","v":{"$error":"#REF!"}},{"$f":"AND(#REF!,\"AAAAAG1vNnA=\")","v":{"$error":"#REF!"}},{"$f":"IF(#REF!,\"AAAAAG1vNnE=\",0)","v":{"$error":"#REF!"}},{"$f":"AND(#REF!,\"AAAAAG1vNnI=\")","v":{"$error":"#REF!"}},{"$f":"AND(#REF!,\"AAAAAG1vNnM=\")","v":{"$error":"#REF!"}},{"$f":"AND(#REF!,\"AAAAAG1vNnQ=\")","v":{"$error":"#REF!"}},{"$f":"AND(#REF!,\"AAAAAG1vNnU=\")","v":{"$error":"#REF!"}},{"$f":"AND(#REF!,\"AAAAAG1vNnY=\")","v":{"$error":"#REF!"}},{"$f":"AND(#REF!,\"AAAAAG1vNnc=\")","v":{"$error":"#REF!"}},{"$f":"AND(#REF!,\"AAAAAG1vNng=\")","v":{"$error":"#REF!"}},{"$f":"AND(#REF!,\"AAAAAG1vNnk=\")","v":{"$error":"#REF!"}},{"$f":"AND(#REF!,\"AAAAAG1vNno=\")","v":{"$error":"#REF!"}},{"$f":"AND(#REF!,\"AAAAAG1vNns=\")","v":{"$error":"#REF!"}},{"$f":"AND(#REF!,\"AAAAAG1vNnw=\")","v":{"$error":"#REF!"}},{"$f":"AND(#REF!,\"AAAAAG1vNn0=\")","v":{"$error":"#REF!"}},{"$f":"AND(#REF!,\"AAAAAG1vNn4=\")","v":{"$error":"#REF!"}},{"$f":"AND(#REF!,\"AAAAAG1vNn8=\")","v":{"$error":"#REF!"}},{"$f":"AND(#REF!,\"AAAAAG1vNoA=\")","v":{"$error":"#REF!"}},{"$f":"AND(#REF!,\"AAAAAG1vNoE=\")","v":{"$error":"#REF!"}},{"$f":"AND(#REF!,\"AAAAAG1vNoI=\")","v":{"$error":"#REF!"}},{"$f":"AND(#REF!,\"AAAAAG1vNoM=\")","v":{"$error":"#REF!"}},{"$f":"AND(#REF!,\"AAAAAG1vNoQ=\")","v":{"$error":"#REF!"}},{"$f":"AND(#REF!,\"AAAAAG1vNoU=\")","v":{"$error":"#REF!"}},{"$f":"AND(#REF!,\"AAAAAG1vNoY=\")","v":{"$error":"#REF!"}},{"$f":"AND(#REF!,\"AAAAAG1vNoc=\")","v":{"$error":"#REF!"}},{"$f":"AND(#REF!,\"AAAAAG1vNog=\")","v":{"$error":"#REF!"}},{"$f":"AND(#REF!,\"AAAAAG1vNok=\")","v":{"$error":"#REF!"}},{"$f":"AND(#REF!,\"AAAAAG1vNoo=\")","v":{"$error":"#REF!"}},{"$f":"AND(#REF!,\"AAAAAG1vNos=\")","v":{"$error":"#REF!"}},{"$f":"AND(#REF!,\"AAAAAG1vNow=\")","v":{"$error":"#REF!"}},{"$f":"AND(#REF!,\"AAAAAG1vNo0=\")","v":{"$error":"#REF!"}},{"$f":"AND(#REF!,\"AAAAAG1vNo4=\")","v":{"$error":"#REF!"}},{"$f":"AND(#REF!,\"AAAAAG1vNo8=\")","v":{"$error":"#REF!"}},{"$f":"AND(#REF!,\"AAAAAG1vNpA=\")","v":{"$error":"#REF!"}},{"$f":"AND(#REF!,\"AAAAAG1vNpE=\")","v":{"$error":"#REF!"}},{"$f":"AND(#REF!,\"AAAAAG1vNpI=\")","v":{"$error":"#REF!"}},{"$f":"IF(#REF!,\"AAAAAG1vNpM=\",0)","v":{"$error":"#REF!"}},{"$f":"AND(#REF!,\"AAAAAG1vNpQ=\")","v":{"$error":"#REF!"}},{"$f":"AND(#REF!,\"AAAAAG1vNpU=\")","v":{"$error":"#REF!"}},{"$f":"AND(#REF!,\"AAAAAG1vNpY=\")","v":{"$error":"#REF!"}},{"$f":"AND(#REF!,\"AAAAAG1vNpc=\")","v":{"$error":"#REF!"}},{"$f":"AND(#REF!,\"AAAAAG1vNpg=\")","v":{"$error":"#REF!"}},{"$f":"AND(#REF!,\"AAAAAG1vNpk=\")","v":{"$error":"#REF!"}},{"$f":"AND(#REF!,\"AAAAAG1vNpo=\")","v":{"$error":"#REF!"}},{"$f":"AND(#REF!,\"AAAAAG1vNps=\")","v":{"$error":"#REF!"}},{"$f":"AND(#REF!,\"AAAAAG1vNpw=\")","v":{"$error":"#REF!"}},{"$f":"AND(#REF!,\"AAAAAG1vNp0=\")","v":{"$error":"#REF!"}},{"$f":"AND(#REF!,\"AAAAAG1vNp4=\")","v":{"$error":"#REF!"}},{"$f":"AND(#REF!,\"AAAAAG1vNp8=\")","v":{"$error":"#REF!"}},{"$f":"AND(#REF!,\"AAAAAG1vNqA=\")","v":{"$error":"#REF!"}},{"$f":"AND(#REF!,\"AAAAAG1vNqE=\")","v":{"$error":"#REF!"}},{"$f":"AND(#REF!,\"AAAAAG1vNqI=\")","v":{"$error":"#REF!"}},{"$f":"AND(#REF!,\"AAAAAG1vNqM=\")","v":{"$error":"#REF!"}},{"$f":"AND(#REF!,\"AAAAAG1vNqQ=\")","v":{"$error":"#REF!"}},{"$f":"AND(#REF!,\"AAAAAG1vNqU=\")","v":{"$error":"#REF!"}},{"$f":"AND(#REF!,\"AAAAAG1vNqY=\")","v":{"$error":"#REF!"}},{"$f":"AND(#REF!,\"AAAAAG1vNqc=\")","v":{"$error":"#REF!"}},{"$f":"AND(#REF!,\"AAAAAG1vNqg=\")","v":{"$error":"#REF!"}},{"$f":"AND(#REF!,\"AAAAAG1vNqk=\")","v":{"$error":"#REF!"}},{"$f":"AND(#REF!,\"AAAAAG1vNqo=\")","v":{"$error":"#REF!"}},{"$f":"AND(#REF!,\"AAAAAG1vNqs=\")","v":{"$error":"#REF!"}},{"$f":"AND(#REF!,\"AAAAAG1vNqw=\")","v":{"$error":"#REF!"}},{"$f":"AND(#REF!,\"AAAAAG1vNq0=\")","v":{"$error":"#REF!"}},{"$f":"AND(#REF!,\"AAAAAG1vNq4=\")","v":{"$error":"#REF!"}},{"$f":"AND(#REF!,\"AAAAAG1vNq8=\")","v":{"$error":"#REF!"}},{"$f":"AND(#REF!,\"AAAAAG1vNrA=\")","v":{"$error":"#REF!"}},{"$f":"AND(#REF!,\"AAAAAG1vNrE=\")","v":{"$error":"#REF!"}},{"$f":"AND(#REF!,\"AAAAAG1vNrI=\")","v":{"$error":"#REF!"}},{"$f":"AND(#REF!,\"AAAAAG1vNrM=\")","v":{"$error":"#REF!"}},{"$f":"AND(#REF!,\"AAAAAG1vNrQ=\")","v":{"$error":"#REF!"}},{"$f":"IF(#REF!,\"AAAAAG1vNrU=\",0)","v":{"$error":"#REF!"}},{"$f":"AND(#REF!,\"AAAAAG1vNrY=\")","v":{"$error":"#REF!"}},{"$f":"AND(#REF!,\"AAAAAG1vNrc=\")","v":{"$error":"#REF!"}},{"$f":"AND(#REF!,\"AAAAAG1vNrg=\")","v":{"$error":"#REF!"}},{"$f":"AND(#REF!,\"AAAAAG1vNrk=\")","v":{"$error":"#REF!"}},{"$f":"AND(#REF!,\"AAAAAG1vNro=\")","v":{"$error":"#REF!"}},{"$f":"AND(#REF!,\"AAAAAG1vNrs=\")","v":{"$error":"#REF!"}},{"$f":"AND(#REF!,\"AAAAAG1vNrw=\")","v":{"$error":"#REF!"}},{"$f":"AND(#REF!,\"AAAAAG1vNr0=\")","v":{"$error":"#REF!"}},{"$f":"AND(#REF!,\"AAAAAG1vNr4=\")","v":{"$error":"#REF!"}},{"$f":"AND(#REF!,\"AAAAAG1vNr8=\")","v":{"$error":"#REF!"}},{"$f":"AND(#REF!,\"AAAAAG1vNsA=\")","v":{"$error":"#REF!"}},{"$f":"AND(#REF!,\"AAAAAG1vNsE=\")","v":{"$error":"#REF!"}},{"$f":"AND(#REF!,\"AAAAAG1vNsI=\")","v":{"$error":"#REF!"}},{"$f":"AND(#REF!,\"AAAAAG1vNsM=\")","v":{"$error":"#REF!"}},{"$f":"AND(#REF!,\"AAAAAG1vNsQ=\")","v":{"$error":"#REF!"}},{"$f":"AND(#REF!,\"AAAAAG1vNsU=\")","v":{"$error":"#REF!"}},{"$f":"AND(#REF!,\"AAAAAG1vNsY=\")","v":{"$error":"#REF!"}},{"$f":"AND(#REF!,\"AAAAAG1vNsc=\")","v":{"$error":"#REF!"}},{"$f":"AND(#REF!,\"AAAAAG1vNsg=\")","v":{"$error":"#REF!"}},{"$f":"AND(#REF!,\"AAAAAG1vNsk=\")","v":{"$error":"#REF!"}},{"$f":"AND(#REF!,\"AAAAAG1vNso=\")","v":{"$error":"#REF!"}},{"$f":"AND(#REF!,\"AAAAAG1vNss=\")","v":{"$error":"#REF!"}},{"$f":"AND(#REF!,\"AAAAAG1vNsw=\")","v":{"$error":"#REF!"}},{"$f":"AND(#REF!,\"AAAAAG1vNs0=\")","v":{"$error":"#REF!"}},{"$f":"AND(#REF!,\"AAAAAG1vNs4=\")","v":{"$error":"#REF!"}},{"$f":"AND(#REF!,\"AAAAAG1vNs8=\")","v":{"$error":"#REF!"}},{"$f":"AND(#REF!,\"AAAAAG1vNtA=\")","v":{"$error":"#REF!"}},{"$f":"AND(#REF!,\"AAAAAG1vNtE=\")","v":{"$error":"#REF!"}},{"$f":"AND(#REF!,\"AAAAAG1vNtI=\")","v":{"$error":"#REF!"}},{"$f":"AND(#REF!,\"AAAAAG1vNtM=\")","v":{"$error":"#REF!"}},{"$f":"AND(#REF!,\"AAAAAG1vNtQ=\")","v":{"$error":"#REF!"}},{"$f":"AND(#REF!,\"AAAAAG1vNtU=\")","v":{"$error":"#REF!"}},{"$f":"AND(#REF!,\"AAAAAG1vNtY=\")","v":{"$error":"#REF!"}},{"$f":"IF(#REF!,\"AAAAAG1vNtc=\",0)","v":{"$error":"#REF!"}},{"$f":"AND(#REF!,\"AAAAAG1vNtg=\")","v":{"$error":"#REF!"}},{"$f":"AND(#REF!,\"AAAAAG1vNtk=\")","v":{"$error":"#REF!"}},{"$f":"AND(#REF!,\"AAAAAG1vNto=\")","v":{"$error":"#REF!"}},{"$f":"AND(#REF!,\"AAAAAG1vNts=\")","v":{"$error":"#REF!"}},{"$f":"AND(#REF!,\"AAAAAG1vNtw=\")","v":{"$error":"#REF!"}},{"$f":"AND(#REF!,\"AAAAAG1vNt0=\")","v":{"$error":"#REF!"}},{"$f":"AND(#REF!,\"AAAAAG1vNt4=\")","v":{"$error":"#REF!"}},{"$f":"AND(#REF!,\"AAAAAG1vNt8=\")","v":{"$error":"#REF!"}},{"$f":"AND(#REF!,\"AAAAAG1vNuA=\")","v":{"$error":"#REF!"}},{"$f":"AND(#REF!,\"AAAAAG1vNuE=\")","v":{"$error":"#REF!"}},{"$f":"AND(#REF!,\"AAAAAG1vNuI=\")","v":{"$error":"#REF!"}},{"$f":"AND(#REF!,\"AAAAAG1vNuM=\")","v":{"$error":"#REF!"}},{"$f":"AND(#REF!,\"AAAAAG1vNuQ=\")","v":{"$error":"#REF!"}},{"$f":"AND(#REF!,\"AAAAAG1vNuU=\")","v":{"$error":"#REF!"}},{"$f":"AND(#REF!,\"AAAAAG1vNuY=\")","v":{"$error":"#REF!"}},{"$f":"AND(#REF!,\"AAAAAG1vNuc=\")","v":{"$error":"#REF!"}},{"$f":"AND(#REF!,\"AAAAAG1vNug=\")","v":{"$error":"#REF!"}},{"$f":"AND(#REF!,\"AAAAAG1vNuk=\")","v":{"$error":"#REF!"}},{"$f":"AND(#REF!,\"AAAAAG1vNuo=\")","v":{"$error":"#REF!"}},{"$f":"AND(#REF!,\"AAAAAG1vNus=\")","v":{"$error":"#REF!"}},{"$f":"AND(#REF!,\"AAAAAG1vNuw=\")","v":{"$error":"#REF!"}},{"$f":"AND(#REF!,\"AAAAAG1vNu0=\")","v":{"$error":"#REF!"}},{"$f":"AND(#REF!,\"AAAAAG1vNu4=\")","v":{"$error":"#REF!"}},{"$f":"AND(#REF!,\"AAAAAG1vNu8=\")","v":{"$error":"#REF!"}},{"$f":"AND(#REF!,\"AAAAAG1vNvA=\")","v":{"$error":"#REF!"}},{"$f":"AND(#REF!,\"AAAAAG1vNvE=\")","v":{"$error":"#REF!"}},{"$f":"AND(#REF!,\"AAAAAG1vNvI=\")","v":{"$error":"#REF!"}},{"$f":"AND(#REF!,\"AAAAAG1vNvM=\")","v":{"$error":"#REF!"}},{"$f":"AND(#REF!,\"AAAAAG1vNvQ=\")","v":{"$error":"#REF!"}},{"$f":"AND(#REF!,\"AAAAAG1vNvU=\")","v":{"$error":"#REF!"}},{"$f":"AND(#REF!,\"AAAAAG1vNvY=\")","v":{"$error":"#REF!"}},{"$f":"AND(#REF!,\"AAAAAG1vNvc=\")","v":{"$error":"#REF!"}},{"$f":"AND(#REF!,\"AAAAAG1vNvg=\")","v":{"$error":"#REF!"}},{"$f":"IF(#REF!,\"AAAAAG1vNvk=\",0)","v":{"$error":"#REF!"}},{"$f":"AND(#REF!,\"AAAAAG1vNvo=\")","v":{"$error":"#REF!"}},{"$f":"AND(#REF!,\"AAAAAG1vNvs=\")","v":{"$error":"#REF!"}},{"$f":"AND(#REF!,\"AAAAAG1vNvw=\")","v":{"$error":"#REF!"}},{"$f":"AND(#REF!,\"AAAAAG1vNv0=\")","v":{"$error":"#REF!"}},{"$f":"AND(#REF!,\"AAAAAG1vNv4=\")","v":{"$error":"#REF!"}},{"$f":"AND(#REF!,\"AAAAAG1vNv8=\")","v":{"$error":"#REF!"}}]
[{"$f":"AND(#REF!,\"AAAAAF+7tQA=\")","v":{"$error":"#REF!"}},{"$f":"AND(#REF!,\"AAAAAF+7tQE=\")","v":{"$error":"#REF!"}},{"$f":"AND(#REF!,\"AAAAAF+7tQI=\")","v":{"$error":"#REF!"}},{"$f":"AND(#REF!,\"AAAAAF+7tQM=\")","v":{"$error":"#REF!"}},{"$f":"AND(#REF!,\"AAAAAF+7tQQ=\")","v":{"$error":"#REF!"}},{"$f":"AND(#REF!,\"AAAAAF+7tQU=\")","v":{"$error":"#REF!"}},{"$f":"AND(#REF!,\"AAAAAF+7tQY=\")","v":{"$error":"#REF!"}},{"$f":"AND(#REF!,\"AAAAAF+7tQc=\")","v":{"$error":"#REF!"}},{"$f":"AND(#REF!,\"AAAAAF+7tQg=\")","v":{"$error":"#REF!"}},{"$f":"AND(#REF!,\"AAAAAF+7tQk=\")","v":{"$error":"#REF!"}},{"$f":"AND(#REF!,\"AAAAAF+7tQo=\")","v":{"$error":"#REF!"}},{"$f":"AND(#REF!,\"AAAAAF+7tQs=\")","v":{"$error":"#REF!"}},{"$f":"AND(#REF!,\"AAAAAF+7tQw=\")","v":{"$error":"#REF!"}},{"$f":"AND(#REF!,\"AAAAAF+7tQ0=\")","v":{"$error":"#REF!"}},{"$f":"AND(#REF!,\"AAAAAF+7tQ4=\")","v":{"$error":"#REF!"}},{"$f":"AND(#REF!,\"AAAAAF+7tQ8=\")","v":{"$error":"#REF!"}},{"$f":"AND(#REF!,\"AAAAAF+7tRA=\")","v":{"$error":"#REF!"}},{"$f":"AND(#REF!,\"AAAAAF+7tRE=\")","v":{"$error":"#REF!"}},{"$f":"AND(#REF!,\"AAAAAF+7tRI=\")","v":{"$error":"#REF!"}},{"$f":"AND(#REF!,\"AAAAAF+7tRM=\")","v":{"$error":"#REF!"}},{"$f":"AND(#REF!,\"AAAAAF+7tRQ=\")","v":{"$error":"#REF!"}},{"$f":"AND(#REF!,\"AAAAAF+7tRU=\")","v":{"$error":"#REF!"}},{"$f":"AND(#REF!,\"AAAAAF+7tRY=\")","v":{"$error":"#REF!"}},{"$f":"AND(#REF!,\"AAAAAF+7tRc=\")","v":{"$error":"#REF!"}},{"$f":"AND(#REF!,\"AAAAAF+7tRg=\")","v":{"$error":"#REF!"}},{"$f":"AND(#REF!,\"AAAAAF+7tRk=\")","v":{"$error":"#REF!"}},{"$f":"AND(#REF!,\"AAAAAF+7tRo=\")","v":{"$error":"#REF!"}},{"$f":"IF(#REF!,\"AAAAAF+7tRs=\",0)","v":{"$error":"#REF!"}},{"$f":"AND(#REF!,\"AAAAAF+7tRw=\")","v":{"$error":"#REF!"}},{"$f":"AND(#REF!,\"AAAAAF+7tR0=\")","v":{"$error":"#REF!"}},{"$f":"AND(#REF!,\"AAAAAF+7tR4=\")","v":{"$error":"#REF!"}},{"$f":"AND(#REF!,\"AAAAAF+7tR8=\")","v":{"$error":"#REF!"}},{"$f":"AND(#REF!,\"AAAAAF+7tSA=\")","v":{"$error":"#REF!"}},{"$f":"AND(#REF!,\"AAAAAF+7tSE=\")","v":{"$error":"#REF!"}},{"$f":"AND(#REF!,\"AAAAAF+7tSI=\")","v":{"$error":"#REF!"}},{"$f":"AND(#REF!,\"AAAAAF+7tSM=\")","v":{"$error":"#REF!"}},{"$f":"AND(#REF!,\"AAAAAF+7tSQ=\")","v":{"$error":"#REF!"}},{"$f":"AND(#REF!,\"AAAAAF+7tSU=\")","v":{"$error":"#REF!"}},{"$f":"AND(#REF!,\"AAAAAF+7tSY=\")","v":{"$error":"#REF!"}},{"$f":"AND(#REF!,\"AAAAAF+7tSc=\")","v":{"$error":"#REF!"}},{"$f":"AND(#REF!,\"AAAAAF+7tSg=\")","v":{"$error":"#REF!"}},{"$f":"AND(#REF!,\"AAAAAF+7tSk=\")","v":{"$error":"#REF!"}},{"$f":"AND(#REF!,\"AAAAAF+7tSo=\")","v":{"$error":"#REF!"}},{"$f":"AND(#REF!,\"AAAAAF+7tSs=\")","v":{"$error":"#REF!"}},{"$f":"AND(#REF!,\"AAAAAF+7tSw=\")","v":{"$error":"#REF!"}},{"$f":"AND(#REF!,\"AAAAAF+7tS0=\")","v":{"$error":"#REF!"}},{"$f":"AND(#REF!,\"AAAAAF+7tS4=\")","v":{"$error":"#REF!"}},{"$f":"AND(#REF!,\"AAAAAF+7tS8=\")","v":{"$error":"#REF!"}},{"$f":"AND(#REF!,\"AAAAAF+7tTA=\")","v":{"$error":"#REF!"}},{"$f":"AND(#REF!,\"AAAAAF+7tTE=\")","v":{"$error":"#REF!"}},{"$f":"AND(#REF!,\"AAAAAF+7tTI=\")","v":{"$error":"#REF!"}},{"$f":"AND(#REF!,\"AAAAAF+7tTM=\")","v":{"$error":"#REF!"}},{"$f":"AND(#REF!,\"AAAAAF+7tTQ=\")","v":{"$error":"#REF!"}},{"$f":"AND(#REF!,\"AAAAAF+7tTU=\")","v":{"$error":"#REF!"}},{"$f":"AND(#REF!,\"AAAAAF+7tTY=\")","v":{"$error":"#REF!"}},{"$f":"AND(#REF!,\"AAAAAF+7tTc=\")","v":{"$error":"#REF!"}},{"$f":"AND(#REF!,\"AAAAAF+7tTg=\")","v":{"$error":"#REF!"}},{"$f":"AND(#REF!,\"AAAAAF+7tTk=\")","v":{"$error":"#REF!"}},{"$f":"AND(#REF!,\"AAAAAF+7tTo=\")","v":{"$error":"#REF!"}},{"$f":"AND(#REF!,\"AAAAAF+7tTs=\")","v":{"$error":"#REF!"}},{"$f":"AND(#REF!,\"AAAAAF+7tTw=\")","v":{"$error":"#REF!"}},{"$f":"IF(#REF!,\"AAAAAF+7tT0=\",0)","v":{"$error":"#REF!"}},{"$f":"AND(#REF!,\"AAAAAF+7tT4=\")","v":{"$error":"#REF!"}},{"$f":"AND(#REF!,\"AAAAAF+7tT8=\")","v":{"$error":"#REF!"}},{"$f":"AND(#REF!,\"AAAAAF+7tUA=\")","v":{"$error":"#REF!"}},{"$f":"AND(#REF!,\"AAAAAF+7tUE=\")","v":{"$error":"#REF!"}},{"$f":"AND(#REF!,\"AAAAAF+7tUI=\")","v":{"$error":"#REF!"}},{"$f":"AND(#REF!,\"AAAAAF+7tUM=\")","v":{"$error":"#REF!"}},{"$f":"AND(#REF!,\"AAAAAF+7tUQ=\")","v":{"$error":"#REF!"}},{"$f":"AND(#REF!,\"AAAAAF+7tUU=\")","v":{"$error":"#REF!"}},{"$f":"AND(#REF!,\"AAAAAF+7tUY=\")","v":{"$error":"#REF!"}},{"$f":"AND(#REF!,\"AAAAAF+7tUc=\")","v":{"$error":"#REF!"}},{"$f":"AND(#REF!,\"AAAAAF+7tUg=\")","v":{"$error":"#REF!"}},{"$f":"AND(#REF!,\"AAAAAF+7tUk=\")","v":{"$error":"#REF!"}},{"$f":"AND(#REF!,\"AAAAAF+7tUo=\")","v":{"$error":"#REF!"}},{"$f":"AND(#REF!,\"AAAAAF+7tUs=\")","v":{"$error":"#REF!"}},{"$f":"AND(#REF!,\"AAAAAF+7tUw=\")","v":{"$error":"#REF!"}},{"$f":"AND(#REF!,\"AAAAAF+7tU0=\")","v":{"$error":"#REF!"}},{"$f":"AND(#REF!,\"AAAAAF+7tU4=\")","v":{"$error":"#REF!"}},{"$f":"AND(#REF!,\"AAAAAF+7tU8=\")","v":{"$error":"#REF!"}},{"$f":"AND(#REF!,\"AAAAAF+7tVA=\")","v":{"$error":"#REF!"}},{"$f":"AND(#REF!,\"AAAAAF+7tVE=\")","v":{"$error":"#REF!"}},{"$f":"AND(#REF!,\"AAAAAF+7tVI=\")","v":{"$error":"#REF!"}},{"$f":"AND(#REF!,\"AAAAAF+7tVM=\")","v":{"$error":"#REF!"}},{"$f":"AND(#REF!,\"AAAAAF+7tVQ=\")","v":{"$error":"#REF!"}},{"$f":"AND(#REF!,\"AAAAAF+7tVU=\")","v":{"$error":"#REF!"}},{"$f":"AND(#REF!,\"AAAAAF+7tVY=\")","v":{"$error":"#REF!"}},{"$f":"AND(#REF!,\"AAAAAF+7tVc=\")","v":{"$error":"#REF!"}},{"$f":"AND(#REF!,\"AAAAAF+7tVg=\")","v":{"$error":"#REF!"}},{"$f":"AND(#REF!,\"AAAAAF+7tVk=\")","v":{"$error":"#REF!"}},{"$f":"AND(#REF!,\"AAAAAF+7tVo=\")","v":{"$error":"#REF!"}},{"$f":"AND(#REF!,\"AAAAAF+7tVs=\")","v":{"$error":"#REF!"}},{"$f":"AND(#REF!,\"AAAAAF+7tVw=\")","v":{"$error":"#REF!"}},{"$f":"AND(#REF!,\"AAAAAF+7tV0=\")","v":{"$error":"#REF!"}},{"$f":"AND(#REF!,\"AAAAAF+7tV4=\")","v":{"$error":"#REF!"}},{"$f":"IF(#REF!,\"AAAAAF+7tV8=\",0)","v":{"$error":"#REF!"}},{"$f":"AND(#REF!,\"AAAAAF+7tWA=\")","v":{"$error":"#REF!"}},{"$f":"AND(#REF!,\"AAAAAF+7tWE=\")","v":{"$error":"#REF!"}},{"$f":"AND(#REF!,\"AAAAAF+7tWI=\")","v":{"$error":"#REF!"}},{"$f":"AND(#REF!,\"AAAAAF+7tWM=\")","v":{"$error":"#REF!"}},{"$f":"AND(#REF!,\"AAAAAF+7tWQ=\")","v":{"$error":"#REF!"}},{"$f":"AND(#REF!,\"AAAAAF+7tWU=\")","v":{"$error":"#REF!"}},{"$f":"AND(#REF!,\"AAAAAF+7tWY=\")","v":{"$error":"#REF!"}},{"$f":"AND(#REF!,\"AAAAAF+7tWc=\")","v":{"$error":"#REF!"}},{"$f":"AND(#REF!,\"AAAAAF+7tWg=\")","v":{"$error":"#REF!"}},{"$f":"AND(#REF!,\"AAAAAF+7tWk=\")","v":{"$error":"#REF!"}},{"$f":"AND(#REF!,\"AAAAAF+7tWo=\")","v":{"$error":"#REF!"}},{"$f":"AND(#REF!,\"AAAAAF+7tWs=\")","v":{"$error":"#REF!"}},{"$f":"AND(#REF!,\"AAAAAF+7tWw=\")","v":{"$error":"#REF!"}},{"$f":"AND(#REF!,\"AAAAAF+7tW0=\")","v":{"$error":"#REF!"}},{"$f":"AND(#REF!,\"AAAAAF+7tW4=\")","v":{"$error":"#REF!"}},{"$f":"AND(#REF!,\"AAAAAF+7tW8=\")","v":{"$error":"#REF!"}},{"$f":"AND(#REF!,\"AAAAAF+7tXA=\")","v":{"$error":"#REF!"}},{"$f":"AND(#REF!,\"AAAAAF+7tXE=\")","v":{"$error":"#REF!"}},{"$f":"AND(#REF!,\"AAAAAF+7tXI=\")","v":{"$error":"#REF!"}},{"$f":"AND(#REF!,\"AAAAAF+7tXM=\")","v":{"$error":"#REF!"}},{"$f":"AND(#REF!,\"AAAAAF+7tXQ=\")","v":{"$error":"#REF!"}},{"$f":"AND(#REF!,\"AAAAAF+7tXU=\")","v":{"$error":"#REF!"}},{"$f":"AND(#REF!,\"AAAAAF+7tXY=\")","v":{"$error":"#REF!"}},{"$f":"AND(#REF!,\"AAAAAF+7tXc=\")","v":{"$error":"#REF!"}},{"$f":"AND(#REF!,\"AAAAAF+7tXg=\")","v":{"$error":"#REF!"}},{"$f":"AND(#REF!,\"AAAAAF+7tXk=\")","v":{"$error":"#REF!"}},{"$f":"AND(#REF!,\"AAAAAF+7tXo=\")","v":{"$error":"#REF!"}},{"$f":"AND(#REF!,\"AAAAAF+7tXs=\")","v":{"$error":"#REF!"}},{"$f":"AND(#REF!,\"AAAAAF+7tXw=\")","v":{"$error":"#REF!"}},{"$f":"AND(#REF!,\"AAAAAF+7tX0=\")","v":{"$error":"#REF!"}},{"$f":"AND(#REF!,\"AAAAAF+7tX4=\")","v":{"$error":"#REF!"}},{"$f":"AND(#REF!,\"AAAAAF+7tX8=\")","v":{"$error":"#REF!"}},{"$f":"AND(#REF!,\"AAAAAF+7tYA=\")","v":{"$error":"#REF!"}},{"$f":"IF(#REF!,\"AAAAAF+7tYE=\",0)","v":{"$error":"#REF!"}},{"$f":"AND(#REF!,\"AAAAAF+7tYI=\")","v":{"$error":"#REF!"}},{"$f":"AND(#REF!,\"AAAAAF+7tYM=\")","v":{"$error":"#REF!"}},{"$f":"AND(#REF!,\"AAAAAF+7tYQ=\")","v":{"$error":"#REF!"}},{"$f":"AND(#REF!,\"AAAAAF+7tYU=\")","v":{"$error":"#REF!"}},{"$f":"AND(#REF!,\"AAAAAF+7tYY=\")","v":{"$error":"#REF!"}},{"$f":"AND(#REF!,\"AAAAAF+7tYc=\")","v":{"$error":"#REF!"}},{"$f":"AND(#REF!,\"AAAAAF+7tYg=\")","v":{"$error":"#REF!"}},{"$f":"AND(#REF!,\"AAAAAF+7tYk=\")","v":{"$error":"#REF!"}},{"$f":"AND(#REF!,\"AAAAAF+7tYo=\")","v":{"$error":"#REF!"}},{"$f":"AND(#REF!,\"AAAAAF+7tYs=\")","v":{"$error":"#REF!"}},{"$f":"AND(#REF!,\"AAAAAF+7tYw=\")","v":{"$error":"#REF!"}},{"$f":"AND(#REF!,\"AAAAAF+7tY0=\")","v":{"$error":"#REF!"}},{"$f":"AND(#REF!,\"AAAAAF+7tY4=\")","v":{"$error":"#REF!"}},{"$f":"AND(#REF!,\"AAAAAF+7tY8=\")","v":{"$error":"#REF!"}},{"$f":"AND(#REF!,\"AAAAAF+7tZA=\")","v":{"$error":"#REF!"}},{"$f":"AND(#REF!,\"AAAAAF+7tZE=\")","v":{"$error":"#REF!"}},{"$f":"AND(#REF!,\"AAAAAF+7tZI=\")","v":{"$error":"#REF!"}},{"$f":"AND(#REF!,\"AAAAAF+7tZM=\")","v":{"$error":"#REF!"}},{"$f":"AND(#REF!,\"AAAAAF+7tZQ=\")","v":{"$error":"#REF!"}},{"$f":"AND(#REF!,\"AAAAAF+7tZU=\")","v":{"$error":"#REF!"}},{"$f":"AND(#REF!,\"AAAAAF+7tZY=\")","v":{"$error":"#REF!"}},{"$f":"AND(#REF!,\"AAAAAF+7tZc=\")","v":{"$error":"#REF!"}},{"$f":"AND(#REF!,\"AAAAAF+7tZg=\")","v":{"$error":"#REF!"}},{"$f":"AND(#REF!,\"AAAAAF+7tZk=\")","v":{"$error":"#REF!"}},{"$f":"AND(#REF!,\"AAAAAF+7tZo=\")","v":{"$error":"#REF!"}},{"$f":"AND(#REF!,\"AAAAAF+7tZs=\")","v":{"$error":"#REF!"}},{"$f":"AND(#REF!,\"AAAAAF+7tZw=\")","v":{"$error":"#REF!"}},{"$f":"AND(#REF!,\"AAAAAF+7tZ0=\")","v":{"$error":"#REF!"}},{"$f":"AND(#REF!,\"AAAAAF+7tZ4=\")","v":{"$error":"#REF!"}},{"$f":"AND(#REF!,\"AAAAAF+7tZ8=\")","v":{"$error":"#REF!"}},{"$f":"AND(#REF!,\"AAAAAF+7taA=\")","v":{"$error":"#REF!"}},{"$f":"AND(#REF!,\"AAAAAF+7taE=\")","v":{"$error":"#REF!"}},{"$f":"AND(#REF!,\"AAAAAF+7taI=\")","v":{"$error":"#REF!"}},{"$f":"IF(#REF!,\"AAAAAF+7taM=\",0)","v":{"$error":"#REF!"}},{"$f":"AND(#REF!,\"AAAAAF+7taQ=\")","v":{"$error":"#REF!"}},{"$f":"AND(#REF!,\"AAAAAF+7taU=\")","v":{"$error":"#REF!"}},{"$f":"AND(#REF!,\"AAAAAF+7taY=\")","v":{"$error":"#REF!"}},{"$f":"AND(#REF!,\"AAAAAF+7tac=\")","v":{"$error":"#REF!"}},{"$f":"AND(#REF!,\"AAAAAF+7tag=\")","v":{"$error":"#REF!"}},{"$f":"AND(#REF!,\"AAAAAF+7tak=\")","v":{"$error":"#REF!"}},{"$f":"AND(#REF!,\"AAAAAF+7tao=\")","v":{"$error":"#REF!"}},{"$f":"AND(#REF!,\"AAAAAF+7tas=\")","v":{"$error":"#REF!"}},{"$f":"AND(#REF!,\"AAAAAF+7taw=\")","v":{"$error":"#REF!"}},{"$f":"AND(#REF!,\"AAAAAF+7ta0=\")","v":{"$error":"#REF!"}},{"$f":"AND(#REF!,\"AAAAAF+7ta4=\")","v":{"$error":"#REF!"}},{"$f":"AND(#REF!,\"AAAAAF+7ta8=\")","v":{"$error":"#REF!"}},{"$f":"AND(#REF!,\"AAAAAF+7tbA=\")","v":{"$error":"#REF!"}},{"$f":"AND(#REF!,\"AAAAAF+7tbE=\")","v":{"$error":"#REF!"}},{"$f":"AND(#REF!,\"AAAAAF+7tbI=\")","v":{"$error":"#REF!"}},{"$f":"AND(#REF!,\"AAAAAF+7tbM=\")","v":{"$error":"#REF!"}},{"$f":"AND(#REF!,\"AAAAAF+7tbQ=\")","v":{"$error":"#REF!"}},{"$f":"AND(#REF!,\"AAAAAF+7tbU=\")","v":{"$error":"#REF!"}},{"$f":"AND(#REF!,\"AAAAAF+7tbY=\")","v":{"$error":"#REF!"}},{"$f":"AND(#REF!,\"AAAAAF+7tbc=\")","v":{"$error":"#REF!"}},{"$f":"AND(#REF!,\"AAAAAF+7tbg=\")","v":{"$error":"#REF!"}},{"$f":"AND(#REF!,\"AAAAAF+7tbk=\")","v":{"$error":"#REF!"}},{"$f":"AND(#REF!,\"AAAAAF+7tbo=\")","v":{"$error":"#REF!"}},{"$f":"AND(#REF!,\"AAAAAF+7tbs=\")","v":{"$error":"#REF!"}},{"$f":"AND(#REF!,\"AAAAAF+7tbw=\")","v":{"$error":"#REF!"}},{"$f":"AND(#REF!,\"AAAAAF+7tb0=\")","v":{"$error":"#REF!"}},{"$f":"AND(#REF!,\"AAAAAF+7tb4=\")","v":{"$error":"#REF!"}},{"$f":"AND(#REF!,\"AAAAAF+7tb8=\")","v":{"$error":"#REF!"}},{"$f":"AND(#REF!,\"AAAAAF+7tcA=\")","v":{"$error":"#REF!"}},{"$f":"AND(#REF!,\"AAAAAF+7tcE=\")","v":{"$error":"#REF!"}},{"$f":"AND(#REF!,\"AAAAAF+7tcI=\")","v":{"$error":"#REF!"}},{"$f":"AND(#REF!,\"AAAAAF+7tcM=\")","v":{"$error":"#REF!"}},{"$f":"AND(#REF!,\"AAAAAF+7tcQ=\")","v":{"$error":"#REF!"}},{"$f":"IF(#REF!,\"AAAAAF+7tcU=\",0)","v":{"$error":"#REF!"}},{"$f":"AND(#REF!,\"AAAAAF+7tcY=\")","v":{"$error":"#REF!"}},{"$f":"AND(#REF!,\"AAAAAF+7tcc=\")","v":{"$error":"#REF!"}},{"$f":"AND(#REF!,\"AAAAAF+7tcg=\")","v":{"$error":"#REF!"}},{"$f":"AND(#REF!,\"AAAAAF+7tck=\")","v":{"$error":"#REF!"}},{"$f":"AND(#REF!,\"AAAAAF+7tco=\")","v":{"$error":"#REF!"}},{"$f":"AND(#REF!,\"AAAAAF+7tcs=\")","v":{"$error":"#REF!"}},{"$f":"AND(#REF!,\"AAAAAF+7tcw=\")","v":{"$error":"#REF!"}},{"$f":"AND(#REF!,\"AAAAAF+7tc0=\")","v":{"$error":"#REF!"}},{"$f":"AND(#REF!,\"AAAAAF+7tc4=\")","v":{"$error":"#REF!"}},{"$f":"AND(#REF!,\"AAAAAF+7tc8=\")","v":{"$error":"#REF!"}},{"$f":"AND(#REF!,\"AAAAAF+7tdA=\")","v":{"$error":"#REF!"}},{"$f":"AND(#REF!,\"AAAAAF+7tdE=\")","v":{"$error":"#REF!"}},{"$f":"AND(#REF!,\"AAAAAF+7tdI=\")","v":{"$error":"#REF!"}},{"$f":"AND(#REF!,\"AAAAAF+7tdM=\")","v":{"$error":"#REF!"}},{"$f":"AND(#REF!,\"AAAAAF+7tdQ=\")","v":{"$error":"#REF!"}},{"$f":"AND(#REF!,\"AAAAAF+7tdU=\")","v":{"$error":"#REF!"}},{"$f":"AND(#REF!,\"AAAAAF+7tdY=\")","v":{"$error":"#REF!"}},{"$f":"AND(#REF!,\"AAAAAF+7tdc=\")","v":{"$error":"#REF!"}},{"$f":"AND(#REF!,\"AAAAAF+7tdg=\")","v":{"$error":"#REF!"}},{"$f":"AND(#REF!,\"AAAAAF+7tdk=\")","v":{"$error":"#REF!"}},{"$f":"AND(#REF!,\"AAAAAF+7tdo=\")","v":{"$error":"#REF!"}},{"$f":"AND(#REF!,\"AAAAAF+7tds=\")","v":{"$error":"#REF!"}},{"$f":"AND(#REF!,\"AAAAAF+7tdw=\")","v":{"$error":"#REF!"}},{"$f":"AND(#REF!,\"AAAAAF+7td0=\")","v":{"$error":"#REF!"}},{"$f":"AND(#REF!,\"AAAAAF+7td4=\")","v":{"$error":"#REF!"}},{"$f":"AND(#REF!,\"AAAAAF+7td8=\")","v":{"$error":"#REF!"}},{"$f":"AND(#REF!,\"AAAAAF+7teA=\")","v":{"$error":"#REF!"}},{"$f":"AND(#REF!,\"AAAAAF+7teE=\")","v":{"$error":"#REF!"}},{"$f":"AND(#REF!,\"AAAAAF+7teI=\")","v":{"$error":"#REF!"}},{"$f":"AND(#REF!,\"AAAAAF+7teM=\")","v":{"$error":"#REF!"}},{"$f":"AND(#REF!,\"AAAAAF+7teQ=\")","v":{"$error":"#REF!"}},{"$f":"AND(#REF!,\"AAAAAF+7teU=\")","v":{"$error":"#REF!"}},{"$f":"AND(#REF!,\"AAAAAF+7teY=\")","v":{"$error":"#REF!"}},{"$f":"IF(#REF!,\"AAAAAF+7tec=\",0)","v":{"$error":"#REF!"}},{"$f":"AND(#REF!,\"AAAAAF+7teg=\")","v":{"$error":"#REF!"}},{"$f":"AND(#REF!,\"AAAAAF+7tek=\")","v":{"$error":"#REF!"}},{"$f":"AND(#REF!,\"AAAAAF+7teo=\")","v":{"$error":"#REF!"}},{"$f":"AND(#REF!,\"AAAAAF+7tes=\")","v":{"$error":"#REF!"}},{"$f":"AND(#REF!,\"AAAAAF+7tew=\")","v":{"$error":"#REF!"}},{"$f":"AND(#REF!,\"AAAAAF+7te0=\")","v":{"$error":"#REF!"}},{"$f":"AND(#REF!,\"AAAAAF+7te4=\")","v":{"$error":"#REF!"}},{"$f":"AND(#REF!,\"AAAAAF+7te8=\")","v":{"$error":"#REF!"}},{"$f":"AND(#REF!,\"AAAAAF+7tfA=\")","v":{"$error":"#REF!"}},{"$f":"AND(#REF!,\"AAAAAF+7tfE=\")","v":{"$error":"#REF!"}},{"$f":"AND(#REF!,\"AAAAAF+7tfI=\")","v":{"$error":"#REF!"}},{"$f":"AND(#REF!,\"AAAAAF+7tfM=\")","v":{"$error":"#REF!"}},{"$f":"AND(#REF!,\"AAAAAF+7tfQ=\")","v":{"$error":"#REF!"}},{"$f":"AND(#REF!,\"AAAAAF+7tfU=\")","v":{"$error":"#REF!"}},{"$f":"AND(#REF!,\"AAAAAF+7tfY=\")","v":{"$error":"#REF!"}},{"$f":"AND(#REF!,\"AAAAAF+7tfc=\")","v":{"$error":"#REF!"}},{"$f":"AND(#REF!,\"AAAAAF+7tfg=\")","v":{"$error":"#REF!"}},{"$f":"AND(#REF!,\"AAAAAF+7tfk=\")","v":{"$error":"#REF!"}},{"$f":"AND(#REF!,\"AAAAAF+7tfo=\")","v":{"$error":"#REF!"}},{"$f":"AND(#REF!,\"AAAAAF+7tfs=\")","v":{"$error":"#REF!"}},{"$f":"AND(#REF!,\"AAAAAF+7tfw=\")","v":{"$error":"#REF!"}},{"$f":"AND(#REF!,\"AAAAAF+7tf0=\")","v":{"$error":"#REF!"}},{"$f":"AND(#REF!,\"AAAAAF+7tf4=\")","v":{"$error":"#REF!"}},{"$f":"AND(#REF!,\"AAAAAF+7tf8=\")","v":{"$error":"#REF!"}}]
[{"$f":"AND(#REF!,\"AAAAAFpzugA=\")","v":{"$error":"#REF!"}},{"$f":"AND(#REF!,\"AAAAAFpzugE=\")","v":{"$error":"#REF!"}},{"$f":"AND(#REF!,\"AAAAAFpzugI=\")","v":{"$error":"#REF!"}},{"$f":"AND(#REF!,\"AAAAAFpzugM=\")","v":{"$error":"#REF!"}},{"$f":"AND(#REF!,\"AAAAAFpzugQ=\")","v":{"$error":"#REF!"}},{"$f":"AND(#REF!,\"AAAAAFpzugU=\")","v":{"$error":"#REF!"}},{"$f":"AND(#REF!,\"AAAAAFpzugY=\")","v":{"$error":"#REF!"}},{"$f":"AND(#REF!,\"AAAAAFpzugc=\")","v":{"$error":"#REF!"}},{"$f":"AND(#REF!,\"AAAAAFpzugg=\")","v":{"$error":"#REF!"}},{"$f":"IF(#REF!,\"AAAAAFpzugk=\",0)","v":{"$error":"#REF!"}},{"$f":"AND(#REF!,\"AAAAAFpzugo=\")","v":{"$error":"#REF!"}},{"$f":"AND(#REF!,\"AAAAAFpzugs=\")","v":{"$error":"#REF!"}},{"$f":"AND(#REF!,\"AAAAAFpzugw=\")","v":{"$error":"#REF!"}},{"$f":"AND(#REF!,\"AAAAAFpzug0=\")","v":{"$error":"#REF!"}},{"$f":"AND(#REF!,\"AAAAAFpzug4=\")","v":{"$error":"#REF!"}},{"$f":"AND(#REF!,\"AAAAAFpzug8=\")","v":{"$error":"#REF!"}},{"$f":"AND(#REF!,\"AAAAAFpzuhA=\")","v":{"$error":"#REF!"}},{"$f":"AND(#REF!,\"AAAAAFpzuhE=\")","v":{"$error":"#REF!"}},{"$f":"AND(#REF!,\"AAAAAFpzuhI=\")","v":{"$error":"#REF!"}},{"$f":"AND(#REF!,\"AAAAAFpzuhM=\")","v":{"$error":"#REF!"}},{"$f":"AND(#REF!,\"AAAAAFpzuhQ=\")","v":{"$error":"#REF!"}},{"$f":"AND(#REF!,\"AAAAAFpzuhU=\")","v":{"$error":"#REF!"}},{"$f":"AND(#REF!,\"AAAAAFpzuhY=\")","v":{"$error":"#REF!"}},{"$f":"AND(#REF!,\"AAAAAFpzuhc=\")","v":{"$error":"#REF!"}},{"$f":"AND(#REF!,\"AAAAAFpzuhg=\")","v":{"$error":"#REF!"}},{"$f":"AND(#REF!,\"AAAAAFpzuhk=\")","v":{"$error":"#REF!"}},{"$f":"AND(#REF!,\"AAAAAFpzuho=\")","v":{"$error":"#REF!"}},{"$f":"AND(#REF!,\"AAAAAFpzuhs=\")","v":{"$error":"#REF!"}},{"$f":"AND(#REF!,\"AAAAAFpzuhw=\")","v":{"$error":"#REF!"}},{"$f":"AND(#REF!,\"AAAAAFpzuh0=\")","v":{"$error":"#REF!"}},{"$f":"AND(#REF!,\"AAAAAFpzuh4=\")","v":{"$error":"#REF!"}},{"$f":"AND(#REF!,\"AAAAAFpzuh8=\")","v":{"$error":"#REF!"}},{"$f":"AND(#REF!,\"AAAAAFpzuiA=\")","v":{"$error":"#REF!"}},{"$f":"AND(#REF!,\"AAAAAFpzuiE=\")","v":{"$error":"#REF!"}},{"$f":"AND(#REF!,\"AAAAAFpzuiI=\")","v":{"$error":"#REF!"}},{"$f":"AND(#REF!,\"AAAAAFpzuiM=\")","v":{"$error":"#REF!"}},{"$f":"AND(#REF!,\"AAAAAFpzuiQ=\")","v":{"$error":"#REF!"}},{"$f":"AND(#REF!,\"AAAAAFpzuiU=\")","v":{"$error":"#REF!"}},{"$f":"AND(#REF!,\"AAAAAFpzuiY=\")","v":{"$error":"#REF!"}},{"$f":"AND(#REF!,\"AAAAAFpzuic=\")","v":{"$error":"#REF!"}},{"$f":"AND(#REF!,\"AAAAAFpzuig=\")","v":{"$error":"#REF!"}},{"$f":"AND(#REF!,\"AAAAAFpzuik=\")","v":{"$error":"#REF!"}},{"$f":"AND(#REF!,\"AAAAAFpzuio=\")","v":{"$error":"#REF!"}},{"$f":"IF(#REF!,\"AAAAAFpzuis=\",0)","v":{"$error":"#REF!"}},{"$f":"AND(#REF!,\"AAAAAFpzuiw=\")","v":{"$error":"#REF!"}},{"$f":"AND(#REF!,\"AAAAAFpzui0=\")","v":{"$error":"#REF!"}},{"$f":"AND(#REF!,\"AAAAAFpzui4=\")","v":{"$error":"#REF!"}},{"$f":"AND(#REF!,\"AAAAAFpzui8=\")","v":{"$error":"#REF!"}},{"$f":"AND(#REF!,\"AAAAAFpzujA=\")","v":{"$error":"#REF!"}},{"$f":"AND(#REF!,\"AAAAAFpzujE=\")","v":{"$error":"#REF!"}},{"$f":"AND(#REF!,\"AAAAAFpzujI=\")","v":{"$error":"#REF!"}},{"$f":"AND(#REF!,\"AAAAAFpzujM=\")","v":{"$error":"#REF!"}},{"$f":"AND(#REF!,\"AAAAAFpzujQ=\")","v":{"$error":"#REF!"}},{"$f":"AND(#REF!,\"AAAAAFpzujU=\")","v":{"$error":"#REF!"}},{"$f":"AND(#REF!,\"AAAAAFpzujY=\")","v":{"$error":"#REF!"}},{"$f":"AND(#REF!,\"AAAAAFpzujc=\")","v":{"$error":"#REF!"}},{"$f":"AND(#REF!,\"AAAAAFpzujg=\")","v":{"$error":"#REF!"}},{"$f":"AND(#REF!,\"AAAAAFpzujk=\")","v":{"$error":"#REF!"}},{"$f":"AND(#REF!,\"AAAAAFpzujo=\")","v":{"$error":"#REF!"}},{"$f":"AND(#REF!,\"AAAAAFpzujs=\")","v":{"$error":"#REF!"}},{"$f":"AND(#REF!,\"AAAAAFpzujw=\")","v":{"$error":"#REF!"}},{"$f":"AND(#REF!,\"AAAAAFpzuj0=\")","v":{"$error":"#REF!"}},{"$f":"AND(#REF!,\"AAAAAFpzuj4=\")","v":{"$error":"#REF!"}},{"$f":"AND(#REF!,\"AAAAAFpzuj8=\")","v":{"$error":"#REF!"}},{"$f":"AND(#REF!,\"AAAAAFpzukA=\")","v":{"$error":"#REF!"}},{"$f":"AND(#REF!,\"AAAAAFpzukE=\")","v":{"$error":"#REF!"}},{"$f":"AND(#REF!,\"AAAAAFpzukI=\")","v":{"$error":"#REF!"}},{"$f":"AND(#REF!,\"AAAAAFpzukM=\")","v":{"$error":"#REF!"}},{"$f":"AND(#REF!,\"AAAAAFpzukQ=\")","v":{"$error":"#REF!"}},{"$f":"AND(#REF!,\"AAAAAFpzukU=\")","v":{"$error":"#REF!"}},{"$f":"AND(#REF!,\"AAAAAFpzukY=\")","v":{"$error":"#REF!"}},{"$f":"AND(#REF!,\"AAAAAFpzukc=\")","v":{"$error":"#REF!"}},{"$f":"AND(#REF!,\"AAAAAFpzukg=\")","v":{"$error":"#REF!"}},{"$f":"AND(#REF!,\"AAAAAFpzukk=\")","v":{"$error":"#REF!"}},{"$f":"AND(#REF!,\"AAAAAFpzuko=\")","v":{"$error":"#REF!"}},{"$f":"AND(#REF!,\"AAAAAFpzuks=\")","v":{"$error":"#REF!"}},{"$f":"AND(#REF!,\"AAAAAFpzukw=\")","v":{"$error":"#REF!"}},{"$f":"IF(#REF!,\"AAAAAFpzuk0=\",0)","v":{"$error":"#REF!"}},{"$f":"AND(#REF!,\"AAAAAFpzuk4=\")","v":{"$error":"#REF!"}},{"$f":"AND(#REF!,\"AAAAAFpzuk8=\")","v":{"$error":"#REF!"}},{"$f":"AND(#REF!,\"AAAAAFpzulA=\")","v":{"$error":"#REF!"}},{"$f":"AND(#REF!,\"AAAAAFpzulE=\")","v":{"$error":"#REF!"}},{"$f":"AND(#REF!,\"AAAAAFpzulI=\")","v":{"$error":"#REF!"}},{"$f":"AND(#REF!,\"AAAAAFpzulM=\")","v":{"$error":"#REF!"}},{"$f":"AND(#REF!,\"AAAAAFpzulQ=\")","v":{"$error":"#REF!"}},{"$f":"AND(#REF!,\"AAAAAFpzulU=\")","v":{"$error":"#REF!"}},{"$f":"AND(#REF!,\"AAAAAFpzulY=\")","v":{"$error":"#REF!"}},{"$f":"AND(#REF!,\"AAAAAFpzulc=\")","v":{"$error":"#REF!"}},{"$f":"AND(#REF!,\"AAAAAFpzulg=\")","v":{"$error":"#REF!"}},{"$f":"AND(#REF!,\"AAAAAFpzulk=\")","v":{"$error":"#REF!"}},{"$f":"AND(#REF!,\"AAAAAFpzulo=\")","v":{"$error":"#REF!"}},{"$f":"AND(#REF!,\"AAAAAFpzuls=\")","v":{"$error":"#REF!"}},{"$f":"AND(#REF!,\"AAAAAFpzulw=\")","v":{"$error":"#REF!"}},{"$f":"AND(#REF!,\"AAAAAFpzul0=\")","v":{"$error":"#REF!"}},{"$f":"AND(#REF!,\"AAAAAFpzul4=\")","v":{"$error":"#REF!"}},{"$f":"AND(#REF!,\"AAAAAFpzul8=\")","v":{"$error":"#REF!"}},{"$f":"AND(#REF!,\"AAAAAFpzumA=\")","v":{"$error":"#REF!"}},{"$f":"AND(#REF!,\"AAAAAFpzumE=\")","v":{"$error":"#REF!"}},{"$f":"AND(#REF!,\"AAAAAFpzumI=\")","v":{"$error":"#REF!"}},{"$f":"AND(#REF!,\"AAAAAFpzumM=\")","v":{"$error":"#REF!"}},{"$f":"AND(#REF!,\"AAAAAFpzumQ=\")","v":{"$error":"#REF!"}},{"$f":"AND(#REF!,\"AAAAAFpzumU=\")","v":{"$error":"#REF!"}},{"$f":"AND(#REF!,\"AAAAAFpzumY=\")","v":{"$error":"#REF!"}},{"$f":"AND(#REF!,\"AAAAAFpzumc=\")","v":{"$error":"#REF!"}},{"$f":"AND(#REF!,\"AAAAAFpzumg=\")","v":{"$error":"#REF!"}},{"$f":"AND(#REF!,\"AAAAAFpzumk=\")","v":{"$error":"#REF!"}},{"$f":"AND(#REF!,\"AAAAAFpzumo=\")","v":{"$error":"#REF!"}},{"$f":"AND(#REF!,\"AAAAAFpzums=\")","v":{"$error":"#REF!"}},{"$f":"AND(#REF!,\"AAAAAFpzumw=\")","v":{"$error":"#REF!"}},{"$f":"AND(#REF!,\"AAAAAFpzum0=\")","v":{"$error":"#REF!"}},{"$f":"AND(#REF!,\"AAAAAFpzum4=\")","v":{"$error":"#REF!"}},{"$f":"IF(#REF!,\"AAAAAFpzum8=\",0)","v":{"$error":"#REF!"}},{"$f":"AND(#REF!,\"AAAAAFpzunA=\")","v":{"$error":"#REF!"}},{"$f":"AND(#REF!,\"AAAAAFpzunE=\")","v":{"$error":"#REF!"}},{"$f":"AND(#REF!,\"AAAAAFpzunI=\")","v":{"$error":"#REF!"}},{"$f":"AND(#REF!,\"AAAAAFpzunM=\")","v":{"$error":"#REF!"}},{"$f":"AND(#REF!,\"AAAAAFpzunQ=\")","v":{"$error":"#REF!"}},{"$f":"AND(#REF!,\"AAAAAFpzunU=\")","v":{"$error":"#REF!"}},{"$f":"AND(#REF!,\"AAAAAFpzunY=\")","v":{"$error":"#REF!"}},{"$f":"AND(#REF!,\"AAAAAFpzunc=\")","v":{"$error":"#REF!"}},{"$f":"AND(#REF!,\"AAAAAFpzung=\")","v":{"$error":"#REF!"}},{"$f":"AND(#REF!,\"AAAAAFpzunk=\")","v":{"$error":"#REF!"}},{"$f":"AND(#REF!,\"AAAAAFpzuno=\")","v":{"$error":"#REF!"}},{"$f":"AND(#REF!,\"AAAAAFpzuns=\")","v":{"$error":"#REF!"}},{"$f":"AND(#REF!,\"AAAAAFpzunw=\")","v":{"$error":"#REF!"}},{"$f":"AND(#REF!,\"AAAAAFpzun0=\")","v":{"$error":"#REF!"}},{"$f":"AND(#REF!,\"AAAAAFpzun4=\")","v":{"$error":"#REF!"}},{"$f":"AND(#REF!,\"AAAAAFpzun8=\")","v":{"$error":"#REF!"}},{"$f":"AND(#REF!,\"AAAAAFpzuoA=\")","v":{"$error":"#REF!"}},{"$f":"AND(#REF!,\"AAAAAFpzuoE=\")","v":{"$error":"#REF!"}},{"$f":"AND(#REF!,\"AAAAAFpzuoI=\")","v":{"$error":"#REF!"}},{"$f":"AND(#REF!,\"AAAAAFpzuoM=\")","v":{"$error":"#REF!"}},{"$f":"AND(#REF!,\"AAAAAFpzuoQ=\")","v":{"$error":"#REF!"}},{"$f":"AND(#REF!,\"AAAAAFpzuoU=\")","v":{"$error":"#REF!"}},{"$f":"AND(#REF!,\"AAAAAFpzuoY=\")","v":{"$error":"#REF!"}},{"$f":"AND(#REF!,\"AAAAAFpzuoc=\")","v":{"$error":"#REF!"}},{"$f":"AND(#REF!,\"AAAAAFpzuog=\")","v":{"$error":"#REF!"}},{"$f":"AND(#REF!,\"AAAAAFpzuok=\")","v":{"$error":"#REF!"}},{"$f":"AND(#REF!,\"AAAAAFpzuoo=\")","v":{"$error":"#REF!"}},{"$f":"AND(#REF!,\"AAAAAFpzuos=\")","v":{"$error":"#REF!"}},{"$f":"AND(#REF!,\"AAAAAFpzuow=\")","v":{"$error":"#REF!"}},{"$f":"AND(#REF!,\"AAAAAFpzuo0=\")","v":{"$error":"#REF!"}},{"$f":"AND(#REF!,\"AAAAAFpzuo4=\")","v":{"$error":"#REF!"}},{"$f":"AND(#REF!,\"AAAAAFpzuo8=\")","v":{"$error":"#REF!"}},{"$f":"AND(#REF!,\"AAAAAFpzupA=\")","v":{"$error":"#REF!"}},{"$f":"IF(#REF!,\"AAAAAFpzupE=\",0)","v":{"$error":"#REF!"}},{"$f":"AND(#REF!,\"AAAAAFpzupI=\")","v":{"$error":"#REF!"}},{"$f":"AND(#REF!,\"AAAAAFpzupM=\")","v":{"$error":"#REF!"}},{"$f":"AND(#REF!,\"AAAAAFpzupQ=\")","v":{"$error":"#REF!"}},{"$f":"AND(#REF!,\"AAAAAFpzupU=\")","v":{"$error":"#REF!"}},{"$f":"AND(#REF!,\"AAAAAFpzupY=\")","v":{"$error":"#REF!"}},{"$f":"AND(#REF!,\"AAAAAFpzupc=\")","v":{"$error":"#REF!"}},{"$f":"AND(#REF!,\"AAAAAFpzupg=\")","v":{"$error":"#REF!"}},{"$f":"AND(#REF!,\"AAAAAFpzupk=\")","v":{"$error":"#REF!"}},{"$f":"AND(#REF!,\"AAAAAFpzupo=\")","v":{"$error":"#REF!"}},{"$f":"AND(#REF!,\"AAAAAFpzups=\")","v":{"$error":"#REF!"}},{"$f":"AND(#REF!,\"AAAAAFpzupw=\")","v":{"$error":"#REF!"}},{"$f":"AND(#REF!,\"AAAAAFpzup0=\")","v":{"$error":"#REF!"}},{"$f":"AND(#REF!,\"AAAAAFpzup4=\")","v":{"$error":"#REF!"}},{"$f":"AND(#REF!,\"AAAAAFpzup8=\")","v":{"$error":"#REF!"}},{"$f":"AND(#REF!,\"AAAAAFpzuqA=\")","v":{"$error":"#REF!"}},{"$f":"AND(#REF!,\"AAAAAFpzuqE=\")","v":{"$error":"#REF!"}},{"$f":"AND(#REF!,\"AAAAAFpzuqI=\")","v":{"$error":"#REF!"}},{"$f":"AND(#REF!,\"AAAAAFpzuqM=\")","v":{"$error":"#REF!"}},{"$f":"AND(#REF!,\"AAAAAFpzuqQ=\")","v":{"$error":"#REF!"}},{"$f":"AND(#REF!,\"AAAAAFpzuqU=\")","v":{"$error":"#REF!"}},{"$f":"AND(#REF!,\"AAAAAFpzuqY=\")","v":{"$error":"#REF!"}},{"$f":"AND(#REF!,\"AAAAAFpzuqc=\")","v":{"$error":"#REF!"}},{"$f":"AND(#REF!,\"AAAAAFpzuqg=\")","v":{"$error":"#REF!"}},{"$f":"AND(#REF!,\"AAAAAFpzuqk=\")","v":{"$error":"#REF!"}},{"$f":"AND(#REF!,\"AAAAAFpzuqo=\")","v":{"$error":"#REF!"}},{"$f":"AND(#REF!,\"AAAAAFpzuqs=\")","v":{"$error":"#REF!"}},{"$f":"AND(#REF!,\"AAAAAFpzuqw=\")","v":{"$error":"#REF!"}},{"$f":"AND(#REF!,\"AAAAAFpzuq0=\")","v":{"$error":"#REF!"}},{"$f":"AND(#REF!,\"AAAAAFpzuq4=\")","v":{"$error":"#REF!"}},{"$f":"AND(#REF!,\"AAAAAFpzuq8=\")","v":{"$error":"#REF!"}},{"$f":"AND(#REF!,\"AAAAAFpzurA=\")","v":{"$error":"#REF!"}},{"$f":"AND(#REF!,\"AAAAAFpzurE=\")","v":{"$error":"#REF!"}},{"$f":"AND(#REF!,\"AAAAAFpzurI=\")","v":{"$error":"#REF!"}},{"$f":"IF(#REF!,\"AAAAAFpzurM=\",0)","v":{"$error":"#REF!"}},{"$f":"AND(#REF!,\"AAAAAFpzurQ=\")","v":{"$error":"#REF!"}},{"$f":"AND(#REF!,\"AAAAAFpzurU=\")","v":{"$error":"#REF!"}},{"$f":"AND(#REF!,\"AAAAAFpzurY=\")","v":{"$error":"#REF!"}},{"$f":"AND(#REF!,\"AAAAAFpzurc=\")","v":{"$error":"#REF!"}},{"$f":"AND(#REF!,\"AAAAAFpzurg=\")","v":{"$error":"#REF!"}},{"$f":"AND(#REF!,\"AAAAAFpzurk=\")","v":{"$error":"#REF!"}},{"$f":"AND(#REF!,\"AAAAAFpzuro=\")","v":{"$error":"#REF!"}},{"$f":"AND(#REF!,\"AAAAAFpzurs=\")","v":{"$error":"#REF!"}},{"$f":"AND(#REF!,\"AAAAAFpzurw=\")","v":{"$error":"#REF!"}},{"$f":"AND(#REF!,\"AAAAAFpzur0=\")","v":{"$error":"#REF!"}},{"$f":"AND(#REF!,\"AAAAAFpzur4=\")","v":{"$error":"#REF!"}},{"$f":"AND(#REF!,\"AAAAAFpzur8=\")","v":{"$error":"#REF!"}},{"$f":"AND(#REF!,\"AAAAAFpzusA=\")","v":{"$error":"#REF!"}},{"$f":"AND(#REF!,\"AAAAAFpzusE=\")","v":{"$error":"#REF!"}},{"$f":"AND(#REF!,\"AAAAAFpzusI=\")","v":{"$error":"#REF!"}},{"$f":"AND(#REF!,\"AAAAAFpzusM=\")","v":{"$error":"#REF!"}},{"$f":"AND(#REF!,\"AAAAAFpzusQ=\")","v":{"$error":"#REF!"}},{"$f":"AND(#REF!,\"AAAAAFpzusU=\")","v":{"$error":"#REF!"}},{"$f":"AND(#REF!,\"AAAAAFpzusY=\")","v":{"$error":"#REF!"}},{"$f":"AND(#REF!,\"AAAAAFpzusc=\")","v":{"$error":"#REF!"}},{"$f":"AND(#REF!,\"AAAAAFpzusg=\")","v":{"$error":"#REF!"}},{"$f":"AND(#REF!,\"AAAAAFpzusk=\")","v":{"$error":"#REF!"}},{"$f":"AND(#REF!,\"AAAAAFpzuso=\")","v":{"$error":"#REF!"}},{"$f":"AND(#REF!,\"AAAAAFpzuss=\")","v":{"$error":"#REF!"}},{"$f":"AND(#REF!,\"AAAAAFpzusw=\")","v":{"$error":"#REF!"}},{"$f":"AND(#REF!,\"AAAAAFpzus0=\")","v":{"$error":"#REF!"}},{"$f":"AND(#REF!,\"AAAAAFpzus4=\")","v":{"$error":"#REF!"}},{"$f":"AND(#REF!,\"AAAAAFpzus8=\")","v":{"$error":"#REF!"}},{"$f":"AND(#REF!,\"AAAAAFpzutA=\")","v":{"$error":"#REF!"}},{"$f":"AND(#REF!,\"AAAAAFpzutE=\")","v":{"$error":"#REF!"}},{"$f":"AND(#REF!,\"AAAAAFpzutI=\")","v":{"$error":"#REF!"}},{"$f":"AND(#REF!,\"AAAAAFpzutM=\")","v":{"$error":"#REF!"}},{"$f":"AND(#REF!,\"AAAAAFpzutQ=\")","v":{"$error":"#REF!"}},{"$f":"IF(#REF!,\"AAAAAFpzutU=\",0)","v":{"$error":"#REF!"}},{"$f":"AND(#REF!,\"AAAAAFpzutY=\")","v":{"$error":"#REF!"}},{"$f":"AND(#REF!,\"AAAAAFpzutc=\")","v":{"$error":"#REF!"}},{"$f":"AND(#REF!,\"AAAAAFpzutg=\")","v":{"$error":"#REF!"}},{"$f":"AND(#REF!,\"AAAAAFpzutk=\")","v":{"$error":"#REF!"}},{"$f":"AND(#REF!,\"AAAAAFpzuto=\")","v":{"$error":"#REF!"}},{"$f":"AND(#REF!,\"AAAAAFpzuts=\")","v":{"$error":"#REF!"}},{"$f":"AND(#REF!,\"AAAAAFpzutw=\")","v":{"$error":"#REF!"}},{"$f":"AND(#REF!,\"AAAAAFpzut0=\")","v":{"$error":"#REF!"}},{"$f":"AND(#REF!,\"AAAAAFpzut4=\")","v":{"$error":"#REF!"}},{"$f":"AND(#REF!,\"AAAAAFpzut8=\")","v":{"$error":"#REF!"}},{"$f":"AND(#REF!,\"AAAAAFpzuuA=\")","v":{"$error":"#REF!"}},{"$f":"AND(#REF!,\"AAAAAFpzuuE=\")","v":{"$error":"#REF!"}},{"$f":"AND(#REF!,\"AAAAAFpzuuI=\")","v":{"$error":"#REF!"}},{"$f":"AND(#REF!,\"AAAAAFpzuuM=\")","v":{"$error":"#REF!"}},{"$f":"AND(#REF!,\"AAAAAFpzuuQ=\")","v":{"$error":"#REF!"}},{"$f":"AND(#REF!,\"AAAAAFpzuuU=\")","v":{"$error":"#REF!"}},{"$f":"AND(#REF!,\"AAAAAFpzuuY=\")","v":{"$error":"#REF!"}},{"$f":"AND(#REF!,\"AAAAAFpzuuc=\")","v":{"$error":"#REF!"}},{"$f":"AND(#REF!,\"AAAAAFpzuug=\")","v":{"$error":"#REF!"}},{"$f":"AND(#REF!,\"AAAAAFpzuuk=\")","v":{"$error":"#REF!"}},{"$f":"AND(#REF!,\"AAAAAFpzuuo=\")","v":{"$error":"#REF!"}},{"$f":"AND(#REF!,\"AAAAAFpzuus=\")","v":{"$error":"#REF!"}},{"$f":"AND(#REF!,\"AAAAAFpzuuw=\")","v":{"$error":"#REF!"}},{"$f":"AND(#REF!,\"AAAAAFpzuu0=\")","v":{"$error":"#REF!"}},{"$f":"AND(#REF!,\"AAAAAFpzuu4=\")","v":{"$error":"#REF!"}},{"$f":"AND(#REF!,\"AAAAAFpzuu8=\")","v":{"$error":"#REF!"}},{"$f":"AND(#REF!,\"AAAAAFpzuvA=\")","v":{"$error":"#REF!"}},{"$f":"AND(#REF!,\"AAAAAFpzuvE=\")","v":{"$error":"#REF!"}},{"$f":"AND(#REF!,\"AAAAAFpzuvI=\")","v":{"$error":"#REF!"}},{"$f":"AND(#REF!,\"AAAAAFpzuvM=\")","v":{"$error":"#REF!"}},{"$f":"AND(#REF!,\"AAAAAFpzuvQ=\")","v":{"$error":"#REF!"}},{"$f":"AND(#REF!,\"AAAAAFpzuvU=\")","v":{"$error":"#REF!"}},{"$f":"AND(#REF!,\"AAAAAFpzuvY=\")","v":{"$error":"#REF!"}},{"$f":"IF(#REF!,\"AAAAAFpzuvc=\",0)","v":{"$error":"#REF!"}},{"$f":"AND(#REF!,\"AAAAAFpzuvg=\")","v":{"$error":"#REF!"}},{"$f":"AND(#REF!,\"AAAAAFpzuvk=\")","v":{"$error":"#REF!"}},{"$f":"AND(#REF!,\"AAAAAFpzuvo=\")","v":{"$error":"#REF!"}},{"$f":"AND(#REF!,\"AAAAAFpzuvs=\")","v":{"$error":"#REF!"}},{"$f":"AND(#REF!,\"AAAAAFpzuvw=\")","v":{"$error":"#REF!"}},{"$f":"AND(#REF!,\"AAAAAFpzuv0=\")","v":{"$error":"#REF!"}},{"$f":"AND(#REF!,\"AAAAAFpzuv4=\")","v":{"$error":"#REF!"}},{"$f":"AND(#REF!,\"AAAAAFpzuv8=\")","v":{"$error":"#REF!"}}]
[{"$f":"AND(#REF!,\"AAAAAH01fAA=\")","v":{"$error":"#REF!"}},{"$f":"AND(#REF!,\"AAAAAH01fAE=\")","v":{"$error":"#REF!"}},{"$f":"AND(#REF!,\"AAAAAH01fAI=\")","v":{"$error":"#REF!"}},{"$f":"AND(#REF!,\"AAAAAH01fAM=\")","v":{"$error":"#REF!"}},{"$f":"AND(#REF!,\"AAAAAH01fAQ=\")","v":{"$error":"#REF!"}},{"$f":"AND(#REF!,\"AAAAAH01fAU=\")","v":{"$error":"#REF!"}},{"$f":"AND(#REF!,\"AAAAAH01fAY=\")","v":{"$error":"#REF!"}},{"$f":"AND(#REF!,\"AAAAAH01fAc=\")","v":{"$error":"#REF!"}},{"$f":"AND(#REF!,\"AAAAAH01fAg=\")","v":{"$error":"#REF!"}},{"$f":"AND(#REF!,\"AAAAAH01fAk=\")","v":{"$error":"#REF!"}},{"$f":"AND(#REF!,\"AAAAAH01fAo=\")","v":{"$error":"#REF!"}},{"$f":"AND(#REF!,\"AAAAAH01fAs=\")","v":{"$error":"#REF!"}},{"$f":"AND(#REF!,\"AAAAAH01fAw=\")","v":{"$error":"#REF!"}},{"$f":"AND(#REF!,\"AAAAAH01fA0=\")","v":{"$error":"#REF!"}},{"$f":"AND(#REF!,\"AAAAAH01fA4=\")","v":{"$error":"#REF!"}},{"$f":"AND(#REF!,\"AAAAAH01fA8=\")","v":{"$error":"#REF!"}},{"$f":"AND(#REF!,\"AAAAAH01fBA=\")","v":{"$error":"#REF!"}},{"$f":"AND(#REF!,\"AAAAAH01fBE=\")","v":{"$error":"#REF!"}},{"$f":"AND(#REF!,\"AAAAAH01fBI=\")","v":{"$error":"#REF!"}},{"$f":"AND(#REF!,\"AAAAAH01fBM=\")","v":{"$error":"#REF!"}},{"$f":"AND(#REF!,\"AAAAAH01fBQ=\")","v":{"$error":"#REF!"}},{"$f":"AND(#REF!,\"AAAAAH01fBU=\")","v":{"$error":"#REF!"}},{"$f":"AND(#REF!,\"AAAAAH01fBY=\")","v":{"$error":"#REF!"}},{"$f":"AND(#REF!,\"AAAAAH01fBc=\")","v":{"$error":"#REF!"}},{"$f":"AND(#REF!,\"AAAAAH01fBg=\")","v":{"$error":"#REF!"}},{"$f":"IF(#REF!,\"AAAAAH01fBk=\",0)","v":{"$error":"#REF!"}},{"$f":"AND(#REF!,\"AAAAAH01fBo=\")","v":{"$error":"#REF!"}},{"$f":"AND(#REF!,\"AAAAAH01fBs=\")","v":{"$error":"#REF!"}},{"$f":"AND(#REF!,\"AAAAAH01fBw=\")","v":{"$error":"#REF!"}},{"$f":"AND(#REF!,\"AAAAAH01fB0=\")","v":{"$error":"#REF!"}},{"$f":"AND(#REF!,\"AAAAAH01fB4=\")","v":{"$error":"#REF!"}},{"$f":"AND(#REF!,\"AAAAAH01fB8=\")","v":{"$error":"#REF!"}},{"$f":"AND(#REF!,\"AAAAAH01fCA=\")","v":{"$error":"#REF!"}},{"$f":"AND(#REF!,\"AAAAAH01fCE=\")","v":{"$error":"#REF!"}},{"$f":"AND(#REF!,\"AAAAAH01fCI=\")","v":{"$error":"#REF!"}},{"$f":"AND(#REF!,\"AAAAAH01fCM=\")","v":{"$error":"#REF!"}},{"$f":"AND(#REF!,\"AAAAAH01fCQ=\")","v":{"$error":"#REF!"}},{"$f":"AND(#REF!,\"AAAAAH01fCU=\")","v":{"$error":"#REF!"}},{"$f":"AND(#REF!,\"AAAAAH01fCY=\")","v":{"$error":"#REF!"}},{"$f":"AND(#REF!,\"AAAAAH01fCc=\")","v":{"$error":"#REF!"}},{"$f":"AND(#REF!,\"AAAAAH01fCg=\")","v":{"$error":"#REF!"}},{"$f":"AND(#REF!,\"AAAAAH01fCk=\")","v":{"$error":"#REF!"}},{"$f":"AND(#REF!,\"AAAAAH01fCo=\")","v":{"$error":"#REF!"}},{"$f":"AND(#REF!,\"AAAAAH01fCs=\")","v":{"$error":"#REF!"}},{"$f":"AND(#REF!,\"AAAAAH01fCw=\")","v":{"$error":"#REF!"}},{"$f":"AND(#REF!,\"AAAAAH01fC0=\")","v":{"$error":"#REF!"}},{"$f":"AND(#REF!,\"AAAAAH01fC4=\")","v":{"$error":"#REF!"}},{"$f":"AND(#REF!,\"AAAAAH01fC8=\")","v":{"$error":"#REF!"}},{"$f":"AND(#REF!,\"AAAAAH01fDA=\")","v":{"$error":"#REF!"}},{"$f":"AND(#REF!,\"AAAAAH01fDE=\")","v":{"$error":"#REF!"}},{"$f":"AND(#REF!,\"AAAAAH01fDI=\")","v":{"$error":"#REF!"}},{"$f":"AND(#REF!,\"AAAAAH01fDM=\")","v":{"$error":"#REF!"}},{"$f":"AND(#REF!,\"AAAAAH01fDQ=\")","v":{"$error":"#REF!"}},{"$f":"AND(#REF!,\"AAAAAH01fDU=\")","v":{"$error":"#REF!"}},{"$f":"AND(#REF!,\"AAAAAH01fDY=\")","v":{"$error":"#REF!"}},{"$f":"AND(#REF!,\"AAAAAH01fDc=\")","v":{"$error":"#REF!"}},{"$f":"AND(#REF!,\"AAAAAH01fDg=\")","v":{"$error":"#REF!"}},{"$f":"AND(#REF!,\"AAAAAH01fDk=\")","v":{"$error":"#REF!"}},{"$f":"AND(#REF!,\"AAAAAH01fDo=\")","v":{"$error":"#REF!"}},{"$f":"IF(#REF!,\"AAAAAH01fDs=\",0)","v":{"$error":"#REF!"}},{"$f":"AND(#REF!,\"AAAAAH01fDw=\")","v":{"$error":"#REF!"}},{"$f":"AND(#REF!,\"AAAAAH01fD0=\")","v":{"$error":"#REF!"}},{"$f":"AND(#REF!,\"AAAAAH01fD4=\")","v":{"$error":"#REF!"}},{"$f":"AND(#REF!,\"AAAAAH01fD8=\")","v":{"$error":"#REF!"}},{"$f":"AND(#REF!,\"AAAAAH01fEA=\")","v":{"$error":"#REF!"}},{"$f":"AND(#REF!,\"AAAAAH01fEE=\")","v":{"$error":"#REF!"}},{"$f":"AND(#REF!,\"AAAAAH01fEI=\")","v":{"$error":"#REF!"}},{"$f":"AND(#REF!,\"AAAAAH01fEM=\")","v":{"$error":"#REF!"}},{"$f":"AND(#REF!,\"AAAAAH01fEQ=\")","v":{"$error":"#REF!"}},{"$f":"AND(#REF!,\"AAAAAH01fEU=\")","v":{"$error":"#REF!"}},{"$f":"AND(#REF!,\"AAAAAH01fEY=\")","v":{"$error":"#REF!"}},{"$f":"AND(#REF!,\"AAAAAH01fEc=\")","v":{"$error":"#REF!"}},{"$f":"AND(#REF!,\"AAAAAH01fEg=\")","v":{"$error":"#REF!"}},{"$f":"AND(#REF!,\"AAAAAH01fEk=\")","v":{"$error":"#REF!"}},{"$f":"AND(#REF!,\"AAAAAH01fEo=\")","v":{"$error":"#REF!"}},{"$f":"AND(#REF!,\"AAAAAH01fEs=\")","v":{"$error":"#REF!"}},{"$f":"AND(#REF!,\"AAAAAH01fEw=\")","v":{"$error":"#REF!"}},{"$f":"AND(#REF!,\"AAAAAH01fE0=\")","v":{"$error":"#REF!"}},{"$f":"AND(#REF!,\"AAAAAH01fE4=\")","v":{"$error":"#REF!"}},{"$f":"AND(#REF!,\"AAAAAH01fE8=\")","v":{"$error":"#REF!"}},{"$f":"AND(#REF!,\"AAAAAH01fFA=\")","v":{"$error":"#REF!"}},{"$f":"AND(#REF!,\"AAAAAH01fFE=\")","v":{"$error":"#REF!"}},{"$f":"AND(#REF!,\"AAAAAH01fFI=\")","v":{"$error":"#REF!"}},{"$f":"AND(#REF!,\"AAAAAH01fFM=\")","v":{"$error":"#REF!"}},{"$f":"AND(#REF!,\"AAAAAH01fFQ=\")","v":{"$error":"#REF!"}},{"$f":"AND(#REF!,\"AAAAAH01fFU=\")","v":{"$error":"#REF!"}},{"$f":"AND(#REF!,\"AAAAAH01fFY=\")","v":{"$error":"#REF!"}},{"$f":"AND(#REF!,\"AAAAAH01fFc=\")","v":{"$error":"#REF!"}},{"$f":"AND(#REF!,\"AAAAAH01fFg=\")","v":{"$error":"#REF!"}},{"$f":"AND(#REF!,\"AAAAAH01fFk=\")","v":{"$error":"#REF!"}},{"$f":"AND(#REF!,\"AAAAAH01fFo=\")","v":{"$error":"#REF!"}},{"$f":"AND(#REF!,\"AAAAAH01fFs=\")","v":{"$error":"#REF!"}},{"$f":"AND(#REF!,\"AAAAAH01fFw=\")","v":{"$error":"#REF!"}},{"$f":"IF(#REF!,\"AAAAAH01fF0=\",0)","v":{"$error":"#REF!"}},{"$f":"IF(#REF!,\"AAAAAH01fF4=\",0)","v":{"$error":"#REF!"}},{"$f":"IF(#REF!,\"AAAAAH01fF8=\",0)","v":{"$error":"#REF!"}},{"$f":"IF(#REF!,\"AAAAAH01fGA=\",0)","v":{"$error":"#REF!"}},{"$f":"IF(#REF!,\"AAAAAH01fGE=\",0)","v":{"$error":"#REF!"}},{"$f":"IF(#REF!,\"AAAAAH01fGI=\",0)","v":{"$error":"#REF!"}},{"$f":"IF(#REF!,\"AAAAAH01fGM=\",0)","v":{"$error":"#REF!"}},{"$f":"IF(#REF!,\"AAAAAH01fGQ=\",0)","v":{"$error":"#REF!"}},{"$f":"IF(#REF!,\"AAAAAH01fGU=\",0)","v":{"$error":"#REF!"}},{"$f":"IF(#REF!,\"AAAAAH01fGY=\",0)","v":{"$error":"#REF!"}},{"$f":"IF(#REF!,\"AAAAAH01fGc=\",0)","v":{"$error":"#REF!"}},{"$f":"IF(#REF!,\"AAAAAH01fGg=\",0)","v":{"$error":"#REF!"}},{"$f":"IF(#REF!,\"AAAAAH01fGk=\",0)","v":{"$error":"#REF!"}},{"$f":"IF(#REF!,\"AAAAAH01fGo=\",0)","v":{"$error":"#REF!"}},{"$f":"IF(#REF!,\"AAAAAH01fGs=\",0)","v":{"$error":"#REF!"}},{"$f":"IF(#REF!,\"AAAAAH01fGw=\",0)","v":{"$error":"#REF!"}},{"$f":"IF(#REF!,\"AAAAAH01fG0=\",0)","v":{"$error":"#REF!"}},{"$f":"IF(#REF!,\"AAAAAH01fG4=\",0)","v":{"$error":"#REF!"}},{"$f":"IF(#REF!,\"AAAAAH01fG8=\",0)","v":{"$error":"#REF!"}},{"$f":"IF(#REF!,\"AAAAAH01fHA=\",0)","v":{"$error":"#REF!"}},{"$f":"IF(#REF!,\"AAAAAH01fHE=\",0)","v":{"$error":"#REF!"}},{"$f":"IF(#REF!,\"AAAAAH01fHI=\",0)","v":{"$error":"#REF!"}},{"$f":"IF(#REF!,\"AAAAAH01fHM=\",0)","v":{"$error":"#REF!"}},{"$f":"IF(#REF!,\"AAAAAH01fHQ=\",0)","v":{"$error":"#REF!"}},{"$f":"IF(#REF!,\"AAAAAH01fHU=\",0)","v":{"$error":"#REF!"}},{"$f":"IF(#REF!,\"AAAAAH01fHY=\",0)","v":{"$error":"#REF!"}},{"$f":"IF(#REF!,\"AAAAAH01fHc=\",0)","v":{"$error":"#REF!"}},{"$f":"IF(#REF!,\"AAAAAH01fHg=\",0)","v":{"$error":"#REF!"}},{"$f":"IF(#REF!,\"AAAAAH01fHk=\",0)","v":{"$error":"#REF!"}},{"$f":"IF(#REF!,\"AAAAAH01fHo=\",0)","v":{"$error":"#REF!"}},{"$f":"IF(#REF!,\"AAAAAH01fHs=\",0)","v":{"$error":"#REF!"}},{"$f":"IF(#REF!,\"AAAAAH01fHw=\",0)","v":{"$error":"#REF!"}},{"$f":"IF(#REF!,\"AAAAAH01fH0=\",0)","v":{"$error":"#REF!"}},{"$f":"IF(#REF!,\"AAAAAH01fH4=\",0)","v":{"$error":"#REF!"}},{"$f":"IF(#REF!,\"AAAAAH01fH8=\",0)","v":{"$error":"#REF!"}},{"$f":"IF(#REF!,\"AAAAAH01fIA=\",0)","v":{"$error":"#REF!"}},{"$f":"IF(#REF!,\"AAAAAH01fIE=\",0)","v":{"$error":"#REF!"}},{"$f":"IF(#REF!,\"AAAAAH01fII=\",0)","v":{"$error":"#REF!"}},{"$f":"IF(#REF!,\"AAAAAH01fIM=\",0)","v":{"$error":"#REF!"}},{"$f":"IF(#REF!,\"AAAAAH01fIQ=\",0)","v":{"$error":"#REF!"}},{"$f":"IF(#REF!,\"AAAAAH01fIU=\",0)","v":{"$error":"#REF!"}},{"$f":"IF(#REF!,\"AAAAAH01fIY=\",0)","v":{"$error":"#REF!"}},{"$f":"IF(#REF!,\"AAAAAH01fIc=\",0)","v":{"$error":"#REF!"}},{"$f":"IF(#REF!,\"AAAAAH01fIg=\",0)","v":{"$error":"#REF!"}},{"$f":"IF(#REF!,\"AAAAAH01fIk=\",0)","v":{"$error":"#REF!"}},{"$f":"IF(\"N\",[0]!_xlnm.Print_Area,\"AAAAAH01fIo=\")","v":{"$error":"#VALUE!"}}]
[{"$f":"IF(#REF!,\"AAAAAHd91QA=\",0)","v":{"$error":"#REF!"}},{"$f":"AND(#REF!,\"AAAAAHd91QE=\")","v":{"$error":"#REF!"}},{"$f":"AND(#REF!,\"AAAAAHd91QI=\")","v":{"$error":"#REF!"}},{"$f":"AND(#REF!,\"AAAAAHd91QM=\")","v":{"$error":"#REF!"}},{"$f":"AND(#REF!,\"AAAAAHd91QQ=\")","v":{"$error":"#REF!"}},{"$f":"AND(#REF!,\"AAAAAHd91QU=\")","v":{"$error":"#REF!"}},{"$f":"AND(#REF!,\"AAAAAHd91QY=\")","v":{"$error":"#REF!"}},{"$f":"AND(#REF!,\"AAAAAHd91Qc=\")","v":{"$error":"#REF!"}},{"$f":"AND(#REF!,\"AAAAAHd91Qg=\")","v":{"$error":"#REF!"}},{"$f":"AND(#REF!,\"AAAAAHd91Qk=\")","v":{"$error":"#REF!"}},{"$f":"AND(#REF!,\"AAAAAHd91Qo=\")","v":{"$error":"#REF!"}},{"$f":"AND(#REF!,\"AAAAAHd91Qs=\")","v":{"$error":"#REF!"}},{"$f":"AND(#REF!,\"AAAAAHd91Qw=\")","v":{"$error":"#REF!"}},{"$f":"AND(#REF!,\"AAAAAHd91Q0=\")","v":{"$error":"#REF!"}},{"$f":"AND(#REF!,\"AAAAAHd91Q4=\")","v":{"$error":"#REF!"}},{"$f":"AND(#REF!,\"AAAAAHd91Q8=\")","v":{"$error":"#REF!"}},{"$f":"AND(#REF!,\"AAAAAHd91RA=\")","v":{"$error":"#REF!"}},{"$f":"AND(#REF!,\"AAAAAHd91RE=\")","v":{"$error":"#REF!"}},{"$f":"AND(#REF!,\"AAAAAHd91RI=\")","v":{"$error":"#REF!"}},{"$f":"AND(#REF!,\"AAAAAHd91RM=\")","v":{"$error":"#REF!"}},{"$f":"AND(#REF!,\"AAAAAHd91RQ=\")","v":{"$error":"#REF!"}},{"$f":"AND(#REF!,\"AAAAAHd91RU=\")","v":{"$error":"#REF!"}},{"$f":"AND(#REF!,\"AAAAAHd91RY=\")","v":{"$error":"#REF!"}},{"$f":"AND(#REF!,\"AAAAAHd91Rc=\")","v":{"$error":"#REF!"}},{"$f":"AND(#REF!,\"AAAAAHd91Rg=\")","v":{"$error":"#REF!"}},{"$f":"AND(#REF!,\"AAAAAHd91Rk=\")","v":{"$error":"#REF!"}},{"$f":"AND(#REF!,\"AAAAAHd91Ro=\")","v":{"$error":"#REF!"}},{"$f":"AND(#REF!,\"AAAAAHd91Rs=\")","v":{"$error":"#REF!"}},{"$f":"AND(#REF!,\"AAAAAHd91Rw=\")","v":{"$error":"#REF!"}},{"$f":"AND(#REF!,\"AAAAAHd91R0=\")","v":{"$error":"#REF!"}},{"$f":"AND(#REF!,\"AAAAAHd91R4=\")","v":{"$error":"#REF!"}},{"$f":"AND(#REF!,\"AAAAAHd91R8=\")","v":{"$error":"#REF!"}},{"$f":"AND(#REF!,\"AAAAAHd91SA=\")","v":{"$error":"#REF!"}},{"$f":"AND(#REF!,\"AAAAAHd91SE=\")","v":{"$error":"#REF!"}},{"$f":"IF(#REF!,\"AAAAAHd91SI=\",0)","v":{"$error":"#REF!"}},{"$f":"AND(#REF!,\"AAAAAHd91SM=\")","v":{"$error":"#REF!"}},{"$f":"AND(#REF!,\"AAAAAHd91SQ=\")","v":{"$error":"#REF!"}},{"$f":"AND(#REF!,\"AAAAAHd91SU=\")","v":{"$error":"#REF!"}},{"$f":"AND(#REF!,\"AAAAAHd91SY=\")","v":{"$error":"#REF!"}},{"$f":"AND(#REF!,\"AAAAAHd91Sc=\")","v":{"$error":"#REF!"}},{"$f":"AND(#REF!,\"AAAAAHd91Sg=\")","v":{"$error":"#REF!"}},{"$f":"AND(#REF!,\"AAAAAHd91Sk=\")","v":{"$error":"#REF!"}},{"$f":"AND(#REF!,\"AAAAAHd91So=\")","v":{"$error":"#REF!"}},{"$f":"AND(#REF!,\"AAAAAHd91Ss=\")","v":{"$error":"#REF!"}},{"$f":"AND(#REF!,\"AAAAAHd91Sw=\")","v":{"$error":"#REF!"}},{"$f":"AND(#REF!,\"AAAAAHd91S0=\")","v":{"$error":"#REF!"}},{"$f":"AND(#REF!,\"AAAAAHd91S4=\")","v":{"$error":"#REF!"}},{"$f":"AND(#REF!,\"AAAAAHd91S8=\")","v":{"$error":"#REF!"}},{"$f":"AND(#REF!,\"AAAAAHd91TA=\")","v":{"$error":"#REF!"}},{"$f":"AND(#REF!,\"AAAAAHd91TE=\")","v":{"$error":"#REF!"}},{"$f":"AND(#REF!,\"AAAAAHd91TI=\")","v":{"$error":"#REF!"}},{"$f":"AND(#REF!,\"AAAAAHd91TM=\")","v":{"$error":"#REF!"}},{"$f":"AND(#REF!,\"AAAAAHd91TQ=\")","v":{"$error":"#REF!"}},{"$f":"AND(#REF!,\"AAAAAHd91TU=\")","v":{"$error":"#REF!"}},{"$f":"AND(#REF!,\"AAAAAHd91TY=\")","v":{"$error":"#REF!"}},{"$f":"AND(#REF!,\"AAAAAHd91Tc=\")","v":{"$error":"#REF!"}},{"$f":"AND(#REF!,\"AAAAAHd91Tg=\")","v":{"$error":"#REF!"}},{"$f":"AND(#REF!,\"AAAAAHd91Tk=\")","v":{"$error":"#REF!"}},{"$f":"AND(#REF!,\"AAAAAHd91To=\")","v":{"$error":"#REF!"}},{"$f":"AND(#REF!,\"AAAAAHd91Ts=\")","v":{"$error":"#REF!"}},{"$f":"AND(#REF!,\"AAAAAHd91Tw=\")","v":{"$error":"#REF!"}},{"$f":"AND(#REF!,\"AAAAAHd91T0=\")","v":{"$error":"#REF!"}},{"$f":"AND(#REF!,\"AAAAAHd91T4=\")","v":{"$error":"#REF!"}},{"$f":"AND(#REF!,\"AAAAAHd91T8=\")","v":{"$error":"#REF!"}},{"$f":"AND(#REF!,\"AAAAAHd91UA=\")","v":{"$error":"#REF!"}},{"$f":"AND(#REF!,\"AAAAAHd91UE=\")","v":{"$error":"#REF!"}},{"$f":"AND(#REF!,\"AAAAAHd91UI=\")","v":{"$error":"#REF!"}},{"$f":"AND(#REF!,\"AAAAAHd91UM=\")","v":{"$error":"#REF!"}},{"$f":"IF(#REF!,\"AAAAAHd91UQ=\",0)","v":{"$error":"#REF!"}},{"$f":"AND(#REF!,\"AAAAAHd91UU=\")","v":{"$error":"#REF!"}},{"$f":"AND(#REF!,\"AAAAAHd91UY=\")","v":{"$error":"#REF!"}},{"$f":"AND(#REF!,\"AAAAAHd91Uc=\")","v":{"$error":"#REF!"}},{"$f":"AND(#REF!,\"AAAAAHd91Ug=\")","v":{"$error":"#REF!"}},{"$f":"AND(#REF!,\"AAAAAHd91Uk=\")","v":{"$error":"#REF!"}},{"$f":"AND(#REF!,\"AAAAAHd91Uo=\")","v":{"$error":"#REF!"}},{"$f":"AND(#REF!,\"AAAAAHd91Us=\")","v":{"$error":"#REF!"}},{"$f":"AND(#REF!,\"AAAAAHd91Uw=\")","v":{"$error":"#REF!"}},{"$f":"AND(#REF!,\"AAAAAHd91U0=\")","v":{"$error":"#REF!"}},{"$f":"AND(#REF!,\"AAAAAHd91U4=\")","v":{"$error":"#REF!"}},{"$f":"AND(#REF!,\"AAAAAHd91U8=\")","v":{"$error":"#REF!"}},{"$f":"AND(#REF!,\"AAAAAHd91VA=\")","v":{"$error":"#REF!"}},{"$f":"AND(#REF!,\"AAAAAHd91VE=\")","v":{"$error":"#REF!"}},{"$f":"AND(#REF!,\"AAAAAHd91VI=\")","v":{"$error":"#REF!"}},{"$f":"AND(#REF!,\"AAAAAHd91VM=\")","v":{"$error":"#REF!"}},{"$f":"AND(#REF!,\"AAAAAHd91VQ=\")","v":{"$error":"#REF!"}},{"$f":"AND(#REF!,\"AAAAAHd91VU=\")","v":{"$error":"#REF!"}},{"$f":"AND(#REF!,\"AAAAAHd91VY=\")","v":{"$error":"#REF!"}},{"$f":"AND(#REF!,\"AAAAAHd91Vc=\")","v":{"$error":"#REF!"}},{"$f":"AND(#REF!,\"AAAAAHd91Vg=\")","v":{"$error":"#REF!"}},{"$f":"AND(#REF!,\"AAAAAHd91Vk=\")","v":{"$error":"#REF!"}},{"$f":"AND(#REF!,\"AAAAAHd91Vo=\")","v":{"$error":"#REF!"}},{"$f":"AND(#REF!,\"AAAAAHd91Vs=\")","v":{"$error":"#REF!"}},{"$f":"AND(#REF!,\"AAAAAHd91Vw=\")","v":{"$error":"#REF!"}},{"$f":"AND(#REF!,\"AAAAAHd91V0=\")","v":{"$error":"#REF!"}},{"$f":"AND(#REF!,\"AAAAAHd91V4=\")","v":{"$error":"#REF!"}},{"$f":"AND(#REF!,\"AAAAAHd91V8=\")","v":{"$error":"#REF!"}},{"$f":"AND(#REF!,\"AAAAAHd91WA=\")","v":{"$error":"#REF!"}},{"$f":"AND(#REF!,\"AAAAAHd91WE=\")","v":{"$error":"#REF!"}},{"$f":"AND(#REF!,\"AAAAAHd91WI=\")","v":{"$error":"#REF!"}},{"$f":"AND(#REF!,\"AAAAAHd91WM=\")","v":{"$error":"#REF!"}},{"$f":"AND(#REF!,\"AAAAAHd91WQ=\")","v":{"$error":"#REF!"}},{"$f":"AND(#REF!,\"AAAAAHd91WU=\")","v":{"$error":"#REF!"}},{"$f":"IF(#REF!,\"AAAAAHd91WY=\",0)","v":{"$error":"#REF!"}},{"$f":"AND(#REF!,\"AAAAAHd91Wc=\")","v":{"$error":"#REF!"}},{"$f":"AND(#REF!,\"AAAAAHd91Wg=\")","v":{"$error":"#REF!"}},{"$f":"AND(#REF!,\"AAAAAHd91Wk=\")","v":{"$error":"#REF!"}},{"$f":"AND(#REF!,\"AAAAAHd91Wo=\")","v":{"$error":"#REF!"}},{"$f":"AND(#REF!,\"AAAAAHd91Ws=\")","v":{"$error":"#REF!"}},{"$f":"AND(#REF!,\"AAAAAHd91Ww=\")","v":{"$error":"#REF!"}},{"$f":"AND(#REF!,\"AAAAAHd91W0=\")","v":{"$error":"#REF!"}},{"$f":"AND(#REF!,\"AAAAAHd91W4=\")","v":{"$error":"#REF!"}},{"$f":"AND(#REF!,\"AAAAAHd91W8=\")","v":{"$error":"#REF!"}},{"$f":"AND(#REF!,\"AAAAAHd91XA=\")","v":{"$error":"#REF!"}},{"$f":"AND(#REF!,\"AAAAAHd91XE=\")","v":{"$error":"#REF!"}},{"$f":"AND(#REF!,\"AAAAAHd91XI=\")","v":{"$error":"#REF!"}},{"$f":"AND(#REF!,\"AAAAAHd91XM=\")","v":{"$error":"#REF!"}},{"$f":"AND(#REF!,\"AAAAAHd91XQ=\")","v":{"$error":"#REF!"}},{"$f":"AND(#REF!,\"AAAAAHd91XU=\")","v":{"$error":"#REF!"}},{"$f":"AND(#REF!,\"AAAAAHd91XY=\")","v":{"$error":"#REF!"}},{"$f":"AND(#REF!,\"AAAAAHd91Xc=\")","v":{"$error":"#REF!"}},{"$f":"AND(#REF!,\"AAAAAHd91Xg=\")","v":{"$error":"#REF!"}},{"$f":"AND(#REF!,\"AAAAAHd91Xk=\")","v":{"$error":"#REF!"}},{"$f":"AND(#REF!,\"AAAAAHd91Xo=\")","v":{"$error":"#REF!"}},{"$f":"AND(#REF!,\"AAAAAHd91Xs=\")","v":{"$error":"#REF!"}},{"$f":"AND(#REF!,\"AAAAAHd91Xw=\")","v":{"$error":"#REF!"}},{"$f":"AND(#REF!,\"AAAAAHd91X0=\")","v":{"$error":"#REF!"}},{"$f":"AND(#REF!,\"AAAAAHd91X4=\")","v":{"$error":"#REF!"}},{"$f":"AND(#REF!,\"AAAAAHd91X8=\")","v":{"$error":"#REF!"}},{"$f":"AND(#REF!,\"AAAAAHd91YA=\")","v":{"$error":"#REF!"}},{"$f":"AND(#REF!,\"AAAAAHd91YE=\")","v":{"$error":"#REF!"}},{"$f":"AND(#REF!,\"AAAAAHd91YI=\")","v":{"$error":"#REF!"}},{"$f":"AND(#REF!,\"AAAAAHd91YM=\")","v":{"$error":"#REF!"}},{"$f":"AND(#REF!,\"AAAAAHd91YQ=\")","v":{"$error":"#REF!"}},{"$f":"AND(#REF!,\"AAAAAHd91YU=\")","v":{"$error":"#REF!"}},{"$f":"AND(#REF!,\"AAAAAHd91YY=\")","v":{"$error":"#REF!"}},{"$f":"AND(#REF!,\"AAAAAHd91Yc=\")","v":{"$error":"#REF!"}},{"$f":"IF(#REF!,\"AAAAAHd91Yg=\",0)","v":{"$error":"#REF!"}},{"$f":"AND(#REF!,\"AAAAAHd91Yk=\")","v":{"$error":"#REF!"}},{"$f":"AND(#REF!,\"AAAAAHd91Yo=\")","v":{"$error":"#REF!"}},{"$f":"AND(#REF!,\"AAAAAHd91Ys=\")","v":{"$error":"#REF!"}},{"$f":"AND(#REF!,\"AAAAAHd91Yw=\")","v":{"$error":"#REF!"}},{"$f":"AND(#REF!,\"AAAAAHd91Y0=\")","v":{"$error":"#REF!"}},{"$f":"AND(#REF!,\"AAAAAHd91Y4=\")","v":{"$error":"#REF!"}},{"$f":"AND(#REF!,\"AAAAAHd91Y8=\")","v":{"$error":"#REF!"}},{"$f":"AND(#REF!,\"AAAAAHd91ZA=\")","v":{"$error":"#REF!"}},{"$f":"AND(#REF!,\"AAAAAHd91ZE=\")","v":{"$error":"#REF!"}},{"$f":"AND(#REF!,\"AAAAAHd91ZI=\")","v":{"$error":"#REF!"}},{"$f":"AND(#REF!,\"AAAAAHd91ZM=\")","v":{"$error":"#REF!"}},{"$f":"AND(#REF!,\"AAAAAHd91ZQ=\")","v":{"$error":"#REF!"}},{"$f":"AND(#REF!,\"AAAAAHd91ZU=\")","v":{"$error":"#REF!"}},{"$f":"AND(#REF!,\"AAAAAHd91ZY=\")","v":{"$error":"#REF!"}},{"$f":"AND(#REF!,\"AAAAAHd91Zc=\")","v":{"$error":"#REF!"}},{"$f":"AND(#REF!,\"AAAAAHd91Zg=\")","v":{"$error":"#REF!"}},{"$f":"AND(#REF!,\"AAAAAHd91Zk=\")","v":{"$error":"#REF!"}},{"$f":"AND(#REF!,\"AAAAAHd91Zo=\")","v":{"$error":"#REF!"}},{"$f":"AND(#REF!,\"AAAAAHd91Zs=\")","v":{"$error":"#REF!"}},{"$f":"AND(#REF!,\"AAAAAHd91Zw=\")","v":{"$error":"#REF!"}},{"$f":"AND(#REF!,\"AAAAAHd91Z0=\")","v":{"$error":"#REF!"}},{"$f":"AND(#REF!,\"AAAAAHd91Z4=\")","v":{"$error":"#REF!"}},{"$f":"AND(#REF!,\"AAAAAHd91Z8=\")","v":{"$error":"#REF!"}},{"$f":"AND(#REF!,\"AAAAAHd91aA=\")","v":{"$error":"#REF!"}},{"$f":"AND(#REF!,\"AAAAAHd91aE=\")","v":{"$error":"#REF!"}},{"$f":"AND(#REF!,\"AAAAAHd91aI=\")","v":{"$error":"#REF!"}},{"$f":"AND(#REF!,\"AAAAAHd91aM=\")","v":{"$error":"#REF!"}},{"$f":"AND(#REF!,\"AAAAAHd91aQ=\")","v":{"$error":"#REF!"}},{"$f":"AND(#REF!,\"AAAAAHd91aU=\")","v":{"$error":"#REF!"}},{"$f":"AND(#REF!,\"AAAAAHd91aY=\")","v":{"$error":"#REF!"}},{"$f":"AND(#REF!,\"AAAAAHd91ac=\")","v":{"$error":"#REF!"}},{"$f":"AND(#REF!,\"AAAAAHd91ag=\")","v":{"$error":"#REF!"}},{"$f":"AND(#REF!,\"AAAAAHd91ak=\")","v":{"$error":"#REF!"}},{"$f":"IF(#REF!,\"AAAAAHd91ao=\",0)","v":{"$error":"#REF!"}},{"$f":"AND(#REF!,\"AAAAAHd91as=\")","v":{"$error":"#REF!"}},{"$f":"AND(#REF!,\"AAAAAHd91aw=\")","v":{"$error":"#REF!"}},{"$f":"AND(#REF!,\"AAAAAHd91a0=\")","v":{"$error":"#REF!"}},{"$f":"AND(#REF!,\"AAAAAHd91a4=\")","v":{"$error":"#REF!"}},{"$f":"AND(#REF!,\"AAAAAHd91a8=\")","v":{"$error":"#REF!"}},{"$f":"AND(#REF!,\"AAAAAHd91bA=\")","v":{"$error":"#REF!"}},{"$f":"AND(#REF!,\"AAAAAHd91bE=\")","v":{"$error":"#REF!"}},{"$f":"AND(#REF!,\"AAAAAHd91bI=\")","v":{"$error":"#REF!"}},{"$f":"AND(#REF!,\"AAAAAHd91bM=\")","v":{"$error":"#REF!"}},{"$f":"AND(#REF!,\"AAAAAHd91bQ=\")","v":{"$error":"#REF!"}},{"$f":"AND(#REF!,\"AAAAAHd91bU=\")","v":{"$error":"#REF!"}},{"$f":"AND(#REF!,\"AAAAAHd91bY=\")","v":{"$error":"#REF!"}},{"$f":"AND(#REF!,\"AAAAAHd91bc=\")","v":{"$error":"#REF!"}},{"$f":"AND(#REF!,\"AAAAAHd91bg=\")","v":{"$error":"#REF!"}},{"$f":"AND(#REF!,\"AAAAAHd91bk=\")","v":{"$error":"#REF!"}},{"$f":"AND(#REF!,\"AAAAAHd91bo=\")","v":{"$error":"#REF!"}},{"$f":"AND(#REF!,\"AAAAAHd91bs=\")","v":{"$error":"#REF!"}},{"$f":"AND(#REF!,\"AAAAAHd91bw=\")","v":{"$error":"#REF!"}},{"$f":"AND(#REF!,\"AAAAAHd91b0=\")","v":{"$error":"#REF!"}},{"$f":"AND(#REF!,\"AAAAAHd91b4=\")","v":{"$error":"#REF!"}},{"$f":"AND(#REF!,\"AAAAAHd91b8=\")","v":{"$error":"#REF!"}},{"$f":"AND(#REF!,\"AAAAAHd91cA=\")","v":{"$error":"#REF!"}},{"$f":"AND(#REF!,\"AAAAAHd91cE=\")","v":{"$error":"#REF!"}},{"$f":"AND(#REF!,\"AAAAAHd91cI=\")","v":{"$error":"#REF!"}},{"$f":"AND(#REF!,\"AAAAAHd91cM=\")","v":{"$error":"#REF!"}},{"$f":"AND(#REF!,\"AAAAAHd91cQ=\")","v":{"$error":"#REF!"}},{"$f":"AND(#REF!,\"AAAAAHd91cU=\")","v":{"$error":"#REF!"}},{"$f":"AND(#REF!,\"AAAAAHd91cY=\")","v":{"$error":"#REF!"}},{"$f":"AND(#REF!,\"AAAAAHd91cc=\")","v":{"$error":"#REF!"}},{"$f":"AND(#REF!,\"AAAAAHd91cg=\")","v":{"$error":"#REF!"}},{"$f":"AND(#REF!,\"AAAAAHd91ck=\")","v":{"$error":"#REF!"}},{"$f":"AND(#REF!,\"AAAAAHd91co=\")","v":{"$error":"#REF!"}},{"$f":"AND(#REF!,\"AAAAAHd91cs=\")","v":{"$error":"#REF!"}},{"$f":"IF(#REF!,\"AAAAAHd91cw=\",0)","v":{"$error":"#REF!"}},{"$f":"AND(#REF!,\"AAAAAHd91c0=\")","v":{"$error":"#REF!"}},{"$f":"AND(#REF!,\"AAAAAHd91c4=\")","v":{"$error":"#REF!"}},{"$f":"AND(#REF!,\"AAAAAHd91c8=\")","v":{"$error":"#REF!"}},{"$f":"AND(#REF!,\"AAAAAHd91dA=\")","v":{"$error":"#REF!"}},{"$f":"AND(#REF!,\"AAAAAHd91dE=\")","v":{"$error":"#REF!"}},{"$f":"AND(#REF!,\"AAAAAHd91dI=\")","v":{"$error":"#REF!"}},{"$f":"AND(#REF!,\"AAAAAHd91dM=\")","v":{"$error":"#REF!"}},{"$f":"AND(#REF!,\"AAAAAHd91dQ=\")","v":{"$error":"#REF!"}},{"$f":"AND(#REF!,\"AAAAAHd91dU=\")","v":{"$error":"#REF!"}},{"$f":"AND(#REF!,\"AAAAAHd91dY=\")","v":{"$error":"#REF!"}},{"$f":"AND(#REF!,\"AAAAAHd91dc=\")","v":{"$error":"#REF!"}},{"$f":"AND(#REF!,\"AAAAAHd91dg=\")","v":{"$error":"#REF!"}},{"$f":"AND(#REF!,\"AAAAAHd91dk=\")","v":{"$error":"#REF!"}},{"$f":"AND(#REF!,\"AAAAAHd91do=\")","v":{"$error":"#REF!"}},{"$f":"AND(#REF!,\"AAAAAHd91ds=\")","v":{"$error":"#REF!"}},{"$f":"AND(#REF!,\"AAAAAHd91dw=\")","v":{"$error":"#REF!"}},{"$f":"AND(#REF!,\"AAAAAHd91d0=\")","v":{"$error":"#REF!"}},{"$f":"AND(#REF!,\"AAAAAHd91d4=\")","v":{"$error":"#REF!"}},{"$f":"AND(#REF!,\"AAAAAHd91d8=\")","v":{"$error":"#REF!"}},{"$f":"AND(#REF!,\"AAAAAHd91eA=\")","v":{"$error":"#REF!"}},{"$f":"AND(#REF!,\"AAAAAHd91eE=\")","v":{"$error":"#REF!"}},{"$f":"AND(#REF!,\"AAAAAHd91eI=\")","v":{"$error":"#REF!"}},{"$f":"AND(#REF!,\"AAAAAHd91eM=\")","v":{"$error":"#REF!"}},{"$f":"AND(#REF!,\"AAAAAHd91eQ=\")","v":{"$error":"#REF!"}},{"$f":"AND(#REF!,\"AAAAAHd91eU=\")","v":{"$error":"#REF!"}},{"$f":"AND(#REF!,\"AAAAAHd91eY=\")","v":{"$error":"#REF!"}},{"$f":"AND(#REF!,\"AAAAAHd91ec=\")","v":{"$error":"#REF!"}},{"$f":"AND(#REF!,\"AAAAAHd91eg=\")","v":{"$error":"#REF!"}},{"$f":"AND(#REF!,\"AAAAAHd91ek=\")","v":{"$error":"#REF!"}},{"$f":"AND(#REF!,\"AAAAAHd91eo=\")","v":{"$error":"#REF!"}},{"$f":"AND(#REF!,\"AAAAAHd91es=\")","v":{"$error":"#REF!"}},{"$f":"AND(#REF!,\"AAAAAHd91ew=\")","v":{"$error":"#REF!"}},{"$f":"AND(#REF!,\"AAAAAHd91e0=\")","v":{"$error":"#REF!"}},{"$f":"IF(#REF!,\"AAAAAHd91e4=\",0)","v":{"$error":"#REF!"}},{"$f":"AND(#REF!,\"AAAAAHd91e8=\")","v":{"$error":"#REF!"}},{"$f":"AND(#REF!,\"AAAAAHd91fA=\")","v":{"$error":"#REF!"}},{"$f":"AND(#REF!,\"AAAAAHd91fE=\")","v":{"$error":"#REF!"}},{"$f":"AND(#REF!,\"AAAAAHd91fI=\")","v":{"$error":"#REF!"}},{"$f":"AND(#REF!,\"AAAAAHd91fM=\")","v":{"$error":"#REF!"}},{"$f":"AND(#REF!,\"AAAAAHd91fQ=\")","v":{"$error":"#REF!"}},{"$f":"AND(#REF!,\"AAAAAHd91fU=\")","v":{"$error":"#REF!"}},{"$f":"AND(#REF!,\"AAAAAHd91fY=\")","v":{"$error":"#REF!"}},{"$f":"AND(#REF!,\"AAAAAHd91fc=\")","v":{"$error":"#REF!"}},{"$f":"AND(#REF!,\"AAAAAHd91fg=\")","v":{"$error":"#REF!"}},{"$f":"AND(#REF!,\"AAAAAHd91fk=\")","v":{"$error":"#REF!"}},{"$f":"AND(#REF!,\"AAAAAHd91fo=\")","v":{"$error":"#REF!"}},{"$f":"AND(#REF!,\"AAAAAHd91fs=\")","v":{"$error":"#REF!"}},{"$f":"AND(#REF!,\"AAAAAHd91fw=\")","v":{"$error":"#REF!"}},{"$f":"AND(#REF!,\"AAAAAHd91f0=\")","v":{"$error":"#REF!"}},{"$f":"AND(#REF!,\"AAAAAHd91f4=\")","v":{"$error":"#REF!"}},{"$f":"AND(#REF!,\"AAAAAHd91f8=\")","v":{"$error":"#REF!"}}]
[{"$f":"AND(#REF!,\"AAAAAC2t+QA=\")","v":{"$error":"#REF!"}},{"$f":"AND(#REF!,\"AAAAAC2t+QE=\")","v":{"$error":"#REF!"}},{"$f":"AND(#REF!,\"AAAAAC2t+QI=\")","v":{"$error":"#REF!"}},{"$f":"AND(#REF!,\"AAAAAC2t+QM=\")","v":{"$error":"#REF!"}},{"$f":"AND(#REF!,\"AAAAAC2t+QQ=\")","v":{"$error":"#REF!"}},{"$f":"AND(#REF!,\"AAAAAC2t+QU=\")","v":{"$error":"#REF!"}},{"$f":"AND(#REF!,\"AAAAAC2t+QY=\")","v":{"$error":"#REF!"}},{"$f":"AND(#REF!,\"AAAAAC2t+Qc=\")","v":{"$error":"#REF!"}},{"$f":"AND(#REF!,\"AAAAAC2t+Qg=\")","v":{"$error":"#REF!"}},{"$f":"AND(#REF!,\"AAAAAC2t+Qk=\")","v":{"$error":"#REF!"}},{"$f":"AND(#REF!,\"AAAAAC2t+Qo=\")","v":{"$error":"#REF!"}},{"$f":"AND(#REF!,\"AAAAAC2t+Qs=\")","v":{"$error":"#REF!"}},{"$f":"AND(#REF!,\"AAAAAC2t+Qw=\")","v":{"$error":"#REF!"}},{"$f":"AND(#REF!,\"AAAAAC2t+Q0=\")","v":{"$error":"#REF!"}},{"$f":"AND(#REF!,\"AAAAAC2t+Q4=\")","v":{"$error":"#REF!"}},{"$f":"AND(#REF!,\"AAAAAC2t+Q8=\")","v":{"$error":"#REF!"}},{"$f":"AND(#REF!,\"AAAAAC2t+RA=\")","v":{"$error":"#REF!"}},{"$f":"AND(#REF!,\"AAAAAC2t+RE=\")","v":{"$error":"#REF!"}},{"$f":"AND(#REF!,\"AAAAAC2t+RI=\")","v":{"$error":"#REF!"}}]